{"text_format":"1","workbook":"xlsx","n_sheets":24,"sheets":["Instructions","Version History","Set UP","Dry Incident","SERC"," Wet Incident","RopeThrow","Swim&Tow","Medley","Competition Places","A Places","B Places","Non-S Places","Competition Results","League Results","Non-S Results","Freshers Results","RLSS SPORTS LEAGUE","Obstacle","Manikin Carry","Freshers Places","Extra Incident","Potensial New Scoring Structure","Compartive League"],"not_rendered":{"charts":0,"images":2,"macros":1,"external_links":1,"defined_names":23,"comments":1,"pivot_tables":0},"unopened":[],"bounds":{"document_bytes":16777216,"sheet_cells":100000,"rows_first":2000,"rows_last":500,"rows_between":2000,"halvings":0,"cell_chars":16384,"cell_head_chars":4096},"cells_cut":0,"cells_raw":0,"read":"whole","date_system":"1900"}

{"sheet":"Instructions","index":0,"n_rows":72,"n_cols":3,"rows_kept":72,"cut":false,"hidden":false,"merged":[]}
[]
[]
[null,null,"British Universities Competition Scoresheet Instructions"]
[]
[null,null,"When opening this spreadsheet ensure you select the 'ENABLE MACRO'S' option."]
[]
[null,null,"General"]
[null,null,"Enter data in white cells only.  All coloured cells (yellow or green) are updated automatically."]
[null,null,"During a competition remember to save this file regularly to both your hard disk and a floppy disk/USB pen."]
[null,null,"Never Copy and Paste on any sheets."]
[]
[null,null,"Set Up  Sheet"]
[null,null,"Enter the Club Name,Team Letter, website number, Swim Tow Time and the class of the teams in this sheet.  These are automatically copied from here onto every other sheet."]
[null,null,"In all of the sheets, any scores or times that are entered in cells that do not the above are ignored."]
[null,null,"Enter the weighting for each of the events at the side of the sheet. These are copied to the relevent palces automatically."]
[]
[null,null,"Incident Sheets"]
[null,null,"Allocate the number of Judges to a incident use the controls at the top of the page. The + and - buttons will hide and show these controls"]
[null,null,"For each judge, enter a description of what they are marking, their mark categories and the associated weightings in the white boxes provided. "]
[null,null,"Enter each of the judges scores into this sheet.  "]
[null,null,"A blank cell is treated as a zero.  However, for a team to be given a score and a position, one of the judges score cells must contain a number, even if it is a zero."]
[null,null,"The judges scores are added up automatically to give the total score."]
[]
[null,null,"RopeThrow Sheet"]
[null,null,"Assuming a team has finished, the seconds and the 1/100 second cells under the stopwatch time must be filled in.  The minutes cell is optional."]
[null,null,"If a team did not finish or were disqualified, leave the stopwatch time empty."]
[null,null,"Next select the finish status from the pull down list:"]
[null,null,"          Finished - All persons successfully pulled in"]
[null,null,"          DNF3 Persons In - Did not finish in time, 3 persons pulled in"]
[null,null,"          DNF2 Persons In - Did not finish in time, 2 persons pulled in"]
[null,null,"          DNF1 Persons In - Did not finish in time, 1 person pulled in"]
[null,null,"          DNF0 Persons In - Did not finish in time, no one pulled in"]
[null,null,"          Disqualified - The team was completely disqualified and will be placed last in this event."]
[null,null,"Finally enter the number of penalties the team received in the penalties cell.  A blank cell is treated as zero.  "]
[null,null,"Each penalty will result in the team being penalised by discounting one of  the “casualties” successfully pulled in."]
[null,null,"Penalties are not taken into consideration for teams who were disqualified. "]
[null,null,"If a team fails to finish within the allotted time, they will be ranked according to the median position of all teams that had successfully pulled in the same number of competitors, after the application of any penalties."]
[null,null,"The positions are calculated automatically when opening the sheet i.e. clicking on the tab at the bottom or by entering the Places or Results Sheets"]
[]
[null,null,"Swim & Tow, Meldey,Manikin Carry and Obstacle Sheets"]
[null,null,"Enter the penalty size and The Swim and Tow margin Allowed into the top of the sheet."]
[null,null,"Agree with the judges the number of seconds per penalty and insert this into the penalty time cell at the top of the sheet."]
[null,null,"The seconds and the 1/100 second cells under the stopwatch time must be filled in.  The minutes cell is optional."]
[null,null,"Select the finish status from the pull down list.  This must be filled in."]
[null,null,"Finally enter the number of penalties the team received in the penalties cell.  A blank cell is treated as zero.  "]
[null,null,"The number of penalties is multiplied by the penalty time and added onto the stopwatch time to give the total time."]
[null,null,"Penalties are not taken into consideration for teams who were disqualified. "]
[null,null,"The Lifesaving point score is a comparision agiast the student record, of how close you are too it.  If you were equal to the student record you would score 1000 points.\n(Still beingTrailed may produce incorrect Numbers)"]
[]
[null,null,"Competition Results and League Results Sheets"]
[null,null,"Competition Results = The results are based on all classes of team i.e. Student, Fresher and Old Boys."]
[null,null,"League Results = This sheet is only for Calculations"]
[]
[null,null,"Enter the weighting for each of the events at the top of the sheet.  The weightings must be decided before the start of the competition and declared to all competing teams."]
[null,null,"All other information is automatically copied from the other sheets.  Therefore it is imperative to ensure all the other sheets are up to date."]
[null,null,"The final positions are calculated automatically when opening the sheet i.e. clicking on the tab at the bottom."]
[null,null,"If teams have an equal sum of total positions, then the wet incident score is taken into account to determine the final results."]
[]
[null,null,"Places Sheet"]
[null,null,"This sheet automatically sorts the teams into final place order from the information contained in the results sheet.  "]
[]
[]
[null,null,"Competition Places = Students, Freshers and Old Boys and Non-Counting Teams"]
[null,null,"A League Places = A Team that are also Students or Freshers"]
[null,null,"B League Places = Non-A Team that are also Students or Freshers"]
[null,null,"Freshers Places = Freshers Only "]
[]
[null,null,"RLSS Sport League Sheet"]
[]
[null,null,"Used to produce XML output for RLSS Sport League.  It is not required for scoring."]
[]
[null,null,"IF you wish to output these results in a formatt for Sports League. Please contact web@bulsca.co.uk for some guidance."]

{"sheet":"Version History","index":1,"n_rows":208,"n_cols":3,"rows_kept":208,"cut":false,"hidden":false,"merged":[]}
[]
[]
[null,null,"Version History"]
[]
[null,null,"Version 6"]
[null,null,"\nDate: January 2006"]
[null,null,"Status: First released to British Universities Lifesaving Association to be downloadable from the website."]
[null,null,"Written By: Simon Harrison"]
[]
[null,null,"Version 7"]
[null,null,"\nDate: 25th February 2006"]
[null,null,"\nChange Requested By: Steven Tedds (Birmingham)"]
[null,null,"Problem / Change Request: Stu Richardson has come across something with regard to the competition scoresheet. \nApparently at the moment it places any team that has been disqualified into last place.  So, if there is only one team has been disqualified then this is fine. \nHowever, if more than one team is disqualified they are all awarded last place - for example at Nottingham, 3 teams were disqualified for one of the events and were all awarded 27th place - but these 3 should all have been given joint 25th (rather than having no team come 25th or 26th and then 3 teams with 27th) - does this makes sense? "]
[null,null,"\nStatus: This problem has been fixed in Version 7."]
[null,null,"Ammended By: Simon Harrison"]
[]
[null,null,"Version 8"]
[null,null,"\nDate: 27th February 2006"]
[null,null,"\nChange Requested By: Steven Tedds (Birmingham)"]
[null,null,"Problem / Change Request: There is a problem with the swim event scoresheets and the rope throw scoresheet.  The problem is concerning the allocation of DQ places and DNF places.  If there is more than one team occupying a place just before the DNF/DQ places, then the DNF/DQ places are allocated wrong.  For example, if the final three teams that finished an event have the same time (after allocation of any penalties) and occupied joint 10th place, then one would expect the next DQ/DNF team(s) to be in 13th place.  However, the scoresheet is placing the next DQ/DNF team in 11th place, which is incorrect.  "]
[null,null,"\nStatus: This problem has been fixed in Version 8."]
[null,null,"Ammended By: Simon Harrison"]
[]
[null,null,"Version 9"]
[null,null,"\nDate: 12th October 2008"]
[null,null,"\nChange Requested By: Dom Roberton (Southampton) and Oliver Coleman (Birmingham)"]
[null,null,"Changes: The \"Teams\" worksheet has been updated to allow users to enter a website number (for the database) and a team class i.e. student, fresher or old boys.  These are copied onto every other sheet automatically.\nThe incident sheets have been completely overhauled to allow more information to be entered from the judges sheet.  The method in which the places for the incidents are calculated has been simplified.  Macros are no longer used on these sheets and instead built in excel functions are used.\nSwim&Tow, SpeedEvent1 and SpeedEvent2 sheets have been updated to make the place calculation more simple.  Macros are no longer used.\nProvision for old boys and freshers teams has been included.  Several new results and places spreadsheets have been created for this purpose.\n"]
[null,null,"\nAmmended By: Simon Harrison"]
[]
[null,null,"Version 9.1"]
[null,null,"\nDate: 2nd February 2009"]
[null,null,"\nChange Requested By: Laura Thompson (Birmingham)"]
[null,null,"Changes: To allow for 3 speed to be run in the same competition. The sorting and place calculation method calls were altered to accommodate this."]
[null,null,"\nAmended By: Oliver Coleman"]
[]
[null,null,"Version 9.2"]
[null,null,"\nDate: 2nd February 2009"]
[null,null,"\nChange Requested By: Oliver Coleman (Birmingham, Web Officer 2008/2009)"]
[null,null,"Changes: Provision for Non-Student and Non-Counting Student Teams has now been allowed for, Changed from anusing if's to using vlookup instead"]
[null,null,"\nAmended By: Oliver Coleman"]
[]
[null,null,"Version 9.3"]
[null,null,"\nDate: 1st April 2009"]
[null,null,"\nChange Requested By: Helen Killingley (Championships Co-Ordinator 2008/2009)"]
[null,null,"Changes: To amend the dry weighting calculation as it was linked ot the wet weighting not the dry. Discovered at the 2009 BULSCA championships."]
[null,null,"\nAmended By: Oliver Coleman"]
[]
[null,null,"Version 10.0"]
[null,null,"\nDate: 3rd May 2009 "]
[null,null,"\nChange Requested By: BULSCA General Committee"]
[null,null,"Changes: Change Scoring to reflect the new League Scoring System as of the 2009/2010 Season.\nAlso to incorporate the Swim and tow time Penalties for out side of the percentage errors"]
[null,null,"\nAmended By: Oliver Coleman"]
[]
[null,null,"\nChange Requested By: Oliver Coleman (Birmingham, Web Officer 2009/2010)"]
[null,null,"Changes: Have a Set up sheet with the details of weightings for different Event included on it"]
[null,null,"\nAmended By: Oliver Coleman"]
[]
[null,null,"\nChange Requested By: Oliver Coleman (Birmingham, Web Officer 2009/2010)"]
[null,null,"Changes: Remove the need to click sheet to run nessessary macros all now built in"]
[null,null,"\nAmended By: Oliver Coleman"]
[null,null,"\nChange Requested By: Oliver Coleman (Birmingham, Web Officer 2009/2010)"]
[null,null,"Changes: Prevent Accidental Deletion by Locking sheet as they are Opened"]
[null,null,"\nAmended By: Oliver Coleman"]
[]
[null,null,"Version 10.1"]
[null,null,"\nDate: 20th October 2010"]
[null,null,"\nChange Requested By: Oliver Coleman Web Offcier 2010/11"]
[null,null,"Changes: changed the protection settign in the macros to allow for comments to be added into the SERC, allowing for Judges amendment or comment to be added to the scores"]
[null,null,"\nAmended By: Oliver Coleman "]
[]
[null,null,"Version 10.2"]
[null,null,"\nDate: 26th October 2010"]
[null,null,"\nChange Requested By: Natalie Moore(Southampton)"]
[null,null,"Changes: Prior to the fresher comp it was asked, why 'A' that were freshers teams did not count towards the top finishing Freshers team. It was agreed they should be counted. This change is to reflect that change.\n\nExtra sheet and columns now added to allow for this. Removed Freshers from League sheet,. Changed instruction on Places sheet"]
[null,null,"\nAmended By: Oliver Coleman "]
[null,null,"Version 11"]
[null,null,"\nDate: 20th July 2011"]
[null,null,"\nChange Requested By:Oli Coleman(Birmingham, Web Officer)"]
[null,null,"Changes: Previously team had to unlock the dry and wet incidents to hide columns to make filling out the spreadsheets easier. Put in system to eliminate this. The hidding of colums is now also more important due to the change meantioned below"]
[null,null,"\nChange Requested By:Stu Richardson(BULSCA Judges Panel)"]
[null,null,"Changes:  It was shown over the previous 2 season that 10 judging criteria per judge was not enough, particularly on a phone judge. Therefore the standard amount was increased.\n\nWas Max 6 Judges and Now Max is 10\nWas Max 10 Marking Criteria per Judge and Max 25 Marking Criteria per Judge"]
[]
[null,null,"\nChange Requested By:Dom Roberton(Southampton)"]
[null,null,"Changes:  The screen flashes between sheets when calculating different results. This has been resolved by this version"]
[null,null,"\nAmended By: Oliver Coleman "]
[]
[null,null,"Version 11.1"]
[null,null,"\nDate: 22nd Feb 2012"]
[null,null,"\nChange Requested By:Oli Coleman(Birmingham, Web Officer). "]
[null,null,"Changes: Spotted in Birmingham Results 2012.Swim and tow penalty gave calculated the outside entry time peanaty allowing team an extra amount of time (15 seconds currently) before the peanalty was activated.. This has been corrected."]
[]
[null,null,"\nAmended By: Oliver Coleman "]
[]
[null,null,"Version 11.2"]
[null,null,"\nDate: 03rd March 2012"]
[null,null,"\nChange Requested By: Plymouth Club"]
[null,null,"Changes: A button to check that macros have been enabled"]
[]
[null,null,"\nAmended By: Oliver Coleman "]
[]
[null,null,"Version 12"]
[null,null,"\nDate: 4 April 2012"]
[null,null,"\nChange Requested By: Liz Ferris (Scorer BULSCA Champs)"]
[null,null,"Changes: Highlight placing in each event.   To be able to highlight any one clubs results.  In addtion to being able to filter results."]
[]
[null,null,"\nAmended By: Oliver Coleman "]
[null,null,"Version 12.1"]
[null,null,"\nDate: 25th October 2012"]
[null,null,"\nChange Requested By: Becca Park(University of Brimingham)"]
[null,null,"Changes: Swim tow result produce and erro if first 3 lines were used. A formula had been lsot. This has been fixed and amended."]
[]
[null,null,"\nAmended By: Oliver Coleman "]
[null,null,"Version 12.2"]
[null,null,"\nDate: 2nd January 2013"]
[null,null,"\nChange Requested By: Amy and Teddy(University of St. Andrews)"]
[null,null,"Changes: 3 SERC were beign run. This has been doen before and was felt an addtional sheet on the spreadsheet to deal this eventuality was required.,"]
[]
[null,null,"\nChange Requested By: Oli Coleman (Web Officer)"]
[null,null,"Changes: Freshers weigting is tied to league weighting has been split out, to give flexibility"]
[null,null,"\nAmended By: Oliver Coleman "]
[null,null,"Version 12.3"]
[null,null,"\nDate: 10th Feb 2013"]
[null,null,"\nChange Requested By: BULSCA Meeting"]
[null,null,"Changes: Allow results to be exported to an XML formatt for the RLSS sports league"]
[]
[null,null,"\nChange Requested By: Oli Coleman (Web Officer) and Steve Tedds(Judges Panel)"]
[null,null,"Changes: Clubs given a reletive score out of 1000 as to how close they were to the Student records for each of the events. (Still beign Trailed may produced incorrect numbers)"]
[null,null,"\nAmended By: Oliver Coleman "]
[null,null,"Version 13"]
[null,null,"\nDate: 20th Feb 2013"]
[null,null,"\nChange Requested By: BULSCA Meeting"]
[null,null,"Changes: Non-Student onlly ranking to be produced in results to be calculated for the student Championships"]
[]
[null,null,"\nAmended By: Oliver Coleman "]
[]
[null,null,"Version 13.1"]
[null,null,"\nDate: 10th March 2013"]
[null,null,"\nChange Requested By: Sam O' Connor"]
[null,null,"Changes: Show the League Placing on the Competition Result page to save having to wait for the release of results"]
[]
[null,null,"\nAmended By: Oliver Coleman "]
[]
[null,null,"Version 13.2"]
[null,null,"\nDate: 20th May 2013"]
[null,null,"\nChange Requested By: Oliver Coleman ( Web Offcier)"]
[null,null,"Changes: in second and hundereths cells leading zeros are shown so .09 is 09 and not 9 as currently displayed. This is mainly asthetic but will enable the sheet to be easier to read"]
[]
[null,null,"\nAmended By: Oliver Coleman "]
[]
[null,null,"Version 13.3"]
[null,null,"\nDate: 1st June 2013"]
[null,null,"\nChange Requested By: Liz Ferris( Scorer BULSCA Champs)"]
[null,null,"Changes:  Noticed she could now highlioght club but wanted a facility to print the Competition places sheet 1 per club with the club highlighted without needing to selct these manually"]
[null,null,"\nChange Requested By: Oliver Coleman (Web Offcier)"]
[null,null,"Changes:  Removed the need for macro's in the caculation of rope throw.  This now means all the indervidal events results are calculated through excel function making it more accessible on machinces with higher security settings."]
[]
[null,null,"\nAmended By: Oliver Coleman "]
[]
[null,null,"Version 14"]
[null,null,"\nDate: 1st August 2013"]
[null,null,"\nChange Requested By: Oliver Coleman (Web Officer 2007-2014)"]
[null,null,"Changes:  SERC now  given a comparitive point total were first is awarded 1500 , so will be changeble at each comeptition. and rope throw point put into stages. These changes are the first steps toward potensialy using comapritive based scoring. SERC collums being kept hidden currently for clarity."]
[]
[null,null,"Changed the way Rope Throw results point are caculated to included  0,1,2,3 in. The algrotitum takes the 750 to 1000 portion as beign 4 in and split the remaining 750up evenly across the 1,2,3 in depending on how many in each section. This should give a representation that can be sued in a whole competittion scoring approach"]
[]
[null,null,"Overall calculated by having fixed ceiling and then sumed together"]
[null,null,"\nAmended By: Oliver Coleman (Web Officer 2007-2014)"]
[]
[null,null,"Version 14.1"]
[null,null,"\nDate: 25th September"]
[null,null,"\nChange Requested By: Oliver Coleman (Web Officer 2007-2014)"]
[null,null,"Changes:  Sheet set up for new scorign method. Using a comparative sytem by scalling point totals back to 500 for the scores."]
[null,null,"Tweaks to the Rope through points Calculation to make its inpact on the overall result more in line with the rest. By adding and diving in various manners"]
[]
[null,null,"\nAmended By: Oliver Coleman (Web Officer 2007-2014)"]
[]
[null,null,"Version 14.2"]
[null,null,"\nDate: 3rd October2013"]
[null,null,"\nChange Requested By: Oli Coleman,Alex Blanford and Matt Sedgewick"]
[null,null,"Changes:  During development was unsure on the ceiling applied during rope through. "]
[null,null,"Rope Throw adjsuted to allow for the wide spread of abilty expected, Split intop small unit and then the mid-point of each group of competitiors taken"]
[null,null,"On competition resutls the bottom score will always be An amount ste on the set up sheet  to allow those DQ to score 0. "]
[null,null,"This scaling ensure consitence of importnace of each event better, it also allow for a final total, normally 7000 to be chased as the perfect score"]
[null,null,"\nAmended By: Oliver Coleman (Web Officer 2007-2014)"]
[null,null,"Version 14.3"]
[null,null,"\nDate: 4th October2013"]
[null,null,"\nChange Requested By: Oli Coleman"]
[null,null,"Changes:  During testing ti was discovered, on gettign 4 in a time of close to 2 min 30 which is the liit would cause teams to score more points for slower times. This ahs been corrected in this version."]
[]
[]
[]
[null,null,"\nAmended By: Oliver Coleman (Web Officer 2007-2014)"]
[null,null,"Version 14.4"]
[null,null,"\nDate: 4th October2013"]
[null,null,"\nChange Requested By: Oli Coleman"]
[null,null,"Changes:  Comparitive  scalling added to the League Process.  Only Rope needs re-calculating bt all need rescalling accordingly"]
[]
[]
[]
[null,null,"\nAmended By: Oliver Coleman (Web Officer 2007-2014)"]
[null,null,"Version 14.5"]
[null,null,"\nDate: 28h October2013"]
[null,null,"\nChange Requested By: Oli Coleman"]
[null,null,"Changes:  When only 1 Team Finished rope throw a Div by 0 occuered on the rope throw. This was seen on the Warwick 2013 result durign testing. This has been corrected. "]
[]
[]
[]
[null,null,"\nAmended By: Oliver Coleman (Web Officer 2007-2014)"]

{"sheet":"Set UP","index":2,"n_rows":46,"n_cols":26,"rows_kept":46,"cut":false,"hidden":false,"merged":[[4,6,4,7],[4,22,4,24]]}
[]
[]
[null,null,"Teams",null,null,null,null,null,null,null,null,null,null,null,null,null,"Scoring"]
[]
[null,null,"Website \nNumber","Club","Team","Class (F, S, OB,NS,NC)","Swim and Tow",null,"Time in Seconds",null,null,"Class",null,"must be in aphabetically order",null,null,"Event","League \nWeighting","Compettion \nWeighting","Freshers\nWeighting","Non-Student\nWeighting",null,"Current Record\n(14/3/13)"]
[null,null,null,null,null,null,"mins","secs",null,null,null,null,null,null,null,null,"Wet Incident",2,2,0,2]
[null,1,1418,"Bradford On Avon Lifesaving Club ","B","NS",9,60,{"$f":"G7*60+H7","v":600},null,{"$f":"IF(OR(F7=0,E7=0,D7=0,C7=0),-1,VLOOKUP(F7,N$7:O$11,2)+IF(OR(E7=\"A\",E7=\"a\",VLOOKUP(F7,N$7:O$11,2)=0),0,1))","v":0},"F = Fresher",null,"F",1,null,"Dry Incident",2,2,0,2]
[null,2,1419,"Bradford On Avon Lifesaving Club ","A","NS",9,60,{"$f":"G8*60+H8","v":600},null,0,"S = Student",null,"NC",0,null,"Extra Incident",0,0,0,0,null,"Min","Sec","100th"]
[null,3,1417,"Bradford On Avon Lifesaving Club ","C","NS",9,60,600,null,0,"OB = Old Boys",null,"NS",0,null,"Rope Throw",1,1,0,1,null,1,12,40,{"$f":"W9*60+X9+Y9/100","v":72.400000000000006}]
[null,4,null,null,null,null,null,null,0,null,-1,"NS=Non Student Team",null,"OB",0,null,"Swim and Tow",1,1,0,1,null,6,34,85,{"$f":"W10*60+X10+Y10/100","v":394.85}]
[null,5,1424,"Keynsham","B","NS",9,59,599,null,0,"NC=Non -Counting Student Team",null,"S",1,null,"Medley",1,1,0,1,null,1,53,0,113]
[null,6,1423,"Keynsham","A","NS",9,59,599,null,0,null,null,null,null,null,"Manikin Carry",0,0,0,0,null,1,36,60,96.6]
[null,7,1433,"University of Nottingham","B","S",9,31,571,null,2,"Club to Highlight",null,null,null,null,"Obstacle",0,0,0,0,null,1,57,23,117.23]
[null,8,1441,"University of Plymouth","C","NC",9,0,540,null,0]
[null,9,1440,"University of Plymouth","B","S",8,45,525,null,2,null,null,null,null,null,"DQ Amount",100]
[null,10,1431,"University of Nottingham","C","S",8,57,537,null,2]
[null,11,1445,"University of Birmingham","D","NC",9,14,554,null,0]
[null,12,null,null,null,null,null,null,0,null,-1]
[null,13,1426,"London Universities","B","S",8,30,510,null,2]
[null,14,null,null,null,null,null,null,0,null,-1]
[null,15,1427,"University of Southampton","A","S",8,10,490,null,1]
[null,16,1444,"University of Birmingham","C","S",8,15,495,null,2]
[null,17,1439,"University of Plymouth","A","S",8,30,510,null,1]
[null,18,1461,"Bristol University","B","S",8,40,520,null,2]
[null,19,1436,"Loughborough University","C","S",7,50,470,null,2]
[null,20,1443,"University of Birmingham","B","S",7,43,463,null,2]
[null,21,1434,"Loughborough University","A","S",7,30,450,null,1]
[null,22,1435,"Loughborough University","B","S",7,40,460,null,2]
[null,23,1457,"University of Warwick","B","S",7,50,470,null,2]
[null,24,1429,"University of Nottingham","A","S",7,58,478,null,1]
[null,25,1438,"Swansea Universities Lifesaving","B","S",7,25,445,null,2]
[null,26,1442,"University of Birmingham","A","S",7,15,435,null,1]
[null,27,1456,"University of Warwick","A","S",7,0,420,null,1]
[null,28,1460,"Bristol University","A","S",7,5,425,null,1]
[null,29,1437,"Swansea Universities Lifesaving","A","S",7,20,440,null,1]
[null,30,1425,"London Universities","A","S",7,30,450,null,1]
[null,31,null,null,null,null,null,null,0,null,-1]
[null,32,null,null,null,null,null,null,0,null,-1]
[null,33,null,null,null,null,null,null,0,null,-1]
[null,34,null,null,null,null,null,null,0,null,-1]
[null,35,null,null,null,null,null,null,0,null,-1]
[null,36,null,null,null,null,null,null,0,null,-1]
[null,37,null,null,null,null,null,null,0,null,-1]
[null,38,null,null,null,null,null,null,0,null,-1]
[null,39,null,null,null,null,null,null,0,null,{"$f":"IF(OR(F45=0,E45=0,D45=0,C45=0),-1,VLOOKUP(F45,N$7:O$11,2)+IF(OR(E45=\"A\",E45=\"a\",VLOOKUP(F45,N$7:O$11,2)=0),0,1))","v":-1}]
[null,40,null,null,null,null,null,null,0,null,-1]

{"sheet":"Dry Incident","index":3,"n_rows":61,"n_cols":286,"rows_kept":61,"cut":false,"hidden":false,"merged":[[17,166,19,166],[17,139,19,139],[16,140,16,166],[15,280,19,280],[15,278,19,278],[15,277,19,277],[15,276,19,276],[15,279,19,279],[15,275,19,275],[15,140,15,166],[15,113,15,139],[16,113,16,139],[15,167,15,193],[16,167,16,193],[17,193,19,193],[15,194,15,220],[17,31,19,31],[17,58,19,58],[15,5,15,31],[16,5,16,31],[15,32,15,58],[16,32,16,58],[16,59,16,85],[16,86,16,112],[17,85,19,85],[15,59,15,85],[17,112,19,112],[15,86,15,112],[16,194,16,220],[17,220,19,220],[15,285,19,285],[15,221,15,247],[15,248,15,274],[16,221,16,247],[16,248,16,274],[17,247,19,247],[17,274,19,274],[15,284,19,284],[15,283,19,283],[15,281,19,281],[15,282,19,282]]}
[null,null,null,null,"JUDGE START HIDE ROW",1,null,null,null,null,null,null,null,null,null,null,null,null,null,null,null,null,null,null,null,null,null,null,null,null,null,null,2,null,null,null,null,null,null,null,null,null,null,null,null,null,null,null,null,null,null,null,null,null,null,null,null,null,null,3,null,null,null,null,null,null,null,null,null,null,null,null,null,null,null,null,null,null,null,null,null,null,null,null,null,null,4,null,null,null,null,null,null,null,null,null,null,null,null,null,null,null,null,null,null,null,null,null,null,null,null,null,null,5,null,null,null,null,null,null,null,null,null,null,null,null,null,null,null,null,null,null,null,null,null,null,null,null,null,null,6,null,null,null,null,null,null,null,null,null,null,null,null,null,null,null,null,null,null,null,null,null,null,null,null,null,null,7,null,null,null,null,null,null,null,null,null,null,null,null,null,null,null,null,null,null,null,null,null,null,null,null,null,null,8,null,null,null,null,null,null,null,null,null,null,null,null,null,null,null,null,null,null,null,null,null,null,null,null,null,null,9,null,null,null,null,null,null,null,null,null,null,null,null,null,null,null,null,null,null,null,null,null,null,null,null,null,null,10,null,null,null,null,null,null,null,null,null,null,null,null,null,null,null,null,null,null,null,null,null,null,null,null,null,null,11,null,"h",null,"h",null,"h",null,"h",null,"e"]
[null,null,null,"No. Judges Required(1 to 10)",6]
[null,null,null,"Judge 1 Citeria (1 to 25)",7]
[null,null,null,"Judge 2 Citeria (1 to 25)",8]
[null,null,null,"Judge 3 Citeria (1 to 25)",7]
[null,null,null,"Judge 4 Citeria (1 to 25)",7]
[null,null,null,"Judge 5 Citeria (1 to 25)",10]
[null,null,null,"Judge 6 Citeria (1 to 25)",4]
[null,null,null,"Judge 7 Citeria (1 to 25)"]
[null,null,null,"Judge 8 Citeria (1 to 25)"]
[null,null,null,"Judge 9 Citeria (1 to 25)"]
[null,null,null,"Judge 10 Citeria (1 to 25)"]
[]
[]
[null,null,null,{"$f":"'Set UP'!Q6","v":"Wet Incident"}]
[null,null,null,"Club to Highlight",null,"JUDGE 1",null,null,null,null,null,null,null,null,null,null,null,null,null,null,null,null,null,null,null,null,null,null,null,null,null,null,"JUDGE 2",null,null,null,null,null,null,null,null,null,null,null,null,null,null,null,null,null,null,null,null,null,null,null,null,null,null,"JUDGE 3",null,null,null,null,null,null,null,null,null,null,null,null,null,null,null,null,null,null,null,null,null,null,null,null,null,null,"JUDGE 4",null,null,null,null,null,null,null,null,null,null,null,null,null,null,null,null,null,null,null,null,null,null,null,null,null,null,"JUDGE 5",null,null,null,null,null,null,null,null,null,null,null,null,null,null,null,null,null,null,null,null,null,null,null,null,null,null,"JUDGE 6",null,null,null,null,null,null,null,null,null,null,null,null,null,null,null,null,null,null,null,null,null,null,null,null,null,null,"Judge 7",null,null,null,null,null,null,null,null,null,null,null,null,null,null,null,null,null,null,null,null,null,null,null,null,null,null,"Judge 8 ",null,null,null,null,null,null,null,null,null,null,null,null,null,null,null,null,null,null,null,null,null,null,null,null,null,null,"Judge 9",null,null,null,null,null,null,null,null,null,null,null,null,null,null,null,null,null,null,null,null,null,null,null,null,null,null,"Judge 10",null,null,null,null,null,null,null,null,null,null,null,null,null,null,null,null,null,null,null,null,null,null,null,null,null,null,"¬ OVERALL TOTAL","¬ POSITION (COMPETITION)","¬ OVERALL (A LEAGUE RANK)","¬ POSITION ( A LEAGUE)","¬ OVERALL (B LEAGUE RANK)","POSITION ( BLEAGUE)","¬ OVERALL (FRESHERS LEAGUE RANK)","POSITION ( FRESHERS LEAGUE)","¬ OVERALL (Non- Student RANK)","POSITION ( Non-Students LEAGUE)","Lifesaving Points (Competition)"]
[null,null,null,null,null,"Chest pains & broken arm & hand bleed",null,null,null,null,null,null,null,null,null,null,null,null,null,null,null,null,null,null,null,null,null,null,null,null,null,null,"shock & unconscious non breathing baby",null,null,null,null,null,null,null,null,null,null,null,null,null,null,null,null,null,null,null,null,null,null,null,null,null,null,"head bleed & unconscious breathing",null,null,null,null,null,null,null,null,null,null,null,null,null,null,null,null,null,null,null,null,null,null,null,null,null,null,"unconscious non breathing & panicking",null,null,null,null,null,null,null,null,null,null,null,null,null,null,null,null,null,null,null,null,null,null,null,null,null,null,"Phone",null,null,null,null,null,null,null,null,null,null,null,null,null,null,null,null,null,null,null,null,null,null,null,null,null,null,"Overall",null,null,null,null,null,null,null,null,null,null,null,null,null,null,null,null,null,null,null,null,null,null,null,null,null,null,"Judge 7 Description <Enter Here>",null,null,null,null,null,null,null,null,null,null,null,null,null,null,null,null,null,null,null,null,null,null,null,null,null,null,"Judge 8 Description <Enter Here>",null,null,null,null,null,null,null,null,null,null,null,null,null,null,null,null,null,null,null,null,null,null,null,null,null,null,"Judge 9 Description <Enter Here>",null,null,null,null,null,null,null,null,null,null,null,null,null,null,null,null,null,null,null,null,null,null,null,null,null,null,"Judge 10 Description <Enter Here>"]
[null,null,null,null,null,"Identification and assessment ","treatment","regular reassessment (aftercare)","identification and assessment","treatment of arm","treatment of bleed","aftercare","Mark Category 8 <Enter Here>","Mark Category 9 <Enter Here>","Mark Category 10 <Enter Here>","Mark Category 11 <Enter Here>","Mark Category 12 <Enter Here>","Mark Category 13 <Enter Here>","Mark Category 14<Enter Here>","Mark Category 15<Enter Here>","Mark Category 16<Enter Here>","Mark Category 17<Enter Here>","Mark Category 18<Enter Here>","Mark Category 19 <Enter Here>","Mark Category 20 <Enter Here>","Mark Category 21 <Enter Here>","Mark Category 22<Enter Here>","Mark Category 23 <Enter Here>","Mark Category 24<Enter Here>","Mark Category 25 <Enter Here>","Do not fill in required for hidding process","¬ JUDGE 1  TOTAL","identification and assessment","treatment","aftercare","identification and assessment","speed to first rescue breath","quality of CPR","use of pocket mask","continuous CPR","Mark Category 9 <Enter Here>","Mark Category 10 <Enter Here>","Mark Category 11 <Enter Here>","Mark Category 12 <Enter Here>","Mark Category 13 <Enter Here>","Mark Category 14<Enter Here>","Mark Category 15 <Enter Here>","Mark Category 16<Enter Here>","Mark Category 17<Enter Here>","Mark Category 18<Enter Here>","Mark Category 19 <Enter Here>","Mark Category 20 <Enter Here>","Mark Category 21 <Enter Here>","Mark Category 22<Enter Here>","Mark Category 23 <Enter Here>","Mark Category 24<Enter Here>","Mark Category 25 <Enter Here>","Do not fill in required for hidding process","¬ JUDGE 2  TOTAL","identification and assessment","treatment","use of gloves","aftercare","identification and assessment","quality of recovery position/ treatment ","aftercare (regular reassessment)","Mark Category 8 <Enter Here>","Mark Category 9 <Enter Here>","Mark Category 10 <Enter Here>","Mark Category 11 <Enter Here>","Mark Category 12 <Enter Here>","Mark Category 13 <Enter Here>","Mark Category 14<Enter Here>","Mark Category 15 <Enter Here>","Mark Category 16<Enter Here>","Mark Category 17<Enter Here>","Mark Category 18<Enter Here>","Mark Category 19 <Enter Here>","Mark Category 20 <Enter Here>","Mark Category 21 <Enter Here>","Mark Category 22<Enter Here>","Mark Category 23 <Enter Here>","Mark Category 24<Enter Here>","Mark Category 25 <Enter Here>","Do not fill in required for hidding process","¬ JUDGE 3  TOTAL","identification and assessment","speed to first compression","quality of CPR","use of pocket mask","continuous CPR","use of bystander","treatment and reassurance","Mark Category 8 <Enter Here>","Mark Category 9 <Enter Here>","Mark Category 10 <Enter Here>","Mark Category 11 <Enter Here>","Mark Category 12 <Enter Here>","Mark Category 13 <Enter Here>","Mark Category 14<Enter Here>","Mark Category 15 <Enter Here>","Mark Category 16<Enter Here>","Mark Category 17<Enter Here>","Mark Category 18<Enter Here>","Mark Category 19 <Enter Here>","Mark Category 20 <Enter Here>","Mark Category 21 <Enter Here>","Mark Category 22<Enter Here>","Mark Category 23 <Enter Here>","Mark Category 24<Enter Here>","Mark Category 25 <Enter Here>","Do not fill in required for hidding process","¬ JUDGE 4  TOTAL","asked for ambulance","asked for police","asked for fire service","location ","casualty information (unconscious non breathing adult and baby)","casualty info (chest pains and unconscious)","casualty info (head bleed, broken arm/ cut hand, shock, panicking)","details of treatment provided","ask foe AED","other information","Mark Category 11 <Enter Here>","Mark Category 12 <Enter Here>","Mark Category 13 <Enter Here>","Mark Category 14<Enter Here>","Mark Category 15 <Enter Here>","Mark Category 16<Enter Here>","Mark Category 17<Enter Here>","Mark Category 18<Enter Here>","Mark Category 19 <Enter Here>","Mark Category 20 <Enter Here>","Mark Category 21 <Enter Here>","Mark Category 22<Enter Here>","Mark Category 23 <Enter Here>","Mark Category 24<Enter Here>","Mark Category 25 <Enter Here>","Do not fill in required for hidding process","¬ JUDGE 5  TOTAL","effective prioritisation","effective communication","effective captaincy","safety and control of scenario","Mark Category 5 <Enter Here>","Mark Category 6 <Enter Here>","Mark Category 7 <Enter Here>","Mark Category 8 <Enter Here>","Mark Category 9 <Enter Here>","Mark Category 10 <Enter Here>","Mark Category 11 <Enter Here>","Mark Category 12 <Enter Here>","Mark Category 13 <Enter Here>","Mark Category 14<Enter Here>","Mark Category 15 <Enter Here>","Mark Category 16<Enter Here>","Mark Category 17<Enter Here>","Mark Category 18<Enter Here>","Mark Category 19 <Enter Here>","Mark Category 20 <Enter Here>","Mark Category 21 <Enter Here>","Mark Category 22<Enter Here>","Mark Category 23 <Enter Here>","Mark Category 24<Enter Here>","Mark Category 25 <Enter Here>","Do not fill in required for hidding process","¬ JUDGE 6  TOTAL","Mark Category 1 <Enter Here>","Mark Category 2 <Enter Here>","Mark Category 3 <Enter Here>","Mark Category 4 <Enter Here>","Mark Category 5 <Enter Here>","Mark Category 6 <Enter Here>","Mark Category 7 <Enter Here>","Mark Category 8 <Enter Here>","Mark Category 9 <Enter Here>","Mark Category 10 <Enter Here>","Mark Category 11 <Enter Here>","Mark Category 12 <Enter Here>","Mark Category 13 <Enter Here>","Mark Category 14<Enter Here>","Mark Category 15 <Enter Here>","Mark Category 16<Enter Here>","Mark Category 17<Enter Here>","Mark Category 18<Enter Here>","Mark Category 19 <Enter Here>","Mark Category 20 <Enter Here>","Mark Category 21 <Enter Here>","Mark Category 22<Enter Here>","Mark Category 23 <Enter Here>","Mark Category 24<Enter Here>","Mark Category 25 <Enter Here>","Do not fill in required for hidding process","¬ JUDGE 7  TOTAL","Mark Category 1 <Enter Here>","Mark Category 2 <Enter Here>","Mark Category 3 <Enter Here>","Mark Category 4 <Enter Here>","Mark Category 5 <Enter Here>","Mark Category 6 <Enter Here>","Mark Category 7 <Enter Here>","Mark Category 8 <Enter Here>","Mark Category 9 <Enter Here>","Mark Category 10 <Enter Here>","Mark Category 11 <Enter Here>","Mark Category 12 <Enter Here>","Mark Category 13 <Enter Here>","Mark Category 14<Enter Here>","Mark Category 15 <Enter Here>","Mark Category 16<Enter Here>","Mark Category 17<Enter Here>","Mark Category 18<Enter Here>","Mark Category 19 <Enter Here>","Mark Category 20 <Enter Here>","Mark Category 21 <Enter Here>","Mark Category 22<Enter Here>","Mark Category 23 <Enter Here>","Mark Category 24<Enter Here>","Mark Category 25 <Enter Here>","Do not fill in required for hidding process","¬ JUDGE 8  TOTAL","Mark Category 1 <Enter Here>","Mark Category 2 <Enter Here>","Mark Category 3 <Enter Here>","Mark Category 4 <Enter Here>","Mark Category 5 <Enter Here>","Mark Category 6 <Enter Here>","Mark Category 7 <Enter Here>","Mark Category 8 <Enter Here>","Mark Category 9 <Enter Here>","Mark Category 10 <Enter Here>","Mark Category 11 <Enter Here>","Mark Category 12 <Enter Here>","Mark Category 13 <Enter Here>","Mark Category 14<Enter Here>","Mark Category 15 <Enter Here>","Mark Category 16<Enter Here>","Mark Category 17<Enter Here>","Mark Category 18<Enter Here>","Mark Category 19 <Enter Here>","Mark Category 20 <Enter Here>","Mark Category 21 <Enter Here>","Mark Category 22<Enter Here>","Mark Category 23 <Enter Here>","Mark Category 24<Enter Here>","Mark Category 25 <Enter Here>","Do not fill in required for hidding process","¬ JUDGE 9  TOTAL","Mark Category 1 <Enter Here>","Mark Category 2 <Enter Here>","Mark Category 3 <Enter Here>","Mark Category 4 <Enter Here>","Mark Category 5 <Enter Here>","Mark Category 6 <Enter Here>","Mark Category 7 <Enter Here>","Mark Category 8 <Enter Here>","Mark Category 9 <Enter Here>","Mark Category 10 <Enter Here>","Mark Category 11 <Enter Here>","Mark Category 12 <Enter Here>","Mark Category 13 <Enter Here>","Mark Category 14<Enter Here>","Mark Category 15 <Enter Here>","Mark Category 16<Enter Here>","Mark Category 17<Enter Here>","Mark Category 18<Enter Here>","Mark Category 19 <Enter Here>","Mark Category 20 <Enter Here>","Mark Category 21 <Enter Here>","Mark Category 22<Enter Here>","Mark Category 23 <Enter Here>","Mark Category 24<Enter Here>","Mark Category 25 <Enter Here>","Do not fill in required for hidding process","¬ JUDGE 10 TOTAL"]
[null,null,null,null,"MARK WEIGHTING →",1,1.5,1.5,1,1,1.5,1,null,null,null,null,null,null,null,null,null,null,null,null,null,null,null,null,null,null,null,null,1,1,0.5,1.5,2,1,1,1,null,null,null,null,null,null,null,null,null,null,null,null,null,null,null,null,null,null,null,1,1.5,1,1,1,1.5,1,null,null,null,null,null,null,null,null,null,null,null,null,null,null,null,null,null,null,null,null,1.5,2,1,1,1,1,1,null,null,null,null,null,null,null,null,null,null,null,null,null,null,null,null,null,null,null,null,0.5,0.5,0.5,1,1.5,1,0.5,0.5,1,0.3,null,null,null,null,null,null,null,null,null,null,null,null,null,null,null,null,null,3,1.5,1.5,1.5]
[null,null,"WEB"]
[null,1,{"$f":"IF(OR('Set UP'!$C7=0,'Set UP'!$D7=0,'Set UP'!$E7=0,'Set UP'!F7=0),\"  --\",'Set UP'!C7)","v":1418},{"$f":"IF(OR('Set UP'!$C7=0,'Set UP'!$D7=0,'Set UP'!$E7=0,'Set UP'!F7=0),\"  --\",'Set UP'!D7&\" \"&'Set UP'!E7)","v":"Bradford On Avon Lifesaving Club  B"},{"$f":"IF(OR('Set UP'!$C7=0,'Set UP'!$D7=0,'Set UP'!$E7=0,'Set UP'!F7=0),\"  --\",'Set UP'!F7)","v":"NS"},0,0,0,5,0,4,1,null,null,null,null,null,null,null,null,null,null,null,null,null,null,null,null,null,null,null,{"$f":"IF(OR('Set UP'!$C7=0,'Set UP'!$D7=0,'Set UP'!$E7=0),\"\",(F$19*F21)+(G$19*G21)+(H$19*H21)+(I$19*I21)+(J$19*J21)+(K$19*K21)+(L$19*L21)+(M$19*M21)+(N$19*N21)+(O$19*O21)+(P$19*P21)+(Q$19*Q21)+(R$19*R21)+(S$19*S21)+(T$19*T21)+(U$19*U21)+(V$19*V21)+(W$19*W21)+(X$19*X21)+(Y$19*Y21)+(Z$19*Z21)+(AA$19*AA21)+(AB$19*AB21)+(AC$19*AC21)+(AD$19*AD21))","v":12},3,7,2,2,2,1,0,1,null,null,null,null,null,null,null,null,null,null,null,null,null,null,null,null,null,null,{"$f":"IF(OR('Set UP'!$C7=0,'Set UP'!$D7=0,'Set UP'!$E7=0),\"\",(AG$19*AG21)+(AH$19*AH21)+(AI$19*AI21)+(AJ$19*AJ21)+(AK$19*AK21)+(AL$19*AL21)+(AM$19*AM21)+(AN$19*AN21)+(AO$19*AO21)+(AP$19*AP21)+(AQ$19*AQ21)+(AR$19*AR21)+(AS$19*AS21)+(AT$19*AT21)+(AU$19*AU21)+(AV$19*AV21)+(AW$19*AW21)+(AX$19*AX21)+(AY$19*AY21)+(AZ$19*AZ21)+(BA$19*BA21)+(BB$19*BB21)+(BC$19*BC21)+(BD$19*BD21)+(BE$19*BE21))","v":20},7,3,0,0,8,5,0,null,null,null,null,null,null,null,null,null,null,null,null,null,null,null,null,null,null,null,{"$f":"IF(OR('Set UP'!$C7=0,'Set UP'!$D7=0,'Set UP'!$E7=0),\"\",(BH$19*BH21)+(BI$19*BI21)+(BJ$19*BJ21)+(BK$19*BK21)+(BL$19*BL21)+(BM$19*BM21)+(BN$19*BN21)+(BO$19*BO21)+(BP$19*BP21)+(BQ$19*BQ21)+(BR$19*BR21)+(BS$19*BS21)+(BT$19*BT21)+(BU$19*BU21)+(BV$19*BV21)+(BW$19*BW21)+(BX$19*BX21)+(BY$19*BY21)+(BZ$19*BZ21)+(CA$19*CA21)+(CB$19*CB21)+(CC$19*CC21)+(CD$19*CD21)+(CE$19*CE21)+(CF$19*CF21))","v":27},6,8,5,0,5,0,1,null,null,null,null,null,null,null,null,null,null,null,null,null,null,null,null,null,null,null,{"$f":"IF(OR('Set UP'!$C7=0,'Set UP'!$D7=0,'Set UP'!$E7=0),\"\",(CI$19*CI21)+(CJ$19*CJ21)+(CK$19*CK21)+(CL$19*CL21)+(CM$19*CM21)+(CN$19*CN21)+(CO$19*CO21)+(CP$19*CP21)+(CQ$19*CQ21)+(CR$19*CR21)+(CS$19*CS21)+(CT$19*CT21)+(CU$19*CU21)+(CV$19*CV21)+(CW$19*CW21)+(CX$19*CX21)+(CY$19*CY21)+(CZ$19*CZ21)+(DA$19*DA21)+(DB$19*DB21)+(DC$19*DC21)+(DD$19*DD21)+(DE$19*DE21)+(DF$19*DF21)+(DG$19*DG21))","v":36},0,0,0,0,0,0,0,0,0,0,null,null,null,null,null,null,null,null,null,null,null,null,null,null,null,null,{"$f":"IF(OR('Set UP'!$C7=0,'Set UP'!$D7=0,'Set UP'!$E7=0),\"\",(DJ$19*DJ21)+(DK$19*DK21)+(DL$19*DL21)+(DM$19*DM21)+(DN$19*DN21)+(DO$19*DO21)+(DP$19*DP21)+(DQ$19*DQ21)+(DR$19*DR21)+(DS$19*DS21)+(DT$19*DT21)+(DU$19*DU21)+(DV$19*DV21)+(DW$19*DW21)+(DX$19*DX21)+(DY$19*DY21)+(DZ$19*DZ21)+(EA$19*EA21)+(EB$19*EB21)+(EC$19*EC21)+(ED$19*ED21)+(EE$19*EE21)+(EF$19*EF21)+(EG$19*EG21)+(EH$19*EH21))","v":0},0,0,1,2,null,null,null,null,null,null,null,null,null,null,null,null,null,null,null,null,null,null,null,null,null,null,{"$f":"IF(OR('Set UP'!$C7=0,'Set UP'!$D7=0,'Set UP'!$E7=0),\"\",(EK$19*EK21)+(EL$19*EL21)+(EM$19*EM21)+(EN$19*EN21)+(EO$19*EO21)+(EP$19*EP21)+(EQ$19*EQ21)+(ER$19*ER21)+(ES$19*ES21)+(ET$19*ET21)+(EU$19*EU21)+(EV$19*EV21)+(EW$19*EW21)+(EX$19*EX21)+(EY$19*EY21)+(EZ$19*EZ21)+(FA$19*FA21)+(FB$19*FB21)+(FC$19*FC21)+(FD$19*FD21)+(FE$19*FE21)+(FF$19*FF21)+(FG$19*FG21)+(FH$19*FH21)+(FI$19*FI21))","v":4.5},null,null,null,null,null,null,null,null,null,null,null,null,null,null,null,null,null,null,null,null,null,null,null,null,null,null,{"$f":"IF(OR('Set UP'!$C7=0,'Set UP'!$D7=0,'Set UP'!$E7=0),\"\",(FL$19*FL21)+(FM$19*FM21)+(FN$19*FN21)+(FO$19*FO21)+(FP$19*FP21)+(FQ$19*FQ21)+(FR$19*FR21)+(FS$19*FS21)+(FT$19*FT21)+(FU$19*FU21)+(FV$19*FV21)+(FW$19*FW21)+(FX$19*FX21)+(FY$19*FY21)+(FZ$19*FZ21)+(GA$19*GA21)+(GB$19*GB21)+(GC$19*GC21)+(GD$19*GD21)+(GE$19*GE21)+(GF$19*GF21)+(GG$19*GG21)+(GH$19*GH21)+(GI$19*GI21)+(GJ$19*GJ21))","v":0},null,null,null,null,null,null,null,null,null,null,null,null,null,null,null,null,null,null,null,null,null,null,null,null,null,null,{"$f":"IF(OR('Set UP'!$C7=0,'Set UP'!$D7=0,'Set UP'!$E7=0),\"\",(GM$19*GM21)+(GN$19*GN21)+(GO$19*GO21)+(GP$19*GP21)+(GQ$19*GQ21)+(GR$19*GR21)+(GS$19*GS21)+(GT$19*GT21)+(GU$19*GU21)+(GV$19*GV21)+(GW$19*GW21)+(GX$19*GX21)+(GY$19*GY21)+(GZ$19*GZ21)+(HA$19*HA21)+(HB$19*HB21)+(HC$19*HC21)+(HD$19*HD21)+(HE$19*HE21)+(HF$19*HF21)+(HG$19*HG21)+(HH$19*HH21)+(HI$19*HI21)+(HJ$19*HJ21)+(HK$19*HK21))","v":0},null,null,null,null,null,null,null,null,null,null,null,null,null,null,null,null,null,null,null,null,null,null,null,null,null,null,{"$f":"IF(OR('Set UP'!$C7=0,'Set UP'!$D7=0,'Set UP'!$E7=0),\"\",(HN$19*HN21)+(HO$19*HO21)+(HP$19*HP21)+(HQ$19*HQ21)+(HR$19*HR21)+(HS$19*HS21)+(HT$19*HT21)+(HU$19*HU21)+(HV$19*HV21)+(HW$19*HW21)+(HX$19*HX21)+(HY$19*HY21)+(HZ$19*HZ21)+(IA$19*IA21)+(IB$19*IB21)+(IC$19*IC21)+(ID$19*ID21)+(IE$19*IE21)+(IF$19*IF21)+(IG$19*IG21)+(IH$19*IH21)+(II$19*II21)+(IJ$19*IJ21)+(IK$19*IK21)+(IL$19*IL21))","v":0},null,null,null,null,null,null,null,null,null,null,null,null,null,null,null,null,null,null,null,null,null,null,null,null,null,null,{"$f":"IF(OR('Set UP'!$C7=0,'Set UP'!$D7=0,'Set UP'!$E7=0),\"\",(IO$19*IO21)+(IP$19*IP21)+(IQ$19*IQ21)+(IR$19*IR21)+(IS$19*IS21)+(IT$19*IT21)+(IU$19*IU21)+(IV$19*IV21)+(IW$19*IW21)+(IX$19*IX21)+(IY$19*IY21)+(IZ$19*IZ21)+(JA$19*JA21)+(JB$19*JB21)+(JC$19*JC21)+(JD$19*JD21)+(JE$19*JE21)+(JF$19*JF21)+(JG$19*JG21)+(JH$19*JH21)+(JI$19*JI21)+(JJ$19*JJ21)+(JK$19*JK21)+(JL$19*JL21)+(JM$19*JM21))","v":0},{"$f":"IF(OR('Set UP'!$C7=0,'Set UP'!$D7=0,'Set UP'!$E7=0),\"\",(AF21+BG21+CH21+DI21+EJ21+FK21+GL21+HM21+IN21+JO21))","v":99.5},{"$f":"IF(OR('Set UP'!$C7=0,'Set UP'!$D7=0,'Set UP'!$E7=0),\"\",RANK(JP21,$JP$21:$JP$60,0))","v":27},{"$f":"IF(OR('Set UP'!K7<>1,'Set UP'!C7=0,'Set UP'!D7=0,'Set UP'!E7=0,'Set UP'!F7=0),\"\",$JP21)","v":""},{"$f":"IF(OR('Set UP'!K7<>1,'Set UP'!C7=0,'Set UP'!D7=0,'Set UP'!E7=0,'Set UP'!F7=0),\"\",RANK(JR21,$JR$21:$JR$60,0))","v":""},{"$f":"IF(OR('Set UP'!K7<>2,'Set UP'!C7=0,'Set UP'!D7=0,'Set UP'!E7=0,'Set UP'!F7=0),\"\",$JP21)","v":""},{"$f":"IF(OR('Set UP'!K7<>2,'Set UP'!C7=0,'Set UP'!D7=0,'Set UP'!E7=0,'Set UP'!F7=0),\"\",RANK(JT21,$JT$21:$JT$60,0))","v":""},{"$f":"IF(OR('Set UP'!F7<>\"F\",'Set UP'!C7=0,'Set UP'!D7=0,'Set UP'!E7=0),\"\",$JP21)","v":""},{"$f":"IF(OR('Set UP'!F7<>\"F\",'Set UP'!C7=0,'Set UP'!D7=0,'Set UP'!E7=0),\"\",RANK(JV21,$JV$21:$JV$60,0))","v":""},{"$f":"IF(OR('Set UP'!F7<>\"NS\",'Set UP'!C7=0,'Set UP'!D7=0,'Set UP'!E7=0),\"\",$JP21)","v":99.5},{"$f":"IF(OR('Set UP'!F7<>\"NS\",'Set UP'!C7=0,'Set UP'!D7=0,'Set UP'!E7=0),\"\",RANK(JX21,$JX$21:$JX$60,0))","v":5},{"$f":"IF(OR('Set UP'!$C7=0,'Set UP'!$D7=0,'Set UP'!$E7=0,JP21=0),\"\",JP21/MAX(JP$21:JP$60)*1000)","v":337.28813559322037}]
[null,2,{"$f":"IF(OR('Set UP'!$C8=0,'Set UP'!$D8=0,'Set UP'!$E8=0,'Set UP'!F8=0),\"  --\",'Set UP'!C8)","v":1419},{"$f":"IF(OR('Set UP'!$C8=0,'Set UP'!$D8=0,'Set UP'!$E8=0,'Set UP'!F8=0),\"  --\",'Set UP'!D8&\" \"&'Set UP'!E8)","v":"Bradford On Avon Lifesaving Club  A"},{"$f":"IF(OR('Set UP'!$C8=0,'Set UP'!$D8=0,'Set UP'!$E8=0,'Set UP'!F8=0),\"  --\",'Set UP'!F8)","v":"NS"},5,6,3,8,0,4,5,null,null,null,null,null,null,null,null,null,null,null,null,null,null,null,null,null,null,null,{"$f":"IF(OR('Set UP'!$C8=0,'Set UP'!$D8=0,'Set UP'!$E8=0),\"\",(F$19*F22)+(G$19*G22)+(H$19*H22)+(I$19*I22)+(J$19*J22)+(K$19*K22)+(L$19*L22)+(M$19*M22)+(N$19*N22)+(O$19*O22)+(P$19*P22)+(Q$19*Q22)+(R$19*R22)+(S$19*S22)+(T$19*T22)+(U$19*U22)+(V$19*V22)+(W$19*W22)+(X$19*X22)+(Y$19*Y22)+(Z$19*Z22)+(AA$19*AA22)+(AB$19*AB22)+(AC$19*AC22)+(AD$19*AD22))","v":37.5},5,7,7,7,2,9,0,8,null,null,null,null,null,null,null,null,null,null,null,null,null,null,null,null,null,null,{"$f":"IF(OR('Set UP'!$C8=0,'Set UP'!$D8=0,'Set UP'!$E8=0),\"\",(AG$19*AG22)+(AH$19*AH22)+(AI$19*AI22)+(AJ$19*AJ22)+(AK$19*AK22)+(AL$19*AL22)+(AM$19*AM22)+(AN$19*AN22)+(AO$19*AO22)+(AP$19*AP22)+(AQ$19*AQ22)+(AR$19*AR22)+(AS$19*AS22)+(AT$19*AT22)+(AU$19*AU22)+(AV$19*AV22)+(AW$19*AW22)+(AX$19*AX22)+(AY$19*AY22)+(AZ$19*AZ22)+(BA$19*BA22)+(BB$19*BB22)+(BC$19*BC22)+(BD$19*BD22)+(BE$19*BE22))","v":47},8,2,0,2,8,5,0,null,null,null,null,null,null,null,null,null,null,null,null,null,null,null,null,null,null,null,{"$f":"IF(OR('Set UP'!$C8=0,'Set UP'!$D8=0,'Set UP'!$E8=0),\"\",(BH$19*BH22)+(BI$19*BI22)+(BJ$19*BJ22)+(BK$19*BK22)+(BL$19*BL22)+(BM$19*BM22)+(BN$19*BN22)+(BO$19*BO22)+(BP$19*BP22)+(BQ$19*BQ22)+(BR$19*BR22)+(BS$19*BS22)+(BT$19*BT22)+(BU$19*BU22)+(BV$19*BV22)+(BW$19*BW22)+(BX$19*BX22)+(BY$19*BY22)+(BZ$19*BZ22)+(CA$19*CA22)+(CB$19*CB22)+(CC$19*CC22)+(CD$19*CD22)+(CE$19*CE22)+(CF$19*CF22))","v":28.5},6,9,5,0,4,2,4,null,null,null,null,null,null,null,null,null,null,null,null,null,null,null,null,null,null,null,{"$f":"IF(OR('Set UP'!$C8=0,'Set UP'!$D8=0,'Set UP'!$E8=0),\"\",(CI$19*CI22)+(CJ$19*CJ22)+(CK$19*CK22)+(CL$19*CL22)+(CM$19*CM22)+(CN$19*CN22)+(CO$19*CO22)+(CP$19*CP22)+(CQ$19*CQ22)+(CR$19*CR22)+(CS$19*CS22)+(CT$19*CT22)+(CU$19*CU22)+(CV$19*CV22)+(CW$19*CW22)+(CX$19*CX22)+(CY$19*CY22)+(CZ$19*CZ22)+(DA$19*DA22)+(DB$19*DB22)+(DC$19*DC22)+(DD$19*DD22)+(DE$19*DE22)+(DF$19*DF22)+(DG$19*DG22))","v":42},0,0,0,10,0,0,0,0,0,10,null,null,null,null,null,null,null,null,null,null,null,null,null,null,null,null,{"$f":"IF(OR('Set UP'!$C8=0,'Set UP'!$D8=0,'Set UP'!$E8=0),\"\",(DJ$19*DJ22)+(DK$19*DK22)+(DL$19*DL22)+(DM$19*DM22)+(DN$19*DN22)+(DO$19*DO22)+(DP$19*DP22)+(DQ$19*DQ22)+(DR$19*DR22)+(DS$19*DS22)+(DT$19*DT22)+(DU$19*DU22)+(DV$19*DV22)+(DW$19*DW22)+(DX$19*DX22)+(DY$19*DY22)+(DZ$19*DZ22)+(EA$19*EA22)+(EB$19*EB22)+(EC$19*EC22)+(ED$19*ED22)+(EE$19*EE22)+(EF$19*EF22)+(EG$19*EG22)+(EH$19*EH22))","v":13},4,5,5,6,null,null,null,null,null,null,null,null,null,null,null,null,null,null,null,null,null,null,null,null,null,null,{"$f":"IF(OR('Set UP'!$C8=0,'Set UP'!$D8=0,'Set UP'!$E8=0),\"\",(EK$19*EK22)+(EL$19*EL22)+(EM$19*EM22)+(EN$19*EN22)+(EO$19*EO22)+(EP$19*EP22)+(EQ$19*EQ22)+(ER$19*ER22)+(ES$19*ES22)+(ET$19*ET22)+(EU$19*EU22)+(EV$19*EV22)+(EW$19*EW22)+(EX$19*EX22)+(EY$19*EY22)+(EZ$19*EZ22)+(FA$19*FA22)+(FB$19*FB22)+(FC$19*FC22)+(FD$19*FD22)+(FE$19*FE22)+(FF$19*FF22)+(FG$19*FG22)+(FH$19*FH22)+(FI$19*FI22))","v":36},null,null,null,null,null,null,null,null,null,null,null,null,null,null,null,null,null,null,null,null,null,null,null,null,null,null,{"$f":"IF(OR('Set UP'!$C8=0,'Set UP'!$D8=0,'Set UP'!$E8=0),\"\",(FL$19*FL22)+(FM$19*FM22)+(FN$19*FN22)+(FO$19*FO22)+(FP$19*FP22)+(FQ$19*FQ22)+(FR$19*FR22)+(FS$19*FS22)+(FT$19*FT22)+(FU$19*FU22)+(FV$19*FV22)+(FW$19*FW22)+(FX$19*FX22)+(FY$19*FY22)+(FZ$19*FZ22)+(GA$19*GA22)+(GB$19*GB22)+(GC$19*GC22)+(GD$19*GD22)+(GE$19*GE22)+(GF$19*GF22)+(GG$19*GG22)+(GH$19*GH22)+(GI$19*GI22)+(GJ$19*GJ22))","v":0},null,null,null,null,null,null,null,null,null,null,null,null,null,null,null,null,null,null,null,null,null,null,null,null,null,null,{"$f":"IF(OR('Set UP'!$C8=0,'Set UP'!$D8=0,'Set UP'!$E8=0),\"\",(GM$19*GM22)+(GN$19*GN22)+(GO$19*GO22)+(GP$19*GP22)+(GQ$19*GQ22)+(GR$19*GR22)+(GS$19*GS22)+(GT$19*GT22)+(GU$19*GU22)+(GV$19*GV22)+(GW$19*GW22)+(GX$19*GX22)+(GY$19*GY22)+(GZ$19*GZ22)+(HA$19*HA22)+(HB$19*HB22)+(HC$19*HC22)+(HD$19*HD22)+(HE$19*HE22)+(HF$19*HF22)+(HG$19*HG22)+(HH$19*HH22)+(HI$19*HI22)+(HJ$19*HJ22)+(HK$19*HK22))","v":0},null,null,null,null,null,null,null,null,null,null,null,null,null,null,null,null,null,null,null,null,null,null,null,null,null,null,{"$f":"IF(OR('Set UP'!$C8=0,'Set UP'!$D8=0,'Set UP'!$E8=0),\"\",(HN$19*HN22)+(HO$19*HO22)+(HP$19*HP22)+(HQ$19*HQ22)+(HR$19*HR22)+(HS$19*HS22)+(HT$19*HT22)+(HU$19*HU22)+(HV$19*HV22)+(HW$19*HW22)+(HX$19*HX22)+(HY$19*HY22)+(HZ$19*HZ22)+(IA$19*IA22)+(IB$19*IB22)+(IC$19*IC22)+(ID$19*ID22)+(IE$19*IE22)+(IF$19*IF22)+(IG$19*IG22)+(IH$19*IH22)+(II$19*II22)+(IJ$19*IJ22)+(IK$19*IK22)+(IL$19*IL22))","v":0},null,null,null,null,null,null,null,null,null,null,null,null,null,null,null,null,null,null,null,null,null,null,null,null,null,null,{"$f":"IF(OR('Set UP'!$C8=0,'Set UP'!$D8=0,'Set UP'!$E8=0),\"\",(IO$19*IO22)+(IP$19*IP22)+(IQ$19*IQ22)+(IR$19*IR22)+(IS$19*IS22)+(IT$19*IT22)+(IU$19*IU22)+(IV$19*IV22)+(IW$19*IW22)+(IX$19*IX22)+(IY$19*IY22)+(IZ$19*IZ22)+(JA$19*JA22)+(JB$19*JB22)+(JC$19*JC22)+(JD$19*JD22)+(JE$19*JE22)+(JF$19*JF22)+(JG$19*JG22)+(JH$19*JH22)+(JI$19*JI22)+(JJ$19*JJ22)+(JK$19*JK22)+(JL$19*JL22)+(JM$19*JM22))","v":0},{"$f":"IF(OR('Set UP'!$C8=0,'Set UP'!$D8=0,'Set UP'!$E8=0),\"\",(AF22+BG22+CH22+DI22+EJ22+FK22+GL22+HM22+IN22+JO22))","v":204},{"$f":"IF(OR('Set UP'!$C8=0,'Set UP'!$D8=0,'Set UP'!$E8=0),\"\",RANK(JP22,$JP$21:$JP$60,0))","v":16},{"$f":"IF(OR('Set UP'!K8<>1,'Set UP'!C8=0,'Set UP'!D8=0,'Set UP'!E8=0,'Set UP'!F8=0),\"\",$JP22)","v":""},{"$f":"IF(OR('Set UP'!K8<>1,'Set UP'!C8=0,'Set UP'!D8=0,'Set UP'!E8=0,'Set UP'!F8=0),\"\",RANK(JR22,$JR$21:$JR$60,0))","v":""},{"$f":"IF(OR('Set UP'!K8<>2,'Set UP'!C8=0,'Set UP'!D8=0,'Set UP'!E8=0,'Set UP'!F8=0),\"\",$JP22)","v":""},{"$f":"IF(OR('Set UP'!K8<>2,'Set UP'!C8=0,'Set UP'!D8=0,'Set UP'!E8=0,'Set UP'!F8=0),\"\",RANK(JT22,$JT$21:$JT$60,0))","v":""},{"$f":"IF(OR('Set UP'!F8<>\"F\",'Set UP'!C8=0,'Set UP'!D8=0,'Set UP'!E8=0),\"\",$JP22)","v":""},{"$f":"IF(OR('Set UP'!F8<>\"F\",'Set UP'!C8=0,'Set UP'!D8=0,'Set UP'!E8=0),\"\",RANK(JV22,$JV$21:$JV$60,0))","v":""},{"$f":"IF(OR('Set UP'!F8<>\"NS\",'Set UP'!C8=0,'Set UP'!D8=0,'Set UP'!E8=0),\"\",$JP22)","v":204},{"$f":"IF(OR('Set UP'!F8<>\"NS\",'Set UP'!C8=0,'Set UP'!D8=0,'Set UP'!E8=0),\"\",RANK(JX22,$JX$21:$JX$60,0))","v":2},{"$f":"IF(OR('Set UP'!$C8=0,'Set UP'!$D8=0,'Set UP'!$E8=0,JP22=0),\"\",JP22/MAX(JP$21:JP$60)*1000)","v":691.52542372881351}]
[null,3,{"$f":"IF(OR('Set UP'!$C9=0,'Set UP'!$D9=0,'Set UP'!$E9=0,'Set UP'!F9=0),\"  --\",'Set UP'!C9)","v":1417},{"$f":"IF(OR('Set UP'!$C9=0,'Set UP'!$D9=0,'Set UP'!$E9=0,'Set UP'!F9=0),\"  --\",'Set UP'!D9&\" \"&'Set UP'!E9)","v":"Bradford On Avon Lifesaving Club  C"},{"$f":"IF(OR('Set UP'!$C9=0,'Set UP'!$D9=0,'Set UP'!$E9=0,'Set UP'!F9=0),\"  --\",'Set UP'!F9)","v":"NS"},0,0,0,5,0,6,0,null,null,null,null,null,null,null,null,null,null,null,null,null,null,null,null,null,null,null,{"$f":"IF(OR('Set UP'!$C9=0,'Set UP'!$D9=0,'Set UP'!$E9=0),\"\",(F$19*F23)+(G$19*G23)+(H$19*H23)+(I$19*I23)+(J$19*J23)+(K$19*K23)+(L$19*L23)+(M$19*M23)+(N$19*N23)+(O$19*O23)+(P$19*P23)+(Q$19*Q23)+(R$19*R23)+(S$19*S23)+(T$19*T23)+(U$19*U23)+(V$19*V23)+(W$19*W23)+(X$19*X23)+(Y$19*Y23)+(Z$19*Z23)+(AA$19*AA23)+(AB$19*AB23)+(AC$19*AC23)+(AD$19*AD23))","v":14},2,2,0,7,1,2,0,0,null,null,null,null,null,null,null,null,null,null,null,null,null,null,null,null,null,null,{"$f":"IF(OR('Set UP'!$C9=0,'Set UP'!$D9=0,'Set UP'!$E9=0),\"\",(AG$19*AG23)+(AH$19*AH23)+(AI$19*AI23)+(AJ$19*AJ23)+(AK$19*AK23)+(AL$19*AL23)+(AM$19*AM23)+(AN$19*AN23)+(AO$19*AO23)+(AP$19*AP23)+(AQ$19*AQ23)+(AR$19*AR23)+(AS$19*AS23)+(AT$19*AT23)+(AU$19*AU23)+(AV$19*AV23)+(AW$19*AW23)+(AX$19*AX23)+(AY$19*AY23)+(AZ$19*AZ23)+(BA$19*BA23)+(BB$19*BB23)+(BC$19*BC23)+(BD$19*BD23)+(BE$19*BE23))","v":18.5},8,2,0,0,6,7,0,null,null,null,null,null,null,null,null,null,null,null,null,null,null,null,null,null,null,null,{"$f":"IF(OR('Set UP'!$C9=0,'Set UP'!$D9=0,'Set UP'!$E9=0),\"\",(BH$19*BH23)+(BI$19*BI23)+(BJ$19*BJ23)+(BK$19*BK23)+(BL$19*BL23)+(BM$19*BM23)+(BN$19*BN23)+(BO$19*BO23)+(BP$19*BP23)+(BQ$19*BQ23)+(BR$19*BR23)+(BS$19*BS23)+(BT$19*BT23)+(BU$19*BU23)+(BV$19*BV23)+(BW$19*BW23)+(BX$19*BX23)+(BY$19*BY23)+(BZ$19*BZ23)+(CA$19*CA23)+(CB$19*CB23)+(CC$19*CC23)+(CD$19*CD23)+(CE$19*CE23)+(CF$19*CF23))","v":27.5},4,9,7,0,7,5,1,null,null,null,null,null,null,null,null,null,null,null,null,null,null,null,null,null,null,null,{"$f":"IF(OR('Set UP'!$C9=0,'Set UP'!$D9=0,'Set UP'!$E9=0),\"\",(CI$19*CI23)+(CJ$19*CJ23)+(CK$19*CK23)+(CL$19*CL23)+(CM$19*CM23)+(CN$19*CN23)+(CO$19*CO23)+(CP$19*CP23)+(CQ$19*CQ23)+(CR$19*CR23)+(CS$19*CS23)+(CT$19*CT23)+(CU$19*CU23)+(CV$19*CV23)+(CW$19*CW23)+(CX$19*CX23)+(CY$19*CY23)+(CZ$19*CZ23)+(DA$19*DA23)+(DB$19*DB23)+(DC$19*DC23)+(DD$19*DD23)+(DE$19*DE23)+(DF$19*DF23)+(DG$19*DG23))","v":44},10,0,0,5,10,0,0,0,0,0,null,null,null,null,null,null,null,null,null,null,null,null,null,null,null,null,{"$f":"IF(OR('Set UP'!$C9=0,'Set UP'!$D9=0,'Set UP'!$E9=0),\"\",(DJ$19*DJ23)+(DK$19*DK23)+(DL$19*DL23)+(DM$19*DM23)+(DN$19*DN23)+(DO$19*DO23)+(DP$19*DP23)+(DQ$19*DQ23)+(DR$19*DR23)+(DS$19*DS23)+(DT$19*DT23)+(DU$19*DU23)+(DV$19*DV23)+(DW$19*DW23)+(DX$19*DX23)+(DY$19*DY23)+(DZ$19*DZ23)+(EA$19*EA23)+(EB$19*EB23)+(EC$19*EC23)+(ED$19*ED23)+(EE$19*EE23)+(EF$19*EF23)+(EG$19*EG23)+(EH$19*EH23))","v":25},6,3,4,8,null,null,null,null,null,null,null,null,null,null,null,null,null,null,null,null,null,null,null,null,null,null,{"$f":"IF(OR('Set UP'!$C9=0,'Set UP'!$D9=0,'Set UP'!$E9=0),\"\",(EK$19*EK23)+(EL$19*EL23)+(EM$19*EM23)+(EN$19*EN23)+(EO$19*EO23)+(EP$19*EP23)+(EQ$19*EQ23)+(ER$19*ER23)+(ES$19*ES23)+(ET$19*ET23)+(EU$19*EU23)+(EV$19*EV23)+(EW$19*EW23)+(EX$19*EX23)+(EY$19*EY23)+(EZ$19*EZ23)+(FA$19*FA23)+(FB$19*FB23)+(FC$19*FC23)+(FD$19*FD23)+(FE$19*FE23)+(FF$19*FF23)+(FG$19*FG23)+(FH$19*FH23)+(FI$19*FI23))","v":40.5},null,null,null,null,null,null,null,null,null,null,null,null,null,null,null,null,null,null,null,null,null,null,null,null,null,null,{"$f":"IF(OR('Set UP'!$C9=0,'Set UP'!$D9=0,'Set UP'!$E9=0),\"\",(FL$19*FL23)+(FM$19*FM23)+(FN$19*FN23)+(FO$19*FO23)+(FP$19*FP23)+(FQ$19*FQ23)+(FR$19*FR23)+(FS$19*FS23)+(FT$19*FT23)+(FU$19*FU23)+(FV$19*FV23)+(FW$19*FW23)+(FX$19*FX23)+(FY$19*FY23)+(FZ$19*FZ23)+(GA$19*GA23)+(GB$19*GB23)+(GC$19*GC23)+(GD$19*GD23)+(GE$19*GE23)+(GF$19*GF23)+(GG$19*GG23)+(GH$19*GH23)+(GI$19*GI23)+(GJ$19*GJ23))","v":0},null,null,null,null,null,null,null,null,null,null,null,null,null,null,null,null,null,null,null,null,null,null,null,null,null,null,{"$f":"IF(OR('Set UP'!$C9=0,'Set UP'!$D9=0,'Set UP'!$E9=0),\"\",(GM$19*GM23)+(GN$19*GN23)+(GO$19*GO23)+(GP$19*GP23)+(GQ$19*GQ23)+(GR$19*GR23)+(GS$19*GS23)+(GT$19*GT23)+(GU$19*GU23)+(GV$19*GV23)+(GW$19*GW23)+(GX$19*GX23)+(GY$19*GY23)+(GZ$19*GZ23)+(HA$19*HA23)+(HB$19*HB23)+(HC$19*HC23)+(HD$19*HD23)+(HE$19*HE23)+(HF$19*HF23)+(HG$19*HG23)+(HH$19*HH23)+(HI$19*HI23)+(HJ$19*HJ23)+(HK$19*HK23))","v":0},null,null,null,null,null,null,null,null,null,null,null,null,null,null,null,null,null,null,null,null,null,null,null,null,null,null,{"$f":"IF(OR('Set UP'!$C9=0,'Set UP'!$D9=0,'Set UP'!$E9=0),\"\",(HN$19*HN23)+(HO$19*HO23)+(HP$19*HP23)+(HQ$19*HQ23)+(HR$19*HR23)+(HS$19*HS23)+(HT$19*HT23)+(HU$19*HU23)+(HV$19*HV23)+(HW$19*HW23)+(HX$19*HX23)+(HY$19*HY23)+(HZ$19*HZ23)+(IA$19*IA23)+(IB$19*IB23)+(IC$19*IC23)+(ID$19*ID23)+(IE$19*IE23)+(IF$19*IF23)+(IG$19*IG23)+(IH$19*IH23)+(II$19*II23)+(IJ$19*IJ23)+(IK$19*IK23)+(IL$19*IL23))","v":0},null,null,null,null,null,null,null,null,null,null,null,null,null,null,null,null,null,null,null,null,null,null,null,null,null,null,{"$f":"IF(OR('Set UP'!$C9=0,'Set UP'!$D9=0,'Set UP'!$E9=0),\"\",(IO$19*IO23)+(IP$19*IP23)+(IQ$19*IQ23)+(IR$19*IR23)+(IS$19*IS23)+(IT$19*IT23)+(IU$19*IU23)+(IV$19*IV23)+(IW$19*IW23)+(IX$19*IX23)+(IY$19*IY23)+(IZ$19*IZ23)+(JA$19*JA23)+(JB$19*JB23)+(JC$19*JC23)+(JD$19*JD23)+(JE$19*JE23)+(JF$19*JF23)+(JG$19*JG23)+(JH$19*JH23)+(JI$19*JI23)+(JJ$19*JJ23)+(JK$19*JK23)+(JL$19*JL23)+(JM$19*JM23))","v":0},{"$f":"IF(OR('Set UP'!$C9=0,'Set UP'!$D9=0,'Set UP'!$E9=0),\"\",(AF23+BG23+CH23+DI23+EJ23+FK23+GL23+HM23+IN23+JO23))","v":169.5},{"$f":"IF(OR('Set UP'!$C9=0,'Set UP'!$D9=0,'Set UP'!$E9=0),\"\",RANK(JP23,$JP$21:$JP$60,0))","v":23},{"$f":"IF(OR('Set UP'!K9<>1,'Set UP'!C9=0,'Set UP'!D9=0,'Set UP'!E9=0,'Set UP'!F9=0),\"\",$JP23)","v":""},{"$f":"IF(OR('Set UP'!K9<>1,'Set UP'!C9=0,'Set UP'!D9=0,'Set UP'!E9=0,'Set UP'!F9=0),\"\",RANK(JR23,$JR$21:$JR$60,0))","v":""},{"$f":"IF(OR('Set UP'!K9<>2,'Set UP'!C9=0,'Set UP'!D9=0,'Set UP'!E9=0,'Set UP'!F9=0),\"\",$JP23)","v":""},{"$f":"IF(OR('Set UP'!K9<>2,'Set UP'!C9=0,'Set UP'!D9=0,'Set UP'!E9=0,'Set UP'!F9=0),\"\",RANK(JT23,$JT$21:$JT$60,0))","v":""},{"$f":"IF(OR('Set UP'!F9<>\"F\",'Set UP'!C9=0,'Set UP'!D9=0,'Set UP'!E9=0),\"\",$JP23)","v":""},{"$f":"IF(OR('Set UP'!F9<>\"F\",'Set UP'!C9=0,'Set UP'!D9=0,'Set UP'!E9=0),\"\",RANK(JV23,$JV$21:$JV$60,0))","v":""},{"$f":"IF(OR('Set UP'!F9<>\"NS\",'Set UP'!C9=0,'Set UP'!D9=0,'Set UP'!E9=0),\"\",$JP23)","v":169.5},{"$f":"IF(OR('Set UP'!F9<>\"NS\",'Set UP'!C9=0,'Set UP'!D9=0,'Set UP'!E9=0),\"\",RANK(JX23,$JX$21:$JX$60,0))","v":4},{"$f":"IF(OR('Set UP'!$C9=0,'Set UP'!$D9=0,'Set UP'!$E9=0,JP23=0),\"\",JP23/MAX(JP$21:JP$60)*1000)","v":574.57627118644075}]
[null,4,{"$f":"IF(OR('Set UP'!$C10=0,'Set UP'!$D10=0,'Set UP'!$E10=0,'Set UP'!F10=0),\"  --\",'Set UP'!C10)","v":"  --"},{"$f":"IF(OR('Set UP'!$C10=0,'Set UP'!$D10=0,'Set UP'!$E10=0,'Set UP'!F10=0),\"  --\",'Set UP'!D10&\" \"&'Set UP'!E10)","v":"  --"},{"$f":"IF(OR('Set UP'!$C10=0,'Set UP'!$D10=0,'Set UP'!$E10=0,'Set UP'!F10=0),\"  --\",'Set UP'!F10)","v":"  --"},null,null,null,null,null,null,null,null,null,null,null,null,null,null,null,null,null,null,null,null,null,null,null,null,null,null,{"$f":"IF(OR('Set UP'!$C10=0,'Set UP'!$D10=0,'Set UP'!$E10=0),\"\",(F$19*F24)+(G$19*G24)+(H$19*H24)+(I$19*I24)+(J$19*J24)+(K$19*K24)+(L$19*L24)+(M$19*M24)+(N$19*N24)+(O$19*O24)+(P$19*P24)+(Q$19*Q24)+(R$19*R24)+(S$19*S24)+(T$19*T24)+(U$19*U24)+(V$19*V24)+(W$19*W24)+(X$19*X24)+(Y$19*Y24)+(Z$19*Z24)+(AA$19*AA24)+(AB$19*AB24)+(AC$19*AC24)+(AD$19*AD24))","v":""},null,null,null,null,null,null,null,null,null,null,null,null,null,null,null,null,null,null,null,null,null,null,null,null,null,null,{"$f":"IF(OR('Set UP'!$C10=0,'Set UP'!$D10=0,'Set UP'!$E10=0),\"\",(AG$19*AG24)+(AH$19*AH24)+(AI$19*AI24)+(AJ$19*AJ24)+(AK$19*AK24)+(AL$19*AL24)+(AM$19*AM24)+(AN$19*AN24)+(AO$19*AO24)+(AP$19*AP24)+(AQ$19*AQ24)+(AR$19*AR24)+(AS$19*AS24)+(AT$19*AT24)+(AU$19*AU24)+(AV$19*AV24)+(AW$19*AW24)+(AX$19*AX24)+(AY$19*AY24)+(AZ$19*AZ24)+(BA$19*BA24)+(BB$19*BB24)+(BC$19*BC24)+(BD$19*BD24)+(BE$19*BE24))","v":""},null,null,null,null,null,null,null,null,null,null,null,null,null,null,null,null,null,null,null,null,null,null,null,null,null,null,{"$f":"IF(OR('Set UP'!$C10=0,'Set UP'!$D10=0,'Set UP'!$E10=0),\"\",(BH$19*BH24)+(BI$19*BI24)+(BJ$19*BJ24)+(BK$19*BK24)+(BL$19*BL24)+(BM$19*BM24)+(BN$19*BN24)+(BO$19*BO24)+(BP$19*BP24)+(BQ$19*BQ24)+(BR$19*BR24)+(BS$19*BS24)+(BT$19*BT24)+(BU$19*BU24)+(BV$19*BV24)+(BW$19*BW24)+(BX$19*BX24)+(BY$19*BY24)+(BZ$19*BZ24)+(CA$19*CA24)+(CB$19*CB24)+(CC$19*CC24)+(CD$19*CD24)+(CE$19*CE24)+(CF$19*CF24))","v":""},null,null,null,null,null,null,null,null,null,null,null,null,null,null,null,null,null,null,null,null,null,null,null,null,null,null,{"$f":"IF(OR('Set UP'!$C10=0,'Set UP'!$D10=0,'Set UP'!$E10=0),\"\",(CI$19*CI24)+(CJ$19*CJ24)+(CK$19*CK24)+(CL$19*CL24)+(CM$19*CM24)+(CN$19*CN24)+(CO$19*CO24)+(CP$19*CP24)+(CQ$19*CQ24)+(CR$19*CR24)+(CS$19*CS24)+(CT$19*CT24)+(CU$19*CU24)+(CV$19*CV24)+(CW$19*CW24)+(CX$19*CX24)+(CY$19*CY24)+(CZ$19*CZ24)+(DA$19*DA24)+(DB$19*DB24)+(DC$19*DC24)+(DD$19*DD24)+(DE$19*DE24)+(DF$19*DF24)+(DG$19*DG24))","v":""},null,null,null,null,null,null,null,null,null,null,null,null,null,null,null,null,null,null,null,null,null,null,null,null,null,null,{"$f":"IF(OR('Set UP'!$C10=0,'Set UP'!$D10=0,'Set UP'!$E10=0),\"\",(DJ$19*DJ24)+(DK$19*DK24)+(DL$19*DL24)+(DM$19*DM24)+(DN$19*DN24)+(DO$19*DO24)+(DP$19*DP24)+(DQ$19*DQ24)+(DR$19*DR24)+(DS$19*DS24)+(DT$19*DT24)+(DU$19*DU24)+(DV$19*DV24)+(DW$19*DW24)+(DX$19*DX24)+(DY$19*DY24)+(DZ$19*DZ24)+(EA$19*EA24)+(EB$19*EB24)+(EC$19*EC24)+(ED$19*ED24)+(EE$19*EE24)+(EF$19*EF24)+(EG$19*EG24)+(EH$19*EH24))","v":""},null,null,null,null,null,null,null,null,null,null,null,null,null,null,null,null,null,null,null,null,null,null,null,null,null,null,{"$f":"IF(OR('Set UP'!$C10=0,'Set UP'!$D10=0,'Set UP'!$E10=0),\"\",(EK$19*EK24)+(EL$19*EL24)+(EM$19*EM24)+(EN$19*EN24)+(EO$19*EO24)+(EP$19*EP24)+(EQ$19*EQ24)+(ER$19*ER24)+(ES$19*ES24)+(ET$19*ET24)+(EU$19*EU24)+(EV$19*EV24)+(EW$19*EW24)+(EX$19*EX24)+(EY$19*EY24)+(EZ$19*EZ24)+(FA$19*FA24)+(FB$19*FB24)+(FC$19*FC24)+(FD$19*FD24)+(FE$19*FE24)+(FF$19*FF24)+(FG$19*FG24)+(FH$19*FH24)+(FI$19*FI24))","v":""},null,null,null,null,null,null,null,null,null,null,null,null,null,null,null,null,null,null,null,null,null,null,null,null,null,null,{"$f":"IF(OR('Set UP'!$C10=0,'Set UP'!$D10=0,'Set UP'!$E10=0),\"\",(FL$19*FL24)+(FM$19*FM24)+(FN$19*FN24)+(FO$19*FO24)+(FP$19*FP24)+(FQ$19*FQ24)+(FR$19*FR24)+(FS$19*FS24)+(FT$19*FT24)+(FU$19*FU24)+(FV$19*FV24)+(FW$19*FW24)+(FX$19*FX24)+(FY$19*FY24)+(FZ$19*FZ24)+(GA$19*GA24)+(GB$19*GB24)+(GC$19*GC24)+(GD$19*GD24)+(GE$19*GE24)+(GF$19*GF24)+(GG$19*GG24)+(GH$19*GH24)+(GI$19*GI24)+(GJ$19*GJ24))","v":""},null,null,null,null,null,null,null,null,null,null,null,null,null,null,null,null,null,null,null,null,null,null,null,null,null,null,{"$f":"IF(OR('Set UP'!$C10=0,'Set UP'!$D10=0,'Set UP'!$E10=0),\"\",(GM$19*GM24)+(GN$19*GN24)+(GO$19*GO24)+(GP$19*GP24)+(GQ$19*GQ24)+(GR$19*GR24)+(GS$19*GS24)+(GT$19*GT24)+(GU$19*GU24)+(GV$19*GV24)+(GW$19*GW24)+(GX$19*GX24)+(GY$19*GY24)+(GZ$19*GZ24)+(HA$19*HA24)+(HB$19*HB24)+(HC$19*HC24)+(HD$19*HD24)+(HE$19*HE24)+(HF$19*HF24)+(HG$19*HG24)+(HH$19*HH24)+(HI$19*HI24)+(HJ$19*HJ24)+(HK$19*HK24))","v":""},null,null,null,null,null,null,null,null,null,null,null,null,null,null,null,null,null,null,null,null,null,null,null,null,null,null,{"$f":"IF(OR('Set UP'!$C10=0,'Set UP'!$D10=0,'Set UP'!$E10=0),\"\",(HN$19*HN24)+(HO$19*HO24)+(HP$19*HP24)+(HQ$19*HQ24)+(HR$19*HR24)+(HS$19*HS24)+(HT$19*HT24)+(HU$19*HU24)+(HV$19*HV24)+(HW$19*HW24)+(HX$19*HX24)+(HY$19*HY24)+(HZ$19*HZ24)+(IA$19*IA24)+(IB$19*IB24)+(IC$19*IC24)+(ID$19*ID24)+(IE$19*IE24)+(IF$19*IF24)+(IG$19*IG24)+(IH$19*IH24)+(II$19*II24)+(IJ$19*IJ24)+(IK$19*IK24)+(IL$19*IL24))","v":""},null,null,null,null,null,null,null,null,null,null,null,null,null,null,null,null,null,null,null,null,null,null,null,null,null,null,{"$f":"IF(OR('Set UP'!$C10=0,'Set UP'!$D10=0,'Set UP'!$E10=0),\"\",(IO$19*IO24)+(IP$19*IP24)+(IQ$19*IQ24)+(IR$19*IR24)+(IS$19*IS24)+(IT$19*IT24)+(IU$19*IU24)+(IV$19*IV24)+(IW$19*IW24)+(IX$19*IX24)+(IY$19*IY24)+(IZ$19*IZ24)+(JA$19*JA24)+(JB$19*JB24)+(JC$19*JC24)+(JD$19*JD24)+(JE$19*JE24)+(JF$19*JF24)+(JG$19*JG24)+(JH$19*JH24)+(JI$19*JI24)+(JJ$19*JJ24)+(JK$19*JK24)+(JL$19*JL24)+(JM$19*JM24))","v":""},{"$f":"IF(OR('Set UP'!$C10=0,'Set UP'!$D10=0,'Set UP'!$E10=0),\"\",(AF24+BG24+CH24+DI24+EJ24+FK24+GL24+HM24+IN24+JO24))","v":""},{"$f":"IF(OR('Set UP'!$C10=0,'Set UP'!$D10=0,'Set UP'!$E10=0),\"\",RANK(JP24,$JP$21:$JP$60,0))","v":""},{"$f":"IF(OR('Set UP'!K10<>1,'Set UP'!C10=0,'Set UP'!D10=0,'Set UP'!E10=0,'Set UP'!F10=0),\"\",$JP24)","v":""},{"$f":"IF(OR('Set UP'!K10<>1,'Set UP'!C10=0,'Set UP'!D10=0,'Set UP'!E10=0,'Set UP'!F10=0),\"\",RANK(JR24,$JR$21:$JR$60,0))","v":""},{"$f":"IF(OR('Set UP'!K10<>2,'Set UP'!C10=0,'Set UP'!D10=0,'Set UP'!E10=0,'Set UP'!F10=0),\"\",$JP24)","v":""},{"$f":"IF(OR('Set UP'!K10<>2,'Set UP'!C10=0,'Set UP'!D10=0,'Set UP'!E10=0,'Set UP'!F10=0),\"\",RANK(JT24,$JT$21:$JT$60,0))","v":""},{"$f":"IF(OR('Set UP'!F10<>\"F\",'Set UP'!C10=0,'Set UP'!D10=0,'Set UP'!E10=0),\"\",$JP24)","v":""},{"$f":"IF(OR('Set UP'!F10<>\"F\",'Set UP'!C10=0,'Set UP'!D10=0,'Set UP'!E10=0),\"\",RANK(JV24,$JV$21:$JV$60,0))","v":""},{"$f":"IF(OR('Set UP'!F10<>\"NS\",'Set UP'!C10=0,'Set UP'!D10=0,'Set UP'!E10=0),\"\",$JP24)","v":""},{"$f":"IF(OR('Set UP'!F10<>\"NS\",'Set UP'!C10=0,'Set UP'!D10=0,'Set UP'!E10=0),\"\",RANK(JX24,$JX$21:$JX$60,0))","v":""},{"$f":"IF(OR('Set UP'!$C10=0,'Set UP'!$D10=0,'Set UP'!$E10=0,JP24=0),\"\",JP24/MAX(JP$21:JP$60)*1000)","v":""}]
[null,5,{"$f":"IF(OR('Set UP'!$C11=0,'Set UP'!$D11=0,'Set UP'!$E11=0,'Set UP'!F11=0),\"  --\",'Set UP'!C11)","v":1424},{"$f":"IF(OR('Set UP'!$C11=0,'Set UP'!$D11=0,'Set UP'!$E11=0,'Set UP'!F11=0),\"  --\",'Set UP'!D11&\" \"&'Set UP'!E11)","v":"Keynsham B"},{"$f":"IF(OR('Set UP'!$C11=0,'Set UP'!$D11=0,'Set UP'!$E11=0,'Set UP'!F11=0),\"  --\",'Set UP'!F11)","v":"NS"},5,4,2,5,0,6,2,null,null,null,null,null,null,null,null,null,null,null,null,null,null,null,null,null,null,null,{"$f":"IF(OR('Set UP'!$C11=0,'Set UP'!$D11=0,'Set UP'!$E11=0),\"\",(F$19*F25)+(G$19*G25)+(H$19*H25)+(I$19*I25)+(J$19*J25)+(K$19*K25)+(L$19*L25)+(M$19*M25)+(N$19*N25)+(O$19*O25)+(P$19*P25)+(Q$19*Q25)+(R$19*R25)+(S$19*S25)+(T$19*T25)+(U$19*U25)+(V$19*V25)+(W$19*W25)+(X$19*X25)+(Y$19*Y25)+(Z$19*Z25)+(AA$19*AA25)+(AB$19*AB25)+(AC$19*AC25)+(AD$19*AD25))","v":30},2,2,7,8,8,5,0,7,null,null,null,null,null,null,null,null,null,null,null,null,null,null,null,null,null,null,{"$f":"IF(OR('Set UP'!$C11=0,'Set UP'!$D11=0,'Set UP'!$E11=0),\"\",(AG$19*AG25)+(AH$19*AH25)+(AI$19*AI25)+(AJ$19*AJ25)+(AK$19*AK25)+(AL$19*AL25)+(AM$19*AM25)+(AN$19*AN25)+(AO$19*AO25)+(AP$19*AP25)+(AQ$19*AQ25)+(AR$19*AR25)+(AS$19*AS25)+(AT$19*AT25)+(AU$19*AU25)+(AV$19*AV25)+(AW$19*AW25)+(AX$19*AX25)+(AY$19*AY25)+(AZ$19*AZ25)+(BA$19*BA25)+(BB$19*BB25)+(BC$19*BC25)+(BD$19*BD25)+(BE$19*BE25))","v":47.5},8,2,0,3,9,9,0,null,null,null,null,null,null,null,null,null,null,null,null,null,null,null,null,null,null,null,{"$f":"IF(OR('Set UP'!$C11=0,'Set UP'!$D11=0,'Set UP'!$E11=0),\"\",(BH$19*BH25)+(BI$19*BI25)+(BJ$19*BJ25)+(BK$19*BK25)+(BL$19*BL25)+(BM$19*BM25)+(BN$19*BN25)+(BO$19*BO25)+(BP$19*BP25)+(BQ$19*BQ25)+(BR$19*BR25)+(BS$19*BS25)+(BT$19*BT25)+(BU$19*BU25)+(BV$19*BV25)+(BW$19*BW25)+(BX$19*BX25)+(BY$19*BY25)+(BZ$19*BZ25)+(CA$19*CA25)+(CB$19*CB25)+(CC$19*CC25)+(CD$19*CD25)+(CE$19*CE25)+(CF$19*CF25))","v":36.5},8,6,7,8,8,4,5,null,null,null,null,null,null,null,null,null,null,null,null,null,null,null,null,null,null,null,{"$f":"IF(OR('Set UP'!$C11=0,'Set UP'!$D11=0,'Set UP'!$E11=0),\"\",(CI$19*CI25)+(CJ$19*CJ25)+(CK$19*CK25)+(CL$19*CL25)+(CM$19*CM25)+(CN$19*CN25)+(CO$19*CO25)+(CP$19*CP25)+(CQ$19*CQ25)+(CR$19*CR25)+(CS$19*CS25)+(CT$19*CT25)+(CU$19*CU25)+(CV$19*CV25)+(CW$19*CW25)+(CX$19*CX25)+(CY$19*CY25)+(CZ$19*CZ25)+(DA$19*DA25)+(DB$19*DB25)+(DC$19*DC25)+(DD$19*DD25)+(DE$19*DE25)+(DF$19*DF25)+(DG$19*DG25))","v":56},10,0,0,5,0,0,0,0,0,0,null,null,null,null,null,null,null,null,null,null,null,null,null,null,null,null,{"$f":"IF(OR('Set UP'!$C11=0,'Set UP'!$D11=0,'Set UP'!$E11=0),\"\",(DJ$19*DJ25)+(DK$19*DK25)+(DL$19*DL25)+(DM$19*DM25)+(DN$19*DN25)+(DO$19*DO25)+(DP$19*DP25)+(DQ$19*DQ25)+(DR$19*DR25)+(DS$19*DS25)+(DT$19*DT25)+(DU$19*DU25)+(DV$19*DV25)+(DW$19*DW25)+(DX$19*DX25)+(DY$19*DY25)+(DZ$19*DZ25)+(EA$19*EA25)+(EB$19*EB25)+(EC$19*EC25)+(ED$19*ED25)+(EE$19*EE25)+(EF$19*EF25)+(EG$19*EG25)+(EH$19*EH25))","v":10},6,7,7,7,null,null,null,null,null,null,null,null,null,null,null,null,null,null,null,null,null,null,null,null,null,null,{"$f":"IF(OR('Set UP'!$C11=0,'Set UP'!$D11=0,'Set UP'!$E11=0),\"\",(EK$19*EK25)+(EL$19*EL25)+(EM$19*EM25)+(EN$19*EN25)+(EO$19*EO25)+(EP$19*EP25)+(EQ$19*EQ25)+(ER$19*ER25)+(ES$19*ES25)+(ET$19*ET25)+(EU$19*EU25)+(EV$19*EV25)+(EW$19*EW25)+(EX$19*EX25)+(EY$19*EY25)+(EZ$19*EZ25)+(FA$19*FA25)+(FB$19*FB25)+(FC$19*FC25)+(FD$19*FD25)+(FE$19*FE25)+(FF$19*FF25)+(FG$19*FG25)+(FH$19*FH25)+(FI$19*FI25))","v":49.5},null,null,null,null,null,null,null,null,null,null,null,null,null,null,null,null,null,null,null,null,null,null,null,null,null,null,{"$f":"IF(OR('Set UP'!$C11=0,'Set UP'!$D11=0,'Set UP'!$E11=0),\"\",(FL$19*FL25)+(FM$19*FM25)+(FN$19*FN25)+(FO$19*FO25)+(FP$19*FP25)+(FQ$19*FQ25)+(FR$19*FR25)+(FS$19*FS25)+(FT$19*FT25)+(FU$19*FU25)+(FV$19*FV25)+(FW$19*FW25)+(FX$19*FX25)+(FY$19*FY25)+(FZ$19*FZ25)+(GA$19*GA25)+(GB$19*GB25)+(GC$19*GC25)+(GD$19*GD25)+(GE$19*GE25)+(GF$19*GF25)+(GG$19*GG25)+(GH$19*GH25)+(GI$19*GI25)+(GJ$19*GJ25))","v":0},null,null,null,null,null,null,null,null,null,null,null,null,null,null,null,null,null,null,null,null,null,null,null,null,null,null,{"$f":"IF(OR('Set UP'!$C11=0,'Set UP'!$D11=0,'Set UP'!$E11=0),\"\",(GM$19*GM25)+(GN$19*GN25)+(GO$19*GO25)+(GP$19*GP25)+(GQ$19*GQ25)+(GR$19*GR25)+(GS$19*GS25)+(GT$19*GT25)+(GU$19*GU25)+(GV$19*GV25)+(GW$19*GW25)+(GX$19*GX25)+(GY$19*GY25)+(GZ$19*GZ25)+(HA$19*HA25)+(HB$19*HB25)+(HC$19*HC25)+(HD$19*HD25)+(HE$19*HE25)+(HF$19*HF25)+(HG$19*HG25)+(HH$19*HH25)+(HI$19*HI25)+(HJ$19*HJ25)+(HK$19*HK25))","v":0},null,null,null,null,null,null,null,null,null,null,null,null,null,null,null,null,null,null,null,null,null,null,null,null,null,null,{"$f":"IF(OR('Set UP'!$C11=0,'Set UP'!$D11=0,'Set UP'!$E11=0),\"\",(HN$19*HN25)+(HO$19*HO25)+(HP$19*HP25)+(HQ$19*HQ25)+(HR$19*HR25)+(HS$19*HS25)+(HT$19*HT25)+(HU$19*HU25)+(HV$19*HV25)+(HW$19*HW25)+(HX$19*HX25)+(HY$19*HY25)+(HZ$19*HZ25)+(IA$19*IA25)+(IB$19*IB25)+(IC$19*IC25)+(ID$19*ID25)+(IE$19*IE25)+(IF$19*IF25)+(IG$19*IG25)+(IH$19*IH25)+(II$19*II25)+(IJ$19*IJ25)+(IK$19*IK25)+(IL$19*IL25))","v":0},null,null,null,null,null,null,null,null,null,null,null,null,null,null,null,null,null,null,null,null,null,null,null,null,null,null,{"$f":"IF(OR('Set UP'!$C11=0,'Set UP'!$D11=0,'Set UP'!$E11=0),\"\",(IO$19*IO25)+(IP$19*IP25)+(IQ$19*IQ25)+(IR$19*IR25)+(IS$19*IS25)+(IT$19*IT25)+(IU$19*IU25)+(IV$19*IV25)+(IW$19*IW25)+(IX$19*IX25)+(IY$19*IY25)+(IZ$19*IZ25)+(JA$19*JA25)+(JB$19*JB25)+(JC$19*JC25)+(JD$19*JD25)+(JE$19*JE25)+(JF$19*JF25)+(JG$19*JG25)+(JH$19*JH25)+(JI$19*JI25)+(JJ$19*JJ25)+(JK$19*JK25)+(JL$19*JL25)+(JM$19*JM25))","v":0},{"$f":"IF(OR('Set UP'!$C11=0,'Set UP'!$D11=0,'Set UP'!$E11=0),\"\",(AF25+BG25+CH25+DI25+EJ25+FK25+GL25+HM25+IN25+JO25))","v":229.5},{"$f":"IF(OR('Set UP'!$C11=0,'Set UP'!$D11=0,'Set UP'!$E11=0),\"\",RANK(JP25,$JP$21:$JP$60,0))","v":14},{"$f":"IF(OR('Set UP'!K11<>1,'Set UP'!C11=0,'Set UP'!D11=0,'Set UP'!E11=0,'Set UP'!F11=0),\"\",$JP25)","v":""},{"$f":"IF(OR('Set UP'!K11<>1,'Set UP'!C11=0,'Set UP'!D11=0,'Set UP'!E11=0,'Set UP'!F11=0),\"\",RANK(JR25,$JR$21:$JR$60,0))","v":""},{"$f":"IF(OR('Set UP'!K11<>2,'Set UP'!C11=0,'Set UP'!D11=0,'Set UP'!E11=0,'Set UP'!F11=0),\"\",$JP25)","v":""},{"$f":"IF(OR('Set UP'!K11<>2,'Set UP'!C11=0,'Set UP'!D11=0,'Set UP'!E11=0,'Set UP'!F11=0),\"\",RANK(JT25,$JT$21:$JT$60,0))","v":""},{"$f":"IF(OR('Set UP'!F11<>\"F\",'Set UP'!C11=0,'Set UP'!D11=0,'Set UP'!E11=0),\"\",$JP25)","v":""},{"$f":"IF(OR('Set UP'!F11<>\"F\",'Set UP'!C11=0,'Set UP'!D11=0,'Set UP'!E11=0),\"\",RANK(JV25,$JV$21:$JV$60,0))","v":""},{"$f":"IF(OR('Set UP'!F11<>\"NS\",'Set UP'!C11=0,'Set UP'!D11=0,'Set UP'!E11=0),\"\",$JP25)","v":229.5},{"$f":"IF(OR('Set UP'!F11<>\"NS\",'Set UP'!C11=0,'Set UP'!D11=0,'Set UP'!E11=0),\"\",RANK(JX25,$JX$21:$JX$60,0))","v":1},{"$f":"IF(OR('Set UP'!$C11=0,'Set UP'!$D11=0,'Set UP'!$E11=0,JP25=0),\"\",JP25/MAX(JP$21:JP$60)*1000)","v":777.96610169491521}]
[null,6,{"$f":"IF(OR('Set UP'!$C12=0,'Set UP'!$D12=0,'Set UP'!$E12=0,'Set UP'!F12=0),\"  --\",'Set UP'!C12)","v":1423},{"$f":"IF(OR('Set UP'!$C12=0,'Set UP'!$D12=0,'Set UP'!$E12=0,'Set UP'!F12=0),\"  --\",'Set UP'!D12&\" \"&'Set UP'!E12)","v":"Keynsham A"},{"$f":"IF(OR('Set UP'!$C12=0,'Set UP'!$D12=0,'Set UP'!$E12=0,'Set UP'!F12=0),\"  --\",'Set UP'!F12)","v":"NS"},5,5,0,5,0,1,0,null,null,null,null,null,null,null,null,null,null,null,null,null,null,null,null,null,null,null,{"$f":"IF(OR('Set UP'!$C12=0,'Set UP'!$D12=0,'Set UP'!$E12=0),\"\",(F$19*F26)+(G$19*G26)+(H$19*H26)+(I$19*I26)+(J$19*J26)+(K$19*K26)+(L$19*L26)+(M$19*M26)+(N$19*N26)+(O$19*O26)+(P$19*P26)+(Q$19*Q26)+(R$19*R26)+(S$19*S26)+(T$19*T26)+(U$19*U26)+(V$19*V26)+(W$19*W26)+(X$19*X26)+(Y$19*Y26)+(Z$19*Z26)+(AA$19*AA26)+(AB$19*AB26)+(AC$19*AC26)+(AD$19*AD26))","v":19},2,4,4,9,2,4,0,6,null,null,null,null,null,null,null,null,null,null,null,null,null,null,null,null,null,null,{"$f":"IF(OR('Set UP'!$C12=0,'Set UP'!$D12=0,'Set UP'!$E12=0),\"\",(AG$19*AG26)+(AH$19*AH26)+(AI$19*AI26)+(AJ$19*AJ26)+(AK$19*AK26)+(AL$19*AL26)+(AM$19*AM26)+(AN$19*AN26)+(AO$19*AO26)+(AP$19*AP26)+(AQ$19*AQ26)+(AR$19*AR26)+(AS$19*AS26)+(AT$19*AT26)+(AU$19*AU26)+(AV$19*AV26)+(AW$19*AW26)+(AX$19*AX26)+(AY$19*AY26)+(AZ$19*AZ26)+(BA$19*BA26)+(BB$19*BB26)+(BC$19*BC26)+(BD$19*BD26)+(BE$19*BE26))","v":35.5},5,2,0,2,6,5,0,null,null,null,null,null,null,null,null,null,null,null,null,null,null,null,null,null,null,null,{"$f":"IF(OR('Set UP'!$C12=0,'Set UP'!$D12=0,'Set UP'!$E12=0),\"\",(BH$19*BH26)+(BI$19*BI26)+(BJ$19*BJ26)+(BK$19*BK26)+(BL$19*BL26)+(BM$19*BM26)+(BN$19*BN26)+(BO$19*BO26)+(BP$19*BP26)+(BQ$19*BQ26)+(BR$19*BR26)+(BS$19*BS26)+(BT$19*BT26)+(BU$19*BU26)+(BV$19*BV26)+(BW$19*BW26)+(BX$19*BX26)+(BY$19*BY26)+(BZ$19*BZ26)+(CA$19*CA26)+(CB$19*CB26)+(CC$19*CC26)+(CD$19*CD26)+(CE$19*CE26)+(CF$19*CF26))","v":23.5},6,9,4,0,1,1,2,null,null,null,null,null,null,null,null,null,null,null,null,null,null,null,null,null,null,null,{"$f":"IF(OR('Set UP'!$C12=0,'Set UP'!$D12=0,'Set UP'!$E12=0),\"\",(CI$19*CI26)+(CJ$19*CJ26)+(CK$19*CK26)+(CL$19*CL26)+(CM$19*CM26)+(CN$19*CN26)+(CO$19*CO26)+(CP$19*CP26)+(CQ$19*CQ26)+(CR$19*CR26)+(CS$19*CS26)+(CT$19*CT26)+(CU$19*CU26)+(CV$19*CV26)+(CW$19*CW26)+(CX$19*CX26)+(CY$19*CY26)+(CZ$19*CZ26)+(DA$19*DA26)+(DB$19*DB26)+(DC$19*DC26)+(DD$19*DD26)+(DE$19*DE26)+(DF$19*DF26)+(DG$19*DG26))","v":35},10,0,0,0,5,5,0,0,0,0,null,null,null,null,null,null,null,null,null,null,null,null,null,null,null,null,{"$f":"IF(OR('Set UP'!$C12=0,'Set UP'!$D12=0,'Set UP'!$E12=0),\"\",(DJ$19*DJ26)+(DK$19*DK26)+(DL$19*DL26)+(DM$19*DM26)+(DN$19*DN26)+(DO$19*DO26)+(DP$19*DP26)+(DQ$19*DQ26)+(DR$19*DR26)+(DS$19*DS26)+(DT$19*DT26)+(DU$19*DU26)+(DV$19*DV26)+(DW$19*DW26)+(DX$19*DX26)+(DY$19*DY26)+(DZ$19*DZ26)+(EA$19*EA26)+(EB$19*EB26)+(EC$19*EC26)+(ED$19*ED26)+(EE$19*EE26)+(EF$19*EF26)+(EG$19*EG26)+(EH$19*EH26))","v":17.5},6,9,6,6,null,null,null,null,null,null,null,null,null,null,null,null,null,null,null,null,null,null,null,null,null,null,{"$f":"IF(OR('Set UP'!$C12=0,'Set UP'!$D12=0,'Set UP'!$E12=0),\"\",(EK$19*EK26)+(EL$19*EL26)+(EM$19*EM26)+(EN$19*EN26)+(EO$19*EO26)+(EP$19*EP26)+(EQ$19*EQ26)+(ER$19*ER26)+(ES$19*ES26)+(ET$19*ET26)+(EU$19*EU26)+(EV$19*EV26)+(EW$19*EW26)+(EX$19*EX26)+(EY$19*EY26)+(EZ$19*EZ26)+(FA$19*FA26)+(FB$19*FB26)+(FC$19*FC26)+(FD$19*FD26)+(FE$19*FE26)+(FF$19*FF26)+(FG$19*FG26)+(FH$19*FH26)+(FI$19*FI26))","v":49.5},null,null,null,null,null,null,null,null,null,null,null,null,null,null,null,null,null,null,null,null,null,null,null,null,null,null,{"$f":"IF(OR('Set UP'!$C12=0,'Set UP'!$D12=0,'Set UP'!$E12=0),\"\",(FL$19*FL26)+(FM$19*FM26)+(FN$19*FN26)+(FO$19*FO26)+(FP$19*FP26)+(FQ$19*FQ26)+(FR$19*FR26)+(FS$19*FS26)+(FT$19*FT26)+(FU$19*FU26)+(FV$19*FV26)+(FW$19*FW26)+(FX$19*FX26)+(FY$19*FY26)+(FZ$19*FZ26)+(GA$19*GA26)+(GB$19*GB26)+(GC$19*GC26)+(GD$19*GD26)+(GE$19*GE26)+(GF$19*GF26)+(GG$19*GG26)+(GH$19*GH26)+(GI$19*GI26)+(GJ$19*GJ26))","v":0},null,null,null,null,null,null,null,null,null,null,null,null,null,null,null,null,null,null,null,null,null,null,null,null,null,null,{"$f":"IF(OR('Set UP'!$C12=0,'Set UP'!$D12=0,'Set UP'!$E12=0),\"\",(GM$19*GM26)+(GN$19*GN26)+(GO$19*GO26)+(GP$19*GP26)+(GQ$19*GQ26)+(GR$19*GR26)+(GS$19*GS26)+(GT$19*GT26)+(GU$19*GU26)+(GV$19*GV26)+(GW$19*GW26)+(GX$19*GX26)+(GY$19*GY26)+(GZ$19*GZ26)+(HA$19*HA26)+(HB$19*HB26)+(HC$19*HC26)+(HD$19*HD26)+(HE$19*HE26)+(HF$19*HF26)+(HG$19*HG26)+(HH$19*HH26)+(HI$19*HI26)+(HJ$19*HJ26)+(HK$19*HK26))","v":0},null,null,null,null,null,null,null,null,null,null,null,null,null,null,null,null,null,null,null,null,null,null,null,null,null,null,{"$f":"IF(OR('Set UP'!$C12=0,'Set UP'!$D12=0,'Set UP'!$E12=0),\"\",(HN$19*HN26)+(HO$19*HO26)+(HP$19*HP26)+(HQ$19*HQ26)+(HR$19*HR26)+(HS$19*HS26)+(HT$19*HT26)+(HU$19*HU26)+(HV$19*HV26)+(HW$19*HW26)+(HX$19*HX26)+(HY$19*HY26)+(HZ$19*HZ26)+(IA$19*IA26)+(IB$19*IB26)+(IC$19*IC26)+(ID$19*ID26)+(IE$19*IE26)+(IF$19*IF26)+(IG$19*IG26)+(IH$19*IH26)+(II$19*II26)+(IJ$19*IJ26)+(IK$19*IK26)+(IL$19*IL26))","v":0},null,null,null,null,null,null,null,null,null,null,null,null,null,null,null,null,null,null,null,null,null,null,null,null,null,null,{"$f":"IF(OR('Set UP'!$C12=0,'Set UP'!$D12=0,'Set UP'!$E12=0),\"\",(IO$19*IO26)+(IP$19*IP26)+(IQ$19*IQ26)+(IR$19*IR26)+(IS$19*IS26)+(IT$19*IT26)+(IU$19*IU26)+(IV$19*IV26)+(IW$19*IW26)+(IX$19*IX26)+(IY$19*IY26)+(IZ$19*IZ26)+(JA$19*JA26)+(JB$19*JB26)+(JC$19*JC26)+(JD$19*JD26)+(JE$19*JE26)+(JF$19*JF26)+(JG$19*JG26)+(JH$19*JH26)+(JI$19*JI26)+(JJ$19*JJ26)+(JK$19*JK26)+(JL$19*JL26)+(JM$19*JM26))","v":0},{"$f":"IF(OR('Set UP'!$C12=0,'Set UP'!$D12=0,'Set UP'!$E12=0),\"\",(AF26+BG26+CH26+DI26+EJ26+FK26+GL26+HM26+IN26+JO26))","v":180},{"$f":"IF(OR('Set UP'!$C12=0,'Set UP'!$D12=0,'Set UP'!$E12=0),\"\",RANK(JP26,$JP$21:$JP$60,0))","v":21},{"$f":"IF(OR('Set UP'!K12<>1,'Set UP'!C12=0,'Set UP'!D12=0,'Set UP'!E12=0,'Set UP'!F12=0),\"\",$JP26)","v":""},{"$f":"IF(OR('Set UP'!K12<>1,'Set UP'!C12=0,'Set UP'!D12=0,'Set UP'!E12=0,'Set UP'!F12=0),\"\",RANK(JR26,$JR$21:$JR$60,0))","v":""},{"$f":"IF(OR('Set UP'!K12<>2,'Set UP'!C12=0,'Set UP'!D12=0,'Set UP'!E12=0,'Set UP'!F12=0),\"\",$JP26)","v":""},{"$f":"IF(OR('Set UP'!K12<>2,'Set UP'!C12=0,'Set UP'!D12=0,'Set UP'!E12=0,'Set UP'!F12=0),\"\",RANK(JT26,$JT$21:$JT$60,0))","v":""},{"$f":"IF(OR('Set UP'!F12<>\"F\",'Set UP'!C12=0,'Set UP'!D12=0,'Set UP'!E12=0),\"\",$JP26)","v":""},{"$f":"IF(OR('Set UP'!F12<>\"F\",'Set UP'!C12=0,'Set UP'!D12=0,'Set UP'!E12=0),\"\",RANK(JV26,$JV$21:$JV$60,0))","v":""},{"$f":"IF(OR('Set UP'!F12<>\"NS\",'Set UP'!C12=0,'Set UP'!D12=0,'Set UP'!E12=0),\"\",$JP26)","v":180},{"$f":"IF(OR('Set UP'!F12<>\"NS\",'Set UP'!C12=0,'Set UP'!D12=0,'Set UP'!E12=0),\"\",RANK(JX26,$JX$21:$JX$60,0))","v":3},{"$f":"IF(OR('Set UP'!$C12=0,'Set UP'!$D12=0,'Set UP'!$E12=0,JP26=0),\"\",JP26/MAX(JP$21:JP$60)*1000)","v":610.16949152542372}]
[null,7,{"$f":"IF(OR('Set UP'!$C13=0,'Set UP'!$D13=0,'Set UP'!$E13=0,'Set UP'!F13=0),\"  --\",'Set UP'!C13)","v":1433},{"$f":"IF(OR('Set UP'!$C13=0,'Set UP'!$D13=0,'Set UP'!$E13=0,'Set UP'!F13=0),\"  --\",'Set UP'!D13&\" \"&'Set UP'!E13)","v":"University of Nottingham B"},{"$f":"IF(OR('Set UP'!$C13=0,'Set UP'!$D13=0,'Set UP'!$E13=0,'Set UP'!F13=0),\"  --\",'Set UP'!F13)","v":"S"},5,5,0,4,0,3,0,null,null,null,null,null,null,null,null,null,null,null,null,null,null,null,null,null,null,null,{"$f":"IF(OR('Set UP'!$C13=0,'Set UP'!$D13=0,'Set UP'!$E13=0),\"\",(F$19*F27)+(G$19*G27)+(H$19*H27)+(I$19*I27)+(J$19*J27)+(K$19*K27)+(L$19*L27)+(M$19*M27)+(N$19*N27)+(O$19*O27)+(P$19*P27)+(Q$19*Q27)+(R$19*R27)+(S$19*S27)+(T$19*T27)+(U$19*U27)+(V$19*V27)+(W$19*W27)+(X$19*X27)+(Y$19*Y27)+(Z$19*Z27)+(AA$19*AA27)+(AB$19*AB27)+(AC$19*AC27)+(AD$19*AD27))","v":21},0,4,3,8,0,3,0,5,null,null,null,null,null,null,null,null,null,null,null,null,null,null,null,null,null,null,{"$f":"IF(OR('Set UP'!$C13=0,'Set UP'!$D13=0,'Set UP'!$E13=0),\"\",(AG$19*AG27)+(AH$19*AH27)+(AI$19*AI27)+(AJ$19*AJ27)+(AK$19*AK27)+(AL$19*AL27)+(AM$19*AM27)+(AN$19*AN27)+(AO$19*AO27)+(AP$19*AP27)+(AQ$19*AQ27)+(AR$19*AR27)+(AS$19*AS27)+(AT$19*AT27)+(AU$19*AU27)+(AV$19*AV27)+(AW$19*AW27)+(AX$19*AX27)+(AY$19*AY27)+(AZ$19*AZ27)+(BA$19*BA27)+(BB$19*BB27)+(BC$19*BC27)+(BD$19*BD27)+(BE$19*BE27))","v":25.5},5,0,0,0,9,6,0,null,null,null,null,null,null,null,null,null,null,null,null,null,null,null,null,null,null,null,{"$f":"IF(OR('Set UP'!$C13=0,'Set UP'!$D13=0,'Set UP'!$E13=0),\"\",(BH$19*BH27)+(BI$19*BI27)+(BJ$19*BJ27)+(BK$19*BK27)+(BL$19*BL27)+(BM$19*BM27)+(BN$19*BN27)+(BO$19*BO27)+(BP$19*BP27)+(BQ$19*BQ27)+(BR$19*BR27)+(BS$19*BS27)+(BT$19*BT27)+(BU$19*BU27)+(BV$19*BV27)+(BW$19*BW27)+(BX$19*BX27)+(BY$19*BY27)+(BZ$19*BZ27)+(CA$19*CA27)+(CB$19*CB27)+(CC$19*CC27)+(CD$19*CD27)+(CE$19*CE27)+(CF$19*CF27))","v":23},7,7,6,7,7,2,2,null,null,null,null,null,null,null,null,null,null,null,null,null,null,null,null,null,null,null,{"$f":"IF(OR('Set UP'!$C13=0,'Set UP'!$D13=0,'Set UP'!$E13=0),\"\",(CI$19*CI27)+(CJ$19*CJ27)+(CK$19*CK27)+(CL$19*CL27)+(CM$19*CM27)+(CN$19*CN27)+(CO$19*CO27)+(CP$19*CP27)+(CQ$19*CQ27)+(CR$19*CR27)+(CS$19*CS27)+(CT$19*CT27)+(CU$19*CU27)+(CV$19*CV27)+(CW$19*CW27)+(CX$19*CX27)+(CY$19*CY27)+(CZ$19*CZ27)+(DA$19*DA27)+(DB$19*DB27)+(DC$19*DC27)+(DD$19*DD27)+(DE$19*DE27)+(DF$19*DF27)+(DG$19*DG27))","v":48.5},10,0,0,10,10,10,7,4,0,5,null,null,null,null,null,null,null,null,null,null,null,null,null,null,null,null,{"$f":"IF(OR('Set UP'!$C13=0,'Set UP'!$D13=0,'Set UP'!$E13=0),\"\",(DJ$19*DJ27)+(DK$19*DK27)+(DL$19*DL27)+(DM$19*DM27)+(DN$19*DN27)+(DO$19*DO27)+(DP$19*DP27)+(DQ$19*DQ27)+(DR$19*DR27)+(DS$19*DS27)+(DT$19*DT27)+(DU$19*DU27)+(DV$19*DV27)+(DW$19*DW27)+(DX$19*DX27)+(DY$19*DY27)+(DZ$19*DZ27)+(EA$19*EA27)+(EB$19*EB27)+(EC$19*EC27)+(ED$19*ED27)+(EE$19*EE27)+(EF$19*EF27)+(EG$19*EG27)+(EH$19*EH27))","v":47},6,4,4,4,null,null,null,null,null,null,null,null,null,null,null,null,null,null,null,null,null,null,null,null,null,null,{"$f":"IF(OR('Set UP'!$C13=0,'Set UP'!$D13=0,'Set UP'!$E13=0),\"\",(EK$19*EK27)+(EL$19*EL27)+(EM$19*EM27)+(EN$19*EN27)+(EO$19*EO27)+(EP$19*EP27)+(EQ$19*EQ27)+(ER$19*ER27)+(ES$19*ES27)+(ET$19*ET27)+(EU$19*EU27)+(EV$19*EV27)+(EW$19*EW27)+(EX$19*EX27)+(EY$19*EY27)+(EZ$19*EZ27)+(FA$19*FA27)+(FB$19*FB27)+(FC$19*FC27)+(FD$19*FD27)+(FE$19*FE27)+(FF$19*FF27)+(FG$19*FG27)+(FH$19*FH27)+(FI$19*FI27))","v":36},null,null,null,null,null,null,null,null,null,null,null,null,null,null,null,null,null,null,null,null,null,null,null,null,null,null,{"$f":"IF(OR('Set UP'!$C13=0,'Set UP'!$D13=0,'Set UP'!$E13=0),\"\",(FL$19*FL27)+(FM$19*FM27)+(FN$19*FN27)+(FO$19*FO27)+(FP$19*FP27)+(FQ$19*FQ27)+(FR$19*FR27)+(FS$19*FS27)+(FT$19*FT27)+(FU$19*FU27)+(FV$19*FV27)+(FW$19*FW27)+(FX$19*FX27)+(FY$19*FY27)+(FZ$19*FZ27)+(GA$19*GA27)+(GB$19*GB27)+(GC$19*GC27)+(GD$19*GD27)+(GE$19*GE27)+(GF$19*GF27)+(GG$19*GG27)+(GH$19*GH27)+(GI$19*GI27)+(GJ$19*GJ27))","v":0},null,null,null,null,null,null,null,null,null,null,null,null,null,null,null,null,null,null,null,null,null,null,null,null,null,null,{"$f":"IF(OR('Set UP'!$C13=0,'Set UP'!$D13=0,'Set UP'!$E13=0),\"\",(GM$19*GM27)+(GN$19*GN27)+(GO$19*GO27)+(GP$19*GP27)+(GQ$19*GQ27)+(GR$19*GR27)+(GS$19*GS27)+(GT$19*GT27)+(GU$19*GU27)+(GV$19*GV27)+(GW$19*GW27)+(GX$19*GX27)+(GY$19*GY27)+(GZ$19*GZ27)+(HA$19*HA27)+(HB$19*HB27)+(HC$19*HC27)+(HD$19*HD27)+(HE$19*HE27)+(HF$19*HF27)+(HG$19*HG27)+(HH$19*HH27)+(HI$19*HI27)+(HJ$19*HJ27)+(HK$19*HK27))","v":0},null,null,null,null,null,null,null,null,null,null,null,null,null,null,null,null,null,null,null,null,null,null,null,null,null,null,{"$f":"IF(OR('Set UP'!$C13=0,'Set UP'!$D13=0,'Set UP'!$E13=0),\"\",(HN$19*HN27)+(HO$19*HO27)+(HP$19*HP27)+(HQ$19*HQ27)+(HR$19*HR27)+(HS$19*HS27)+(HT$19*HT27)+(HU$19*HU27)+(HV$19*HV27)+(HW$19*HW27)+(HX$19*HX27)+(HY$19*HY27)+(HZ$19*HZ27)+(IA$19*IA27)+(IB$19*IB27)+(IC$19*IC27)+(ID$19*ID27)+(IE$19*IE27)+(IF$19*IF27)+(IG$19*IG27)+(IH$19*IH27)+(II$19*II27)+(IJ$19*IJ27)+(IK$19*IK27)+(IL$19*IL27))","v":0},null,null,null,null,null,null,null,null,null,null,null,null,null,null,null,null,null,null,null,null,null,null,null,null,null,null,{"$f":"IF(OR('Set UP'!$C13=0,'Set UP'!$D13=0,'Set UP'!$E13=0),\"\",(IO$19*IO27)+(IP$19*IP27)+(IQ$19*IQ27)+(IR$19*IR27)+(IS$19*IS27)+(IT$19*IT27)+(IU$19*IU27)+(IV$19*IV27)+(IW$19*IW27)+(IX$19*IX27)+(IY$19*IY27)+(IZ$19*IZ27)+(JA$19*JA27)+(JB$19*JB27)+(JC$19*JC27)+(JD$19*JD27)+(JE$19*JE27)+(JF$19*JF27)+(JG$19*JG27)+(JH$19*JH27)+(JI$19*JI27)+(JJ$19*JJ27)+(JK$19*JK27)+(JL$19*JL27)+(JM$19*JM27))","v":0},{"$f":"IF(OR('Set UP'!$C13=0,'Set UP'!$D13=0,'Set UP'!$E13=0),\"\",(AF27+BG27+CH27+DI27+EJ27+FK27+GL27+HM27+IN27+JO27))","v":201},{"$f":"IF(OR('Set UP'!$C13=0,'Set UP'!$D13=0,'Set UP'!$E13=0),\"\",RANK(JP27,$JP$21:$JP$60,0))","v":17},{"$f":"IF(OR('Set UP'!K13<>1,'Set UP'!C13=0,'Set UP'!D13=0,'Set UP'!E13=0,'Set UP'!F13=0),\"\",$JP27)","v":""},{"$f":"IF(OR('Set UP'!K13<>1,'Set UP'!C13=0,'Set UP'!D13=0,'Set UP'!E13=0,'Set UP'!F13=0),\"\",RANK(JR27,$JR$21:$JR$60,0))","v":""},{"$f":"IF(OR('Set UP'!K13<>2,'Set UP'!C13=0,'Set UP'!D13=0,'Set UP'!E13=0,'Set UP'!F13=0),\"\",$JP27)","v":201},{"$f":"IF(OR('Set UP'!K13<>2,'Set UP'!C13=0,'Set UP'!D13=0,'Set UP'!E13=0,'Set UP'!F13=0),\"\",RANK(JT27,$JT$21:$JT$60,0))","v":7},{"$f":"IF(OR('Set UP'!F13<>\"F\",'Set UP'!C13=0,'Set UP'!D13=0,'Set UP'!E13=0),\"\",$JP27)","v":""},{"$f":"IF(OR('Set UP'!F13<>\"F\",'Set UP'!C13=0,'Set UP'!D13=0,'Set UP'!E13=0),\"\",RANK(JV27,$JV$21:$JV$60,0))","v":""},{"$f":"IF(OR('Set UP'!F13<>\"NS\",'Set UP'!C13=0,'Set UP'!D13=0,'Set UP'!E13=0),\"\",$JP27)","v":""},{"$f":"IF(OR('Set UP'!F13<>\"NS\",'Set UP'!C13=0,'Set UP'!D13=0,'Set UP'!E13=0),\"\",RANK(JX27,$JX$21:$JX$60,0))","v":""},{"$f":"IF(OR('Set UP'!$C13=0,'Set UP'!$D13=0,'Set UP'!$E13=0,JP27=0),\"\",JP27/MAX(JP$21:JP$60)*1000)","v":681.3559322033899}]
[null,8,{"$f":"IF(OR('Set UP'!$C14=0,'Set UP'!$D14=0,'Set UP'!$E14=0,'Set UP'!F14=0),\"  --\",'Set UP'!C14)","v":1441},{"$f":"IF(OR('Set UP'!$C14=0,'Set UP'!$D14=0,'Set UP'!$E14=0,'Set UP'!F14=0),\"  --\",'Set UP'!D14&\" \"&'Set UP'!E14)","v":"University of Plymouth C"},{"$f":"IF(OR('Set UP'!$C14=0,'Set UP'!$D14=0,'Set UP'!$E14=0,'Set UP'!F14=0),\"  --\",'Set UP'!F14)","v":"NC"},0,0,0,6,0,3,0,null,null,null,null,null,null,null,null,null,null,null,null,null,null,null,null,null,null,null,{"$f":"IF(OR('Set UP'!$C14=0,'Set UP'!$D14=0,'Set UP'!$E14=0),\"\",(F$19*F28)+(G$19*G28)+(H$19*H28)+(I$19*I28)+(J$19*J28)+(K$19*K28)+(L$19*L28)+(M$19*M28)+(N$19*N28)+(O$19*O28)+(P$19*P28)+(Q$19*Q28)+(R$19*R28)+(S$19*S28)+(T$19*T28)+(U$19*U28)+(V$19*V28)+(W$19*W28)+(X$19*X28)+(Y$19*Y28)+(Z$19*Z28)+(AA$19*AA28)+(AB$19*AB28)+(AC$19*AC28)+(AD$19*AD28))","v":10.5},2,5,2,5,2,2,0,0,null,null,null,null,null,null,null,null,null,null,null,null,null,null,null,null,null,null,{"$f":"IF(OR('Set UP'!$C14=0,'Set UP'!$D14=0,'Set UP'!$E14=0),\"\",(AG$19*AG28)+(AH$19*AH28)+(AI$19*AI28)+(AJ$19*AJ28)+(AK$19*AK28)+(AL$19*AL28)+(AM$19*AM28)+(AN$19*AN28)+(AO$19*AO28)+(AP$19*AP28)+(AQ$19*AQ28)+(AR$19*AR28)+(AS$19*AS28)+(AT$19*AT28)+(AU$19*AU28)+(AV$19*AV28)+(AW$19*AW28)+(AX$19*AX28)+(AY$19*AY28)+(AZ$19*AZ28)+(BA$19*BA28)+(BB$19*BB28)+(BC$19*BC28)+(BD$19*BD28)+(BE$19*BE28))","v":21.5},8,4,0,0,4,6,0,null,null,null,null,null,null,null,null,null,null,null,null,null,null,null,null,null,null,null,{"$f":"IF(OR('Set UP'!$C14=0,'Set UP'!$D14=0,'Set UP'!$E14=0),\"\",(BH$19*BH28)+(BI$19*BI28)+(BJ$19*BJ28)+(BK$19*BK28)+(BL$19*BL28)+(BM$19*BM28)+(BN$19*BN28)+(BO$19*BO28)+(BP$19*BP28)+(BQ$19*BQ28)+(BR$19*BR28)+(BS$19*BS28)+(BT$19*BT28)+(BU$19*BU28)+(BV$19*BV28)+(BW$19*BW28)+(BX$19*BX28)+(BY$19*BY28)+(BZ$19*BZ28)+(CA$19*CA28)+(CB$19*CB28)+(CC$19*CC28)+(CD$19*CD28)+(CE$19*CE28)+(CF$19*CF28))","v":27},6,8,5,5,7,2,1,null,null,null,null,null,null,null,null,null,null,null,null,null,null,null,null,null,null,null,{"$f":"IF(OR('Set UP'!$C14=0,'Set UP'!$D14=0,'Set UP'!$E14=0),\"\",(CI$19*CI28)+(CJ$19*CJ28)+(CK$19*CK28)+(CL$19*CL28)+(CM$19*CM28)+(CN$19*CN28)+(CO$19*CO28)+(CP$19*CP28)+(CQ$19*CQ28)+(CR$19*CR28)+(CS$19*CS28)+(CT$19*CT28)+(CU$19*CU28)+(CV$19*CV28)+(CW$19*CW28)+(CX$19*CX28)+(CY$19*CY28)+(CZ$19*CZ28)+(DA$19*DA28)+(DB$19*DB28)+(DC$19*DC28)+(DD$19*DD28)+(DE$19*DE28)+(DF$19*DF28)+(DG$19*DG28))","v":45},10,0,0,0,7,0,5,0,0,0,null,null,null,null,null,null,null,null,null,null,null,null,null,null,null,null,{"$f":"IF(OR('Set UP'!$C14=0,'Set UP'!$D14=0,'Set UP'!$E14=0),\"\",(DJ$19*DJ28)+(DK$19*DK28)+(DL$19*DL28)+(DM$19*DM28)+(DN$19*DN28)+(DO$19*DO28)+(DP$19*DP28)+(DQ$19*DQ28)+(DR$19*DR28)+(DS$19*DS28)+(DT$19*DT28)+(DU$19*DU28)+(DV$19*DV28)+(DW$19*DW28)+(DX$19*DX28)+(DY$19*DY28)+(DZ$19*DZ28)+(EA$19*EA28)+(EB$19*EB28)+(EC$19*EC28)+(ED$19*ED28)+(EE$19*EE28)+(EF$19*EF28)+(EG$19*EG28)+(EH$19*EH28))","v":18},0,1,1,2,null,null,null,null,null,null,null,null,null,null,null,null,null,null,null,null,null,null,null,null,null,null,{"$f":"IF(OR('Set UP'!$C14=0,'Set UP'!$D14=0,'Set UP'!$E14=0),\"\",(EK$19*EK28)+(EL$19*EL28)+(EM$19*EM28)+(EN$19*EN28)+(EO$19*EO28)+(EP$19*EP28)+(EQ$19*EQ28)+(ER$19*ER28)+(ES$19*ES28)+(ET$19*ET28)+(EU$19*EU28)+(EV$19*EV28)+(EW$19*EW28)+(EX$19*EX28)+(EY$19*EY28)+(EZ$19*EZ28)+(FA$19*FA28)+(FB$19*FB28)+(FC$19*FC28)+(FD$19*FD28)+(FE$19*FE28)+(FF$19*FF28)+(FG$19*FG28)+(FH$19*FH28)+(FI$19*FI28))","v":6},null,null,null,null,null,null,null,null,null,null,null,null,null,null,null,null,null,null,null,null,null,null,null,null,null,null,{"$f":"IF(OR('Set UP'!$C14=0,'Set UP'!$D14=0,'Set UP'!$E14=0),\"\",(FL$19*FL28)+(FM$19*FM28)+(FN$19*FN28)+(FO$19*FO28)+(FP$19*FP28)+(FQ$19*FQ28)+(FR$19*FR28)+(FS$19*FS28)+(FT$19*FT28)+(FU$19*FU28)+(FV$19*FV28)+(FW$19*FW28)+(FX$19*FX28)+(FY$19*FY28)+(FZ$19*FZ28)+(GA$19*GA28)+(GB$19*GB28)+(GC$19*GC28)+(GD$19*GD28)+(GE$19*GE28)+(GF$19*GF28)+(GG$19*GG28)+(GH$19*GH28)+(GI$19*GI28)+(GJ$19*GJ28))","v":0},null,null,null,null,null,null,null,null,null,null,null,null,null,null,null,null,null,null,null,null,null,null,null,null,null,null,{"$f":"IF(OR('Set UP'!$C14=0,'Set UP'!$D14=0,'Set UP'!$E14=0),\"\",(GM$19*GM28)+(GN$19*GN28)+(GO$19*GO28)+(GP$19*GP28)+(GQ$19*GQ28)+(GR$19*GR28)+(GS$19*GS28)+(GT$19*GT28)+(GU$19*GU28)+(GV$19*GV28)+(GW$19*GW28)+(GX$19*GX28)+(GY$19*GY28)+(GZ$19*GZ28)+(HA$19*HA28)+(HB$19*HB28)+(HC$19*HC28)+(HD$19*HD28)+(HE$19*HE28)+(HF$19*HF28)+(HG$19*HG28)+(HH$19*HH28)+(HI$19*HI28)+(HJ$19*HJ28)+(HK$19*HK28))","v":0},null,null,null,null,null,null,null,null,null,null,null,null,null,null,null,null,null,null,null,null,null,null,null,null,null,null,{"$f":"IF(OR('Set UP'!$C14=0,'Set UP'!$D14=0,'Set UP'!$E14=0),\"\",(HN$19*HN28)+(HO$19*HO28)+(HP$19*HP28)+(HQ$19*HQ28)+(HR$19*HR28)+(HS$19*HS28)+(HT$19*HT28)+(HU$19*HU28)+(HV$19*HV28)+(HW$19*HW28)+(HX$19*HX28)+(HY$19*HY28)+(HZ$19*HZ28)+(IA$19*IA28)+(IB$19*IB28)+(IC$19*IC28)+(ID$19*ID28)+(IE$19*IE28)+(IF$19*IF28)+(IG$19*IG28)+(IH$19*IH28)+(II$19*II28)+(IJ$19*IJ28)+(IK$19*IK28)+(IL$19*IL28))","v":0},null,null,null,null,null,null,null,null,null,null,null,null,null,null,null,null,null,null,null,null,null,null,null,null,null,null,{"$f":"IF(OR('Set UP'!$C14=0,'Set UP'!$D14=0,'Set UP'!$E14=0),\"\",(IO$19*IO28)+(IP$19*IP28)+(IQ$19*IQ28)+(IR$19*IR28)+(IS$19*IS28)+(IT$19*IT28)+(IU$19*IU28)+(IV$19*IV28)+(IW$19*IW28)+(IX$19*IX28)+(IY$19*IY28)+(IZ$19*IZ28)+(JA$19*JA28)+(JB$19*JB28)+(JC$19*JC28)+(JD$19*JD28)+(JE$19*JE28)+(JF$19*JF28)+(JG$19*JG28)+(JH$19*JH28)+(JI$19*JI28)+(JJ$19*JJ28)+(JK$19*JK28)+(JL$19*JL28)+(JM$19*JM28))","v":0},{"$f":"IF(OR('Set UP'!$C14=0,'Set UP'!$D14=0,'Set UP'!$E14=0),\"\",(AF28+BG28+CH28+DI28+EJ28+FK28+GL28+HM28+IN28+JO28))","v":128},{"$f":"IF(OR('Set UP'!$C14=0,'Set UP'!$D14=0,'Set UP'!$E14=0),\"\",RANK(JP28,$JP$21:$JP$60,0))","v":26},{"$f":"IF(OR('Set UP'!K14<>1,'Set UP'!C14=0,'Set UP'!D14=0,'Set UP'!E14=0,'Set UP'!F14=0),\"\",$JP28)","v":""},{"$f":"IF(OR('Set UP'!K14<>1,'Set UP'!C14=0,'Set UP'!D14=0,'Set UP'!E14=0,'Set UP'!F14=0),\"\",RANK(JR28,$JR$21:$JR$60,0))","v":""},{"$f":"IF(OR('Set UP'!K14<>2,'Set UP'!C14=0,'Set UP'!D14=0,'Set UP'!E14=0,'Set UP'!F14=0),\"\",$JP28)","v":""},{"$f":"IF(OR('Set UP'!K14<>2,'Set UP'!C14=0,'Set UP'!D14=0,'Set UP'!E14=0,'Set UP'!F14=0),\"\",RANK(JT28,$JT$21:$JT$60,0))","v":""},{"$f":"IF(OR('Set UP'!F14<>\"F\",'Set UP'!C14=0,'Set UP'!D14=0,'Set UP'!E14=0),\"\",$JP28)","v":""},{"$f":"IF(OR('Set UP'!F14<>\"F\",'Set UP'!C14=0,'Set UP'!D14=0,'Set UP'!E14=0),\"\",RANK(JV28,$JV$21:$JV$60,0))","v":""},{"$f":"IF(OR('Set UP'!F14<>\"NS\",'Set UP'!C14=0,'Set UP'!D14=0,'Set UP'!E14=0),\"\",$JP28)","v":""},{"$f":"IF(OR('Set UP'!F14<>\"NS\",'Set UP'!C14=0,'Set UP'!D14=0,'Set UP'!E14=0),\"\",RANK(JX28,$JX$21:$JX$60,0))","v":""},{"$f":"IF(OR('Set UP'!$C14=0,'Set UP'!$D14=0,'Set UP'!$E14=0,JP28=0),\"\",JP28/MAX(JP$21:JP$60)*1000)","v":433.89830508474574}]
[null,9,{"$f":"IF(OR('Set UP'!$C15=0,'Set UP'!$D15=0,'Set UP'!$E15=0,'Set UP'!F15=0),\"  --\",'Set UP'!C15)","v":1440},{"$f":"IF(OR('Set UP'!$C15=0,'Set UP'!$D15=0,'Set UP'!$E15=0,'Set UP'!F15=0),\"  --\",'Set UP'!D15&\" \"&'Set UP'!E15)","v":"University of Plymouth B"},{"$f":"IF(OR('Set UP'!$C15=0,'Set UP'!$D15=0,'Set UP'!$E15=0,'Set UP'!F15=0),\"  --\",'Set UP'!F15)","v":"S"},0,0,0,7,2,5,0,null,null,null,null,null,null,null,null,null,null,null,null,null,null,null,null,null,null,null,{"$f":"IF(OR('Set UP'!$C15=0,'Set UP'!$D15=0,'Set UP'!$E15=0),\"\",(F$19*F29)+(G$19*G29)+(H$19*H29)+(I$19*I29)+(J$19*J29)+(K$19*K29)+(L$19*L29)+(M$19*M29)+(N$19*N29)+(O$19*O29)+(P$19*P29)+(Q$19*Q29)+(R$19*R29)+(S$19*S29)+(T$19*T29)+(U$19*U29)+(V$19*V29)+(W$19*W29)+(X$19*X29)+(Y$19*Y29)+(Z$19*Z29)+(AA$19*AA29)+(AB$19*AB29)+(AC$19*AC29)+(AD$19*AD29))","v":16.5},2,2,2,6,2,6,7,7,null,null,null,null,null,null,null,null,null,null,null,null,null,null,null,null,null,null,{"$f":"IF(OR('Set UP'!$C15=0,'Set UP'!$D15=0,'Set UP'!$E15=0),\"\",(AG$19*AG29)+(AH$19*AH29)+(AI$19*AI29)+(AJ$19*AJ29)+(AK$19*AK29)+(AL$19*AL29)+(AM$19*AM29)+(AN$19*AN29)+(AO$19*AO29)+(AP$19*AP29)+(AQ$19*AQ29)+(AR$19*AR29)+(AS$19*AS29)+(AT$19*AT29)+(AU$19*AU29)+(AV$19*AV29)+(AW$19*AW29)+(AX$19*AX29)+(AY$19*AY29)+(AZ$19*AZ29)+(BA$19*BA29)+(BB$19*BB29)+(BC$19*BC29)+(BD$19*BD29)+(BE$19*BE29))","v":38},8,9,0,0,3,0,0,null,null,null,null,null,null,null,null,null,null,null,null,null,null,null,null,null,null,null,{"$f":"IF(OR('Set UP'!$C15=0,'Set UP'!$D15=0,'Set UP'!$E15=0),\"\",(BH$19*BH29)+(BI$19*BI29)+(BJ$19*BJ29)+(BK$19*BK29)+(BL$19*BL29)+(BM$19*BM29)+(BN$19*BN29)+(BO$19*BO29)+(BP$19*BP29)+(BQ$19*BQ29)+(BR$19*BR29)+(BS$19*BS29)+(BT$19*BT29)+(BU$19*BU29)+(BV$19*BV29)+(BW$19*BW29)+(BX$19*BX29)+(BY$19*BY29)+(BZ$19*BZ29)+(CA$19*CA29)+(CB$19*CB29)+(CC$19*CC29)+(CD$19*CD29)+(CE$19*CE29)+(CF$19*CF29))","v":24.5},6,7,6,10,5,2,2,null,null,null,null,null,null,null,null,null,null,null,null,null,null,null,null,null,null,null,{"$f":"IF(OR('Set UP'!$C15=0,'Set UP'!$D15=0,'Set UP'!$E15=0),\"\",(CI$19*CI29)+(CJ$19*CJ29)+(CK$19*CK29)+(CL$19*CL29)+(CM$19*CM29)+(CN$19*CN29)+(CO$19*CO29)+(CP$19*CP29)+(CQ$19*CQ29)+(CR$19*CR29)+(CS$19*CS29)+(CT$19*CT29)+(CU$19*CU29)+(CV$19*CV29)+(CW$19*CW29)+(CX$19*CX29)+(CY$19*CY29)+(CZ$19*CZ29)+(DA$19*DA29)+(DB$19*DB29)+(DC$19*DC29)+(DD$19*DD29)+(DE$19*DE29)+(DF$19*DF29)+(DG$19*DG29))","v":48},10,0,0,5,10,0,2,0,0,5,null,null,null,null,null,null,null,null,null,null,null,null,null,null,null,null,{"$f":"IF(OR('Set UP'!$C15=0,'Set UP'!$D15=0,'Set UP'!$E15=0),\"\",(DJ$19*DJ29)+(DK$19*DK29)+(DL$19*DL29)+(DM$19*DM29)+(DN$19*DN29)+(DO$19*DO29)+(DP$19*DP29)+(DQ$19*DQ29)+(DR$19*DR29)+(DS$19*DS29)+(DT$19*DT29)+(DU$19*DU29)+(DV$19*DV29)+(DW$19*DW29)+(DX$19*DX29)+(DY$19*DY29)+(DZ$19*DZ29)+(EA$19*EA29)+(EB$19*EB29)+(EC$19*EC29)+(ED$19*ED29)+(EE$19*EE29)+(EF$19*EF29)+(EG$19*EG29)+(EH$19*EH29))","v":27.5},3,4,3,5,null,null,null,null,null,null,null,null,null,null,null,null,null,null,null,null,null,null,null,null,null,null,{"$f":"IF(OR('Set UP'!$C15=0,'Set UP'!$D15=0,'Set UP'!$E15=0),\"\",(EK$19*EK29)+(EL$19*EL29)+(EM$19*EM29)+(EN$19*EN29)+(EO$19*EO29)+(EP$19*EP29)+(EQ$19*EQ29)+(ER$19*ER29)+(ES$19*ES29)+(ET$19*ET29)+(EU$19*EU29)+(EV$19*EV29)+(EW$19*EW29)+(EX$19*EX29)+(EY$19*EY29)+(EZ$19*EZ29)+(FA$19*FA29)+(FB$19*FB29)+(FC$19*FC29)+(FD$19*FD29)+(FE$19*FE29)+(FF$19*FF29)+(FG$19*FG29)+(FH$19*FH29)+(FI$19*FI29))","v":27},null,null,null,null,null,null,null,null,null,null,null,null,null,null,null,null,null,null,null,null,null,null,null,null,null,null,{"$f":"IF(OR('Set UP'!$C15=0,'Set UP'!$D15=0,'Set UP'!$E15=0),\"\",(FL$19*FL29)+(FM$19*FM29)+(FN$19*FN29)+(FO$19*FO29)+(FP$19*FP29)+(FQ$19*FQ29)+(FR$19*FR29)+(FS$19*FS29)+(FT$19*FT29)+(FU$19*FU29)+(FV$19*FV29)+(FW$19*FW29)+(FX$19*FX29)+(FY$19*FY29)+(FZ$19*FZ29)+(GA$19*GA29)+(GB$19*GB29)+(GC$19*GC29)+(GD$19*GD29)+(GE$19*GE29)+(GF$19*GF29)+(GG$19*GG29)+(GH$19*GH29)+(GI$19*GI29)+(GJ$19*GJ29))","v":0},null,null,null,null,null,null,null,null,null,null,null,null,null,null,null,null,null,null,null,null,null,null,null,null,null,null,{"$f":"IF(OR('Set UP'!$C15=0,'Set UP'!$D15=0,'Set UP'!$E15=0),\"\",(GM$19*GM29)+(GN$19*GN29)+(GO$19*GO29)+(GP$19*GP29)+(GQ$19*GQ29)+(GR$19*GR29)+(GS$19*GS29)+(GT$19*GT29)+(GU$19*GU29)+(GV$19*GV29)+(GW$19*GW29)+(GX$19*GX29)+(GY$19*GY29)+(GZ$19*GZ29)+(HA$19*HA29)+(HB$19*HB29)+(HC$19*HC29)+(HD$19*HD29)+(HE$19*HE29)+(HF$19*HF29)+(HG$19*HG29)+(HH$19*HH29)+(HI$19*HI29)+(HJ$19*HJ29)+(HK$19*HK29))","v":0},null,null,null,null,null,null,null,null,null,null,null,null,null,null,null,null,null,null,null,null,null,null,null,null,null,null,{"$f":"IF(OR('Set UP'!$C15=0,'Set UP'!$D15=0,'Set UP'!$E15=0),\"\",(HN$19*HN29)+(HO$19*HO29)+(HP$19*HP29)+(HQ$19*HQ29)+(HR$19*HR29)+(HS$19*HS29)+(HT$19*HT29)+(HU$19*HU29)+(HV$19*HV29)+(HW$19*HW29)+(HX$19*HX29)+(HY$19*HY29)+(HZ$19*HZ29)+(IA$19*IA29)+(IB$19*IB29)+(IC$19*IC29)+(ID$19*ID29)+(IE$19*IE29)+(IF$19*IF29)+(IG$19*IG29)+(IH$19*IH29)+(II$19*II29)+(IJ$19*IJ29)+(IK$19*IK29)+(IL$19*IL29))","v":0},null,null,null,null,null,null,null,null,null,null,null,null,null,null,null,null,null,null,null,null,null,null,null,null,null,null,{"$f":"IF(OR('Set UP'!$C15=0,'Set UP'!$D15=0,'Set UP'!$E15=0),\"\",(IO$19*IO29)+(IP$19*IP29)+(IQ$19*IQ29)+(IR$19*IR29)+(IS$19*IS29)+(IT$19*IT29)+(IU$19*IU29)+(IV$19*IV29)+(IW$19*IW29)+(IX$19*IX29)+(IY$19*IY29)+(IZ$19*IZ29)+(JA$19*JA29)+(JB$19*JB29)+(JC$19*JC29)+(JD$19*JD29)+(JE$19*JE29)+(JF$19*JF29)+(JG$19*JG29)+(JH$19*JH29)+(JI$19*JI29)+(JJ$19*JJ29)+(JK$19*JK29)+(JL$19*JL29)+(JM$19*JM29))","v":0},{"$f":"IF(OR('Set UP'!$C15=0,'Set UP'!$D15=0,'Set UP'!$E15=0),\"\",(AF29+BG29+CH29+DI29+EJ29+FK29+GL29+HM29+IN29+JO29))","v":181.5},{"$f":"IF(OR('Set UP'!$C15=0,'Set UP'!$D15=0,'Set UP'!$E15=0),\"\",RANK(JP29,$JP$21:$JP$60,0))","v":20},{"$f":"IF(OR('Set UP'!K15<>1,'Set UP'!C15=0,'Set UP'!D15=0,'Set UP'!E15=0,'Set UP'!F15=0),\"\",$JP29)","v":""},{"$f":"IF(OR('Set UP'!K15<>1,'Set UP'!C15=0,'Set UP'!D15=0,'Set UP'!E15=0,'Set UP'!F15=0),\"\",RANK(JR29,$JR$21:$JR$60,0))","v":""},{"$f":"IF(OR('Set UP'!K15<>2,'Set UP'!C15=0,'Set UP'!D15=0,'Set UP'!E15=0,'Set UP'!F15=0),\"\",$JP29)","v":181.5},{"$f":"IF(OR('Set UP'!K15<>2,'Set UP'!C15=0,'Set UP'!D15=0,'Set UP'!E15=0,'Set UP'!F15=0),\"\",RANK(JT29,$JT$21:$JT$60,0))","v":10},{"$f":"IF(OR('Set UP'!F15<>\"F\",'Set UP'!C15=0,'Set UP'!D15=0,'Set UP'!E15=0),\"\",$JP29)","v":""},{"$f":"IF(OR('Set UP'!F15<>\"F\",'Set UP'!C15=0,'Set UP'!D15=0,'Set UP'!E15=0),\"\",RANK(JV29,$JV$21:$JV$60,0))","v":""},{"$f":"IF(OR('Set UP'!F15<>\"NS\",'Set UP'!C15=0,'Set UP'!D15=0,'Set UP'!E15=0),\"\",$JP29)","v":""},{"$f":"IF(OR('Set UP'!F15<>\"NS\",'Set UP'!C15=0,'Set UP'!D15=0,'Set UP'!E15=0),\"\",RANK(JX29,$JX$21:$JX$60,0))","v":""},{"$f":"IF(OR('Set UP'!$C15=0,'Set UP'!$D15=0,'Set UP'!$E15=0,JP29=0),\"\",JP29/MAX(JP$21:JP$60)*1000)","v":615.25423728813553}]
[null,10,{"$f":"IF(OR('Set UP'!$C16=0,'Set UP'!$D16=0,'Set UP'!$E16=0,'Set UP'!F16=0),\"  --\",'Set UP'!C16)","v":1431},{"$f":"IF(OR('Set UP'!$C16=0,'Set UP'!$D16=0,'Set UP'!$E16=0,'Set UP'!F16=0),\"  --\",'Set UP'!D16&\" \"&'Set UP'!E16)","v":"University of Nottingham C"},{"$f":"IF(OR('Set UP'!$C16=0,'Set UP'!$D16=0,'Set UP'!$E16=0,'Set UP'!F16=0),\"  --\",'Set UP'!F16)","v":"S"},5,5,3,7,0,0,0,null,null,null,null,null,null,null,null,null,null,null,null,null,null,null,null,null,null,null,{"$f":"IF(OR('Set UP'!$C16=0,'Set UP'!$D16=0,'Set UP'!$E16=0),\"\",(F$19*F30)+(G$19*G30)+(H$19*H30)+(I$19*I30)+(J$19*J30)+(K$19*K30)+(L$19*L30)+(M$19*M30)+(N$19*N30)+(O$19*O30)+(P$19*P30)+(Q$19*Q30)+(R$19*R30)+(S$19*S30)+(T$19*T30)+(U$19*U30)+(V$19*V30)+(W$19*W30)+(X$19*X30)+(Y$19*Y30)+(Z$19*Z30)+(AA$19*AA30)+(AB$19*AB30)+(AC$19*AC30)+(AD$19*AD30))","v":24},2,0,2,8,8,5,0,8,null,null,null,null,null,null,null,null,null,null,null,null,null,null,null,null,null,null,{"$f":"IF(OR('Set UP'!$C16=0,'Set UP'!$D16=0,'Set UP'!$E16=0),\"\",(AG$19*AG30)+(AH$19*AH30)+(AI$19*AI30)+(AJ$19*AJ30)+(AK$19*AK30)+(AL$19*AL30)+(AM$19*AM30)+(AN$19*AN30)+(AO$19*AO30)+(AP$19*AP30)+(AQ$19*AQ30)+(AR$19*AR30)+(AS$19*AS30)+(AT$19*AT30)+(AU$19*AU30)+(AV$19*AV30)+(AW$19*AW30)+(AX$19*AX30)+(AY$19*AY30)+(AZ$19*AZ30)+(BA$19*BA30)+(BB$19*BB30)+(BC$19*BC30)+(BD$19*BD30)+(BE$19*BE30))","v":44},8,2,0,2,8,6,0,null,null,null,null,null,null,null,null,null,null,null,null,null,null,null,null,null,null,null,{"$f":"IF(OR('Set UP'!$C16=0,'Set UP'!$D16=0,'Set UP'!$E16=0),\"\",(BH$19*BH30)+(BI$19*BI30)+(BJ$19*BJ30)+(BK$19*BK30)+(BL$19*BL30)+(BM$19*BM30)+(BN$19*BN30)+(BO$19*BO30)+(BP$19*BP30)+(BQ$19*BQ30)+(BR$19*BR30)+(BS$19*BS30)+(BT$19*BT30)+(BU$19*BU30)+(BV$19*BV30)+(BW$19*BW30)+(BX$19*BX30)+(BY$19*BY30)+(BZ$19*BZ30)+(CA$19*CA30)+(CB$19*CB30)+(CC$19*CC30)+(CD$19*CD30)+(CE$19*CE30)+(CF$19*CF30))","v":30},7,9,6,0,6,5,1,null,null,null,null,null,null,null,null,null,null,null,null,null,null,null,null,null,null,null,{"$f":"IF(OR('Set UP'!$C16=0,'Set UP'!$D16=0,'Set UP'!$E16=0),\"\",(CI$19*CI30)+(CJ$19*CJ30)+(CK$19*CK30)+(CL$19*CL30)+(CM$19*CM30)+(CN$19*CN30)+(CO$19*CO30)+(CP$19*CP30)+(CQ$19*CQ30)+(CR$19*CR30)+(CS$19*CS30)+(CT$19*CT30)+(CU$19*CU30)+(CV$19*CV30)+(CW$19*CW30)+(CX$19*CX30)+(CY$19*CY30)+(CZ$19*CZ30)+(DA$19*DA30)+(DB$19*DB30)+(DC$19*DC30)+(DD$19*DD30)+(DE$19*DE30)+(DF$19*DF30)+(DG$19*DG30))","v":46.5},10,0,0,10,10,0,0,0,0,0,null,null,null,null,null,null,null,null,null,null,null,null,null,null,null,null,{"$f":"IF(OR('Set UP'!$C16=0,'Set UP'!$D16=0,'Set UP'!$E16=0),\"\",(DJ$19*DJ30)+(DK$19*DK30)+(DL$19*DL30)+(DM$19*DM30)+(DN$19*DN30)+(DO$19*DO30)+(DP$19*DP30)+(DQ$19*DQ30)+(DR$19*DR30)+(DS$19*DS30)+(DT$19*DT30)+(DU$19*DU30)+(DV$19*DV30)+(DW$19*DW30)+(DX$19*DX30)+(DY$19*DY30)+(DZ$19*DZ30)+(EA$19*EA30)+(EB$19*EB30)+(EC$19*EC30)+(ED$19*ED30)+(EE$19*EE30)+(EF$19*EF30)+(EG$19*EG30)+(EH$19*EH30))","v":30},6,5,5,5,null,null,null,null,null,null,null,null,null,null,null,null,null,null,null,null,null,null,null,null,null,null,{"$f":"IF(OR('Set UP'!$C16=0,'Set UP'!$D16=0,'Set UP'!$E16=0),\"\",(EK$19*EK30)+(EL$19*EL30)+(EM$19*EM30)+(EN$19*EN30)+(EO$19*EO30)+(EP$19*EP30)+(EQ$19*EQ30)+(ER$19*ER30)+(ES$19*ES30)+(ET$19*ET30)+(EU$19*EU30)+(EV$19*EV30)+(EW$19*EW30)+(EX$19*EX30)+(EY$19*EY30)+(EZ$19*EZ30)+(FA$19*FA30)+(FB$19*FB30)+(FC$19*FC30)+(FD$19*FD30)+(FE$19*FE30)+(FF$19*FF30)+(FG$19*FG30)+(FH$19*FH30)+(FI$19*FI30))","v":40.5},null,null,null,null,null,null,null,null,null,null,null,null,null,null,null,null,null,null,null,null,null,null,null,null,null,null,{"$f":"IF(OR('Set UP'!$C16=0,'Set UP'!$D16=0,'Set UP'!$E16=0),\"\",(FL$19*FL30)+(FM$19*FM30)+(FN$19*FN30)+(FO$19*FO30)+(FP$19*FP30)+(FQ$19*FQ30)+(FR$19*FR30)+(FS$19*FS30)+(FT$19*FT30)+(FU$19*FU30)+(FV$19*FV30)+(FW$19*FW30)+(FX$19*FX30)+(FY$19*FY30)+(FZ$19*FZ30)+(GA$19*GA30)+(GB$19*GB30)+(GC$19*GC30)+(GD$19*GD30)+(GE$19*GE30)+(GF$19*GF30)+(GG$19*GG30)+(GH$19*GH30)+(GI$19*GI30)+(GJ$19*GJ30))","v":0},null,null,null,null,null,null,null,null,null,null,null,null,null,null,null,null,null,null,null,null,null,null,null,null,null,null,{"$f":"IF(OR('Set UP'!$C16=0,'Set UP'!$D16=0,'Set UP'!$E16=0),\"\",(GM$19*GM30)+(GN$19*GN30)+(GO$19*GO30)+(GP$19*GP30)+(GQ$19*GQ30)+(GR$19*GR30)+(GS$19*GS30)+(GT$19*GT30)+(GU$19*GU30)+(GV$19*GV30)+(GW$19*GW30)+(GX$19*GX30)+(GY$19*GY30)+(GZ$19*GZ30)+(HA$19*HA30)+(HB$19*HB30)+(HC$19*HC30)+(HD$19*HD30)+(HE$19*HE30)+(HF$19*HF30)+(HG$19*HG30)+(HH$19*HH30)+(HI$19*HI30)+(HJ$19*HJ30)+(HK$19*HK30))","v":0},null,null,null,null,null,null,null,null,null,null,null,null,null,null,null,null,null,null,null,null,null,null,null,null,null,null,{"$f":"IF(OR('Set UP'!$C16=0,'Set UP'!$D16=0,'Set UP'!$E16=0),\"\",(HN$19*HN30)+(HO$19*HO30)+(HP$19*HP30)+(HQ$19*HQ30)+(HR$19*HR30)+(HS$19*HS30)+(HT$19*HT30)+(HU$19*HU30)+(HV$19*HV30)+(HW$19*HW30)+(HX$19*HX30)+(HY$19*HY30)+(HZ$19*HZ30)+(IA$19*IA30)+(IB$19*IB30)+(IC$19*IC30)+(ID$19*ID30)+(IE$19*IE30)+(IF$19*IF30)+(IG$19*IG30)+(IH$19*IH30)+(II$19*II30)+(IJ$19*IJ30)+(IK$19*IK30)+(IL$19*IL30))","v":0},null,null,null,null,null,null,null,null,null,null,null,null,null,null,null,null,null,null,null,null,null,null,null,null,null,null,{"$f":"IF(OR('Set UP'!$C16=0,'Set UP'!$D16=0,'Set UP'!$E16=0),\"\",(IO$19*IO30)+(IP$19*IP30)+(IQ$19*IQ30)+(IR$19*IR30)+(IS$19*IS30)+(IT$19*IT30)+(IU$19*IU30)+(IV$19*IV30)+(IW$19*IW30)+(IX$19*IX30)+(IY$19*IY30)+(IZ$19*IZ30)+(JA$19*JA30)+(JB$19*JB30)+(JC$19*JC30)+(JD$19*JD30)+(JE$19*JE30)+(JF$19*JF30)+(JG$19*JG30)+(JH$19*JH30)+(JI$19*JI30)+(JJ$19*JJ30)+(JK$19*JK30)+(JL$19*JL30)+(JM$19*JM30))","v":0},{"$f":"IF(OR('Set UP'!$C16=0,'Set UP'!$D16=0,'Set UP'!$E16=0),\"\",(AF30+BG30+CH30+DI30+EJ30+FK30+GL30+HM30+IN30+JO30))","v":215},{"$f":"IF(OR('Set UP'!$C16=0,'Set UP'!$D16=0,'Set UP'!$E16=0),\"\",RANK(JP30,$JP$21:$JP$60,0))","v":15},{"$f":"IF(OR('Set UP'!K16<>1,'Set UP'!C16=0,'Set UP'!D16=0,'Set UP'!E16=0,'Set UP'!F16=0),\"\",$JP30)","v":""},{"$f":"IF(OR('Set UP'!K16<>1,'Set UP'!C16=0,'Set UP'!D16=0,'Set UP'!E16=0,'Set UP'!F16=0),\"\",RANK(JR30,$JR$21:$JR$60,0))","v":""},{"$f":"IF(OR('Set UP'!K16<>2,'Set UP'!C16=0,'Set UP'!D16=0,'Set UP'!E16=0,'Set UP'!F16=0),\"\",$JP30)","v":215},{"$f":"IF(OR('Set UP'!K16<>2,'Set UP'!C16=0,'Set UP'!D16=0,'Set UP'!E16=0,'Set UP'!F16=0),\"\",RANK(JT30,$JT$21:$JT$60,0))","v":6},{"$f":"IF(OR('Set UP'!F16<>\"F\",'Set UP'!C16=0,'Set UP'!D16=0,'Set UP'!E16=0),\"\",$JP30)","v":""},{"$f":"IF(OR('Set UP'!F16<>\"F\",'Set UP'!C16=0,'Set UP'!D16=0,'Set UP'!E16=0),\"\",RANK(JV30,$JV$21:$JV$60,0))","v":""},{"$f":"IF(OR('Set UP'!F16<>\"NS\",'Set UP'!C16=0,'Set UP'!D16=0,'Set UP'!E16=0),\"\",$JP30)","v":""},{"$f":"IF(OR('Set UP'!F16<>\"NS\",'Set UP'!C16=0,'Set UP'!D16=0,'Set UP'!E16=0),\"\",RANK(JX30,$JX$21:$JX$60,0))","v":""},{"$f":"IF(OR('Set UP'!$C16=0,'Set UP'!$D16=0,'Set UP'!$E16=0,JP30=0),\"\",JP30/MAX(JP$21:JP$60)*1000)","v":728.81355932203383}]
[null,11,{"$f":"IF(OR('Set UP'!$C17=0,'Set UP'!$D17=0,'Set UP'!$E17=0,'Set UP'!F17=0),\"  --\",'Set UP'!C17)","v":1445},{"$f":"IF(OR('Set UP'!$C17=0,'Set UP'!$D17=0,'Set UP'!$E17=0,'Set UP'!F17=0),\"  --\",'Set UP'!D17&\" \"&'Set UP'!E17)","v":"University of Birmingham D"},{"$f":"IF(OR('Set UP'!$C17=0,'Set UP'!$D17=0,'Set UP'!$E17=0,'Set UP'!F17=0),\"  --\",'Set UP'!F17)","v":"NC"},5,0,0,6,0,6,2,null,null,null,null,null,null,null,null,null,null,null,null,null,null,null,null,null,null,null,{"$f":"IF(OR('Set UP'!$C17=0,'Set UP'!$D17=0,'Set UP'!$E17=0),\"\",(F$19*F31)+(G$19*G31)+(H$19*H31)+(I$19*I31)+(J$19*J31)+(K$19*K31)+(L$19*L31)+(M$19*M31)+(N$19*N31)+(O$19*O31)+(P$19*P31)+(Q$19*Q31)+(R$19*R31)+(S$19*S31)+(T$19*T31)+(U$19*U31)+(V$19*V31)+(W$19*W31)+(X$19*X31)+(Y$19*Y31)+(Z$19*Z31)+(AA$19*AA31)+(AB$19*AB31)+(AC$19*AC31)+(AD$19*AD31))","v":22},2,1,5,7,9,7,3,5,null,null,null,null,null,null,null,null,null,null,null,null,null,null,null,null,null,null,{"$f":"IF(OR('Set UP'!$C17=0,'Set UP'!$D17=0,'Set UP'!$E17=0),\"\",(AG$19*AG31)+(AH$19*AH31)+(AI$19*AI31)+(AJ$19*AJ31)+(AK$19*AK31)+(AL$19*AL31)+(AM$19*AM31)+(AN$19*AN31)+(AO$19*AO31)+(AP$19*AP31)+(AQ$19*AQ31)+(AR$19*AR31)+(AS$19*AS31)+(AT$19*AT31)+(AU$19*AU31)+(AV$19*AV31)+(AW$19*AW31)+(AX$19*AX31)+(AY$19*AY31)+(AZ$19*AZ31)+(BA$19*BA31)+(BB$19*BB31)+(BC$19*BC31)+(BD$19*BD31)+(BE$19*BE31))","v":49},8,2,0,0,6,6,0,null,null,null,null,null,null,null,null,null,null,null,null,null,null,null,null,null,null,null,{"$f":"IF(OR('Set UP'!$C17=0,'Set UP'!$D17=0,'Set UP'!$E17=0),\"\",(BH$19*BH31)+(BI$19*BI31)+(BJ$19*BJ31)+(BK$19*BK31)+(BL$19*BL31)+(BM$19*BM31)+(BN$19*BN31)+(BO$19*BO31)+(BP$19*BP31)+(BQ$19*BQ31)+(BR$19*BR31)+(BS$19*BS31)+(BT$19*BT31)+(BU$19*BU31)+(BV$19*BV31)+(BW$19*BW31)+(BX$19*BX31)+(BY$19*BY31)+(BZ$19*BZ31)+(CA$19*CA31)+(CB$19*CB31)+(CC$19*CC31)+(CD$19*CD31)+(CE$19*CE31)+(CF$19*CF31))","v":26},9,7,8,10,9,2,5,null,null,null,null,null,null,null,null,null,null,null,null,null,null,null,null,null,null,null,{"$f":"IF(OR('Set UP'!$C17=0,'Set UP'!$D17=0,'Set UP'!$E17=0),\"\",(CI$19*CI31)+(CJ$19*CJ31)+(CK$19*CK31)+(CL$19*CL31)+(CM$19*CM31)+(CN$19*CN31)+(CO$19*CO31)+(CP$19*CP31)+(CQ$19*CQ31)+(CR$19*CR31)+(CS$19*CS31)+(CT$19*CT31)+(CU$19*CU31)+(CV$19*CV31)+(CW$19*CW31)+(CX$19*CX31)+(CY$19*CY31)+(CZ$19*CZ31)+(DA$19*DA31)+(DB$19*DB31)+(DC$19*DC31)+(DD$19*DD31)+(DE$19*DE31)+(DF$19*DF31)+(DG$19*DG31))","v":61.5},10,0,0,10,10,10,4,6,0,5,null,null,null,null,null,null,null,null,null,null,null,null,null,null,null,null,{"$f":"IF(OR('Set UP'!$C17=0,'Set UP'!$D17=0,'Set UP'!$E17=0),\"\",(DJ$19*DJ31)+(DK$19*DK31)+(DL$19*DL31)+(DM$19*DM31)+(DN$19*DN31)+(DO$19*DO31)+(DP$19*DP31)+(DQ$19*DQ31)+(DR$19*DR31)+(DS$19*DS31)+(DT$19*DT31)+(DU$19*DU31)+(DV$19*DV31)+(DW$19*DW31)+(DX$19*DX31)+(DY$19*DY31)+(DZ$19*DZ31)+(EA$19*EA31)+(EB$19*EB31)+(EC$19*EC31)+(ED$19*ED31)+(EE$19*EE31)+(EF$19*EF31)+(EG$19*EG31)+(EH$19*EH31))","v":46.5},8,4,5,6,null,null,null,null,null,null,null,null,null,null,null,null,null,null,null,null,null,null,null,null,null,null,{"$f":"IF(OR('Set UP'!$C17=0,'Set UP'!$D17=0,'Set UP'!$E17=0),\"\",(EK$19*EK31)+(EL$19*EL31)+(EM$19*EM31)+(EN$19*EN31)+(EO$19*EO31)+(EP$19*EP31)+(EQ$19*EQ31)+(ER$19*ER31)+(ES$19*ES31)+(ET$19*ET31)+(EU$19*EU31)+(EV$19*EV31)+(EW$19*EW31)+(EX$19*EX31)+(EY$19*EY31)+(EZ$19*EZ31)+(FA$19*FA31)+(FB$19*FB31)+(FC$19*FC31)+(FD$19*FD31)+(FE$19*FE31)+(FF$19*FF31)+(FG$19*FG31)+(FH$19*FH31)+(FI$19*FI31))","v":46.5},null,null,null,null,null,null,null,null,null,null,null,null,null,null,null,null,null,null,null,null,null,null,null,null,null,null,{"$f":"IF(OR('Set UP'!$C17=0,'Set UP'!$D17=0,'Set UP'!$E17=0),\"\",(FL$19*FL31)+(FM$19*FM31)+(FN$19*FN31)+(FO$19*FO31)+(FP$19*FP31)+(FQ$19*FQ31)+(FR$19*FR31)+(FS$19*FS31)+(FT$19*FT31)+(FU$19*FU31)+(FV$19*FV31)+(FW$19*FW31)+(FX$19*FX31)+(FY$19*FY31)+(FZ$19*FZ31)+(GA$19*GA31)+(GB$19*GB31)+(GC$19*GC31)+(GD$19*GD31)+(GE$19*GE31)+(GF$19*GF31)+(GG$19*GG31)+(GH$19*GH31)+(GI$19*GI31)+(GJ$19*GJ31))","v":0},null,null,null,null,null,null,null,null,null,null,null,null,null,null,null,null,null,null,null,null,null,null,null,null,null,null,{"$f":"IF(OR('Set UP'!$C17=0,'Set UP'!$D17=0,'Set UP'!$E17=0),\"\",(GM$19*GM31)+(GN$19*GN31)+(GO$19*GO31)+(GP$19*GP31)+(GQ$19*GQ31)+(GR$19*GR31)+(GS$19*GS31)+(GT$19*GT31)+(GU$19*GU31)+(GV$19*GV31)+(GW$19*GW31)+(GX$19*GX31)+(GY$19*GY31)+(GZ$19*GZ31)+(HA$19*HA31)+(HB$19*HB31)+(HC$19*HC31)+(HD$19*HD31)+(HE$19*HE31)+(HF$19*HF31)+(HG$19*HG31)+(HH$19*HH31)+(HI$19*HI31)+(HJ$19*HJ31)+(HK$19*HK31))","v":0},null,null,null,null,null,null,null,null,null,null,null,null,null,null,null,null,null,null,null,null,null,null,null,null,null,null,{"$f":"IF(OR('Set UP'!$C17=0,'Set UP'!$D17=0,'Set UP'!$E17=0),\"\",(HN$19*HN31)+(HO$19*HO31)+(HP$19*HP31)+(HQ$19*HQ31)+(HR$19*HR31)+(HS$19*HS31)+(HT$19*HT31)+(HU$19*HU31)+(HV$19*HV31)+(HW$19*HW31)+(HX$19*HX31)+(HY$19*HY31)+(HZ$19*HZ31)+(IA$19*IA31)+(IB$19*IB31)+(IC$19*IC31)+(ID$19*ID31)+(IE$19*IE31)+(IF$19*IF31)+(IG$19*IG31)+(IH$19*IH31)+(II$19*II31)+(IJ$19*IJ31)+(IK$19*IK31)+(IL$19*IL31))","v":0},null,null,null,null,null,null,null,null,null,null,null,null,null,null,null,null,null,null,null,null,null,null,null,null,null,null,{"$f":"IF(OR('Set UP'!$C17=0,'Set UP'!$D17=0,'Set UP'!$E17=0),\"\",(IO$19*IO31)+(IP$19*IP31)+(IQ$19*IQ31)+(IR$19*IR31)+(IS$19*IS31)+(IT$19*IT31)+(IU$19*IU31)+(IV$19*IV31)+(IW$19*IW31)+(IX$19*IX31)+(IY$19*IY31)+(IZ$19*IZ31)+(JA$19*JA31)+(JB$19*JB31)+(JC$19*JC31)+(JD$19*JD31)+(JE$19*JE31)+(JF$19*JF31)+(JG$19*JG31)+(JH$19*JH31)+(JI$19*JI31)+(JJ$19*JJ31)+(JK$19*JK31)+(JL$19*JL31)+(JM$19*JM31))","v":0},{"$f":"IF(OR('Set UP'!$C17=0,'Set UP'!$D17=0,'Set UP'!$E17=0),\"\",(AF31+BG31+CH31+DI31+EJ31+FK31+GL31+HM31+IN31+JO31))","v":251.5},{"$f":"IF(OR('Set UP'!$C17=0,'Set UP'!$D17=0,'Set UP'!$E17=0),\"\",RANK(JP31,$JP$21:$JP$60,0))","v":9},{"$f":"IF(OR('Set UP'!K17<>1,'Set UP'!C17=0,'Set UP'!D17=0,'Set UP'!E17=0,'Set UP'!F17=0),\"\",$JP31)","v":""},{"$f":"IF(OR('Set UP'!K17<>1,'Set UP'!C17=0,'Set UP'!D17=0,'Set UP'!E17=0,'Set UP'!F17=0),\"\",RANK(JR31,$JR$21:$JR$60,0))","v":""},{"$f":"IF(OR('Set UP'!K17<>2,'Set UP'!C17=0,'Set UP'!D17=0,'Set UP'!E17=0,'Set UP'!F17=0),\"\",$JP31)","v":""},{"$f":"IF(OR('Set UP'!K17<>2,'Set UP'!C17=0,'Set UP'!D17=0,'Set UP'!E17=0,'Set UP'!F17=0),\"\",RANK(JT31,$JT$21:$JT$60,0))","v":""},{"$f":"IF(OR('Set UP'!F17<>\"F\",'Set UP'!C17=0,'Set UP'!D17=0,'Set UP'!E17=0),\"\",$JP31)","v":""},{"$f":"IF(OR('Set UP'!F17<>\"F\",'Set UP'!C17=0,'Set UP'!D17=0,'Set UP'!E17=0),\"\",RANK(JV31,$JV$21:$JV$60,0))","v":""},{"$f":"IF(OR('Set UP'!F17<>\"NS\",'Set UP'!C17=0,'Set UP'!D17=0,'Set UP'!E17=0),\"\",$JP31)","v":""},{"$f":"IF(OR('Set UP'!F17<>\"NS\",'Set UP'!C17=0,'Set UP'!D17=0,'Set UP'!E17=0),\"\",RANK(JX31,$JX$21:$JX$60,0))","v":""},{"$f":"IF(OR('Set UP'!$C17=0,'Set UP'!$D17=0,'Set UP'!$E17=0,JP31=0),\"\",JP31/MAX(JP$21:JP$60)*1000)","v":852.54237288135596}]
[null,12,{"$f":"IF(OR('Set UP'!$C18=0,'Set UP'!$D18=0,'Set UP'!$E18=0,'Set UP'!F18=0),\"  --\",'Set UP'!C18)","v":"  --"},{"$f":"IF(OR('Set UP'!$C18=0,'Set UP'!$D18=0,'Set UP'!$E18=0,'Set UP'!F18=0),\"  --\",'Set UP'!D18&\" \"&'Set UP'!E18)","v":"  --"},{"$f":"IF(OR('Set UP'!$C18=0,'Set UP'!$D18=0,'Set UP'!$E18=0,'Set UP'!F18=0),\"  --\",'Set UP'!F18)","v":"  --"},null,null,null,null,null,null,null,null,null,null,null,null,null,null,null,null,null,null,null,null,null,null,null,null,null,null,{"$f":"IF(OR('Set UP'!$C18=0,'Set UP'!$D18=0,'Set UP'!$E18=0),\"\",(F$19*F32)+(G$19*G32)+(H$19*H32)+(I$19*I32)+(J$19*J32)+(K$19*K32)+(L$19*L32)+(M$19*M32)+(N$19*N32)+(O$19*O32)+(P$19*P32)+(Q$19*Q32)+(R$19*R32)+(S$19*S32)+(T$19*T32)+(U$19*U32)+(V$19*V32)+(W$19*W32)+(X$19*X32)+(Y$19*Y32)+(Z$19*Z32)+(AA$19*AA32)+(AB$19*AB32)+(AC$19*AC32)+(AD$19*AD32))","v":""},null,null,null,null,null,null,null,null,null,null,null,null,null,null,null,null,null,null,null,null,null,null,null,null,null,null,{"$f":"IF(OR('Set UP'!$C18=0,'Set UP'!$D18=0,'Set UP'!$E18=0),\"\",(AG$19*AG32)+(AH$19*AH32)+(AI$19*AI32)+(AJ$19*AJ32)+(AK$19*AK32)+(AL$19*AL32)+(AM$19*AM32)+(AN$19*AN32)+(AO$19*AO32)+(AP$19*AP32)+(AQ$19*AQ32)+(AR$19*AR32)+(AS$19*AS32)+(AT$19*AT32)+(AU$19*AU32)+(AV$19*AV32)+(AW$19*AW32)+(AX$19*AX32)+(AY$19*AY32)+(AZ$19*AZ32)+(BA$19*BA32)+(BB$19*BB32)+(BC$19*BC32)+(BD$19*BD32)+(BE$19*BE32))","v":""},null,null,null,null,null,null,null,null,null,null,null,null,null,null,null,null,null,null,null,null,null,null,null,null,null,null,{"$f":"IF(OR('Set UP'!$C18=0,'Set UP'!$D18=0,'Set UP'!$E18=0),\"\",(BH$19*BH32)+(BI$19*BI32)+(BJ$19*BJ32)+(BK$19*BK32)+(BL$19*BL32)+(BM$19*BM32)+(BN$19*BN32)+(BO$19*BO32)+(BP$19*BP32)+(BQ$19*BQ32)+(BR$19*BR32)+(BS$19*BS32)+(BT$19*BT32)+(BU$19*BU32)+(BV$19*BV32)+(BW$19*BW32)+(BX$19*BX32)+(BY$19*BY32)+(BZ$19*BZ32)+(CA$19*CA32)+(CB$19*CB32)+(CC$19*CC32)+(CD$19*CD32)+(CE$19*CE32)+(CF$19*CF32))","v":""},null,null,null,null,null,null,null,null,null,null,null,null,null,null,null,null,null,null,null,null,null,null,null,null,null,null,{"$f":"IF(OR('Set UP'!$C18=0,'Set UP'!$D18=0,'Set UP'!$E18=0),\"\",(CI$19*CI32)+(CJ$19*CJ32)+(CK$19*CK32)+(CL$19*CL32)+(CM$19*CM32)+(CN$19*CN32)+(CO$19*CO32)+(CP$19*CP32)+(CQ$19*CQ32)+(CR$19*CR32)+(CS$19*CS32)+(CT$19*CT32)+(CU$19*CU32)+(CV$19*CV32)+(CW$19*CW32)+(CX$19*CX32)+(CY$19*CY32)+(CZ$19*CZ32)+(DA$19*DA32)+(DB$19*DB32)+(DC$19*DC32)+(DD$19*DD32)+(DE$19*DE32)+(DF$19*DF32)+(DG$19*DG32))","v":""},null,null,null,null,null,null,null,null,null,null,null,null,null,null,null,null,null,null,null,null,null,null,null,null,null,null,{"$f":"IF(OR('Set UP'!$C18=0,'Set UP'!$D18=0,'Set UP'!$E18=0),\"\",(DJ$19*DJ32)+(DK$19*DK32)+(DL$19*DL32)+(DM$19*DM32)+(DN$19*DN32)+(DO$19*DO32)+(DP$19*DP32)+(DQ$19*DQ32)+(DR$19*DR32)+(DS$19*DS32)+(DT$19*DT32)+(DU$19*DU32)+(DV$19*DV32)+(DW$19*DW32)+(DX$19*DX32)+(DY$19*DY32)+(DZ$19*DZ32)+(EA$19*EA32)+(EB$19*EB32)+(EC$19*EC32)+(ED$19*ED32)+(EE$19*EE32)+(EF$19*EF32)+(EG$19*EG32)+(EH$19*EH32))","v":""},null,null,null,null,null,null,null,null,null,null,null,null,null,null,null,null,null,null,null,null,null,null,null,null,null,null,{"$f":"IF(OR('Set UP'!$C18=0,'Set UP'!$D18=0,'Set UP'!$E18=0),\"\",(EK$19*EK32)+(EL$19*EL32)+(EM$19*EM32)+(EN$19*EN32)+(EO$19*EO32)+(EP$19*EP32)+(EQ$19*EQ32)+(ER$19*ER32)+(ES$19*ES32)+(ET$19*ET32)+(EU$19*EU32)+(EV$19*EV32)+(EW$19*EW32)+(EX$19*EX32)+(EY$19*EY32)+(EZ$19*EZ32)+(FA$19*FA32)+(FB$19*FB32)+(FC$19*FC32)+(FD$19*FD32)+(FE$19*FE32)+(FF$19*FF32)+(FG$19*FG32)+(FH$19*FH32)+(FI$19*FI32))","v":""},null,null,null,null,null,null,null,null,null,null,null,null,null,null,null,null,null,null,null,null,null,null,null,null,null,null,{"$f":"IF(OR('Set UP'!$C18=0,'Set UP'!$D18=0,'Set UP'!$E18=0),\"\",(FL$19*FL32)+(FM$19*FM32)+(FN$19*FN32)+(FO$19*FO32)+(FP$19*FP32)+(FQ$19*FQ32)+(FR$19*FR32)+(FS$19*FS32)+(FT$19*FT32)+(FU$19*FU32)+(FV$19*FV32)+(FW$19*FW32)+(FX$19*FX32)+(FY$19*FY32)+(FZ$19*FZ32)+(GA$19*GA32)+(GB$19*GB32)+(GC$19*GC32)+(GD$19*GD32)+(GE$19*GE32)+(GF$19*GF32)+(GG$19*GG32)+(GH$19*GH32)+(GI$19*GI32)+(GJ$19*GJ32))","v":""},null,null,null,null,null,null,null,null,null,null,null,null,null,null,null,null,null,null,null,null,null,null,null,null,null,null,{"$f":"IF(OR('Set UP'!$C18=0,'Set UP'!$D18=0,'Set UP'!$E18=0),\"\",(GM$19*GM32)+(GN$19*GN32)+(GO$19*GO32)+(GP$19*GP32)+(GQ$19*GQ32)+(GR$19*GR32)+(GS$19*GS32)+(GT$19*GT32)+(GU$19*GU32)+(GV$19*GV32)+(GW$19*GW32)+(GX$19*GX32)+(GY$19*GY32)+(GZ$19*GZ32)+(HA$19*HA32)+(HB$19*HB32)+(HC$19*HC32)+(HD$19*HD32)+(HE$19*HE32)+(HF$19*HF32)+(HG$19*HG32)+(HH$19*HH32)+(HI$19*HI32)+(HJ$19*HJ32)+(HK$19*HK32))","v":""},null,null,null,null,null,null,null,null,null,null,null,null,null,null,null,null,null,null,null,null,null,null,null,null,null,null,{"$f":"IF(OR('Set UP'!$C18=0,'Set UP'!$D18=0,'Set UP'!$E18=0),\"\",(HN$19*HN32)+(HO$19*HO32)+(HP$19*HP32)+(HQ$19*HQ32)+(HR$19*HR32)+(HS$19*HS32)+(HT$19*HT32)+(HU$19*HU32)+(HV$19*HV32)+(HW$19*HW32)+(HX$19*HX32)+(HY$19*HY32)+(HZ$19*HZ32)+(IA$19*IA32)+(IB$19*IB32)+(IC$19*IC32)+(ID$19*ID32)+(IE$19*IE32)+(IF$19*IF32)+(IG$19*IG32)+(IH$19*IH32)+(II$19*II32)+(IJ$19*IJ32)+(IK$19*IK32)+(IL$19*IL32))","v":""},null,null,null,null,null,null,null,null,null,null,null,null,null,null,null,null,null,null,null,null,null,null,null,null,null,null,{"$f":"IF(OR('Set UP'!$C18=0,'Set UP'!$D18=0,'Set UP'!$E18=0),\"\",(IO$19*IO32)+(IP$19*IP32)+(IQ$19*IQ32)+(IR$19*IR32)+(IS$19*IS32)+(IT$19*IT32)+(IU$19*IU32)+(IV$19*IV32)+(IW$19*IW32)+(IX$19*IX32)+(IY$19*IY32)+(IZ$19*IZ32)+(JA$19*JA32)+(JB$19*JB32)+(JC$19*JC32)+(JD$19*JD32)+(JE$19*JE32)+(JF$19*JF32)+(JG$19*JG32)+(JH$19*JH32)+(JI$19*JI32)+(JJ$19*JJ32)+(JK$19*JK32)+(JL$19*JL32)+(JM$19*JM32))","v":""},{"$f":"IF(OR('Set UP'!$C18=0,'Set UP'!$D18=0,'Set UP'!$E18=0),\"\",(AF32+BG32+CH32+DI32+EJ32+FK32+GL32+HM32+IN32+JO32))","v":""},{"$f":"IF(OR('Set UP'!$C18=0,'Set UP'!$D18=0,'Set UP'!$E18=0),\"\",RANK(JP32,$JP$21:$JP$60,0))","v":""},{"$f":"IF(OR('Set UP'!K18<>1,'Set UP'!C18=0,'Set UP'!D18=0,'Set UP'!E18=0,'Set UP'!F18=0),\"\",$JP32)","v":""},{"$f":"IF(OR('Set UP'!K18<>1,'Set UP'!C18=0,'Set UP'!D18=0,'Set UP'!E18=0,'Set UP'!F18=0),\"\",RANK(JR32,$JR$21:$JR$60,0))","v":""},{"$f":"IF(OR('Set UP'!K18<>2,'Set UP'!C18=0,'Set UP'!D18=0,'Set UP'!E18=0,'Set UP'!F18=0),\"\",$JP32)","v":""},{"$f":"IF(OR('Set UP'!K18<>2,'Set UP'!C18=0,'Set UP'!D18=0,'Set UP'!E18=0,'Set UP'!F18=0),\"\",RANK(JT32,$JT$21:$JT$60,0))","v":""},{"$f":"IF(OR('Set UP'!F18<>\"F\",'Set UP'!C18=0,'Set UP'!D18=0,'Set UP'!E18=0),\"\",$JP32)","v":""},{"$f":"IF(OR('Set UP'!F18<>\"F\",'Set UP'!C18=0,'Set UP'!D18=0,'Set UP'!E18=0),\"\",RANK(JV32,$JV$21:$JV$60,0))","v":""},{"$f":"IF(OR('Set UP'!F18<>\"NS\",'Set UP'!C18=0,'Set UP'!D18=0,'Set UP'!E18=0),\"\",$JP32)","v":""},{"$f":"IF(OR('Set UP'!F18<>\"NS\",'Set UP'!C18=0,'Set UP'!D18=0,'Set UP'!E18=0),\"\",RANK(JX32,$JX$21:$JX$60,0))","v":""},{"$f":"IF(OR('Set UP'!$C18=0,'Set UP'!$D18=0,'Set UP'!$E18=0,JP32=0),\"\",JP32/MAX(JP$21:JP$60)*1000)","v":""}]
[null,13,{"$f":"IF(OR('Set UP'!$C19=0,'Set UP'!$D19=0,'Set UP'!$E19=0,'Set UP'!F19=0),\"  --\",'Set UP'!C19)","v":1426},{"$f":"IF(OR('Set UP'!$C19=0,'Set UP'!$D19=0,'Set UP'!$E19=0,'Set UP'!F19=0),\"  --\",'Set UP'!D19&\" \"&'Set UP'!E19)","v":"London Universities B"},{"$f":"IF(OR('Set UP'!$C19=0,'Set UP'!$D19=0,'Set UP'!$E19=0,'Set UP'!F19=0),\"  --\",'Set UP'!F19)","v":"S"},6,5,0,5,0,5,0,null,null,null,null,null,null,null,null,null,null,null,null,null,null,null,null,null,null,null,{"$f":"IF(OR('Set UP'!$C19=0,'Set UP'!$D19=0,'Set UP'!$E19=0),\"\",(F$19*F33)+(G$19*G33)+(H$19*H33)+(I$19*I33)+(J$19*J33)+(K$19*K33)+(L$19*L33)+(M$19*M33)+(N$19*N33)+(O$19*O33)+(P$19*P33)+(Q$19*Q33)+(R$19*R33)+(S$19*S33)+(T$19*T33)+(U$19*U33)+(V$19*V33)+(W$19*W33)+(X$19*X33)+(Y$19*Y33)+(Z$19*Z33)+(AA$19*AA33)+(AB$19*AB33)+(AC$19*AC33)+(AD$19*AD33))","v":26},5,2,8,8,7,7,0,7,null,null,null,null,null,null,null,null,null,null,null,null,null,null,null,null,null,null,{"$f":"IF(OR('Set UP'!$C19=0,'Set UP'!$D19=0,'Set UP'!$E19=0),\"\",(AG$19*AG33)+(AH$19*AH33)+(AI$19*AI33)+(AJ$19*AJ33)+(AK$19*AK33)+(AL$19*AL33)+(AM$19*AM33)+(AN$19*AN33)+(AO$19*AO33)+(AP$19*AP33)+(AQ$19*AQ33)+(AR$19*AR33)+(AS$19*AS33)+(AT$19*AT33)+(AU$19*AU33)+(AV$19*AV33)+(AW$19*AW33)+(AX$19*AX33)+(AY$19*AY33)+(AZ$19*AZ33)+(BA$19*BA33)+(BB$19*BB33)+(BC$19*BC33)+(BD$19*BD33)+(BE$19*BE33))","v":51},8,2,10,0,7,6,0,null,null,null,null,null,null,null,null,null,null,null,null,null,null,null,null,null,null,null,{"$f":"IF(OR('Set UP'!$C19=0,'Set UP'!$D19=0,'Set UP'!$E19=0),\"\",(BH$19*BH33)+(BI$19*BI33)+(BJ$19*BJ33)+(BK$19*BK33)+(BL$19*BL33)+(BM$19*BM33)+(BN$19*BN33)+(BO$19*BO33)+(BP$19*BP33)+(BQ$19*BQ33)+(BR$19*BR33)+(BS$19*BS33)+(BT$19*BT33)+(BU$19*BU33)+(BV$19*BV33)+(BW$19*BW33)+(BX$19*BX33)+(BY$19*BY33)+(BZ$19*BZ33)+(CA$19*CA33)+(CB$19*CB33)+(CC$19*CC33)+(CD$19*CD33)+(CE$19*CE33)+(CF$19*CF33))","v":37},9,10,6,5,7,0,0,null,null,null,null,null,null,null,null,null,null,null,null,null,null,null,null,null,null,null,{"$f":"IF(OR('Set UP'!$C19=0,'Set UP'!$D19=0,'Set UP'!$E19=0),\"\",(CI$19*CI33)+(CJ$19*CJ33)+(CK$19*CK33)+(CL$19*CL33)+(CM$19*CM33)+(CN$19*CN33)+(CO$19*CO33)+(CP$19*CP33)+(CQ$19*CQ33)+(CR$19*CR33)+(CS$19*CS33)+(CT$19*CT33)+(CU$19*CU33)+(CV$19*CV33)+(CW$19*CW33)+(CX$19*CX33)+(CY$19*CY33)+(CZ$19*CZ33)+(DA$19*DA33)+(DB$19*DB33)+(DC$19*DC33)+(DD$19*DD33)+(DE$19*DE33)+(DF$19*DF33)+(DG$19*DG33))","v":51.5},10,0,0,10,10,10,4,3,10,10,null,null,null,null,null,null,null,null,null,null,null,null,null,null,null,null,{"$f":"IF(OR('Set UP'!$C19=0,'Set UP'!$D19=0,'Set UP'!$E19=0),\"\",(DJ$19*DJ33)+(DK$19*DK33)+(DL$19*DL33)+(DM$19*DM33)+(DN$19*DN33)+(DO$19*DO33)+(DP$19*DP33)+(DQ$19*DQ33)+(DR$19*DR33)+(DS$19*DS33)+(DT$19*DT33)+(DU$19*DU33)+(DV$19*DV33)+(DW$19*DW33)+(DX$19*DX33)+(DY$19*DY33)+(DZ$19*DZ33)+(EA$19*EA33)+(EB$19*EB33)+(EC$19*EC33)+(ED$19*ED33)+(EE$19*EE33)+(EF$19*EF33)+(EG$19*EG33)+(EH$19*EH33))","v":56.5},5,4,4,4,null,null,null,null,null,null,null,null,null,null,null,null,null,null,null,null,null,null,null,null,null,null,{"$f":"IF(OR('Set UP'!$C19=0,'Set UP'!$D19=0,'Set UP'!$E19=0),\"\",(EK$19*EK33)+(EL$19*EL33)+(EM$19*EM33)+(EN$19*EN33)+(EO$19*EO33)+(EP$19*EP33)+(EQ$19*EQ33)+(ER$19*ER33)+(ES$19*ES33)+(ET$19*ET33)+(EU$19*EU33)+(EV$19*EV33)+(EW$19*EW33)+(EX$19*EX33)+(EY$19*EY33)+(EZ$19*EZ33)+(FA$19*FA33)+(FB$19*FB33)+(FC$19*FC33)+(FD$19*FD33)+(FE$19*FE33)+(FF$19*FF33)+(FG$19*FG33)+(FH$19*FH33)+(FI$19*FI33))","v":33},null,null,null,null,null,null,null,null,null,null,null,null,null,null,null,null,null,null,null,null,null,null,null,null,null,null,{"$f":"IF(OR('Set UP'!$C19=0,'Set UP'!$D19=0,'Set UP'!$E19=0),\"\",(FL$19*FL33)+(FM$19*FM33)+(FN$19*FN33)+(FO$19*FO33)+(FP$19*FP33)+(FQ$19*FQ33)+(FR$19*FR33)+(FS$19*FS33)+(FT$19*FT33)+(FU$19*FU33)+(FV$19*FV33)+(FW$19*FW33)+(FX$19*FX33)+(FY$19*FY33)+(FZ$19*FZ33)+(GA$19*GA33)+(GB$19*GB33)+(GC$19*GC33)+(GD$19*GD33)+(GE$19*GE33)+(GF$19*GF33)+(GG$19*GG33)+(GH$19*GH33)+(GI$19*GI33)+(GJ$19*GJ33))","v":0},null,null,null,null,null,null,null,null,null,null,null,null,null,null,null,null,null,null,null,null,null,null,null,null,null,null,{"$f":"IF(OR('Set UP'!$C19=0,'Set UP'!$D19=0,'Set UP'!$E19=0),\"\",(GM$19*GM33)+(GN$19*GN33)+(GO$19*GO33)+(GP$19*GP33)+(GQ$19*GQ33)+(GR$19*GR33)+(GS$19*GS33)+(GT$19*GT33)+(GU$19*GU33)+(GV$19*GV33)+(GW$19*GW33)+(GX$19*GX33)+(GY$19*GY33)+(GZ$19*GZ33)+(HA$19*HA33)+(HB$19*HB33)+(HC$19*HC33)+(HD$19*HD33)+(HE$19*HE33)+(HF$19*HF33)+(HG$19*HG33)+(HH$19*HH33)+(HI$19*HI33)+(HJ$19*HJ33)+(HK$19*HK33))","v":0},null,null,null,null,null,null,null,null,null,null,null,null,null,null,null,null,null,null,null,null,null,null,null,null,null,null,{"$f":"IF(OR('Set UP'!$C19=0,'Set UP'!$D19=0,'Set UP'!$E19=0),\"\",(HN$19*HN33)+(HO$19*HO33)+(HP$19*HP33)+(HQ$19*HQ33)+(HR$19*HR33)+(HS$19*HS33)+(HT$19*HT33)+(HU$19*HU33)+(HV$19*HV33)+(HW$19*HW33)+(HX$19*HX33)+(HY$19*HY33)+(HZ$19*HZ33)+(IA$19*IA33)+(IB$19*IB33)+(IC$19*IC33)+(ID$19*ID33)+(IE$19*IE33)+(IF$19*IF33)+(IG$19*IG33)+(IH$19*IH33)+(II$19*II33)+(IJ$19*IJ33)+(IK$19*IK33)+(IL$19*IL33))","v":0},null,null,null,null,null,null,null,null,null,null,null,null,null,null,null,null,null,null,null,null,null,null,null,null,null,null,{"$f":"IF(OR('Set UP'!$C19=0,'Set UP'!$D19=0,'Set UP'!$E19=0),\"\",(IO$19*IO33)+(IP$19*IP33)+(IQ$19*IQ33)+(IR$19*IR33)+(IS$19*IS33)+(IT$19*IT33)+(IU$19*IU33)+(IV$19*IV33)+(IW$19*IW33)+(IX$19*IX33)+(IY$19*IY33)+(IZ$19*IZ33)+(JA$19*JA33)+(JB$19*JB33)+(JC$19*JC33)+(JD$19*JD33)+(JE$19*JE33)+(JF$19*JF33)+(JG$19*JG33)+(JH$19*JH33)+(JI$19*JI33)+(JJ$19*JJ33)+(JK$19*JK33)+(JL$19*JL33)+(JM$19*JM33))","v":0},{"$f":"IF(OR('Set UP'!$C19=0,'Set UP'!$D19=0,'Set UP'!$E19=0),\"\",(AF33+BG33+CH33+DI33+EJ33+FK33+GL33+HM33+IN33+JO33))","v":255},{"$f":"IF(OR('Set UP'!$C19=0,'Set UP'!$D19=0,'Set UP'!$E19=0),\"\",RANK(JP33,$JP$21:$JP$60,0))","v":8},{"$f":"IF(OR('Set UP'!K19<>1,'Set UP'!C19=0,'Set UP'!D19=0,'Set UP'!E19=0,'Set UP'!F19=0),\"\",$JP33)","v":""},{"$f":"IF(OR('Set UP'!K19<>1,'Set UP'!C19=0,'Set UP'!D19=0,'Set UP'!E19=0,'Set UP'!F19=0),\"\",RANK(JR33,$JR$21:$JR$60,0))","v":""},{"$f":"IF(OR('Set UP'!K19<>2,'Set UP'!C19=0,'Set UP'!D19=0,'Set UP'!E19=0,'Set UP'!F19=0),\"\",$JP33)","v":255},{"$f":"IF(OR('Set UP'!K19<>2,'Set UP'!C19=0,'Set UP'!D19=0,'Set UP'!E19=0,'Set UP'!F19=0),\"\",RANK(JT33,$JT$21:$JT$60,0))","v":5},{"$f":"IF(OR('Set UP'!F19<>\"F\",'Set UP'!C19=0,'Set UP'!D19=0,'Set UP'!E19=0),\"\",$JP33)","v":""},{"$f":"IF(OR('Set UP'!F19<>\"F\",'Set UP'!C19=0,'Set UP'!D19=0,'Set UP'!E19=0),\"\",RANK(JV33,$JV$21:$JV$60,0))","v":""},{"$f":"IF(OR('Set UP'!F19<>\"NS\",'Set UP'!C19=0,'Set UP'!D19=0,'Set UP'!E19=0),\"\",$JP33)","v":""},{"$f":"IF(OR('Set UP'!F19<>\"NS\",'Set UP'!C19=0,'Set UP'!D19=0,'Set UP'!E19=0),\"\",RANK(JX33,$JX$21:$JX$60,0))","v":""},{"$f":"IF(OR('Set UP'!$C19=0,'Set UP'!$D19=0,'Set UP'!$E19=0,JP33=0),\"\",JP33/MAX(JP$21:JP$60)*1000)","v":864.40677966101703}]
[null,14,{"$f":"IF(OR('Set UP'!$C20=0,'Set UP'!$D20=0,'Set UP'!$E20=0,'Set UP'!F20=0),\"  --\",'Set UP'!C20)","v":"  --"},{"$f":"IF(OR('Set UP'!$C20=0,'Set UP'!$D20=0,'Set UP'!$E20=0,'Set UP'!F20=0),\"  --\",'Set UP'!D20&\" \"&'Set UP'!E20)","v":"  --"},{"$f":"IF(OR('Set UP'!$C20=0,'Set UP'!$D20=0,'Set UP'!$E20=0,'Set UP'!F20=0),\"  --\",'Set UP'!F20)","v":"  --"},null,null,null,null,null,null,null,null,null,null,null,null,null,null,null,null,null,null,null,null,null,null,null,null,null,null,{"$f":"IF(OR('Set UP'!$C20=0,'Set UP'!$D20=0,'Set UP'!$E20=0),\"\",(F$19*F34)+(G$19*G34)+(H$19*H34)+(I$19*I34)+(J$19*J34)+(K$19*K34)+(L$19*L34)+(M$19*M34)+(N$19*N34)+(O$19*O34)+(P$19*P34)+(Q$19*Q34)+(R$19*R34)+(S$19*S34)+(T$19*T34)+(U$19*U34)+(V$19*V34)+(W$19*W34)+(X$19*X34)+(Y$19*Y34)+(Z$19*Z34)+(AA$19*AA34)+(AB$19*AB34)+(AC$19*AC34)+(AD$19*AD34))","v":""},null,null,null,null,null,null,null,null,null,null,null,null,null,null,null,null,null,null,null,null,null,null,null,null,null,null,{"$f":"IF(OR('Set UP'!$C20=0,'Set UP'!$D20=0,'Set UP'!$E20=0),\"\",(AG$19*AG34)+(AH$19*AH34)+(AI$19*AI34)+(AJ$19*AJ34)+(AK$19*AK34)+(AL$19*AL34)+(AM$19*AM34)+(AN$19*AN34)+(AO$19*AO34)+(AP$19*AP34)+(AQ$19*AQ34)+(AR$19*AR34)+(AS$19*AS34)+(AT$19*AT34)+(AU$19*AU34)+(AV$19*AV34)+(AW$19*AW34)+(AX$19*AX34)+(AY$19*AY34)+(AZ$19*AZ34)+(BA$19*BA34)+(BB$19*BB34)+(BC$19*BC34)+(BD$19*BD34)+(BE$19*BE34))","v":""},null,null,null,null,null,null,null,null,null,null,null,null,null,null,null,null,null,null,null,null,null,null,null,null,null,null,{"$f":"IF(OR('Set UP'!$C20=0,'Set UP'!$D20=0,'Set UP'!$E20=0),\"\",(BH$19*BH34)+(BI$19*BI34)+(BJ$19*BJ34)+(BK$19*BK34)+(BL$19*BL34)+(BM$19*BM34)+(BN$19*BN34)+(BO$19*BO34)+(BP$19*BP34)+(BQ$19*BQ34)+(BR$19*BR34)+(BS$19*BS34)+(BT$19*BT34)+(BU$19*BU34)+(BV$19*BV34)+(BW$19*BW34)+(BX$19*BX34)+(BY$19*BY34)+(BZ$19*BZ34)+(CA$19*CA34)+(CB$19*CB34)+(CC$19*CC34)+(CD$19*CD34)+(CE$19*CE34)+(CF$19*CF34))","v":""},null,null,null,null,null,null,null,null,null,null,null,null,null,null,null,null,null,null,null,null,null,null,null,null,null,null,{"$f":"IF(OR('Set UP'!$C20=0,'Set UP'!$D20=0,'Set UP'!$E20=0),\"\",(CI$19*CI34)+(CJ$19*CJ34)+(CK$19*CK34)+(CL$19*CL34)+(CM$19*CM34)+(CN$19*CN34)+(CO$19*CO34)+(CP$19*CP34)+(CQ$19*CQ34)+(CR$19*CR34)+(CS$19*CS34)+(CT$19*CT34)+(CU$19*CU34)+(CV$19*CV34)+(CW$19*CW34)+(CX$19*CX34)+(CY$19*CY34)+(CZ$19*CZ34)+(DA$19*DA34)+(DB$19*DB34)+(DC$19*DC34)+(DD$19*DD34)+(DE$19*DE34)+(DF$19*DF34)+(DG$19*DG34))","v":""},null,null,null,null,null,null,null,null,null,null,null,null,null,null,null,null,null,null,null,null,null,null,null,null,null,null,{"$f":"IF(OR('Set UP'!$C20=0,'Set UP'!$D20=0,'Set UP'!$E20=0),\"\",(DJ$19*DJ34)+(DK$19*DK34)+(DL$19*DL34)+(DM$19*DM34)+(DN$19*DN34)+(DO$19*DO34)+(DP$19*DP34)+(DQ$19*DQ34)+(DR$19*DR34)+(DS$19*DS34)+(DT$19*DT34)+(DU$19*DU34)+(DV$19*DV34)+(DW$19*DW34)+(DX$19*DX34)+(DY$19*DY34)+(DZ$19*DZ34)+(EA$19*EA34)+(EB$19*EB34)+(EC$19*EC34)+(ED$19*ED34)+(EE$19*EE34)+(EF$19*EF34)+(EG$19*EG34)+(EH$19*EH34))","v":""},null,null,null,null,null,null,null,null,null,null,null,null,null,null,null,null,null,null,null,null,null,null,null,null,null,null,{"$f":"IF(OR('Set UP'!$C20=0,'Set UP'!$D20=0,'Set UP'!$E20=0),\"\",(EK$19*EK34)+(EL$19*EL34)+(EM$19*EM34)+(EN$19*EN34)+(EO$19*EO34)+(EP$19*EP34)+(EQ$19*EQ34)+(ER$19*ER34)+(ES$19*ES34)+(ET$19*ET34)+(EU$19*EU34)+(EV$19*EV34)+(EW$19*EW34)+(EX$19*EX34)+(EY$19*EY34)+(EZ$19*EZ34)+(FA$19*FA34)+(FB$19*FB34)+(FC$19*FC34)+(FD$19*FD34)+(FE$19*FE34)+(FF$19*FF34)+(FG$19*FG34)+(FH$19*FH34)+(FI$19*FI34))","v":""},null,null,null,null,null,null,null,null,null,null,null,null,null,null,null,null,null,null,null,null,null,null,null,null,null,null,{"$f":"IF(OR('Set UP'!$C20=0,'Set UP'!$D20=0,'Set UP'!$E20=0),\"\",(FL$19*FL34)+(FM$19*FM34)+(FN$19*FN34)+(FO$19*FO34)+(FP$19*FP34)+(FQ$19*FQ34)+(FR$19*FR34)+(FS$19*FS34)+(FT$19*FT34)+(FU$19*FU34)+(FV$19*FV34)+(FW$19*FW34)+(FX$19*FX34)+(FY$19*FY34)+(FZ$19*FZ34)+(GA$19*GA34)+(GB$19*GB34)+(GC$19*GC34)+(GD$19*GD34)+(GE$19*GE34)+(GF$19*GF34)+(GG$19*GG34)+(GH$19*GH34)+(GI$19*GI34)+(GJ$19*GJ34))","v":""},null,null,null,null,null,null,null,null,null,null,null,null,null,null,null,null,null,null,null,null,null,null,null,null,null,null,{"$f":"IF(OR('Set UP'!$C20=0,'Set UP'!$D20=0,'Set UP'!$E20=0),\"\",(GM$19*GM34)+(GN$19*GN34)+(GO$19*GO34)+(GP$19*GP34)+(GQ$19*GQ34)+(GR$19*GR34)+(GS$19*GS34)+(GT$19*GT34)+(GU$19*GU34)+(GV$19*GV34)+(GW$19*GW34)+(GX$19*GX34)+(GY$19*GY34)+(GZ$19*GZ34)+(HA$19*HA34)+(HB$19*HB34)+(HC$19*HC34)+(HD$19*HD34)+(HE$19*HE34)+(HF$19*HF34)+(HG$19*HG34)+(HH$19*HH34)+(HI$19*HI34)+(HJ$19*HJ34)+(HK$19*HK34))","v":""},null,null,null,null,null,null,null,null,null,null,null,null,null,null,null,null,null,null,null,null,null,null,null,null,null,null,{"$f":"IF(OR('Set UP'!$C20=0,'Set UP'!$D20=0,'Set UP'!$E20=0),\"\",(HN$19*HN34)+(HO$19*HO34)+(HP$19*HP34)+(HQ$19*HQ34)+(HR$19*HR34)+(HS$19*HS34)+(HT$19*HT34)+(HU$19*HU34)+(HV$19*HV34)+(HW$19*HW34)+(HX$19*HX34)+(HY$19*HY34)+(HZ$19*HZ34)+(IA$19*IA34)+(IB$19*IB34)+(IC$19*IC34)+(ID$19*ID34)+(IE$19*IE34)+(IF$19*IF34)+(IG$19*IG34)+(IH$19*IH34)+(II$19*II34)+(IJ$19*IJ34)+(IK$19*IK34)+(IL$19*IL34))","v":""},null,null,null,null,null,null,null,null,null,null,null,null,null,null,null,null,null,null,null,null,null,null,null,null,null,null,{"$f":"IF(OR('Set UP'!$C20=0,'Set UP'!$D20=0,'Set UP'!$E20=0),\"\",(IO$19*IO34)+(IP$19*IP34)+(IQ$19*IQ34)+(IR$19*IR34)+(IS$19*IS34)+(IT$19*IT34)+(IU$19*IU34)+(IV$19*IV34)+(IW$19*IW34)+(IX$19*IX34)+(IY$19*IY34)+(IZ$19*IZ34)+(JA$19*JA34)+(JB$19*JB34)+(JC$19*JC34)+(JD$19*JD34)+(JE$19*JE34)+(JF$19*JF34)+(JG$19*JG34)+(JH$19*JH34)+(JI$19*JI34)+(JJ$19*JJ34)+(JK$19*JK34)+(JL$19*JL34)+(JM$19*JM34))","v":""},{"$f":"IF(OR('Set UP'!$C20=0,'Set UP'!$D20=0,'Set UP'!$E20=0),\"\",(AF34+BG34+CH34+DI34+EJ34+FK34+GL34+HM34+IN34+JO34))","v":""},{"$f":"IF(OR('Set UP'!$C20=0,'Set UP'!$D20=0,'Set UP'!$E20=0),\"\",RANK(JP34,$JP$21:$JP$60,0))","v":""},{"$f":"IF(OR('Set UP'!K20<>1,'Set UP'!C20=0,'Set UP'!D20=0,'Set UP'!E20=0,'Set UP'!F20=0),\"\",$JP34)","v":""},{"$f":"IF(OR('Set UP'!K20<>1,'Set UP'!C20=0,'Set UP'!D20=0,'Set UP'!E20=0,'Set UP'!F20=0),\"\",RANK(JR34,$JR$21:$JR$60,0))","v":""},{"$f":"IF(OR('Set UP'!K20<>2,'Set UP'!C20=0,'Set UP'!D20=0,'Set UP'!E20=0,'Set UP'!F20=0),\"\",$JP34)","v":""},{"$f":"IF(OR('Set UP'!K20<>2,'Set UP'!C20=0,'Set UP'!D20=0,'Set UP'!E20=0,'Set UP'!F20=0),\"\",RANK(JT34,$JT$21:$JT$60,0))","v":""},{"$f":"IF(OR('Set UP'!F20<>\"F\",'Set UP'!C20=0,'Set UP'!D20=0,'Set UP'!E20=0),\"\",$JP34)","v":""},{"$f":"IF(OR('Set UP'!F20<>\"F\",'Set UP'!C20=0,'Set UP'!D20=0,'Set UP'!E20=0),\"\",RANK(JV34,$JV$21:$JV$60,0))","v":""},{"$f":"IF(OR('Set UP'!F20<>\"NS\",'Set UP'!C20=0,'Set UP'!D20=0,'Set UP'!E20=0),\"\",$JP34)","v":""},{"$f":"IF(OR('Set UP'!F20<>\"NS\",'Set UP'!C20=0,'Set UP'!D20=0,'Set UP'!E20=0),\"\",RANK(JX34,$JX$21:$JX$60,0))","v":""},{"$f":"IF(OR('Set UP'!$C20=0,'Set UP'!$D20=0,'Set UP'!$E20=0,JP34=0),\"\",JP34/MAX(JP$21:JP$60)*1000)","v":""}]
[null,15,{"$f":"IF(OR('Set UP'!$C21=0,'Set UP'!$D21=0,'Set UP'!$E21=0,'Set UP'!F21=0),\"  --\",'Set UP'!C21)","v":1427},{"$f":"IF(OR('Set UP'!$C21=0,'Set UP'!$D21=0,'Set UP'!$E21=0,'Set UP'!F21=0),\"  --\",'Set UP'!D21&\" \"&'Set UP'!E21)","v":"University of Southampton A"},{"$f":"IF(OR('Set UP'!$C21=0,'Set UP'!$D21=0,'Set UP'!$E21=0,'Set UP'!F21=0),\"  --\",'Set UP'!F21)","v":"S"},5,5,2,6,3,4,2,null,null,null,null,null,null,null,null,null,null,null,null,null,null,null,null,null,null,null,{"$f":"IF(OR('Set UP'!$C21=0,'Set UP'!$D21=0,'Set UP'!$E21=0),\"\",(F$19*F35)+(G$19*G35)+(H$19*H35)+(I$19*I35)+(J$19*J35)+(K$19*K35)+(L$19*L35)+(M$19*M35)+(N$19*N35)+(O$19*O35)+(P$19*P35)+(Q$19*Q35)+(R$19*R35)+(S$19*S35)+(T$19*T35)+(U$19*U35)+(V$19*V35)+(W$19*W35)+(X$19*X35)+(Y$19*Y35)+(Z$19*Z35)+(AA$19*AA35)+(AB$19*AB35)+(AC$19*AC35)+(AD$19*AD35))","v":32.5},4,5,5,7,4,7,0,8,null,null,null,null,null,null,null,null,null,null,null,null,null,null,null,null,null,null,{"$f":"IF(OR('Set UP'!$C21=0,'Set UP'!$D21=0,'Set UP'!$E21=0),\"\",(AG$19*AG35)+(AH$19*AH35)+(AI$19*AI35)+(AJ$19*AJ35)+(AK$19*AK35)+(AL$19*AL35)+(AM$19*AM35)+(AN$19*AN35)+(AO$19*AO35)+(AP$19*AP35)+(AQ$19*AQ35)+(AR$19*AR35)+(AS$19*AS35)+(AT$19*AT35)+(AU$19*AU35)+(AV$19*AV35)+(AW$19*AW35)+(AX$19*AX35)+(AY$19*AY35)+(AZ$19*AZ35)+(BA$19*BA35)+(BB$19*BB35)+(BC$19*BC35)+(BD$19*BD35)+(BE$19*BE35))","v":45},8,2,0,0,8,7,0,null,null,null,null,null,null,null,null,null,null,null,null,null,null,null,null,null,null,null,{"$f":"IF(OR('Set UP'!$C21=0,'Set UP'!$D21=0,'Set UP'!$E21=0),\"\",(BH$19*BH35)+(BI$19*BI35)+(BJ$19*BJ35)+(BK$19*BK35)+(BL$19*BL35)+(BM$19*BM35)+(BN$19*BN35)+(BO$19*BO35)+(BP$19*BP35)+(BQ$19*BQ35)+(BR$19*BR35)+(BS$19*BS35)+(BT$19*BT35)+(BU$19*BU35)+(BV$19*BV35)+(BW$19*BW35)+(BX$19*BX35)+(BY$19*BY35)+(BZ$19*BZ35)+(CA$19*CA35)+(CB$19*CB35)+(CC$19*CC35)+(CD$19*CD35)+(CE$19*CE35)+(CF$19*CF35))","v":29.5},7,9,9,5,9,2,5,null,null,null,null,null,null,null,null,null,null,null,null,null,null,null,null,null,null,null,{"$f":"IF(OR('Set UP'!$C21=0,'Set UP'!$D21=0,'Set UP'!$E21=0),\"\",(CI$19*CI35)+(CJ$19*CJ35)+(CK$19*CK35)+(CL$19*CL35)+(CM$19*CM35)+(CN$19*CN35)+(CO$19*CO35)+(CP$19*CP35)+(CQ$19*CQ35)+(CR$19*CR35)+(CS$19*CS35)+(CT$19*CT35)+(CU$19*CU35)+(CV$19*CV35)+(CW$19*CW35)+(CX$19*CX35)+(CY$19*CY35)+(CZ$19*CZ35)+(DA$19*DA35)+(DB$19*DB35)+(DC$19*DC35)+(DD$19*DD35)+(DE$19*DE35)+(DF$19*DF35)+(DG$19*DG35))","v":58.5},10,0,0,10,10,10,6,3,0,0,null,null,null,null,null,null,null,null,null,null,null,null,null,null,null,null,{"$f":"IF(OR('Set UP'!$C21=0,'Set UP'!$D21=0,'Set UP'!$E21=0),\"\",(DJ$19*DJ35)+(DK$19*DK35)+(DL$19*DL35)+(DM$19*DM35)+(DN$19*DN35)+(DO$19*DO35)+(DP$19*DP35)+(DQ$19*DQ35)+(DR$19*DR35)+(DS$19*DS35)+(DT$19*DT35)+(DU$19*DU35)+(DV$19*DV35)+(DW$19*DW35)+(DX$19*DX35)+(DY$19*DY35)+(DZ$19*DZ35)+(EA$19*EA35)+(EB$19*EB35)+(EC$19*EC35)+(ED$19*ED35)+(EE$19*EE35)+(EF$19*EF35)+(EG$19*EG35)+(EH$19*EH35))","v":44.5},6,2,6,5,null,null,null,null,null,null,null,null,null,null,null,null,null,null,null,null,null,null,null,null,null,null,{"$f":"IF(OR('Set UP'!$C21=0,'Set UP'!$D21=0,'Set UP'!$E21=0),\"\",(EK$19*EK35)+(EL$19*EL35)+(EM$19*EM35)+(EN$19*EN35)+(EO$19*EO35)+(EP$19*EP35)+(EQ$19*EQ35)+(ER$19*ER35)+(ES$19*ES35)+(ET$19*ET35)+(EU$19*EU35)+(EV$19*EV35)+(EW$19*EW35)+(EX$19*EX35)+(EY$19*EY35)+(EZ$19*EZ35)+(FA$19*FA35)+(FB$19*FB35)+(FC$19*FC35)+(FD$19*FD35)+(FE$19*FE35)+(FF$19*FF35)+(FG$19*FG35)+(FH$19*FH35)+(FI$19*FI35))","v":37.5},null,null,null,null,null,null,null,null,null,null,null,null,null,null,null,null,null,null,null,null,null,null,null,null,null,null,{"$f":"IF(OR('Set UP'!$C21=0,'Set UP'!$D21=0,'Set UP'!$E21=0),\"\",(FL$19*FL35)+(FM$19*FM35)+(FN$19*FN35)+(FO$19*FO35)+(FP$19*FP35)+(FQ$19*FQ35)+(FR$19*FR35)+(FS$19*FS35)+(FT$19*FT35)+(FU$19*FU35)+(FV$19*FV35)+(FW$19*FW35)+(FX$19*FX35)+(FY$19*FY35)+(FZ$19*FZ35)+(GA$19*GA35)+(GB$19*GB35)+(GC$19*GC35)+(GD$19*GD35)+(GE$19*GE35)+(GF$19*GF35)+(GG$19*GG35)+(GH$19*GH35)+(GI$19*GI35)+(GJ$19*GJ35))","v":0},null,null,null,null,null,null,null,null,null,null,null,null,null,null,null,null,null,null,null,null,null,null,null,null,null,null,{"$f":"IF(OR('Set UP'!$C21=0,'Set UP'!$D21=0,'Set UP'!$E21=0),\"\",(GM$19*GM35)+(GN$19*GN35)+(GO$19*GO35)+(GP$19*GP35)+(GQ$19*GQ35)+(GR$19*GR35)+(GS$19*GS35)+(GT$19*GT35)+(GU$19*GU35)+(GV$19*GV35)+(GW$19*GW35)+(GX$19*GX35)+(GY$19*GY35)+(GZ$19*GZ35)+(HA$19*HA35)+(HB$19*HB35)+(HC$19*HC35)+(HD$19*HD35)+(HE$19*HE35)+(HF$19*HF35)+(HG$19*HG35)+(HH$19*HH35)+(HI$19*HI35)+(HJ$19*HJ35)+(HK$19*HK35))","v":0},null,null,null,null,null,null,null,null,null,null,null,null,null,null,null,null,null,null,null,null,null,null,null,null,null,null,{"$f":"IF(OR('Set UP'!$C21=0,'Set UP'!$D21=0,'Set UP'!$E21=0),\"\",(HN$19*HN35)+(HO$19*HO35)+(HP$19*HP35)+(HQ$19*HQ35)+(HR$19*HR35)+(HS$19*HS35)+(HT$19*HT35)+(HU$19*HU35)+(HV$19*HV35)+(HW$19*HW35)+(HX$19*HX35)+(HY$19*HY35)+(HZ$19*HZ35)+(IA$19*IA35)+(IB$19*IB35)+(IC$19*IC35)+(ID$19*ID35)+(IE$19*IE35)+(IF$19*IF35)+(IG$19*IG35)+(IH$19*IH35)+(II$19*II35)+(IJ$19*IJ35)+(IK$19*IK35)+(IL$19*IL35))","v":0},null,null,null,null,null,null,null,null,null,null,null,null,null,null,null,null,null,null,null,null,null,null,null,null,null,null,{"$f":"IF(OR('Set UP'!$C21=0,'Set UP'!$D21=0,'Set UP'!$E21=0),\"\",(IO$19*IO35)+(IP$19*IP35)+(IQ$19*IQ35)+(IR$19*IR35)+(IS$19*IS35)+(IT$19*IT35)+(IU$19*IU35)+(IV$19*IV35)+(IW$19*IW35)+(IX$19*IX35)+(IY$19*IY35)+(IZ$19*IZ35)+(JA$19*JA35)+(JB$19*JB35)+(JC$19*JC35)+(JD$19*JD35)+(JE$19*JE35)+(JF$19*JF35)+(JG$19*JG35)+(JH$19*JH35)+(JI$19*JI35)+(JJ$19*JJ35)+(JK$19*JK35)+(JL$19*JL35)+(JM$19*JM35))","v":0},{"$f":"IF(OR('Set UP'!$C21=0,'Set UP'!$D21=0,'Set UP'!$E21=0),\"\",(AF35+BG35+CH35+DI35+EJ35+FK35+GL35+HM35+IN35+JO35))","v":247.5},{"$f":"IF(OR('Set UP'!$C21=0,'Set UP'!$D21=0,'Set UP'!$E21=0),\"\",RANK(JP35,$JP$21:$JP$60,0))","v":11},{"$f":"IF(OR('Set UP'!K21<>1,'Set UP'!C21=0,'Set UP'!D21=0,'Set UP'!E21=0,'Set UP'!F21=0),\"\",$JP35)","v":247.5},{"$f":"IF(OR('Set UP'!K21<>1,'Set UP'!C21=0,'Set UP'!D21=0,'Set UP'!E21=0,'Set UP'!F21=0),\"\",RANK(JR35,$JR$21:$JR$60,0))","v":5},{"$f":"IF(OR('Set UP'!K21<>2,'Set UP'!C21=0,'Set UP'!D21=0,'Set UP'!E21=0,'Set UP'!F21=0),\"\",$JP35)","v":""},{"$f":"IF(OR('Set UP'!K21<>2,'Set UP'!C21=0,'Set UP'!D21=0,'Set UP'!E21=0,'Set UP'!F21=0),\"\",RANK(JT35,$JT$21:$JT$60,0))","v":""},{"$f":"IF(OR('Set UP'!F21<>\"F\",'Set UP'!C21=0,'Set UP'!D21=0,'Set UP'!E21=0),\"\",$JP35)","v":""},{"$f":"IF(OR('Set UP'!F21<>\"F\",'Set UP'!C21=0,'Set UP'!D21=0,'Set UP'!E21=0),\"\",RANK(JV35,$JV$21:$JV$60,0))","v":""},{"$f":"IF(OR('Set UP'!F21<>\"NS\",'Set UP'!C21=0,'Set UP'!D21=0,'Set UP'!E21=0),\"\",$JP35)","v":""},{"$f":"IF(OR('Set UP'!F21<>\"NS\",'Set UP'!C21=0,'Set UP'!D21=0,'Set UP'!E21=0),\"\",RANK(JX35,$JX$21:$JX$60,0))","v":""},{"$f":"IF(OR('Set UP'!$C21=0,'Set UP'!$D21=0,'Set UP'!$E21=0,JP35=0),\"\",JP35/MAX(JP$21:JP$60)*1000)","v":838.98305084745766}]
[null,16,{"$f":"IF(OR('Set UP'!$C22=0,'Set UP'!$D22=0,'Set UP'!$E22=0,'Set UP'!F22=0),\"  --\",'Set UP'!C22)","v":1444},{"$f":"IF(OR('Set UP'!$C22=0,'Set UP'!$D22=0,'Set UP'!$E22=0,'Set UP'!F22=0),\"  --\",'Set UP'!D22&\" \"&'Set UP'!E22)","v":"University of Birmingham C"},{"$f":"IF(OR('Set UP'!$C22=0,'Set UP'!$D22=0,'Set UP'!$E22=0,'Set UP'!F22=0),\"  --\",'Set UP'!F22)","v":"S"},0,0,0,5,0,5,0,null,null,null,null,null,null,null,null,null,null,null,null,null,null,null,null,null,null,null,{"$f":"IF(OR('Set UP'!$C22=0,'Set UP'!$D22=0,'Set UP'!$E22=0),\"\",(F$19*F36)+(G$19*G36)+(H$19*H36)+(I$19*I36)+(J$19*J36)+(K$19*K36)+(L$19*L36)+(M$19*M36)+(N$19*N36)+(O$19*O36)+(P$19*P36)+(Q$19*Q36)+(R$19*R36)+(S$19*S36)+(T$19*T36)+(U$19*U36)+(V$19*V36)+(W$19*W36)+(X$19*X36)+(Y$19*Y36)+(Z$19*Z36)+(AA$19*AA36)+(AB$19*AB36)+(AC$19*AC36)+(AD$19*AD36))","v":12.5},2,4,8,6,8,6,5,7,null,null,null,null,null,null,null,null,null,null,null,null,null,null,null,null,null,null,{"$f":"IF(OR('Set UP'!$C22=0,'Set UP'!$D22=0,'Set UP'!$E22=0),\"\",(AG$19*AG36)+(AH$19*AH36)+(AI$19*AI36)+(AJ$19*AJ36)+(AK$19*AK36)+(AL$19*AL36)+(AM$19*AM36)+(AN$19*AN36)+(AO$19*AO36)+(AP$19*AP36)+(AQ$19*AQ36)+(AR$19*AR36)+(AS$19*AS36)+(AT$19*AT36)+(AU$19*AU36)+(AV$19*AV36)+(AW$19*AW36)+(AX$19*AX36)+(AY$19*AY36)+(AZ$19*AZ36)+(BA$19*BA36)+(BB$19*BB36)+(BC$19*BC36)+(BD$19*BD36)+(BE$19*BE36))","v":53},8,4,10,0,9,5,0,null,null,null,null,null,null,null,null,null,null,null,null,null,null,null,null,null,null,null,{"$f":"IF(OR('Set UP'!$C22=0,'Set UP'!$D22=0,'Set UP'!$E22=0),\"\",(BH$19*BH36)+(BI$19*BI36)+(BJ$19*BJ36)+(BK$19*BK36)+(BL$19*BL36)+(BM$19*BM36)+(BN$19*BN36)+(BO$19*BO36)+(BP$19*BP36)+(BQ$19*BQ36)+(BR$19*BR36)+(BS$19*BS36)+(BT$19*BT36)+(BU$19*BU36)+(BV$19*BV36)+(BW$19*BW36)+(BX$19*BX36)+(BY$19*BY36)+(BZ$19*BZ36)+(CA$19*CA36)+(CB$19*CB36)+(CC$19*CC36)+(CD$19*CD36)+(CE$19*CE36)+(CF$19*CF36))","v":40.5},8,7,8,6,8,4,7,null,null,null,null,null,null,null,null,null,null,null,null,null,null,null,null,null,null,null,{"$f":"IF(OR('Set UP'!$C22=0,'Set UP'!$D22=0,'Set UP'!$E22=0),\"\",(CI$19*CI36)+(CJ$19*CJ36)+(CK$19*CK36)+(CL$19*CL36)+(CM$19*CM36)+(CN$19*CN36)+(CO$19*CO36)+(CP$19*CP36)+(CQ$19*CQ36)+(CR$19*CR36)+(CS$19*CS36)+(CT$19*CT36)+(CU$19*CU36)+(CV$19*CV36)+(CW$19*CW36)+(CX$19*CX36)+(CY$19*CY36)+(CZ$19*CZ36)+(DA$19*DA36)+(DB$19*DB36)+(DC$19*DC36)+(DD$19*DD36)+(DE$19*DE36)+(DF$19*DF36)+(DG$19*DG36))","v":59},10,0,0,10,10,0,0,8,10,7,null,null,null,null,null,null,null,null,null,null,null,null,null,null,null,null,{"$f":"IF(OR('Set UP'!$C22=0,'Set UP'!$D22=0,'Set UP'!$E22=0),\"\",(DJ$19*DJ36)+(DK$19*DK36)+(DL$19*DL36)+(DM$19*DM36)+(DN$19*DN36)+(DO$19*DO36)+(DP$19*DP36)+(DQ$19*DQ36)+(DR$19*DR36)+(DS$19*DS36)+(DT$19*DT36)+(DU$19*DU36)+(DV$19*DV36)+(DW$19*DW36)+(DX$19*DX36)+(DY$19*DY36)+(DZ$19*DZ36)+(EA$19*EA36)+(EB$19*EB36)+(EC$19*EC36)+(ED$19*ED36)+(EE$19*EE36)+(EF$19*EF36)+(EG$19*EG36)+(EH$19*EH36))","v":46.1},7,5,6,6,null,null,null,null,null,null,null,null,null,null,null,null,null,null,null,null,null,null,null,null,null,null,{"$f":"IF(OR('Set UP'!$C22=0,'Set UP'!$D22=0,'Set UP'!$E22=0),\"\",(EK$19*EK36)+(EL$19*EL36)+(EM$19*EM36)+(EN$19*EN36)+(EO$19*EO36)+(EP$19*EP36)+(EQ$19*EQ36)+(ER$19*ER36)+(ES$19*ES36)+(ET$19*ET36)+(EU$19*EU36)+(EV$19*EV36)+(EW$19*EW36)+(EX$19*EX36)+(EY$19*EY36)+(EZ$19*EZ36)+(FA$19*FA36)+(FB$19*FB36)+(FC$19*FC36)+(FD$19*FD36)+(FE$19*FE36)+(FF$19*FF36)+(FG$19*FG36)+(FH$19*FH36)+(FI$19*FI36))","v":46.5},null,null,null,null,null,null,null,null,null,null,null,null,null,null,null,null,null,null,null,null,null,null,null,null,null,null,{"$f":"IF(OR('Set UP'!$C22=0,'Set UP'!$D22=0,'Set UP'!$E22=0),\"\",(FL$19*FL36)+(FM$19*FM36)+(FN$19*FN36)+(FO$19*FO36)+(FP$19*FP36)+(FQ$19*FQ36)+(FR$19*FR36)+(FS$19*FS36)+(FT$19*FT36)+(FU$19*FU36)+(FV$19*FV36)+(FW$19*FW36)+(FX$19*FX36)+(FY$19*FY36)+(FZ$19*FZ36)+(GA$19*GA36)+(GB$19*GB36)+(GC$19*GC36)+(GD$19*GD36)+(GE$19*GE36)+(GF$19*GF36)+(GG$19*GG36)+(GH$19*GH36)+(GI$19*GI36)+(GJ$19*GJ36))","v":0},null,null,null,null,null,null,null,null,null,null,null,null,null,null,null,null,null,null,null,null,null,null,null,null,null,null,{"$f":"IF(OR('Set UP'!$C22=0,'Set UP'!$D22=0,'Set UP'!$E22=0),\"\",(GM$19*GM36)+(GN$19*GN36)+(GO$19*GO36)+(GP$19*GP36)+(GQ$19*GQ36)+(GR$19*GR36)+(GS$19*GS36)+(GT$19*GT36)+(GU$19*GU36)+(GV$19*GV36)+(GW$19*GW36)+(GX$19*GX36)+(GY$19*GY36)+(GZ$19*GZ36)+(HA$19*HA36)+(HB$19*HB36)+(HC$19*HC36)+(HD$19*HD36)+(HE$19*HE36)+(HF$19*HF36)+(HG$19*HG36)+(HH$19*HH36)+(HI$19*HI36)+(HJ$19*HJ36)+(HK$19*HK36))","v":0},null,null,null,null,null,null,null,null,null,null,null,null,null,null,null,null,null,null,null,null,null,null,null,null,null,null,{"$f":"IF(OR('Set UP'!$C22=0,'Set UP'!$D22=0,'Set UP'!$E22=0),\"\",(HN$19*HN36)+(HO$19*HO36)+(HP$19*HP36)+(HQ$19*HQ36)+(HR$19*HR36)+(HS$19*HS36)+(HT$19*HT36)+(HU$19*HU36)+(HV$19*HV36)+(HW$19*HW36)+(HX$19*HX36)+(HY$19*HY36)+(HZ$19*HZ36)+(IA$19*IA36)+(IB$19*IB36)+(IC$19*IC36)+(ID$19*ID36)+(IE$19*IE36)+(IF$19*IF36)+(IG$19*IG36)+(IH$19*IH36)+(II$19*II36)+(IJ$19*IJ36)+(IK$19*IK36)+(IL$19*IL36))","v":0},null,null,null,null,null,null,null,null,null,null,null,null,null,null,null,null,null,null,null,null,null,null,null,null,null,null,{"$f":"IF(OR('Set UP'!$C22=0,'Set UP'!$D22=0,'Set UP'!$E22=0),\"\",(IO$19*IO36)+(IP$19*IP36)+(IQ$19*IQ36)+(IR$19*IR36)+(IS$19*IS36)+(IT$19*IT36)+(IU$19*IU36)+(IV$19*IV36)+(IW$19*IW36)+(IX$19*IX36)+(IY$19*IY36)+(IZ$19*IZ36)+(JA$19*JA36)+(JB$19*JB36)+(JC$19*JC36)+(JD$19*JD36)+(JE$19*JE36)+(JF$19*JF36)+(JG$19*JG36)+(JH$19*JH36)+(JI$19*JI36)+(JJ$19*JJ36)+(JK$19*JK36)+(JL$19*JL36)+(JM$19*JM36))","v":0},{"$f":"IF(OR('Set UP'!$C22=0,'Set UP'!$D22=0,'Set UP'!$E22=0),\"\",(AF36+BG36+CH36+DI36+EJ36+FK36+GL36+HM36+IN36+JO36))","v":257.60000000000002},{"$f":"IF(OR('Set UP'!$C22=0,'Set UP'!$D22=0,'Set UP'!$E22=0),\"\",RANK(JP36,$JP$21:$JP$60,0))","v":7},{"$f":"IF(OR('Set UP'!K22<>1,'Set UP'!C22=0,'Set UP'!D22=0,'Set UP'!E22=0,'Set UP'!F22=0),\"\",$JP36)","v":""},{"$f":"IF(OR('Set UP'!K22<>1,'Set UP'!C22=0,'Set UP'!D22=0,'Set UP'!E22=0,'Set UP'!F22=0),\"\",RANK(JR36,$JR$21:$JR$60,0))","v":""},{"$f":"IF(OR('Set UP'!K22<>2,'Set UP'!C22=0,'Set UP'!D22=0,'Set UP'!E22=0,'Set UP'!F22=0),\"\",$JP36)","v":257.60000000000002},{"$f":"IF(OR('Set UP'!K22<>2,'Set UP'!C22=0,'Set UP'!D22=0,'Set UP'!E22=0,'Set UP'!F22=0),\"\",RANK(JT36,$JT$21:$JT$60,0))","v":4},{"$f":"IF(OR('Set UP'!F22<>\"F\",'Set UP'!C22=0,'Set UP'!D22=0,'Set UP'!E22=0),\"\",$JP36)","v":""},{"$f":"IF(OR('Set UP'!F22<>\"F\",'Set UP'!C22=0,'Set UP'!D22=0,'Set UP'!E22=0),\"\",RANK(JV36,$JV$21:$JV$60,0))","v":""},{"$f":"IF(OR('Set UP'!F22<>\"NS\",'Set UP'!C22=0,'Set UP'!D22=0,'Set UP'!E22=0),\"\",$JP36)","v":""},{"$f":"IF(OR('Set UP'!F22<>\"NS\",'Set UP'!C22=0,'Set UP'!D22=0,'Set UP'!E22=0),\"\",RANK(JX36,$JX$21:$JX$60,0))","v":""},{"$f":"IF(OR('Set UP'!$C22=0,'Set UP'!$D22=0,'Set UP'!$E22=0,JP36=0),\"\",JP36/MAX(JP$21:JP$60)*1000)","v":873.22033898305096}]
[null,17,{"$f":"IF(OR('Set UP'!$C23=0,'Set UP'!$D23=0,'Set UP'!$E23=0,'Set UP'!F23=0),\"  --\",'Set UP'!C23)","v":1439},{"$f":"IF(OR('Set UP'!$C23=0,'Set UP'!$D23=0,'Set UP'!$E23=0,'Set UP'!F23=0),\"  --\",'Set UP'!D23&\" \"&'Set UP'!E23)","v":"University of Plymouth A"},{"$f":"IF(OR('Set UP'!$C23=0,'Set UP'!$D23=0,'Set UP'!$E23=0,'Set UP'!F23=0),\"  --\",'Set UP'!F23)","v":"S"},5,5,3,7,0,5,1,null,null,null,null,null,null,null,null,null,null,null,null,null,null,null,null,null,null,null,{"$f":"IF(OR('Set UP'!$C23=0,'Set UP'!$D23=0,'Set UP'!$E23=0),\"\",(F$19*F37)+(G$19*G37)+(H$19*H37)+(I$19*I37)+(J$19*J37)+(K$19*K37)+(L$19*L37)+(M$19*M37)+(N$19*N37)+(O$19*O37)+(P$19*P37)+(Q$19*Q37)+(R$19*R37)+(S$19*S37)+(T$19*T37)+(U$19*U37)+(V$19*V37)+(W$19*W37)+(X$19*X37)+(Y$19*Y37)+(Z$19*Z37)+(AA$19*AA37)+(AB$19*AB37)+(AC$19*AC37)+(AD$19*AD37))","v":32.5},8,8,8,5,2,6,0,7,null,null,null,null,null,null,null,null,null,null,null,null,null,null,null,null,null,null,{"$f":"IF(OR('Set UP'!$C23=0,'Set UP'!$D23=0,'Set UP'!$E23=0),\"\",(AG$19*AG37)+(AH$19*AH37)+(AI$19*AI37)+(AJ$19*AJ37)+(AK$19*AK37)+(AL$19*AL37)+(AM$19*AM37)+(AN$19*AN37)+(AO$19*AO37)+(AP$19*AP37)+(AQ$19*AQ37)+(AR$19*AR37)+(AS$19*AS37)+(AT$19*AT37)+(AU$19*AU37)+(AV$19*AV37)+(AW$19*AW37)+(AX$19*AX37)+(AY$19*AY37)+(AZ$19*AZ37)+(BA$19*BA37)+(BB$19*BB37)+(BC$19*BC37)+(BD$19*BD37)+(BE$19*BE37))","v":44.5},8,8,10,0,8,7,0,null,null,null,null,null,null,null,null,null,null,null,null,null,null,null,null,null,null,null,{"$f":"IF(OR('Set UP'!$C23=0,'Set UP'!$D23=0,'Set UP'!$E23=0),\"\",(BH$19*BH37)+(BI$19*BI37)+(BJ$19*BJ37)+(BK$19*BK37)+(BL$19*BL37)+(BM$19*BM37)+(BN$19*BN37)+(BO$19*BO37)+(BP$19*BP37)+(BQ$19*BQ37)+(BR$19*BR37)+(BS$19*BS37)+(BT$19*BT37)+(BU$19*BU37)+(BV$19*BV37)+(BW$19*BW37)+(BX$19*BX37)+(BY$19*BY37)+(BZ$19*BZ37)+(CA$19*CA37)+(CB$19*CB37)+(CC$19*CC37)+(CD$19*CD37)+(CE$19*CE37)+(CF$19*CF37))","v":48.5},6,0,3,2,2,1,4,null,null,null,null,null,null,null,null,null,null,null,null,null,null,null,null,null,null,null,{"$f":"IF(OR('Set UP'!$C23=0,'Set UP'!$D23=0,'Set UP'!$E23=0),\"\",(CI$19*CI37)+(CJ$19*CJ37)+(CK$19*CK37)+(CL$19*CL37)+(CM$19*CM37)+(CN$19*CN37)+(CO$19*CO37)+(CP$19*CP37)+(CQ$19*CQ37)+(CR$19*CR37)+(CS$19*CS37)+(CT$19*CT37)+(CU$19*CU37)+(CV$19*CV37)+(CW$19*CW37)+(CX$19*CX37)+(CY$19*CY37)+(CZ$19*CZ37)+(DA$19*DA37)+(DB$19*DB37)+(DC$19*DC37)+(DD$19*DD37)+(DE$19*DE37)+(DF$19*DF37)+(DG$19*DG37))","v":21},10,0,0,10,0,0,0,0,0,0,null,null,null,null,null,null,null,null,null,null,null,null,null,null,null,null,{"$f":"IF(OR('Set UP'!$C23=0,'Set UP'!$D23=0,'Set UP'!$E23=0),\"\",(DJ$19*DJ37)+(DK$19*DK37)+(DL$19*DL37)+(DM$19*DM37)+(DN$19*DN37)+(DO$19*DO37)+(DP$19*DP37)+(DQ$19*DQ37)+(DR$19*DR37)+(DS$19*DS37)+(DT$19*DT37)+(DU$19*DU37)+(DV$19*DV37)+(DW$19*DW37)+(DX$19*DX37)+(DY$19*DY37)+(DZ$19*DZ37)+(EA$19*EA37)+(EB$19*EB37)+(EC$19*EC37)+(ED$19*ED37)+(EE$19*EE37)+(EF$19*EF37)+(EG$19*EG37)+(EH$19*EH37))","v":15},0,4,0,4,null,null,null,null,null,null,null,null,null,null,null,null,null,null,null,null,null,null,null,null,null,null,{"$f":"IF(OR('Set UP'!$C23=0,'Set UP'!$D23=0,'Set UP'!$E23=0),\"\",(EK$19*EK37)+(EL$19*EL37)+(EM$19*EM37)+(EN$19*EN37)+(EO$19*EO37)+(EP$19*EP37)+(EQ$19*EQ37)+(ER$19*ER37)+(ES$19*ES37)+(ET$19*ET37)+(EU$19*EU37)+(EV$19*EV37)+(EW$19*EW37)+(EX$19*EX37)+(EY$19*EY37)+(EZ$19*EZ37)+(FA$19*FA37)+(FB$19*FB37)+(FC$19*FC37)+(FD$19*FD37)+(FE$19*FE37)+(FF$19*FF37)+(FG$19*FG37)+(FH$19*FH37)+(FI$19*FI37))","v":12},null,null,null,null,null,null,null,null,null,null,null,null,null,null,null,null,null,null,null,null,null,null,null,null,null,null,{"$f":"IF(OR('Set UP'!$C23=0,'Set UP'!$D23=0,'Set UP'!$E23=0),\"\",(FL$19*FL37)+(FM$19*FM37)+(FN$19*FN37)+(FO$19*FO37)+(FP$19*FP37)+(FQ$19*FQ37)+(FR$19*FR37)+(FS$19*FS37)+(FT$19*FT37)+(FU$19*FU37)+(FV$19*FV37)+(FW$19*FW37)+(FX$19*FX37)+(FY$19*FY37)+(FZ$19*FZ37)+(GA$19*GA37)+(GB$19*GB37)+(GC$19*GC37)+(GD$19*GD37)+(GE$19*GE37)+(GF$19*GF37)+(GG$19*GG37)+(GH$19*GH37)+(GI$19*GI37)+(GJ$19*GJ37))","v":0},null,null,null,null,null,null,null,null,null,null,null,null,null,null,null,null,null,null,null,null,null,null,null,null,null,null,{"$f":"IF(OR('Set UP'!$C23=0,'Set UP'!$D23=0,'Set UP'!$E23=0),\"\",(GM$19*GM37)+(GN$19*GN37)+(GO$19*GO37)+(GP$19*GP37)+(GQ$19*GQ37)+(GR$19*GR37)+(GS$19*GS37)+(GT$19*GT37)+(GU$19*GU37)+(GV$19*GV37)+(GW$19*GW37)+(GX$19*GX37)+(GY$19*GY37)+(GZ$19*GZ37)+(HA$19*HA37)+(HB$19*HB37)+(HC$19*HC37)+(HD$19*HD37)+(HE$19*HE37)+(HF$19*HF37)+(HG$19*HG37)+(HH$19*HH37)+(HI$19*HI37)+(HJ$19*HJ37)+(HK$19*HK37))","v":0},null,null,null,null,null,null,null,null,null,null,null,null,null,null,null,null,null,null,null,null,null,null,null,null,null,null,{"$f":"IF(OR('Set UP'!$C23=0,'Set UP'!$D23=0,'Set UP'!$E23=0),\"\",(HN$19*HN37)+(HO$19*HO37)+(HP$19*HP37)+(HQ$19*HQ37)+(HR$19*HR37)+(HS$19*HS37)+(HT$19*HT37)+(HU$19*HU37)+(HV$19*HV37)+(HW$19*HW37)+(HX$19*HX37)+(HY$19*HY37)+(HZ$19*HZ37)+(IA$19*IA37)+(IB$19*IB37)+(IC$19*IC37)+(ID$19*ID37)+(IE$19*IE37)+(IF$19*IF37)+(IG$19*IG37)+(IH$19*IH37)+(II$19*II37)+(IJ$19*IJ37)+(IK$19*IK37)+(IL$19*IL37))","v":0},null,null,null,null,null,null,null,null,null,null,null,null,null,null,null,null,null,null,null,null,null,null,null,null,null,null,{"$f":"IF(OR('Set UP'!$C23=0,'Set UP'!$D23=0,'Set UP'!$E23=0),\"\",(IO$19*IO37)+(IP$19*IP37)+(IQ$19*IQ37)+(IR$19*IR37)+(IS$19*IS37)+(IT$19*IT37)+(IU$19*IU37)+(IV$19*IV37)+(IW$19*IW37)+(IX$19*IX37)+(IY$19*IY37)+(IZ$19*IZ37)+(JA$19*JA37)+(JB$19*JB37)+(JC$19*JC37)+(JD$19*JD37)+(JE$19*JE37)+(JF$19*JF37)+(JG$19*JG37)+(JH$19*JH37)+(JI$19*JI37)+(JJ$19*JJ37)+(JK$19*JK37)+(JL$19*JL37)+(JM$19*JM37))","v":0},{"$f":"IF(OR('Set UP'!$C23=0,'Set UP'!$D23=0,'Set UP'!$E23=0),\"\",(AF37+BG37+CH37+DI37+EJ37+FK37+GL37+HM37+IN37+JO37))","v":173.5},{"$f":"IF(OR('Set UP'!$C23=0,'Set UP'!$D23=0,'Set UP'!$E23=0),\"\",RANK(JP37,$JP$21:$JP$60,0))","v":22},{"$f":"IF(OR('Set UP'!K23<>1,'Set UP'!C23=0,'Set UP'!D23=0,'Set UP'!E23=0,'Set UP'!F23=0),\"\",$JP37)","v":173.5},{"$f":"IF(OR('Set UP'!K23<>1,'Set UP'!C23=0,'Set UP'!D23=0,'Set UP'!E23=0,'Set UP'!F23=0),\"\",RANK(JR37,$JR$21:$JR$60,0))","v":8},{"$f":"IF(OR('Set UP'!K23<>2,'Set UP'!C23=0,'Set UP'!D23=0,'Set UP'!E23=0,'Set UP'!F23=0),\"\",$JP37)","v":""},{"$f":"IF(OR('Set UP'!K23<>2,'Set UP'!C23=0,'Set UP'!D23=0,'Set UP'!E23=0,'Set UP'!F23=0),\"\",RANK(JT37,$JT$21:$JT$60,0))","v":""},{"$f":"IF(OR('Set UP'!F23<>\"F\",'Set UP'!C23=0,'Set UP'!D23=0,'Set UP'!E23=0),\"\",$JP37)","v":""},{"$f":"IF(OR('Set UP'!F23<>\"F\",'Set UP'!C23=0,'Set UP'!D23=0,'Set UP'!E23=0),\"\",RANK(JV37,$JV$21:$JV$60,0))","v":""},{"$f":"IF(OR('Set UP'!F23<>\"NS\",'Set UP'!C23=0,'Set UP'!D23=0,'Set UP'!E23=0),\"\",$JP37)","v":""},{"$f":"IF(OR('Set UP'!F23<>\"NS\",'Set UP'!C23=0,'Set UP'!D23=0,'Set UP'!E23=0),\"\",RANK(JX37,$JX$21:$JX$60,0))","v":""},{"$f":"IF(OR('Set UP'!$C23=0,'Set UP'!$D23=0,'Set UP'!$E23=0,JP37=0),\"\",JP37/MAX(JP$21:JP$60)*1000)","v":588.13559322033905}]
[null,18,{"$f":"IF(OR('Set UP'!$C24=0,'Set UP'!$D24=0,'Set UP'!$E24=0,'Set UP'!F24=0),\"  --\",'Set UP'!C24)","v":1461},{"$f":"IF(OR('Set UP'!$C24=0,'Set UP'!$D24=0,'Set UP'!$E24=0,'Set UP'!F24=0),\"  --\",'Set UP'!D24&\" \"&'Set UP'!E24)","v":"Bristol University B"},{"$f":"IF(OR('Set UP'!$C24=0,'Set UP'!$D24=0,'Set UP'!$E24=0,'Set UP'!F24=0),\"  --\",'Set UP'!F24)","v":"S"},5,2,0,5,0,7,0,null,null,null,null,null,null,null,null,null,null,null,null,null,null,null,null,null,null,null,{"$f":"IF(OR('Set UP'!$C24=0,'Set UP'!$D24=0,'Set UP'!$E24=0),\"\",(F$19*F38)+(G$19*G38)+(H$19*H38)+(I$19*I38)+(J$19*J38)+(K$19*K38)+(L$19*L38)+(M$19*M38)+(N$19*N38)+(O$19*O38)+(P$19*P38)+(Q$19*Q38)+(R$19*R38)+(S$19*S38)+(T$19*T38)+(U$19*U38)+(V$19*V38)+(W$19*W38)+(X$19*X38)+(Y$19*Y38)+(Z$19*Z38)+(AA$19*AA38)+(AB$19*AB38)+(AC$19*AC38)+(AD$19*AD38))","v":23.5},7,4,4,6,5,3,8,6,null,null,null,null,null,null,null,null,null,null,null,null,null,null,null,null,null,null,{"$f":"IF(OR('Set UP'!$C24=0,'Set UP'!$D24=0,'Set UP'!$E24=0),\"\",(AG$19*AG38)+(AH$19*AH38)+(AI$19*AI38)+(AJ$19*AJ38)+(AK$19*AK38)+(AL$19*AL38)+(AM$19*AM38)+(AN$19*AN38)+(AO$19*AO38)+(AP$19*AP38)+(AQ$19*AQ38)+(AR$19*AR38)+(AS$19*AS38)+(AT$19*AT38)+(AU$19*AU38)+(AV$19*AV38)+(AW$19*AW38)+(AX$19*AX38)+(AY$19*AY38)+(AZ$19*AZ38)+(BA$19*BA38)+(BB$19*BB38)+(BC$19*BC38)+(BD$19*BD38)+(BE$19*BE38))","v":49},8,0,10,0,8,7,0,null,null,null,null,null,null,null,null,null,null,null,null,null,null,null,null,null,null,null,{"$f":"IF(OR('Set UP'!$C24=0,'Set UP'!$D24=0,'Set UP'!$E24=0),\"\",(BH$19*BH38)+(BI$19*BI38)+(BJ$19*BJ38)+(BK$19*BK38)+(BL$19*BL38)+(BM$19*BM38)+(BN$19*BN38)+(BO$19*BO38)+(BP$19*BP38)+(BQ$19*BQ38)+(BR$19*BR38)+(BS$19*BS38)+(BT$19*BT38)+(BU$19*BU38)+(BV$19*BV38)+(BW$19*BW38)+(BX$19*BX38)+(BY$19*BY38)+(BZ$19*BZ38)+(CA$19*CA38)+(CB$19*CB38)+(CC$19*CC38)+(CD$19*CD38)+(CE$19*CE38)+(CF$19*CF38))","v":36.5},9,9,9,10,8,2,2,null,null,null,null,null,null,null,null,null,null,null,null,null,null,null,null,null,null,null,{"$f":"IF(OR('Set UP'!$C24=0,'Set UP'!$D24=0,'Set UP'!$E24=0),\"\",(CI$19*CI38)+(CJ$19*CJ38)+(CK$19*CK38)+(CL$19*CL38)+(CM$19*CM38)+(CN$19*CN38)+(CO$19*CO38)+(CP$19*CP38)+(CQ$19*CQ38)+(CR$19*CR38)+(CS$19*CS38)+(CT$19*CT38)+(CU$19*CU38)+(CV$19*CV38)+(CW$19*CW38)+(CX$19*CX38)+(CY$19*CY38)+(CZ$19*CZ38)+(DA$19*DA38)+(DB$19*DB38)+(DC$19*DC38)+(DD$19*DD38)+(DE$19*DE38)+(DF$19*DF38)+(DG$19*DG38))","v":62.5},10,0,0,10,10,10,6,3,0,5,null,null,null,null,null,null,null,null,null,null,null,null,null,null,null,null,{"$f":"IF(OR('Set UP'!$C24=0,'Set UP'!$D24=0,'Set UP'!$E24=0),\"\",(DJ$19*DJ38)+(DK$19*DK38)+(DL$19*DL38)+(DM$19*DM38)+(DN$19*DN38)+(DO$19*DO38)+(DP$19*DP38)+(DQ$19*DQ38)+(DR$19*DR38)+(DS$19*DS38)+(DT$19*DT38)+(DU$19*DU38)+(DV$19*DV38)+(DW$19*DW38)+(DX$19*DX38)+(DY$19*DY38)+(DZ$19*DZ38)+(EA$19*EA38)+(EB$19*EB38)+(EC$19*EC38)+(ED$19*ED38)+(EE$19*EE38)+(EF$19*EF38)+(EG$19*EG38)+(EH$19*EH38))","v":46},6,6,5,6,null,null,null,null,null,null,null,null,null,null,null,null,null,null,null,null,null,null,null,null,null,null,{"$f":"IF(OR('Set UP'!$C24=0,'Set UP'!$D24=0,'Set UP'!$E24=0),\"\",(EK$19*EK38)+(EL$19*EL38)+(EM$19*EM38)+(EN$19*EN38)+(EO$19*EO38)+(EP$19*EP38)+(EQ$19*EQ38)+(ER$19*ER38)+(ES$19*ES38)+(ET$19*ET38)+(EU$19*EU38)+(EV$19*EV38)+(EW$19*EW38)+(EX$19*EX38)+(EY$19*EY38)+(EZ$19*EZ38)+(FA$19*FA38)+(FB$19*FB38)+(FC$19*FC38)+(FD$19*FD38)+(FE$19*FE38)+(FF$19*FF38)+(FG$19*FG38)+(FH$19*FH38)+(FI$19*FI38))","v":43.5},null,null,null,null,null,null,null,null,null,null,null,null,null,null,null,null,null,null,null,null,null,null,null,null,null,null,{"$f":"IF(OR('Set UP'!$C24=0,'Set UP'!$D24=0,'Set UP'!$E24=0),\"\",(FL$19*FL38)+(FM$19*FM38)+(FN$19*FN38)+(FO$19*FO38)+(FP$19*FP38)+(FQ$19*FQ38)+(FR$19*FR38)+(FS$19*FS38)+(FT$19*FT38)+(FU$19*FU38)+(FV$19*FV38)+(FW$19*FW38)+(FX$19*FX38)+(FY$19*FY38)+(FZ$19*FZ38)+(GA$19*GA38)+(GB$19*GB38)+(GC$19*GC38)+(GD$19*GD38)+(GE$19*GE38)+(GF$19*GF38)+(GG$19*GG38)+(GH$19*GH38)+(GI$19*GI38)+(GJ$19*GJ38))","v":0},null,null,null,null,null,null,null,null,null,null,null,null,null,null,null,null,null,null,null,null,null,null,null,null,null,null,{"$f":"IF(OR('Set UP'!$C24=0,'Set UP'!$D24=0,'Set UP'!$E24=0),\"\",(GM$19*GM38)+(GN$19*GN38)+(GO$19*GO38)+(GP$19*GP38)+(GQ$19*GQ38)+(GR$19*GR38)+(GS$19*GS38)+(GT$19*GT38)+(GU$19*GU38)+(GV$19*GV38)+(GW$19*GW38)+(GX$19*GX38)+(GY$19*GY38)+(GZ$19*GZ38)+(HA$19*HA38)+(HB$19*HB38)+(HC$19*HC38)+(HD$19*HD38)+(HE$19*HE38)+(HF$19*HF38)+(HG$19*HG38)+(HH$19*HH38)+(HI$19*HI38)+(HJ$19*HJ38)+(HK$19*HK38))","v":0},null,null,null,null,null,null,null,null,null,null,null,null,null,null,null,null,null,null,null,null,null,null,null,null,null,null,{"$f":"IF(OR('Set UP'!$C24=0,'Set UP'!$D24=0,'Set UP'!$E24=0),\"\",(HN$19*HN38)+(HO$19*HO38)+(HP$19*HP38)+(HQ$19*HQ38)+(HR$19*HR38)+(HS$19*HS38)+(HT$19*HT38)+(HU$19*HU38)+(HV$19*HV38)+(HW$19*HW38)+(HX$19*HX38)+(HY$19*HY38)+(HZ$19*HZ38)+(IA$19*IA38)+(IB$19*IB38)+(IC$19*IC38)+(ID$19*ID38)+(IE$19*IE38)+(IF$19*IF38)+(IG$19*IG38)+(IH$19*IH38)+(II$19*II38)+(IJ$19*IJ38)+(IK$19*IK38)+(IL$19*IL38))","v":0},null,null,null,null,null,null,null,null,null,null,null,null,null,null,null,null,null,null,null,null,null,null,null,null,null,null,{"$f":"IF(OR('Set UP'!$C24=0,'Set UP'!$D24=0,'Set UP'!$E24=0),\"\",(IO$19*IO38)+(IP$19*IP38)+(IQ$19*IQ38)+(IR$19*IR38)+(IS$19*IS38)+(IT$19*IT38)+(IU$19*IU38)+(IV$19*IV38)+(IW$19*IW38)+(IX$19*IX38)+(IY$19*IY38)+(IZ$19*IZ38)+(JA$19*JA38)+(JB$19*JB38)+(JC$19*JC38)+(JD$19*JD38)+(JE$19*JE38)+(JF$19*JF38)+(JG$19*JG38)+(JH$19*JH38)+(JI$19*JI38)+(JJ$19*JJ38)+(JK$19*JK38)+(JL$19*JL38)+(JM$19*JM38))","v":0},{"$f":"IF(OR('Set UP'!$C24=0,'Set UP'!$D24=0,'Set UP'!$E24=0),\"\",(AF38+BG38+CH38+DI38+EJ38+FK38+GL38+HM38+IN38+JO38))","v":261},{"$f":"IF(OR('Set UP'!$C24=0,'Set UP'!$D24=0,'Set UP'!$E24=0),\"\",RANK(JP38,$JP$21:$JP$60,0))","v":6},{"$f":"IF(OR('Set UP'!K24<>1,'Set UP'!C24=0,'Set UP'!D24=0,'Set UP'!E24=0,'Set UP'!F24=0),\"\",$JP38)","v":""},{"$f":"IF(OR('Set UP'!K24<>1,'Set UP'!C24=0,'Set UP'!D24=0,'Set UP'!E24=0,'Set UP'!F24=0),\"\",RANK(JR38,$JR$21:$JR$60,0))","v":""},{"$f":"IF(OR('Set UP'!K24<>2,'Set UP'!C24=0,'Set UP'!D24=0,'Set UP'!E24=0,'Set UP'!F24=0),\"\",$JP38)","v":261},{"$f":"IF(OR('Set UP'!K24<>2,'Set UP'!C24=0,'Set UP'!D24=0,'Set UP'!E24=0,'Set UP'!F24=0),\"\",RANK(JT38,$JT$21:$JT$60,0))","v":3},{"$f":"IF(OR('Set UP'!F24<>\"F\",'Set UP'!C24=0,'Set UP'!D24=0,'Set UP'!E24=0),\"\",$JP38)","v":""},{"$f":"IF(OR('Set UP'!F24<>\"F\",'Set UP'!C24=0,'Set UP'!D24=0,'Set UP'!E24=0),\"\",RANK(JV38,$JV$21:$JV$60,0))","v":""},{"$f":"IF(OR('Set UP'!F24<>\"NS\",'Set UP'!C24=0,'Set UP'!D24=0,'Set UP'!E24=0),\"\",$JP38)","v":""},{"$f":"IF(OR('Set UP'!F24<>\"NS\",'Set UP'!C24=0,'Set UP'!D24=0,'Set UP'!E24=0),\"\",RANK(JX38,$JX$21:$JX$60,0))","v":""},{"$f":"IF(OR('Set UP'!$C24=0,'Set UP'!$D24=0,'Set UP'!$E24=0,JP38=0),\"\",JP38/MAX(JP$21:JP$60)*1000)","v":884.74576271186447}]
[null,19,{"$f":"IF(OR('Set UP'!$C25=0,'Set UP'!$D25=0,'Set UP'!$E25=0,'Set UP'!F25=0),\"  --\",'Set UP'!C25)","v":1436},{"$f":"IF(OR('Set UP'!$C25=0,'Set UP'!$D25=0,'Set UP'!$E25=0,'Set UP'!F25=0),\"  --\",'Set UP'!D25&\" \"&'Set UP'!E25)","v":"Loughborough University C"},{"$f":"IF(OR('Set UP'!$C25=0,'Set UP'!$D25=0,'Set UP'!$E25=0,'Set UP'!F25=0),\"  --\",'Set UP'!F25)","v":"S"},5,6,4,5,0,0,0,null,null,null,null,null,null,null,null,null,null,null,null,null,null,null,null,null,null,null,{"$f":"IF(OR('Set UP'!$C25=0,'Set UP'!$D25=0,'Set UP'!$E25=0),\"\",(F$19*F39)+(G$19*G39)+(H$19*H39)+(I$19*I39)+(J$19*J39)+(K$19*K39)+(L$19*L39)+(M$19*M39)+(N$19*N39)+(O$19*O39)+(P$19*P39)+(Q$19*Q39)+(R$19*R39)+(S$19*S39)+(T$19*T39)+(U$19*U39)+(V$19*V39)+(W$19*W39)+(X$19*X39)+(Y$19*Y39)+(Z$19*Z39)+(AA$19*AA39)+(AB$19*AB39)+(AC$19*AC39)+(AD$19*AD39))","v":25},4,0,5,9,6,8,2,8,null,null,null,null,null,null,null,null,null,null,null,null,null,null,null,null,null,null,{"$f":"IF(OR('Set UP'!$C25=0,'Set UP'!$D25=0,'Set UP'!$E25=0),\"\",(AG$19*AG39)+(AH$19*AH39)+(AI$19*AI39)+(AJ$19*AJ39)+(AK$19*AK39)+(AL$19*AL39)+(AM$19*AM39)+(AN$19*AN39)+(AO$19*AO39)+(AP$19*AP39)+(AQ$19*AQ39)+(AR$19*AR39)+(AS$19*AS39)+(AT$19*AT39)+(AU$19*AU39)+(AV$19*AV39)+(AW$19*AW39)+(AX$19*AX39)+(AY$19*AY39)+(AZ$19*AZ39)+(BA$19*BA39)+(BB$19*BB39)+(BC$19*BC39)+(BD$19*BD39)+(BE$19*BE39))","v":50},8,3,10,0,9,6,0,null,null,null,null,null,null,null,null,null,null,null,null,null,null,null,null,null,null,null,{"$f":"IF(OR('Set UP'!$C25=0,'Set UP'!$D25=0,'Set UP'!$E25=0),\"\",(BH$19*BH39)+(BI$19*BI39)+(BJ$19*BJ39)+(BK$19*BK39)+(BL$19*BL39)+(BM$19*BM39)+(BN$19*BN39)+(BO$19*BO39)+(BP$19*BP39)+(BQ$19*BQ39)+(BR$19*BR39)+(BS$19*BS39)+(BT$19*BT39)+(BU$19*BU39)+(BV$19*BV39)+(BW$19*BW39)+(BX$19*BX39)+(BY$19*BY39)+(BZ$19*BZ39)+(CA$19*CA39)+(CB$19*CB39)+(CC$19*CC39)+(CD$19*CD39)+(CE$19*CE39)+(CF$19*CF39))","v":40.5},9,9,9,10,8,3,5,null,null,null,null,null,null,null,null,null,null,null,null,null,null,null,null,null,null,null,{"$f":"IF(OR('Set UP'!$C25=0,'Set UP'!$D25=0,'Set UP'!$E25=0),\"\",(CI$19*CI39)+(CJ$19*CJ39)+(CK$19*CK39)+(CL$19*CL39)+(CM$19*CM39)+(CN$19*CN39)+(CO$19*CO39)+(CP$19*CP39)+(CQ$19*CQ39)+(CR$19*CR39)+(CS$19*CS39)+(CT$19*CT39)+(CU$19*CU39)+(CV$19*CV39)+(CW$19*CW39)+(CX$19*CX39)+(CY$19*CY39)+(CZ$19*CZ39)+(DA$19*DA39)+(DB$19*DB39)+(DC$19*DC39)+(DD$19*DD39)+(DE$19*DE39)+(DF$19*DF39)+(DG$19*DG39))","v":66.5},10,10,0,10,10,10,6,0,0,0,null,null,null,null,null,null,null,null,null,null,null,null,null,null,null,null,{"$f":"IF(OR('Set UP'!$C25=0,'Set UP'!$D25=0,'Set UP'!$E25=0),\"\",(DJ$19*DJ39)+(DK$19*DK39)+(DL$19*DL39)+(DM$19*DM39)+(DN$19*DN39)+(DO$19*DO39)+(DP$19*DP39)+(DQ$19*DQ39)+(DR$19*DR39)+(DS$19*DS39)+(DT$19*DT39)+(DU$19*DU39)+(DV$19*DV39)+(DW$19*DW39)+(DX$19*DX39)+(DY$19*DY39)+(DZ$19*DZ39)+(EA$19*EA39)+(EB$19*EB39)+(EC$19*EC39)+(ED$19*ED39)+(EE$19*EE39)+(EF$19*EF39)+(EG$19*EG39)+(EH$19*EH39))","v":48},6,5,4,6,null,null,null,null,null,null,null,null,null,null,null,null,null,null,null,null,null,null,null,null,null,null,{"$f":"IF(OR('Set UP'!$C25=0,'Set UP'!$D25=0,'Set UP'!$E25=0),\"\",(EK$19*EK39)+(EL$19*EL39)+(EM$19*EM39)+(EN$19*EN39)+(EO$19*EO39)+(EP$19*EP39)+(EQ$19*EQ39)+(ER$19*ER39)+(ES$19*ES39)+(ET$19*ET39)+(EU$19*EU39)+(EV$19*EV39)+(EW$19*EW39)+(EX$19*EX39)+(EY$19*EY39)+(EZ$19*EZ39)+(FA$19*FA39)+(FB$19*FB39)+(FC$19*FC39)+(FD$19*FD39)+(FE$19*FE39)+(FF$19*FF39)+(FG$19*FG39)+(FH$19*FH39)+(FI$19*FI39))","v":40.5},null,null,null,null,null,null,null,null,null,null,null,null,null,null,null,null,null,null,null,null,null,null,null,null,null,null,{"$f":"IF(OR('Set UP'!$C25=0,'Set UP'!$D25=0,'Set UP'!$E25=0),\"\",(FL$19*FL39)+(FM$19*FM39)+(FN$19*FN39)+(FO$19*FO39)+(FP$19*FP39)+(FQ$19*FQ39)+(FR$19*FR39)+(FS$19*FS39)+(FT$19*FT39)+(FU$19*FU39)+(FV$19*FV39)+(FW$19*FW39)+(FX$19*FX39)+(FY$19*FY39)+(FZ$19*FZ39)+(GA$19*GA39)+(GB$19*GB39)+(GC$19*GC39)+(GD$19*GD39)+(GE$19*GE39)+(GF$19*GF39)+(GG$19*GG39)+(GH$19*GH39)+(GI$19*GI39)+(GJ$19*GJ39))","v":0},null,null,null,null,null,null,null,null,null,null,null,null,null,null,null,null,null,null,null,null,null,null,null,null,null,null,{"$f":"IF(OR('Set UP'!$C25=0,'Set UP'!$D25=0,'Set UP'!$E25=0),\"\",(GM$19*GM39)+(GN$19*GN39)+(GO$19*GO39)+(GP$19*GP39)+(GQ$19*GQ39)+(GR$19*GR39)+(GS$19*GS39)+(GT$19*GT39)+(GU$19*GU39)+(GV$19*GV39)+(GW$19*GW39)+(GX$19*GX39)+(GY$19*GY39)+(GZ$19*GZ39)+(HA$19*HA39)+(HB$19*HB39)+(HC$19*HC39)+(HD$19*HD39)+(HE$19*HE39)+(HF$19*HF39)+(HG$19*HG39)+(HH$19*HH39)+(HI$19*HI39)+(HJ$19*HJ39)+(HK$19*HK39))","v":0},null,null,null,null,null,null,null,null,null,null,null,null,null,null,null,null,null,null,null,null,null,null,null,null,null,null,{"$f":"IF(OR('Set UP'!$C25=0,'Set UP'!$D25=0,'Set UP'!$E25=0),\"\",(HN$19*HN39)+(HO$19*HO39)+(HP$19*HP39)+(HQ$19*HQ39)+(HR$19*HR39)+(HS$19*HS39)+(HT$19*HT39)+(HU$19*HU39)+(HV$19*HV39)+(HW$19*HW39)+(HX$19*HX39)+(HY$19*HY39)+(HZ$19*HZ39)+(IA$19*IA39)+(IB$19*IB39)+(IC$19*IC39)+(ID$19*ID39)+(IE$19*IE39)+(IF$19*IF39)+(IG$19*IG39)+(IH$19*IH39)+(II$19*II39)+(IJ$19*IJ39)+(IK$19*IK39)+(IL$19*IL39))","v":0},null,null,null,null,null,null,null,null,null,null,null,null,null,null,null,null,null,null,null,null,null,null,null,null,null,null,{"$f":"IF(OR('Set UP'!$C25=0,'Set UP'!$D25=0,'Set UP'!$E25=0),\"\",(IO$19*IO39)+(IP$19*IP39)+(IQ$19*IQ39)+(IR$19*IR39)+(IS$19*IS39)+(IT$19*IT39)+(IU$19*IU39)+(IV$19*IV39)+(IW$19*IW39)+(IX$19*IX39)+(IY$19*IY39)+(IZ$19*IZ39)+(JA$19*JA39)+(JB$19*JB39)+(JC$19*JC39)+(JD$19*JD39)+(JE$19*JE39)+(JF$19*JF39)+(JG$19*JG39)+(JH$19*JH39)+(JI$19*JI39)+(JJ$19*JJ39)+(JK$19*JK39)+(JL$19*JL39)+(JM$19*JM39))","v":0},{"$f":"IF(OR('Set UP'!$C25=0,'Set UP'!$D25=0,'Set UP'!$E25=0),\"\",(AF39+BG39+CH39+DI39+EJ39+FK39+GL39+HM39+IN39+JO39))","v":270.5},{"$f":"IF(OR('Set UP'!$C25=0,'Set UP'!$D25=0,'Set UP'!$E25=0),\"\",RANK(JP39,$JP$21:$JP$60,0))","v":3},{"$f":"IF(OR('Set UP'!K25<>1,'Set UP'!C25=0,'Set UP'!D25=0,'Set UP'!E25=0,'Set UP'!F25=0),\"\",$JP39)","v":""},{"$f":"IF(OR('Set UP'!K25<>1,'Set UP'!C25=0,'Set UP'!D25=0,'Set UP'!E25=0,'Set UP'!F25=0),\"\",RANK(JR39,$JR$21:$JR$60,0))","v":""},{"$f":"IF(OR('Set UP'!K25<>2,'Set UP'!C25=0,'Set UP'!D25=0,'Set UP'!E25=0,'Set UP'!F25=0),\"\",$JP39)","v":270.5},{"$f":"IF(OR('Set UP'!K25<>2,'Set UP'!C25=0,'Set UP'!D25=0,'Set UP'!E25=0,'Set UP'!F25=0),\"\",RANK(JT39,$JT$21:$JT$60,0))","v":1},{"$f":"IF(OR('Set UP'!F25<>\"F\",'Set UP'!C25=0,'Set UP'!D25=0,'Set UP'!E25=0),\"\",$JP39)","v":""},{"$f":"IF(OR('Set UP'!F25<>\"F\",'Set UP'!C25=0,'Set UP'!D25=0,'Set UP'!E25=0),\"\",RANK(JV39,$JV$21:$JV$60,0))","v":""},{"$f":"IF(OR('Set UP'!F25<>\"NS\",'Set UP'!C25=0,'Set UP'!D25=0,'Set UP'!E25=0),\"\",$JP39)","v":""},{"$f":"IF(OR('Set UP'!F25<>\"NS\",'Set UP'!C25=0,'Set UP'!D25=0,'Set UP'!E25=0),\"\",RANK(JX39,$JX$21:$JX$60,0))","v":""},{"$f":"IF(OR('Set UP'!$C25=0,'Set UP'!$D25=0,'Set UP'!$E25=0,JP39=0),\"\",JP39/MAX(JP$21:JP$60)*1000)","v":916.94915254237287}]
[null,20,{"$f":"IF(OR('Set UP'!$C26=0,'Set UP'!$D26=0,'Set UP'!$E26=0,'Set UP'!F26=0),\"  --\",'Set UP'!C26)","v":1443},{"$f":"IF(OR('Set UP'!$C26=0,'Set UP'!$D26=0,'Set UP'!$E26=0,'Set UP'!F26=0),\"  --\",'Set UP'!D26&\" \"&'Set UP'!E26)","v":"University of Birmingham B"},{"$f":"IF(OR('Set UP'!$C26=0,'Set UP'!$D26=0,'Set UP'!$E26=0,'Set UP'!F26=0),\"  --\",'Set UP'!F26)","v":"S"},5,3,0,5,0,5,2,null,null,null,null,null,null,null,null,null,null,null,null,null,null,null,null,null,null,null,{"$f":"IF(OR('Set UP'!$C26=0,'Set UP'!$D26=0,'Set UP'!$E26=0),\"\",(F$19*F40)+(G$19*G40)+(H$19*H40)+(I$19*I40)+(J$19*J40)+(K$19*K40)+(L$19*L40)+(M$19*M40)+(N$19*N40)+(O$19*O40)+(P$19*P40)+(Q$19*Q40)+(R$19*R40)+(S$19*S40)+(T$19*T40)+(U$19*U40)+(V$19*V40)+(W$19*W40)+(X$19*X40)+(Y$19*Y40)+(Z$19*Z40)+(AA$19*AA40)+(AB$19*AB40)+(AC$19*AC40)+(AD$19*AD40))","v":24},2,4,3,6,2,5,8,6,null,null,null,null,null,null,null,null,null,null,null,null,null,null,null,null,null,null,{"$f":"IF(OR('Set UP'!$C26=0,'Set UP'!$D26=0,'Set UP'!$E26=0),\"\",(AG$19*AG40)+(AH$19*AH40)+(AI$19*AI40)+(AJ$19*AJ40)+(AK$19*AK40)+(AL$19*AL40)+(AM$19*AM40)+(AN$19*AN40)+(AO$19*AO40)+(AP$19*AP40)+(AQ$19*AQ40)+(AR$19*AR40)+(AS$19*AS40)+(AT$19*AT40)+(AU$19*AU40)+(AV$19*AV40)+(AW$19*AW40)+(AX$19*AX40)+(AY$19*AY40)+(AZ$19*AZ40)+(BA$19*BA40)+(BB$19*BB40)+(BC$19*BC40)+(BD$19*BD40)+(BE$19*BE40))","v":39.5},8,8,10,0,9,7,0,null,null,null,null,null,null,null,null,null,null,null,null,null,null,null,null,null,null,null,{"$f":"IF(OR('Set UP'!$C26=0,'Set UP'!$D26=0,'Set UP'!$E26=0),\"\",(BH$19*BH40)+(BI$19*BI40)+(BJ$19*BJ40)+(BK$19*BK40)+(BL$19*BL40)+(BM$19*BM40)+(BN$19*BN40)+(BO$19*BO40)+(BP$19*BP40)+(BQ$19*BQ40)+(BR$19*BR40)+(BS$19*BS40)+(BT$19*BT40)+(BU$19*BU40)+(BV$19*BV40)+(BW$19*BW40)+(BX$19*BX40)+(BY$19*BY40)+(BZ$19*BZ40)+(CA$19*CA40)+(CB$19*CB40)+(CC$19*CC40)+(CD$19*CD40)+(CE$19*CE40)+(CF$19*CF40))","v":49.5},9,8,7,8,8,2,4,null,null,null,null,null,null,null,null,null,null,null,null,null,null,null,null,null,null,null,{"$f":"IF(OR('Set UP'!$C26=0,'Set UP'!$D26=0,'Set UP'!$E26=0),\"\",(CI$19*CI40)+(CJ$19*CJ40)+(CK$19*CK40)+(CL$19*CL40)+(CM$19*CM40)+(CN$19*CN40)+(CO$19*CO40)+(CP$19*CP40)+(CQ$19*CQ40)+(CR$19*CR40)+(CS$19*CS40)+(CT$19*CT40)+(CU$19*CU40)+(CV$19*CV40)+(CW$19*CW40)+(CX$19*CX40)+(CY$19*CY40)+(CZ$19*CZ40)+(DA$19*DA40)+(DB$19*DB40)+(DC$19*DC40)+(DD$19*DD40)+(DE$19*DE40)+(DF$19*DF40)+(DG$19*DG40))","v":58.5},10,0,0,10,10,10,4,6,0,10,null,null,null,null,null,null,null,null,null,null,null,null,null,null,null,null,{"$f":"IF(OR('Set UP'!$C26=0,'Set UP'!$D26=0,'Set UP'!$E26=0),\"\",(DJ$19*DJ40)+(DK$19*DK40)+(DL$19*DL40)+(DM$19*DM40)+(DN$19*DN40)+(DO$19*DO40)+(DP$19*DP40)+(DQ$19*DQ40)+(DR$19*DR40)+(DS$19*DS40)+(DT$19*DT40)+(DU$19*DU40)+(DV$19*DV40)+(DW$19*DW40)+(DX$19*DX40)+(DY$19*DY40)+(DZ$19*DZ40)+(EA$19*EA40)+(EB$19*EB40)+(EC$19*EC40)+(ED$19*ED40)+(EE$19*EE40)+(EF$19*EF40)+(EG$19*EG40)+(EH$19*EH40))","v":48},6,7,6,6,null,null,null,null,null,null,null,null,null,null,null,null,null,null,null,null,null,null,null,null,null,null,{"$f":"IF(OR('Set UP'!$C26=0,'Set UP'!$D26=0,'Set UP'!$E26=0),\"\",(EK$19*EK40)+(EL$19*EL40)+(EM$19*EM40)+(EN$19*EN40)+(EO$19*EO40)+(EP$19*EP40)+(EQ$19*EQ40)+(ER$19*ER40)+(ES$19*ES40)+(ET$19*ET40)+(EU$19*EU40)+(EV$19*EV40)+(EW$19*EW40)+(EX$19*EX40)+(EY$19*EY40)+(EZ$19*EZ40)+(FA$19*FA40)+(FB$19*FB40)+(FC$19*FC40)+(FD$19*FD40)+(FE$19*FE40)+(FF$19*FF40)+(FG$19*FG40)+(FH$19*FH40)+(FI$19*FI40))","v":46.5},null,null,null,null,null,null,null,null,null,null,null,null,null,null,null,null,null,null,null,null,null,null,null,null,null,null,{"$f":"IF(OR('Set UP'!$C26=0,'Set UP'!$D26=0,'Set UP'!$E26=0),\"\",(FL$19*FL40)+(FM$19*FM40)+(FN$19*FN40)+(FO$19*FO40)+(FP$19*FP40)+(FQ$19*FQ40)+(FR$19*FR40)+(FS$19*FS40)+(FT$19*FT40)+(FU$19*FU40)+(FV$19*FV40)+(FW$19*FW40)+(FX$19*FX40)+(FY$19*FY40)+(FZ$19*FZ40)+(GA$19*GA40)+(GB$19*GB40)+(GC$19*GC40)+(GD$19*GD40)+(GE$19*GE40)+(GF$19*GF40)+(GG$19*GG40)+(GH$19*GH40)+(GI$19*GI40)+(GJ$19*GJ40))","v":0},null,null,null,null,null,null,null,null,null,null,null,null,null,null,null,null,null,null,null,null,null,null,null,null,null,null,{"$f":"IF(OR('Set UP'!$C26=0,'Set UP'!$D26=0,'Set UP'!$E26=0),\"\",(GM$19*GM40)+(GN$19*GN40)+(GO$19*GO40)+(GP$19*GP40)+(GQ$19*GQ40)+(GR$19*GR40)+(GS$19*GS40)+(GT$19*GT40)+(GU$19*GU40)+(GV$19*GV40)+(GW$19*GW40)+(GX$19*GX40)+(GY$19*GY40)+(GZ$19*GZ40)+(HA$19*HA40)+(HB$19*HB40)+(HC$19*HC40)+(HD$19*HD40)+(HE$19*HE40)+(HF$19*HF40)+(HG$19*HG40)+(HH$19*HH40)+(HI$19*HI40)+(HJ$19*HJ40)+(HK$19*HK40))","v":0},null,null,null,null,null,null,null,null,null,null,null,null,null,null,null,null,null,null,null,null,null,null,null,null,null,null,{"$f":"IF(OR('Set UP'!$C26=0,'Set UP'!$D26=0,'Set UP'!$E26=0),\"\",(HN$19*HN40)+(HO$19*HO40)+(HP$19*HP40)+(HQ$19*HQ40)+(HR$19*HR40)+(HS$19*HS40)+(HT$19*HT40)+(HU$19*HU40)+(HV$19*HV40)+(HW$19*HW40)+(HX$19*HX40)+(HY$19*HY40)+(HZ$19*HZ40)+(IA$19*IA40)+(IB$19*IB40)+(IC$19*IC40)+(ID$19*ID40)+(IE$19*IE40)+(IF$19*IF40)+(IG$19*IG40)+(IH$19*IH40)+(II$19*II40)+(IJ$19*IJ40)+(IK$19*IK40)+(IL$19*IL40))","v":0},null,null,null,null,null,null,null,null,null,null,null,null,null,null,null,null,null,null,null,null,null,null,null,null,null,null,{"$f":"IF(OR('Set UP'!$C26=0,'Set UP'!$D26=0,'Set UP'!$E26=0),\"\",(IO$19*IO40)+(IP$19*IP40)+(IQ$19*IQ40)+(IR$19*IR40)+(IS$19*IS40)+(IT$19*IT40)+(IU$19*IU40)+(IV$19*IV40)+(IW$19*IW40)+(IX$19*IX40)+(IY$19*IY40)+(IZ$19*IZ40)+(JA$19*JA40)+(JB$19*JB40)+(JC$19*JC40)+(JD$19*JD40)+(JE$19*JE40)+(JF$19*JF40)+(JG$19*JG40)+(JH$19*JH40)+(JI$19*JI40)+(JJ$19*JJ40)+(JK$19*JK40)+(JL$19*JL40)+(JM$19*JM40))","v":0},{"$f":"IF(OR('Set UP'!$C26=0,'Set UP'!$D26=0,'Set UP'!$E26=0),\"\",(AF40+BG40+CH40+DI40+EJ40+FK40+GL40+HM40+IN40+JO40))","v":266},{"$f":"IF(OR('Set UP'!$C26=0,'Set UP'!$D26=0,'Set UP'!$E26=0),\"\",RANK(JP40,$JP$21:$JP$60,0))","v":5},{"$f":"IF(OR('Set UP'!K26<>1,'Set UP'!C26=0,'Set UP'!D26=0,'Set UP'!E26=0,'Set UP'!F26=0),\"\",$JP40)","v":""},{"$f":"IF(OR('Set UP'!K26<>1,'Set UP'!C26=0,'Set UP'!D26=0,'Set UP'!E26=0,'Set UP'!F26=0),\"\",RANK(JR40,$JR$21:$JR$60,0))","v":""},{"$f":"IF(OR('Set UP'!K26<>2,'Set UP'!C26=0,'Set UP'!D26=0,'Set UP'!E26=0,'Set UP'!F26=0),\"\",$JP40)","v":266},{"$f":"IF(OR('Set UP'!K26<>2,'Set UP'!C26=0,'Set UP'!D26=0,'Set UP'!E26=0,'Set UP'!F26=0),\"\",RANK(JT40,$JT$21:$JT$60,0))","v":2},{"$f":"IF(OR('Set UP'!F26<>\"F\",'Set UP'!C26=0,'Set UP'!D26=0,'Set UP'!E26=0),\"\",$JP40)","v":""},{"$f":"IF(OR('Set UP'!F26<>\"F\",'Set UP'!C26=0,'Set UP'!D26=0,'Set UP'!E26=0),\"\",RANK(JV40,$JV$21:$JV$60,0))","v":""},{"$f":"IF(OR('Set UP'!F26<>\"NS\",'Set UP'!C26=0,'Set UP'!D26=0,'Set UP'!E26=0),\"\",$JP40)","v":""},{"$f":"IF(OR('Set UP'!F26<>\"NS\",'Set UP'!C26=0,'Set UP'!D26=0,'Set UP'!E26=0),\"\",RANK(JX40,$JX$21:$JX$60,0))","v":""},{"$f":"IF(OR('Set UP'!$C26=0,'Set UP'!$D26=0,'Set UP'!$E26=0,JP40=0),\"\",JP40/MAX(JP$21:JP$60)*1000)","v":901.69491525423723}]
[null,21,{"$f":"IF(OR('Set UP'!$C27=0,'Set UP'!$D27=0,'Set UP'!$E27=0,'Set UP'!F27=0),\"  --\",'Set UP'!C27)","v":1434},{"$f":"IF(OR('Set UP'!$C27=0,'Set UP'!$D27=0,'Set UP'!$E27=0,'Set UP'!F27=0),\"  --\",'Set UP'!D27&\" \"&'Set UP'!E27)","v":"Loughborough University A"},{"$f":"IF(OR('Set UP'!$C27=0,'Set UP'!$D27=0,'Set UP'!$E27=0,'Set UP'!F27=0),\"  --\",'Set UP'!F27)","v":"S"},5,5,2,4,0,7,0,null,null,null,null,null,null,null,null,null,null,null,null,null,null,null,null,null,null,null,{"$f":"IF(OR('Set UP'!$C27=0,'Set UP'!$D27=0,'Set UP'!$E27=0),\"\",(F$19*F41)+(G$19*G41)+(H$19*H41)+(I$19*I41)+(J$19*J41)+(K$19*K41)+(L$19*L41)+(M$19*M41)+(N$19*N41)+(O$19*O41)+(P$19*P41)+(Q$19*Q41)+(R$19*R41)+(S$19*S41)+(T$19*T41)+(U$19*U41)+(V$19*V41)+(W$19*W41)+(X$19*X41)+(Y$19*Y41)+(Z$19*Z41)+(AA$19*AA41)+(AB$19*AB41)+(AC$19*AC41)+(AD$19*AD41))","v":30},2,7,6,6,5,5,8,7,null,null,null,null,null,null,null,null,null,null,null,null,null,null,null,null,null,null,{"$f":"IF(OR('Set UP'!$C27=0,'Set UP'!$D27=0,'Set UP'!$E27=0),\"\",(AG$19*AG41)+(AH$19*AH41)+(AI$19*AI41)+(AJ$19*AJ41)+(AK$19*AK41)+(AL$19*AL41)+(AM$19*AM41)+(AN$19*AN41)+(AO$19*AO41)+(AP$19*AP41)+(AQ$19*AQ41)+(AR$19*AR41)+(AS$19*AS41)+(AT$19*AT41)+(AU$19*AU41)+(AV$19*AV41)+(AW$19*AW41)+(AX$19*AX41)+(AY$19*AY41)+(AZ$19*AZ41)+(BA$19*BA41)+(BB$19*BB41)+(BC$19*BC41)+(BD$19*BD41)+(BE$19*BE41))","v":51},8,4,10,0,8,2,2,null,null,null,null,null,null,null,null,null,null,null,null,null,null,null,null,null,null,null,{"$f":"IF(OR('Set UP'!$C27=0,'Set UP'!$D27=0,'Set UP'!$E27=0),\"\",(BH$19*BH41)+(BI$19*BI41)+(BJ$19*BJ41)+(BK$19*BK41)+(BL$19*BL41)+(BM$19*BM41)+(BN$19*BN41)+(BO$19*BO41)+(BP$19*BP41)+(BQ$19*BQ41)+(BR$19*BR41)+(BS$19*BS41)+(BT$19*BT41)+(BU$19*BU41)+(BV$19*BV41)+(BW$19*BW41)+(BX$19*BX41)+(BY$19*BY41)+(BZ$19*BZ41)+(CA$19*CA41)+(CB$19*CB41)+(CC$19*CC41)+(CD$19*CD41)+(CE$19*CE41)+(CF$19*CF41))","v":37},3,8,3,0,5,1,5,null,null,null,null,null,null,null,null,null,null,null,null,null,null,null,null,null,null,null,{"$f":"IF(OR('Set UP'!$C27=0,'Set UP'!$D27=0,'Set UP'!$E27=0),\"\",(CI$19*CI41)+(CJ$19*CJ41)+(CK$19*CK41)+(CL$19*CL41)+(CM$19*CM41)+(CN$19*CN41)+(CO$19*CO41)+(CP$19*CP41)+(CQ$19*CQ41)+(CR$19*CR41)+(CS$19*CS41)+(CT$19*CT41)+(CU$19*CU41)+(CV$19*CV41)+(CW$19*CW41)+(CX$19*CX41)+(CY$19*CY41)+(CZ$19*CZ41)+(DA$19*DA41)+(DB$19*DB41)+(DC$19*DC41)+(DD$19*DD41)+(DE$19*DE41)+(DF$19*DF41)+(DG$19*DG41))","v":34.5},10,10,10,10,10,8,4,3,10,0,null,null,null,null,null,null,null,null,null,null,null,null,null,null,null,null,{"$f":"IF(OR('Set UP'!$C27=0,'Set UP'!$D27=0,'Set UP'!$E27=0),\"\",(DJ$19*DJ41)+(DK$19*DK41)+(DL$19*DL41)+(DM$19*DM41)+(DN$19*DN41)+(DO$19*DO41)+(DP$19*DP41)+(DQ$19*DQ41)+(DR$19*DR41)+(DS$19*DS41)+(DT$19*DT41)+(DU$19*DU41)+(DV$19*DV41)+(DW$19*DW41)+(DX$19*DX41)+(DY$19*DY41)+(DZ$19*DZ41)+(EA$19*EA41)+(EB$19*EB41)+(EC$19*EC41)+(ED$19*ED41)+(EE$19*EE41)+(EF$19*EF41)+(EG$19*EG41)+(EH$19*EH41))","v":61.5},5,5,3,6,null,null,null,null,null,null,null,null,null,null,null,null,null,null,null,null,null,null,null,null,null,null,{"$f":"IF(OR('Set UP'!$C27=0,'Set UP'!$D27=0,'Set UP'!$E27=0),\"\",(EK$19*EK41)+(EL$19*EL41)+(EM$19*EM41)+(EN$19*EN41)+(EO$19*EO41)+(EP$19*EP41)+(EQ$19*EQ41)+(ER$19*ER41)+(ES$19*ES41)+(ET$19*ET41)+(EU$19*EU41)+(EV$19*EV41)+(EW$19*EW41)+(EX$19*EX41)+(EY$19*EY41)+(EZ$19*EZ41)+(FA$19*FA41)+(FB$19*FB41)+(FC$19*FC41)+(FD$19*FD41)+(FE$19*FE41)+(FF$19*FF41)+(FG$19*FG41)+(FH$19*FH41)+(FI$19*FI41))","v":36},null,null,null,null,null,null,null,null,null,null,null,null,null,null,null,null,null,null,null,null,null,null,null,null,null,null,{"$f":"IF(OR('Set UP'!$C27=0,'Set UP'!$D27=0,'Set UP'!$E27=0),\"\",(FL$19*FL41)+(FM$19*FM41)+(FN$19*FN41)+(FO$19*FO41)+(FP$19*FP41)+(FQ$19*FQ41)+(FR$19*FR41)+(FS$19*FS41)+(FT$19*FT41)+(FU$19*FU41)+(FV$19*FV41)+(FW$19*FW41)+(FX$19*FX41)+(FY$19*FY41)+(FZ$19*FZ41)+(GA$19*GA41)+(GB$19*GB41)+(GC$19*GC41)+(GD$19*GD41)+(GE$19*GE41)+(GF$19*GF41)+(GG$19*GG41)+(GH$19*GH41)+(GI$19*GI41)+(GJ$19*GJ41))","v":0},null,null,null,null,null,null,null,null,null,null,null,null,null,null,null,null,null,null,null,null,null,null,null,null,null,null,{"$f":"IF(OR('Set UP'!$C27=0,'Set UP'!$D27=0,'Set UP'!$E27=0),\"\",(GM$19*GM41)+(GN$19*GN41)+(GO$19*GO41)+(GP$19*GP41)+(GQ$19*GQ41)+(GR$19*GR41)+(GS$19*GS41)+(GT$19*GT41)+(GU$19*GU41)+(GV$19*GV41)+(GW$19*GW41)+(GX$19*GX41)+(GY$19*GY41)+(GZ$19*GZ41)+(HA$19*HA41)+(HB$19*HB41)+(HC$19*HC41)+(HD$19*HD41)+(HE$19*HE41)+(HF$19*HF41)+(HG$19*HG41)+(HH$19*HH41)+(HI$19*HI41)+(HJ$19*HJ41)+(HK$19*HK41))","v":0},null,null,null,null,null,null,null,null,null,null,null,null,null,null,null,null,null,null,null,null,null,null,null,null,null,null,{"$f":"IF(OR('Set UP'!$C27=0,'Set UP'!$D27=0,'Set UP'!$E27=0),\"\",(HN$19*HN41)+(HO$19*HO41)+(HP$19*HP41)+(HQ$19*HQ41)+(HR$19*HR41)+(HS$19*HS41)+(HT$19*HT41)+(HU$19*HU41)+(HV$19*HV41)+(HW$19*HW41)+(HX$19*HX41)+(HY$19*HY41)+(HZ$19*HZ41)+(IA$19*IA41)+(IB$19*IB41)+(IC$19*IC41)+(ID$19*ID41)+(IE$19*IE41)+(IF$19*IF41)+(IG$19*IG41)+(IH$19*IH41)+(II$19*II41)+(IJ$19*IJ41)+(IK$19*IK41)+(IL$19*IL41))","v":0},null,null,null,null,null,null,null,null,null,null,null,null,null,null,null,null,null,null,null,null,null,null,null,null,null,null,{"$f":"IF(OR('Set UP'!$C27=0,'Set UP'!$D27=0,'Set UP'!$E27=0),\"\",(IO$19*IO41)+(IP$19*IP41)+(IQ$19*IQ41)+(IR$19*IR41)+(IS$19*IS41)+(IT$19*IT41)+(IU$19*IU41)+(IV$19*IV41)+(IW$19*IW41)+(IX$19*IX41)+(IY$19*IY41)+(IZ$19*IZ41)+(JA$19*JA41)+(JB$19*JB41)+(JC$19*JC41)+(JD$19*JD41)+(JE$19*JE41)+(JF$19*JF41)+(JG$19*JG41)+(JH$19*JH41)+(JI$19*JI41)+(JJ$19*JJ41)+(JK$19*JK41)+(JL$19*JL41)+(JM$19*JM41))","v":0},{"$f":"IF(OR('Set UP'!$C27=0,'Set UP'!$D27=0,'Set UP'!$E27=0),\"\",(AF41+BG41+CH41+DI41+EJ41+FK41+GL41+HM41+IN41+JO41))","v":250},{"$f":"IF(OR('Set UP'!$C27=0,'Set UP'!$D27=0,'Set UP'!$E27=0),\"\",RANK(JP41,$JP$21:$JP$60,0))","v":10},{"$f":"IF(OR('Set UP'!K27<>1,'Set UP'!C27=0,'Set UP'!D27=0,'Set UP'!E27=0,'Set UP'!F27=0),\"\",$JP41)","v":250},{"$f":"IF(OR('Set UP'!K27<>1,'Set UP'!C27=0,'Set UP'!D27=0,'Set UP'!E27=0,'Set UP'!F27=0),\"\",RANK(JR41,$JR$21:$JR$60,0))","v":4},{"$f":"IF(OR('Set UP'!K27<>2,'Set UP'!C27=0,'Set UP'!D27=0,'Set UP'!E27=0,'Set UP'!F27=0),\"\",$JP41)","v":""},{"$f":"IF(OR('Set UP'!K27<>2,'Set UP'!C27=0,'Set UP'!D27=0,'Set UP'!E27=0,'Set UP'!F27=0),\"\",RANK(JT41,$JT$21:$JT$60,0))","v":""},{"$f":"IF(OR('Set UP'!F27<>\"F\",'Set UP'!C27=0,'Set UP'!D27=0,'Set UP'!E27=0),\"\",$JP41)","v":""},{"$f":"IF(OR('Set UP'!F27<>\"F\",'Set UP'!C27=0,'Set UP'!D27=0,'Set UP'!E27=0),\"\",RANK(JV41,$JV$21:$JV$60,0))","v":""},{"$f":"IF(OR('Set UP'!F27<>\"NS\",'Set UP'!C27=0,'Set UP'!D27=0,'Set UP'!E27=0),\"\",$JP41)","v":""},{"$f":"IF(OR('Set UP'!F27<>\"NS\",'Set UP'!C27=0,'Set UP'!D27=0,'Set UP'!E27=0),\"\",RANK(JX41,$JX$21:$JX$60,0))","v":""},{"$f":"IF(OR('Set UP'!$C27=0,'Set UP'!$D27=0,'Set UP'!$E27=0,JP41=0),\"\",JP41/MAX(JP$21:JP$60)*1000)","v":847.45762711864404}]
[null,22,{"$f":"IF(OR('Set UP'!$C28=0,'Set UP'!$D28=0,'Set UP'!$E28=0,'Set UP'!F28=0),\"  --\",'Set UP'!C28)","v":1435},{"$f":"IF(OR('Set UP'!$C28=0,'Set UP'!$D28=0,'Set UP'!$E28=0,'Set UP'!F28=0),\"  --\",'Set UP'!D28&\" \"&'Set UP'!E28)","v":"Loughborough University B"},{"$f":"IF(OR('Set UP'!$C28=0,'Set UP'!$D28=0,'Set UP'!$E28=0,'Set UP'!F28=0),\"  --\",'Set UP'!F28)","v":"S"},5,0,0,5,0,1,0,null,null,null,null,null,null,null,null,null,null,null,null,null,null,null,null,null,null,null,{"$f":"IF(OR('Set UP'!$C28=0,'Set UP'!$D28=0,'Set UP'!$E28=0),\"\",(F$19*F42)+(G$19*G42)+(H$19*H42)+(I$19*I42)+(J$19*J42)+(K$19*K42)+(L$19*L42)+(M$19*M42)+(N$19*N42)+(O$19*O42)+(P$19*P42)+(Q$19*Q42)+(R$19*R42)+(S$19*S42)+(T$19*T42)+(U$19*U42)+(V$19*V42)+(W$19*W42)+(X$19*X42)+(Y$19*Y42)+(Z$19*Z42)+(AA$19*AA42)+(AB$19*AB42)+(AC$19*AC42)+(AD$19*AD42))","v":11.5},0,2,0,7,2,7,0,8,null,null,null,null,null,null,null,null,null,null,null,null,null,null,null,null,null,null,{"$f":"IF(OR('Set UP'!$C28=0,'Set UP'!$D28=0,'Set UP'!$E28=0),\"\",(AG$19*AG42)+(AH$19*AH42)+(AI$19*AI42)+(AJ$19*AJ42)+(AK$19*AK42)+(AL$19*AL42)+(AM$19*AM42)+(AN$19*AN42)+(AO$19*AO42)+(AP$19*AP42)+(AQ$19*AQ42)+(AR$19*AR42)+(AS$19*AS42)+(AT$19*AT42)+(AU$19*AU42)+(AV$19*AV42)+(AW$19*AW42)+(AX$19*AX42)+(AY$19*AY42)+(AZ$19*AZ42)+(BA$19*BA42)+(BB$19*BB42)+(BC$19*BC42)+(BD$19*BD42)+(BE$19*BE42))","v":31.5},8,9,10,0,8,7,0,null,null,null,null,null,null,null,null,null,null,null,null,null,null,null,null,null,null,null,{"$f":"IF(OR('Set UP'!$C28=0,'Set UP'!$D28=0,'Set UP'!$E28=0),\"\",(BH$19*BH42)+(BI$19*BI42)+(BJ$19*BJ42)+(BK$19*BK42)+(BL$19*BL42)+(BM$19*BM42)+(BN$19*BN42)+(BO$19*BO42)+(BP$19*BP42)+(BQ$19*BQ42)+(BR$19*BR42)+(BS$19*BS42)+(BT$19*BT42)+(BU$19*BU42)+(BV$19*BV42)+(BW$19*BW42)+(BX$19*BX42)+(BY$19*BY42)+(BZ$19*BZ42)+(CA$19*CA42)+(CB$19*CB42)+(CC$19*CC42)+(CD$19*CD42)+(CE$19*CE42)+(CF$19*CF42))","v":50},7,9,5,10,6,2,8,null,null,null,null,null,null,null,null,null,null,null,null,null,null,null,null,null,null,null,{"$f":"IF(OR('Set UP'!$C28=0,'Set UP'!$D28=0,'Set UP'!$E28=0),\"\",(CI$19*CI42)+(CJ$19*CJ42)+(CK$19*CK42)+(CL$19*CL42)+(CM$19*CM42)+(CN$19*CN42)+(CO$19*CO42)+(CP$19*CP42)+(CQ$19*CQ42)+(CR$19*CR42)+(CS$19*CS42)+(CT$19*CT42)+(CU$19*CU42)+(CV$19*CV42)+(CW$19*CW42)+(CX$19*CX42)+(CY$19*CY42)+(CZ$19*CZ42)+(DA$19*DA42)+(DB$19*DB42)+(DC$19*DC42)+(DD$19*DD42)+(DE$19*DE42)+(DF$19*DF42)+(DG$19*DG42))","v":59.5},0,0,0,0,0,5,6,0,0,3,null,null,null,null,null,null,null,null,null,null,null,null,null,null,null,null,{"$f":"IF(OR('Set UP'!$C28=0,'Set UP'!$D28=0,'Set UP'!$E28=0),\"\",(DJ$19*DJ42)+(DK$19*DK42)+(DL$19*DL42)+(DM$19*DM42)+(DN$19*DN42)+(DO$19*DO42)+(DP$19*DP42)+(DQ$19*DQ42)+(DR$19*DR42)+(DS$19*DS42)+(DT$19*DT42)+(DU$19*DU42)+(DV$19*DV42)+(DW$19*DW42)+(DX$19*DX42)+(DY$19*DY42)+(DZ$19*DZ42)+(EA$19*EA42)+(EB$19*EB42)+(EC$19*EC42)+(ED$19*ED42)+(EE$19*EE42)+(EF$19*EF42)+(EG$19*EG42)+(EH$19*EH42))","v":8.9},5,4,3,4,null,null,null,null,null,null,null,null,null,null,null,null,null,null,null,null,null,null,null,null,null,null,{"$f":"IF(OR('Set UP'!$C28=0,'Set UP'!$D28=0,'Set UP'!$E28=0),\"\",(EK$19*EK42)+(EL$19*EL42)+(EM$19*EM42)+(EN$19*EN42)+(EO$19*EO42)+(EP$19*EP42)+(EQ$19*EQ42)+(ER$19*ER42)+(ES$19*ES42)+(ET$19*ET42)+(EU$19*EU42)+(EV$19*EV42)+(EW$19*EW42)+(EX$19*EX42)+(EY$19*EY42)+(EZ$19*EZ42)+(FA$19*FA42)+(FB$19*FB42)+(FC$19*FC42)+(FD$19*FD42)+(FE$19*FE42)+(FF$19*FF42)+(FG$19*FG42)+(FH$19*FH42)+(FI$19*FI42))","v":31.5},null,null,null,null,null,null,null,null,null,null,null,null,null,null,null,null,null,null,null,null,null,null,null,null,null,null,{"$f":"IF(OR('Set UP'!$C28=0,'Set UP'!$D28=0,'Set UP'!$E28=0),\"\",(FL$19*FL42)+(FM$19*FM42)+(FN$19*FN42)+(FO$19*FO42)+(FP$19*FP42)+(FQ$19*FQ42)+(FR$19*FR42)+(FS$19*FS42)+(FT$19*FT42)+(FU$19*FU42)+(FV$19*FV42)+(FW$19*FW42)+(FX$19*FX42)+(FY$19*FY42)+(FZ$19*FZ42)+(GA$19*GA42)+(GB$19*GB42)+(GC$19*GC42)+(GD$19*GD42)+(GE$19*GE42)+(GF$19*GF42)+(GG$19*GG42)+(GH$19*GH42)+(GI$19*GI42)+(GJ$19*GJ42))","v":0},null,null,null,null,null,null,null,null,null,null,null,null,null,null,null,null,null,null,null,null,null,null,null,null,null,null,{"$f":"IF(OR('Set UP'!$C28=0,'Set UP'!$D28=0,'Set UP'!$E28=0),\"\",(GM$19*GM42)+(GN$19*GN42)+(GO$19*GO42)+(GP$19*GP42)+(GQ$19*GQ42)+(GR$19*GR42)+(GS$19*GS42)+(GT$19*GT42)+(GU$19*GU42)+(GV$19*GV42)+(GW$19*GW42)+(GX$19*GX42)+(GY$19*GY42)+(GZ$19*GZ42)+(HA$19*HA42)+(HB$19*HB42)+(HC$19*HC42)+(HD$19*HD42)+(HE$19*HE42)+(HF$19*HF42)+(HG$19*HG42)+(HH$19*HH42)+(HI$19*HI42)+(HJ$19*HJ42)+(HK$19*HK42))","v":0},null,null,null,null,null,null,null,null,null,null,null,null,null,null,null,null,null,null,null,null,null,null,null,null,null,null,{"$f":"IF(OR('Set UP'!$C28=0,'Set UP'!$D28=0,'Set UP'!$E28=0),\"\",(HN$19*HN42)+(HO$19*HO42)+(HP$19*HP42)+(HQ$19*HQ42)+(HR$19*HR42)+(HS$19*HS42)+(HT$19*HT42)+(HU$19*HU42)+(HV$19*HV42)+(HW$19*HW42)+(HX$19*HX42)+(HY$19*HY42)+(HZ$19*HZ42)+(IA$19*IA42)+(IB$19*IB42)+(IC$19*IC42)+(ID$19*ID42)+(IE$19*IE42)+(IF$19*IF42)+(IG$19*IG42)+(IH$19*IH42)+(II$19*II42)+(IJ$19*IJ42)+(IK$19*IK42)+(IL$19*IL42))","v":0},null,null,null,null,null,null,null,null,null,null,null,null,null,null,null,null,null,null,null,null,null,null,null,null,null,null,{"$f":"IF(OR('Set UP'!$C28=0,'Set UP'!$D28=0,'Set UP'!$E28=0),\"\",(IO$19*IO42)+(IP$19*IP42)+(IQ$19*IQ42)+(IR$19*IR42)+(IS$19*IS42)+(IT$19*IT42)+(IU$19*IU42)+(IV$19*IV42)+(IW$19*IW42)+(IX$19*IX42)+(IY$19*IY42)+(IZ$19*IZ42)+(JA$19*JA42)+(JB$19*JB42)+(JC$19*JC42)+(JD$19*JD42)+(JE$19*JE42)+(JF$19*JF42)+(JG$19*JG42)+(JH$19*JH42)+(JI$19*JI42)+(JJ$19*JJ42)+(JK$19*JK42)+(JL$19*JL42)+(JM$19*JM42))","v":0},{"$f":"IF(OR('Set UP'!$C28=0,'Set UP'!$D28=0,'Set UP'!$E28=0),\"\",(AF42+BG42+CH42+DI42+EJ42+FK42+GL42+HM42+IN42+JO42))","v":192.9},{"$f":"IF(OR('Set UP'!$C28=0,'Set UP'!$D28=0,'Set UP'!$E28=0),\"\",RANK(JP42,$JP$21:$JP$60,0))","v":19},{"$f":"IF(OR('Set UP'!K28<>1,'Set UP'!C28=0,'Set UP'!D28=0,'Set UP'!E28=0,'Set UP'!F28=0),\"\",$JP42)","v":""},{"$f":"IF(OR('Set UP'!K28<>1,'Set UP'!C28=0,'Set UP'!D28=0,'Set UP'!E28=0,'Set UP'!F28=0),\"\",RANK(JR42,$JR$21:$JR$60,0))","v":""},{"$f":"IF(OR('Set UP'!K28<>2,'Set UP'!C28=0,'Set UP'!D28=0,'Set UP'!E28=0,'Set UP'!F28=0),\"\",$JP42)","v":192.9},{"$f":"IF(OR('Set UP'!K28<>2,'Set UP'!C28=0,'Set UP'!D28=0,'Set UP'!E28=0,'Set UP'!F28=0),\"\",RANK(JT42,$JT$21:$JT$60,0))","v":9},{"$f":"IF(OR('Set UP'!F28<>\"F\",'Set UP'!C28=0,'Set UP'!D28=0,'Set UP'!E28=0),\"\",$JP42)","v":""},{"$f":"IF(OR('Set UP'!F28<>\"F\",'Set UP'!C28=0,'Set UP'!D28=0,'Set UP'!E28=0),\"\",RANK(JV42,$JV$21:$JV$60,0))","v":""},{"$f":"IF(OR('Set UP'!F28<>\"NS\",'Set UP'!C28=0,'Set UP'!D28=0,'Set UP'!E28=0),\"\",$JP42)","v":""},{"$f":"IF(OR('Set UP'!F28<>\"NS\",'Set UP'!C28=0,'Set UP'!D28=0,'Set UP'!E28=0),\"\",RANK(JX42,$JX$21:$JX$60,0))","v":""},{"$f":"IF(OR('Set UP'!$C28=0,'Set UP'!$D28=0,'Set UP'!$E28=0,JP42=0),\"\",JP42/MAX(JP$21:JP$60)*1000)","v":653.89830508474574}]
[null,23,{"$f":"IF(OR('Set UP'!$C29=0,'Set UP'!$D29=0,'Set UP'!$E29=0,'Set UP'!F29=0),\"  --\",'Set UP'!C29)","v":1457},{"$f":"IF(OR('Set UP'!$C29=0,'Set UP'!$D29=0,'Set UP'!$E29=0,'Set UP'!F29=0),\"  --\",'Set UP'!D29&\" \"&'Set UP'!E29)","v":"University of Warwick B"},{"$f":"IF(OR('Set UP'!$C29=0,'Set UP'!$D29=0,'Set UP'!$E29=0,'Set UP'!F29=0),\"  --\",'Set UP'!F29)","v":"S"},5,5,0,7,0,0,0,null,null,null,null,null,null,null,null,null,null,null,null,null,null,null,null,null,null,null,{"$f":"IF(OR('Set UP'!$C29=0,'Set UP'!$D29=0,'Set UP'!$E29=0),\"\",(F$19*F43)+(G$19*G43)+(H$19*H43)+(I$19*I43)+(J$19*J43)+(K$19*K43)+(L$19*L43)+(M$19*M43)+(N$19*N43)+(O$19*O43)+(P$19*P43)+(Q$19*Q43)+(R$19*R43)+(S$19*S43)+(T$19*T43)+(U$19*U43)+(V$19*V43)+(W$19*W43)+(X$19*X43)+(Y$19*Y43)+(Z$19*Z43)+(AA$19*AA43)+(AB$19*AB43)+(AC$19*AC43)+(AD$19*AD43))","v":19.5},2,1,2,7,2,5,0,8,null,null,null,null,null,null,null,null,null,null,null,null,null,null,null,null,null,null,{"$f":"IF(OR('Set UP'!$C29=0,'Set UP'!$D29=0,'Set UP'!$E29=0),\"\",(AG$19*AG43)+(AH$19*AH43)+(AI$19*AI43)+(AJ$19*AJ43)+(AK$19*AK43)+(AL$19*AL43)+(AM$19*AM43)+(AN$19*AN43)+(AO$19*AO43)+(AP$19*AP43)+(AQ$19*AQ43)+(AR$19*AR43)+(AS$19*AS43)+(AT$19*AT43)+(AU$19*AU43)+(AV$19*AV43)+(AW$19*AW43)+(AX$19*AX43)+(AY$19*AY43)+(AZ$19*AZ43)+(BA$19*BA43)+(BB$19*BB43)+(BC$19*BC43)+(BD$19*BD43)+(BE$19*BE43))","v":31.5},8,2,0,0,7,5,0,null,null,null,null,null,null,null,null,null,null,null,null,null,null,null,null,null,null,null,{"$f":"IF(OR('Set UP'!$C29=0,'Set UP'!$D29=0,'Set UP'!$E29=0),\"\",(BH$19*BH43)+(BI$19*BI43)+(BJ$19*BJ43)+(BK$19*BK43)+(BL$19*BL43)+(BM$19*BM43)+(BN$19*BN43)+(BO$19*BO43)+(BP$19*BP43)+(BQ$19*BQ43)+(BR$19*BR43)+(BS$19*BS43)+(BT$19*BT43)+(BU$19*BU43)+(BV$19*BV43)+(BW$19*BW43)+(BX$19*BX43)+(BY$19*BY43)+(BZ$19*BZ43)+(CA$19*CA43)+(CB$19*CB43)+(CC$19*CC43)+(CD$19*CD43)+(CE$19*CE43)+(CF$19*CF43))","v":25.5},9,6,6,2,6,2,3,null,null,null,null,null,null,null,null,null,null,null,null,null,null,null,null,null,null,null,{"$f":"IF(OR('Set UP'!$C29=0,'Set UP'!$D29=0,'Set UP'!$E29=0),\"\",(CI$19*CI43)+(CJ$19*CJ43)+(CK$19*CK43)+(CL$19*CL43)+(CM$19*CM43)+(CN$19*CN43)+(CO$19*CO43)+(CP$19*CP43)+(CQ$19*CQ43)+(CR$19*CR43)+(CS$19*CS43)+(CT$19*CT43)+(CU$19*CU43)+(CV$19*CV43)+(CW$19*CW43)+(CX$19*CX43)+(CY$19*CY43)+(CZ$19*CZ43)+(DA$19*DA43)+(DB$19*DB43)+(DC$19*DC43)+(DD$19*DD43)+(DE$19*DE43)+(DF$19*DF43)+(DG$19*DG43))","v":44.5},0,0,0,10,10,10,4,0,0,5,null,null,null,null,null,null,null,null,null,null,null,null,null,null,null,null,{"$f":"IF(OR('Set UP'!$C29=0,'Set UP'!$D29=0,'Set UP'!$E29=0),\"\",(DJ$19*DJ43)+(DK$19*DK43)+(DL$19*DL43)+(DM$19*DM43)+(DN$19*DN43)+(DO$19*DO43)+(DP$19*DP43)+(DQ$19*DQ43)+(DR$19*DR43)+(DS$19*DS43)+(DT$19*DT43)+(DU$19*DU43)+(DV$19*DV43)+(DW$19*DW43)+(DX$19*DX43)+(DY$19*DY43)+(DZ$19*DZ43)+(EA$19*EA43)+(EB$19*EB43)+(EC$19*EC43)+(ED$19*ED43)+(EE$19*EE43)+(EF$19*EF43)+(EG$19*EG43)+(EH$19*EH43))","v":38.5},3,6,6,7,null,null,null,null,null,null,null,null,null,null,null,null,null,null,null,null,null,null,null,null,null,null,{"$f":"IF(OR('Set UP'!$C29=0,'Set UP'!$D29=0,'Set UP'!$E29=0),\"\",(EK$19*EK43)+(EL$19*EL43)+(EM$19*EM43)+(EN$19*EN43)+(EO$19*EO43)+(EP$19*EP43)+(EQ$19*EQ43)+(ER$19*ER43)+(ES$19*ES43)+(ET$19*ET43)+(EU$19*EU43)+(EV$19*EV43)+(EW$19*EW43)+(EX$19*EX43)+(EY$19*EY43)+(EZ$19*EZ43)+(FA$19*FA43)+(FB$19*FB43)+(FC$19*FC43)+(FD$19*FD43)+(FE$19*FE43)+(FF$19*FF43)+(FG$19*FG43)+(FH$19*FH43)+(FI$19*FI43))","v":37.5},null,null,null,null,null,null,null,null,null,null,null,null,null,null,null,null,null,null,null,null,null,null,null,null,null,null,{"$f":"IF(OR('Set UP'!$C29=0,'Set UP'!$D29=0,'Set UP'!$E29=0),\"\",(FL$19*FL43)+(FM$19*FM43)+(FN$19*FN43)+(FO$19*FO43)+(FP$19*FP43)+(FQ$19*FQ43)+(FR$19*FR43)+(FS$19*FS43)+(FT$19*FT43)+(FU$19*FU43)+(FV$19*FV43)+(FW$19*FW43)+(FX$19*FX43)+(FY$19*FY43)+(FZ$19*FZ43)+(GA$19*GA43)+(GB$19*GB43)+(GC$19*GC43)+(GD$19*GD43)+(GE$19*GE43)+(GF$19*GF43)+(GG$19*GG43)+(GH$19*GH43)+(GI$19*GI43)+(GJ$19*GJ43))","v":0},null,null,null,null,null,null,null,null,null,null,null,null,null,null,null,null,null,null,null,null,null,null,null,null,null,null,{"$f":"IF(OR('Set UP'!$C29=0,'Set UP'!$D29=0,'Set UP'!$E29=0),\"\",(GM$19*GM43)+(GN$19*GN43)+(GO$19*GO43)+(GP$19*GP43)+(GQ$19*GQ43)+(GR$19*GR43)+(GS$19*GS43)+(GT$19*GT43)+(GU$19*GU43)+(GV$19*GV43)+(GW$19*GW43)+(GX$19*GX43)+(GY$19*GY43)+(GZ$19*GZ43)+(HA$19*HA43)+(HB$19*HB43)+(HC$19*HC43)+(HD$19*HD43)+(HE$19*HE43)+(HF$19*HF43)+(HG$19*HG43)+(HH$19*HH43)+(HI$19*HI43)+(HJ$19*HJ43)+(HK$19*HK43))","v":0},null,null,null,null,null,null,null,null,null,null,null,null,null,null,null,null,null,null,null,null,null,null,null,null,null,null,{"$f":"IF(OR('Set UP'!$C29=0,'Set UP'!$D29=0,'Set UP'!$E29=0),\"\",(HN$19*HN43)+(HO$19*HO43)+(HP$19*HP43)+(HQ$19*HQ43)+(HR$19*HR43)+(HS$19*HS43)+(HT$19*HT43)+(HU$19*HU43)+(HV$19*HV43)+(HW$19*HW43)+(HX$19*HX43)+(HY$19*HY43)+(HZ$19*HZ43)+(IA$19*IA43)+(IB$19*IB43)+(IC$19*IC43)+(ID$19*ID43)+(IE$19*IE43)+(IF$19*IF43)+(IG$19*IG43)+(IH$19*IH43)+(II$19*II43)+(IJ$19*IJ43)+(IK$19*IK43)+(IL$19*IL43))","v":0},null,null,null,null,null,null,null,null,null,null,null,null,null,null,null,null,null,null,null,null,null,null,null,null,null,null,{"$f":"IF(OR('Set UP'!$C29=0,'Set UP'!$D29=0,'Set UP'!$E29=0),\"\",(IO$19*IO43)+(IP$19*IP43)+(IQ$19*IQ43)+(IR$19*IR43)+(IS$19*IS43)+(IT$19*IT43)+(IU$19*IU43)+(IV$19*IV43)+(IW$19*IW43)+(IX$19*IX43)+(IY$19*IY43)+(IZ$19*IZ43)+(JA$19*JA43)+(JB$19*JB43)+(JC$19*JC43)+(JD$19*JD43)+(JE$19*JE43)+(JF$19*JF43)+(JG$19*JG43)+(JH$19*JH43)+(JI$19*JI43)+(JJ$19*JJ43)+(JK$19*JK43)+(JL$19*JL43)+(JM$19*JM43))","v":0},{"$f":"IF(OR('Set UP'!$C29=0,'Set UP'!$D29=0,'Set UP'!$E29=0),\"\",(AF43+BG43+CH43+DI43+EJ43+FK43+GL43+HM43+IN43+JO43))","v":197},{"$f":"IF(OR('Set UP'!$C29=0,'Set UP'!$D29=0,'Set UP'!$E29=0),\"\",RANK(JP43,$JP$21:$JP$60,0))","v":18},{"$f":"IF(OR('Set UP'!K29<>1,'Set UP'!C29=0,'Set UP'!D29=0,'Set UP'!E29=0,'Set UP'!F29=0),\"\",$JP43)","v":""},{"$f":"IF(OR('Set UP'!K29<>1,'Set UP'!C29=0,'Set UP'!D29=0,'Set UP'!E29=0,'Set UP'!F29=0),\"\",RANK(JR43,$JR$21:$JR$60,0))","v":""},{"$f":"IF(OR('Set UP'!K29<>2,'Set UP'!C29=0,'Set UP'!D29=0,'Set UP'!E29=0,'Set UP'!F29=0),\"\",$JP43)","v":197},{"$f":"IF(OR('Set UP'!K29<>2,'Set UP'!C29=0,'Set UP'!D29=0,'Set UP'!E29=0,'Set UP'!F29=0),\"\",RANK(JT43,$JT$21:$JT$60,0))","v":8},{"$f":"IF(OR('Set UP'!F29<>\"F\",'Set UP'!C29=0,'Set UP'!D29=0,'Set UP'!E29=0),\"\",$JP43)","v":""},{"$f":"IF(OR('Set UP'!F29<>\"F\",'Set UP'!C29=0,'Set UP'!D29=0,'Set UP'!E29=0),\"\",RANK(JV43,$JV$21:$JV$60,0))","v":""},{"$f":"IF(OR('Set UP'!F29<>\"NS\",'Set UP'!C29=0,'Set UP'!D29=0,'Set UP'!E29=0),\"\",$JP43)","v":""},{"$f":"IF(OR('Set UP'!F29<>\"NS\",'Set UP'!C29=0,'Set UP'!D29=0,'Set UP'!E29=0),\"\",RANK(JX43,$JX$21:$JX$60,0))","v":""},{"$f":"IF(OR('Set UP'!$C29=0,'Set UP'!$D29=0,'Set UP'!$E29=0,JP43=0),\"\",JP43/MAX(JP$21:JP$60)*1000)","v":667.7966101694916}]
[null,24,{"$f":"IF(OR('Set UP'!$C30=0,'Set UP'!$D30=0,'Set UP'!$E30=0,'Set UP'!F30=0),\"  --\",'Set UP'!C30)","v":1429},{"$f":"IF(OR('Set UP'!$C30=0,'Set UP'!$D30=0,'Set UP'!$E30=0,'Set UP'!F30=0),\"  --\",'Set UP'!D30&\" \"&'Set UP'!E30)","v":"University of Nottingham A"},{"$f":"IF(OR('Set UP'!$C30=0,'Set UP'!$D30=0,'Set UP'!$E30=0,'Set UP'!F30=0),\"  --\",'Set UP'!F30)","v":"S"},5,5,2,5,0,7,0,null,null,null,null,null,null,null,null,null,null,null,null,null,null,null,null,null,null,null,{"$f":"IF(OR('Set UP'!$C30=0,'Set UP'!$D30=0,'Set UP'!$E30=0),\"\",(F$19*F44)+(G$19*G44)+(H$19*H44)+(I$19*I44)+(J$19*J44)+(K$19*K44)+(L$19*L44)+(M$19*M44)+(N$19*N44)+(O$19*O44)+(P$19*P44)+(Q$19*Q44)+(R$19*R44)+(S$19*S44)+(T$19*T44)+(U$19*U44)+(V$19*V44)+(W$19*W44)+(X$19*X44)+(Y$19*Y44)+(Z$19*Z44)+(AA$19*AA44)+(AB$19*AB44)+(AC$19*AC44)+(AD$19*AD44))","v":31},0,2,3,9,5,3,3,4,null,null,null,null,null,null,null,null,null,null,null,null,null,null,null,null,null,null,{"$f":"IF(OR('Set UP'!$C30=0,'Set UP'!$D30=0,'Set UP'!$E30=0),\"\",(AG$19*AG44)+(AH$19*AH44)+(AI$19*AI44)+(AJ$19*AJ44)+(AK$19*AK44)+(AL$19*AL44)+(AM$19*AM44)+(AN$19*AN44)+(AO$19*AO44)+(AP$19*AP44)+(AQ$19*AQ44)+(AR$19*AR44)+(AS$19*AS44)+(AT$19*AT44)+(AU$19*AU44)+(AV$19*AV44)+(AW$19*AW44)+(AX$19*AX44)+(AY$19*AY44)+(AZ$19*AZ44)+(BA$19*BA44)+(BB$19*BB44)+(BC$19*BC44)+(BD$19*BD44)+(BE$19*BE44))","v":37},8,4,0,0,9,7,0,null,null,null,null,null,null,null,null,null,null,null,null,null,null,null,null,null,null,null,{"$f":"IF(OR('Set UP'!$C30=0,'Set UP'!$D30=0,'Set UP'!$E30=0),\"\",(BH$19*BH44)+(BI$19*BI44)+(BJ$19*BJ44)+(BK$19*BK44)+(BL$19*BL44)+(BM$19*BM44)+(BN$19*BN44)+(BO$19*BO44)+(BP$19*BP44)+(BQ$19*BQ44)+(BR$19*BR44)+(BS$19*BS44)+(BT$19*BT44)+(BU$19*BU44)+(BV$19*BV44)+(BW$19*BW44)+(BX$19*BX44)+(BY$19*BY44)+(BZ$19*BZ44)+(CA$19*CA44)+(CB$19*CB44)+(CC$19*CC44)+(CD$19*CD44)+(CE$19*CE44)+(CF$19*CF44))","v":33.5},9,7,6,8,6,5,6,null,null,null,null,null,null,null,null,null,null,null,null,null,null,null,null,null,null,null,{"$f":"IF(OR('Set UP'!$C30=0,'Set UP'!$D30=0,'Set UP'!$E30=0),\"\",(CI$19*CI44)+(CJ$19*CJ44)+(CK$19*CK44)+(CL$19*CL44)+(CM$19*CM44)+(CN$19*CN44)+(CO$19*CO44)+(CP$19*CP44)+(CQ$19*CQ44)+(CR$19*CR44)+(CS$19*CS44)+(CT$19*CT44)+(CU$19*CU44)+(CV$19*CV44)+(CW$19*CW44)+(CX$19*CX44)+(CY$19*CY44)+(CZ$19*CZ44)+(DA$19*DA44)+(DB$19*DB44)+(DC$19*DC44)+(DD$19*DD44)+(DE$19*DE44)+(DF$19*DF44)+(DG$19*DG44))","v":58.5},10,0,0,0,10,0,2,0,0,0,null,null,null,null,null,null,null,null,null,null,null,null,null,null,null,null,{"$f":"IF(OR('Set UP'!$C30=0,'Set UP'!$D30=0,'Set UP'!$E30=0),\"\",(DJ$19*DJ44)+(DK$19*DK44)+(DL$19*DL44)+(DM$19*DM44)+(DN$19*DN44)+(DO$19*DO44)+(DP$19*DP44)+(DQ$19*DQ44)+(DR$19*DR44)+(DS$19*DS44)+(DT$19*DT44)+(DU$19*DU44)+(DV$19*DV44)+(DW$19*DW44)+(DX$19*DX44)+(DY$19*DY44)+(DZ$19*DZ44)+(EA$19*EA44)+(EB$19*EB44)+(EC$19*EC44)+(ED$19*ED44)+(EE$19*EE44)+(EF$19*EF44)+(EG$19*EG44)+(EH$19*EH44))","v":21},9,5,7,6,null,null,null,null,null,null,null,null,null,null,null,null,null,null,null,null,null,null,null,null,null,null,{"$f":"IF(OR('Set UP'!$C30=0,'Set UP'!$D30=0,'Set UP'!$E30=0),\"\",(EK$19*EK44)+(EL$19*EL44)+(EM$19*EM44)+(EN$19*EN44)+(EO$19*EO44)+(EP$19*EP44)+(EQ$19*EQ44)+(ER$19*ER44)+(ES$19*ES44)+(ET$19*ET44)+(EU$19*EU44)+(EV$19*EV44)+(EW$19*EW44)+(EX$19*EX44)+(EY$19*EY44)+(EZ$19*EZ44)+(FA$19*FA44)+(FB$19*FB44)+(FC$19*FC44)+(FD$19*FD44)+(FE$19*FE44)+(FF$19*FF44)+(FG$19*FG44)+(FH$19*FH44)+(FI$19*FI44))","v":54},null,null,null,null,null,null,null,null,null,null,null,null,null,null,null,null,null,null,null,null,null,null,null,null,null,null,{"$f":"IF(OR('Set UP'!$C30=0,'Set UP'!$D30=0,'Set UP'!$E30=0),\"\",(FL$19*FL44)+(FM$19*FM44)+(FN$19*FN44)+(FO$19*FO44)+(FP$19*FP44)+(FQ$19*FQ44)+(FR$19*FR44)+(FS$19*FS44)+(FT$19*FT44)+(FU$19*FU44)+(FV$19*FV44)+(FW$19*FW44)+(FX$19*FX44)+(FY$19*FY44)+(FZ$19*FZ44)+(GA$19*GA44)+(GB$19*GB44)+(GC$19*GC44)+(GD$19*GD44)+(GE$19*GE44)+(GF$19*GF44)+(GG$19*GG44)+(GH$19*GH44)+(GI$19*GI44)+(GJ$19*GJ44))","v":0},null,null,null,null,null,null,null,null,null,null,null,null,null,null,null,null,null,null,null,null,null,null,null,null,null,null,{"$f":"IF(OR('Set UP'!$C30=0,'Set UP'!$D30=0,'Set UP'!$E30=0),\"\",(GM$19*GM44)+(GN$19*GN44)+(GO$19*GO44)+(GP$19*GP44)+(GQ$19*GQ44)+(GR$19*GR44)+(GS$19*GS44)+(GT$19*GT44)+(GU$19*GU44)+(GV$19*GV44)+(GW$19*GW44)+(GX$19*GX44)+(GY$19*GY44)+(GZ$19*GZ44)+(HA$19*HA44)+(HB$19*HB44)+(HC$19*HC44)+(HD$19*HD44)+(HE$19*HE44)+(HF$19*HF44)+(HG$19*HG44)+(HH$19*HH44)+(HI$19*HI44)+(HJ$19*HJ44)+(HK$19*HK44))","v":0},null,null,null,null,null,null,null,null,null,null,null,null,null,null,null,null,null,null,null,null,null,null,null,null,null,null,{"$f":"IF(OR('Set UP'!$C30=0,'Set UP'!$D30=0,'Set UP'!$E30=0),\"\",(HN$19*HN44)+(HO$19*HO44)+(HP$19*HP44)+(HQ$19*HQ44)+(HR$19*HR44)+(HS$19*HS44)+(HT$19*HT44)+(HU$19*HU44)+(HV$19*HV44)+(HW$19*HW44)+(HX$19*HX44)+(HY$19*HY44)+(HZ$19*HZ44)+(IA$19*IA44)+(IB$19*IB44)+(IC$19*IC44)+(ID$19*ID44)+(IE$19*IE44)+(IF$19*IF44)+(IG$19*IG44)+(IH$19*IH44)+(II$19*II44)+(IJ$19*IJ44)+(IK$19*IK44)+(IL$19*IL44))","v":0},null,null,null,null,null,null,null,null,null,null,null,null,null,null,null,null,null,null,null,null,null,null,null,null,null,null,{"$f":"IF(OR('Set UP'!$C30=0,'Set UP'!$D30=0,'Set UP'!$E30=0),\"\",(IO$19*IO44)+(IP$19*IP44)+(IQ$19*IQ44)+(IR$19*IR44)+(IS$19*IS44)+(IT$19*IT44)+(IU$19*IU44)+(IV$19*IV44)+(IW$19*IW44)+(IX$19*IX44)+(IY$19*IY44)+(IZ$19*IZ44)+(JA$19*JA44)+(JB$19*JB44)+(JC$19*JC44)+(JD$19*JD44)+(JE$19*JE44)+(JF$19*JF44)+(JG$19*JG44)+(JH$19*JH44)+(JI$19*JI44)+(JJ$19*JJ44)+(JK$19*JK44)+(JL$19*JL44)+(JM$19*JM44))","v":0},{"$f":"IF(OR('Set UP'!$C30=0,'Set UP'!$D30=0,'Set UP'!$E30=0),\"\",(AF44+BG44+CH44+DI44+EJ44+FK44+GL44+HM44+IN44+JO44))","v":235},{"$f":"IF(OR('Set UP'!$C30=0,'Set UP'!$D30=0,'Set UP'!$E30=0),\"\",RANK(JP44,$JP$21:$JP$60,0))","v":13},{"$f":"IF(OR('Set UP'!K30<>1,'Set UP'!C30=0,'Set UP'!D30=0,'Set UP'!E30=0,'Set UP'!F30=0),\"\",$JP44)","v":235},{"$f":"IF(OR('Set UP'!K30<>1,'Set UP'!C30=0,'Set UP'!D30=0,'Set UP'!E30=0,'Set UP'!F30=0),\"\",RANK(JR44,$JR$21:$JR$60,0))","v":7},{"$f":"IF(OR('Set UP'!K30<>2,'Set UP'!C30=0,'Set UP'!D30=0,'Set UP'!E30=0,'Set UP'!F30=0),\"\",$JP44)","v":""},{"$f":"IF(OR('Set UP'!K30<>2,'Set UP'!C30=0,'Set UP'!D30=0,'Set UP'!E30=0,'Set UP'!F30=0),\"\",RANK(JT44,$JT$21:$JT$60,0))","v":""},{"$f":"IF(OR('Set UP'!F30<>\"F\",'Set UP'!C30=0,'Set UP'!D30=0,'Set UP'!E30=0),\"\",$JP44)","v":""},{"$f":"IF(OR('Set UP'!F30<>\"F\",'Set UP'!C30=0,'Set UP'!D30=0,'Set UP'!E30=0),\"\",RANK(JV44,$JV$21:$JV$60,0))","v":""},{"$f":"IF(OR('Set UP'!F30<>\"NS\",'Set UP'!C30=0,'Set UP'!D30=0,'Set UP'!E30=0),\"\",$JP44)","v":""},{"$f":"IF(OR('Set UP'!F30<>\"NS\",'Set UP'!C30=0,'Set UP'!D30=0,'Set UP'!E30=0),\"\",RANK(JX44,$JX$21:$JX$60,0))","v":""},{"$f":"IF(OR('Set UP'!$C30=0,'Set UP'!$D30=0,'Set UP'!$E30=0,JP44=0),\"\",JP44/MAX(JP$21:JP$60)*1000)","v":796.61016949152543}]
[null,25,{"$f":"IF(OR('Set UP'!$C31=0,'Set UP'!$D31=0,'Set UP'!$E31=0,'Set UP'!F31=0),\"  --\",'Set UP'!C31)","v":1438},{"$f":"IF(OR('Set UP'!$C31=0,'Set UP'!$D31=0,'Set UP'!$E31=0,'Set UP'!F31=0),\"  --\",'Set UP'!D31&\" \"&'Set UP'!E31)","v":"Swansea Universities Lifesaving B"},{"$f":"IF(OR('Set UP'!$C31=0,'Set UP'!$D31=0,'Set UP'!$E31=0,'Set UP'!F31=0),\"  --\",'Set UP'!F31)","v":"S"},0,0,0,7,2,3,2,null,null,null,null,null,null,null,null,null,null,null,null,null,null,null,null,null,null,null,{"$f":"IF(OR('Set UP'!$C31=0,'Set UP'!$D31=0,'Set UP'!$E31=0),\"\",(F$19*F45)+(G$19*G45)+(H$19*H45)+(I$19*I45)+(J$19*J45)+(K$19*K45)+(L$19*L45)+(M$19*M45)+(N$19*N45)+(O$19*O45)+(P$19*P45)+(Q$19*Q45)+(R$19*R45)+(S$19*S45)+(T$19*T45)+(U$19*U45)+(V$19*V45)+(W$19*W45)+(X$19*X45)+(Y$19*Y45)+(Z$19*Z45)+(AA$19*AA45)+(AB$19*AB45)+(AC$19*AC45)+(AD$19*AD45))","v":15.5},1,3,1,7,2,4,0,4,null,null,null,null,null,null,null,null,null,null,null,null,null,null,null,null,null,null,{"$f":"IF(OR('Set UP'!$C31=0,'Set UP'!$D31=0,'Set UP'!$E31=0),\"\",(AG$19*AG45)+(AH$19*AH45)+(AI$19*AI45)+(AJ$19*AJ45)+(AK$19*AK45)+(AL$19*AL45)+(AM$19*AM45)+(AN$19*AN45)+(AO$19*AO45)+(AP$19*AP45)+(AQ$19*AQ45)+(AR$19*AR45)+(AS$19*AS45)+(AT$19*AT45)+(AU$19*AU45)+(AV$19*AV45)+(AW$19*AW45)+(AX$19*AX45)+(AY$19*AY45)+(AZ$19*AZ45)+(BA$19*BA45)+(BB$19*BB45)+(BC$19*BC45)+(BD$19*BD45)+(BE$19*BE45))","v":27},8,2,0,0,7,4,0,null,null,null,null,null,null,null,null,null,null,null,null,null,null,null,null,null,null,null,{"$f":"IF(OR('Set UP'!$C31=0,'Set UP'!$D31=0,'Set UP'!$E31=0),\"\",(BH$19*BH45)+(BI$19*BI45)+(BJ$19*BJ45)+(BK$19*BK45)+(BL$19*BL45)+(BM$19*BM45)+(BN$19*BN45)+(BO$19*BO45)+(BP$19*BP45)+(BQ$19*BQ45)+(BR$19*BR45)+(BS$19*BS45)+(BT$19*BT45)+(BU$19*BU45)+(BV$19*BV45)+(BW$19*BW45)+(BX$19*BX45)+(BY$19*BY45)+(BZ$19*BZ45)+(CA$19*CA45)+(CB$19*CB45)+(CC$19*CC45)+(CD$19*CD45)+(CE$19*CE45)+(CF$19*CF45))","v":24},7,5,3,0,3,3,1,null,null,null,null,null,null,null,null,null,null,null,null,null,null,null,null,null,null,null,{"$f":"IF(OR('Set UP'!$C31=0,'Set UP'!$D31=0,'Set UP'!$E31=0),\"\",(CI$19*CI45)+(CJ$19*CJ45)+(CK$19*CK45)+(CL$19*CL45)+(CM$19*CM45)+(CN$19*CN45)+(CO$19*CO45)+(CP$19*CP45)+(CQ$19*CQ45)+(CR$19*CR45)+(CS$19*CS45)+(CT$19*CT45)+(CU$19*CU45)+(CV$19*CV45)+(CW$19*CW45)+(CX$19*CX45)+(CY$19*CY45)+(CZ$19*CZ45)+(DA$19*DA45)+(DB$19*DB45)+(DC$19*DC45)+(DD$19*DD45)+(DE$19*DE45)+(DF$19*DF45)+(DG$19*DG45))","v":30.5},0,0,0,10,10,5,0,1,0,0,null,null,null,null,null,null,null,null,null,null,null,null,null,null,null,null,{"$f":"IF(OR('Set UP'!$C31=0,'Set UP'!$D31=0,'Set UP'!$E31=0),\"\",(DJ$19*DJ45)+(DK$19*DK45)+(DL$19*DL45)+(DM$19*DM45)+(DN$19*DN45)+(DO$19*DO45)+(DP$19*DP45)+(DQ$19*DQ45)+(DR$19*DR45)+(DS$19*DS45)+(DT$19*DT45)+(DU$19*DU45)+(DV$19*DV45)+(DW$19*DW45)+(DX$19*DX45)+(DY$19*DY45)+(DZ$19*DZ45)+(EA$19*EA45)+(EB$19*EB45)+(EC$19*EC45)+(ED$19*ED45)+(EE$19*EE45)+(EF$19*EF45)+(EG$19*EG45)+(EH$19*EH45))","v":30.5},1,1,1,2,null,null,null,null,null,null,null,null,null,null,null,null,null,null,null,null,null,null,null,null,null,null,{"$f":"IF(OR('Set UP'!$C31=0,'Set UP'!$D31=0,'Set UP'!$E31=0),\"\",(EK$19*EK45)+(EL$19*EL45)+(EM$19*EM45)+(EN$19*EN45)+(EO$19*EO45)+(EP$19*EP45)+(EQ$19*EQ45)+(ER$19*ER45)+(ES$19*ES45)+(ET$19*ET45)+(EU$19*EU45)+(EV$19*EV45)+(EW$19*EW45)+(EX$19*EX45)+(EY$19*EY45)+(EZ$19*EZ45)+(FA$19*FA45)+(FB$19*FB45)+(FC$19*FC45)+(FD$19*FD45)+(FE$19*FE45)+(FF$19*FF45)+(FG$19*FG45)+(FH$19*FH45)+(FI$19*FI45))","v":9},null,null,null,null,null,null,null,null,null,null,null,null,null,null,null,null,null,null,null,null,null,null,null,null,null,null,{"$f":"IF(OR('Set UP'!$C31=0,'Set UP'!$D31=0,'Set UP'!$E31=0),\"\",(FL$19*FL45)+(FM$19*FM45)+(FN$19*FN45)+(FO$19*FO45)+(FP$19*FP45)+(FQ$19*FQ45)+(FR$19*FR45)+(FS$19*FS45)+(FT$19*FT45)+(FU$19*FU45)+(FV$19*FV45)+(FW$19*FW45)+(FX$19*FX45)+(FY$19*FY45)+(FZ$19*FZ45)+(GA$19*GA45)+(GB$19*GB45)+(GC$19*GC45)+(GD$19*GD45)+(GE$19*GE45)+(GF$19*GF45)+(GG$19*GG45)+(GH$19*GH45)+(GI$19*GI45)+(GJ$19*GJ45))","v":0},null,null,null,null,null,null,null,null,null,null,null,null,null,null,null,null,null,null,null,null,null,null,null,null,null,null,{"$f":"IF(OR('Set UP'!$C31=0,'Set UP'!$D31=0,'Set UP'!$E31=0),\"\",(GM$19*GM45)+(GN$19*GN45)+(GO$19*GO45)+(GP$19*GP45)+(GQ$19*GQ45)+(GR$19*GR45)+(GS$19*GS45)+(GT$19*GT45)+(GU$19*GU45)+(GV$19*GV45)+(GW$19*GW45)+(GX$19*GX45)+(GY$19*GY45)+(GZ$19*GZ45)+(HA$19*HA45)+(HB$19*HB45)+(HC$19*HC45)+(HD$19*HD45)+(HE$19*HE45)+(HF$19*HF45)+(HG$19*HG45)+(HH$19*HH45)+(HI$19*HI45)+(HJ$19*HJ45)+(HK$19*HK45))","v":0},null,null,null,null,null,null,null,null,null,null,null,null,null,null,null,null,null,null,null,null,null,null,null,null,null,null,{"$f":"IF(OR('Set UP'!$C31=0,'Set UP'!$D31=0,'Set UP'!$E31=0),\"\",(HN$19*HN45)+(HO$19*HO45)+(HP$19*HP45)+(HQ$19*HQ45)+(HR$19*HR45)+(HS$19*HS45)+(HT$19*HT45)+(HU$19*HU45)+(HV$19*HV45)+(HW$19*HW45)+(HX$19*HX45)+(HY$19*HY45)+(HZ$19*HZ45)+(IA$19*IA45)+(IB$19*IB45)+(IC$19*IC45)+(ID$19*ID45)+(IE$19*IE45)+(IF$19*IF45)+(IG$19*IG45)+(IH$19*IH45)+(II$19*II45)+(IJ$19*IJ45)+(IK$19*IK45)+(IL$19*IL45))","v":0},null,null,null,null,null,null,null,null,null,null,null,null,null,null,null,null,null,null,null,null,null,null,null,null,null,null,{"$f":"IF(OR('Set UP'!$C31=0,'Set UP'!$D31=0,'Set UP'!$E31=0),\"\",(IO$19*IO45)+(IP$19*IP45)+(IQ$19*IQ45)+(IR$19*IR45)+(IS$19*IS45)+(IT$19*IT45)+(IU$19*IU45)+(IV$19*IV45)+(IW$19*IW45)+(IX$19*IX45)+(IY$19*IY45)+(IZ$19*IZ45)+(JA$19*JA45)+(JB$19*JB45)+(JC$19*JC45)+(JD$19*JD45)+(JE$19*JE45)+(JF$19*JF45)+(JG$19*JG45)+(JH$19*JH45)+(JI$19*JI45)+(JJ$19*JJ45)+(JK$19*JK45)+(JL$19*JL45)+(JM$19*JM45))","v":0},{"$f":"IF(OR('Set UP'!$C31=0,'Set UP'!$D31=0,'Set UP'!$E31=0),\"\",(AF45+BG45+CH45+DI45+EJ45+FK45+GL45+HM45+IN45+JO45))","v":136.5},{"$f":"IF(OR('Set UP'!$C31=0,'Set UP'!$D31=0,'Set UP'!$E31=0),\"\",RANK(JP45,$JP$21:$JP$60,0))","v":25},{"$f":"IF(OR('Set UP'!K31<>1,'Set UP'!C31=0,'Set UP'!D31=0,'Set UP'!E31=0,'Set UP'!F31=0),\"\",$JP45)","v":""},{"$f":"IF(OR('Set UP'!K31<>1,'Set UP'!C31=0,'Set UP'!D31=0,'Set UP'!E31=0,'Set UP'!F31=0),\"\",RANK(JR45,$JR$21:$JR$60,0))","v":""},{"$f":"IF(OR('Set UP'!K31<>2,'Set UP'!C31=0,'Set UP'!D31=0,'Set UP'!E31=0,'Set UP'!F31=0),\"\",$JP45)","v":136.5},{"$f":"IF(OR('Set UP'!K31<>2,'Set UP'!C31=0,'Set UP'!D31=0,'Set UP'!E31=0,'Set UP'!F31=0),\"\",RANK(JT45,$JT$21:$JT$60,0))","v":11},{"$f":"IF(OR('Set UP'!F31<>\"F\",'Set UP'!C31=0,'Set UP'!D31=0,'Set UP'!E31=0),\"\",$JP45)","v":""},{"$f":"IF(OR('Set UP'!F31<>\"F\",'Set UP'!C31=0,'Set UP'!D31=0,'Set UP'!E31=0),\"\",RANK(JV45,$JV$21:$JV$60,0))","v":""},{"$f":"IF(OR('Set UP'!F31<>\"NS\",'Set UP'!C31=0,'Set UP'!D31=0,'Set UP'!E31=0),\"\",$JP45)","v":""},{"$f":"IF(OR('Set UP'!F31<>\"NS\",'Set UP'!C31=0,'Set UP'!D31=0,'Set UP'!E31=0),\"\",RANK(JX45,$JX$21:$JX$60,0))","v":""},{"$f":"IF(OR('Set UP'!$C31=0,'Set UP'!$D31=0,'Set UP'!$E31=0,JP45=0),\"\",JP45/MAX(JP$21:JP$60)*1000)","v":462.71186440677963}]
[null,26,{"$f":"IF(OR('Set UP'!$C32=0,'Set UP'!$D32=0,'Set UP'!$E32=0,'Set UP'!F32=0),\"  --\",'Set UP'!C32)","v":1442},{"$f":"IF(OR('Set UP'!$C32=0,'Set UP'!$D32=0,'Set UP'!$E32=0,'Set UP'!F32=0),\"  --\",'Set UP'!D32&\" \"&'Set UP'!E32)","v":"University of Birmingham A"},{"$f":"IF(OR('Set UP'!$C32=0,'Set UP'!$D32=0,'Set UP'!$E32=0,'Set UP'!F32=0),\"  --\",'Set UP'!F32)","v":"S"},5,4,1,6,0,7,2,null,null,null,null,null,null,null,null,null,null,null,null,null,null,null,null,null,null,null,{"$f":"IF(OR('Set UP'!$C32=0,'Set UP'!$D32=0,'Set UP'!$E32=0),\"\",(F$19*F46)+(G$19*G46)+(H$19*H46)+(I$19*I46)+(J$19*J46)+(K$19*K46)+(L$19*L46)+(M$19*M46)+(N$19*N46)+(O$19*O46)+(P$19*P46)+(Q$19*Q46)+(R$19*R46)+(S$19*S46)+(T$19*T46)+(U$19*U46)+(V$19*V46)+(W$19*W46)+(X$19*X46)+(Y$19*Y46)+(Z$19*Z46)+(AA$19*AA46)+(AB$19*AB46)+(AC$19*AC46)+(AD$19*AD46))","v":31},8,8,7,6,7,6,8,8,null,null,null,null,null,null,null,null,null,null,null,null,null,null,null,null,null,null,{"$f":"IF(OR('Set UP'!$C32=0,'Set UP'!$D32=0,'Set UP'!$E32=0),\"\",(AG$19*AG46)+(AH$19*AH46)+(AI$19*AI46)+(AJ$19*AJ46)+(AK$19*AK46)+(AL$19*AL46)+(AM$19*AM46)+(AN$19*AN46)+(AO$19*AO46)+(AP$19*AP46)+(AQ$19*AQ46)+(AR$19*AR46)+(AS$19*AS46)+(AT$19*AT46)+(AU$19*AU46)+(AV$19*AV46)+(AW$19*AW46)+(AX$19*AX46)+(AY$19*AY46)+(AZ$19*AZ46)+(BA$19*BA46)+(BB$19*BB46)+(BC$19*BC46)+(BD$19*BD46)+(BE$19*BE46))","v":64.5},8,9,10,3,9,10,0,null,null,null,null,null,null,null,null,null,null,null,null,null,null,null,null,null,null,null,{"$f":"IF(OR('Set UP'!$C32=0,'Set UP'!$D32=0,'Set UP'!$E32=0),\"\",(BH$19*BH46)+(BI$19*BI46)+(BJ$19*BJ46)+(BK$19*BK46)+(BL$19*BL46)+(BM$19*BM46)+(BN$19*BN46)+(BO$19*BO46)+(BP$19*BP46)+(BQ$19*BQ46)+(BR$19*BR46)+(BS$19*BS46)+(BT$19*BT46)+(BU$19*BU46)+(BV$19*BV46)+(BW$19*BW46)+(BX$19*BX46)+(BY$19*BY46)+(BZ$19*BZ46)+(CA$19*CA46)+(CB$19*CB46)+(CC$19*CC46)+(CD$19*CD46)+(CE$19*CE46)+(CF$19*CF46))","v":58.5},8,1,4,2,2,2,1,null,null,null,null,null,null,null,null,null,null,null,null,null,null,null,null,null,null,null,{"$f":"IF(OR('Set UP'!$C32=0,'Set UP'!$D32=0,'Set UP'!$E32=0),\"\",(CI$19*CI46)+(CJ$19*CJ46)+(CK$19*CK46)+(CL$19*CL46)+(CM$19*CM46)+(CN$19*CN46)+(CO$19*CO46)+(CP$19*CP46)+(CQ$19*CQ46)+(CR$19*CR46)+(CS$19*CS46)+(CT$19*CT46)+(CU$19*CU46)+(CV$19*CV46)+(CW$19*CW46)+(CX$19*CX46)+(CY$19*CY46)+(CZ$19*CZ46)+(DA$19*DA46)+(DB$19*DB46)+(DC$19*DC46)+(DD$19*DD46)+(DE$19*DE46)+(DF$19*DF46)+(DG$19*DG46))","v":25},10,0,0,10,10,10,6,6,10,10,null,null,null,null,null,null,null,null,null,null,null,null,null,null,null,null,{"$f":"IF(OR('Set UP'!$C32=0,'Set UP'!$D32=0,'Set UP'!$E32=0),\"\",(DJ$19*DJ46)+(DK$19*DK46)+(DL$19*DL46)+(DM$19*DM46)+(DN$19*DN46)+(DO$19*DO46)+(DP$19*DP46)+(DQ$19*DQ46)+(DR$19*DR46)+(DS$19*DS46)+(DT$19*DT46)+(DU$19*DU46)+(DV$19*DV46)+(DW$19*DW46)+(DX$19*DX46)+(DY$19*DY46)+(DZ$19*DZ46)+(EA$19*EA46)+(EB$19*EB46)+(EC$19*EC46)+(ED$19*ED46)+(EE$19*EE46)+(EF$19*EF46)+(EG$19*EG46)+(EH$19*EH46))","v":59},3,5,6,4,null,null,null,null,null,null,null,null,null,null,null,null,null,null,null,null,null,null,null,null,null,null,{"$f":"IF(OR('Set UP'!$C32=0,'Set UP'!$D32=0,'Set UP'!$E32=0),\"\",(EK$19*EK46)+(EL$19*EL46)+(EM$19*EM46)+(EN$19*EN46)+(EO$19*EO46)+(EP$19*EP46)+(EQ$19*EQ46)+(ER$19*ER46)+(ES$19*ES46)+(ET$19*ET46)+(EU$19*EU46)+(EV$19*EV46)+(EW$19*EW46)+(EX$19*EX46)+(EY$19*EY46)+(EZ$19*EZ46)+(FA$19*FA46)+(FB$19*FB46)+(FC$19*FC46)+(FD$19*FD46)+(FE$19*FE46)+(FF$19*FF46)+(FG$19*FG46)+(FH$19*FH46)+(FI$19*FI46))","v":31.5},null,null,null,null,null,null,null,null,null,null,null,null,null,null,null,null,null,null,null,null,null,null,null,null,null,null,{"$f":"IF(OR('Set UP'!$C32=0,'Set UP'!$D32=0,'Set UP'!$E32=0),\"\",(FL$19*FL46)+(FM$19*FM46)+(FN$19*FN46)+(FO$19*FO46)+(FP$19*FP46)+(FQ$19*FQ46)+(FR$19*FR46)+(FS$19*FS46)+(FT$19*FT46)+(FU$19*FU46)+(FV$19*FV46)+(FW$19*FW46)+(FX$19*FX46)+(FY$19*FY46)+(FZ$19*FZ46)+(GA$19*GA46)+(GB$19*GB46)+(GC$19*GC46)+(GD$19*GD46)+(GE$19*GE46)+(GF$19*GF46)+(GG$19*GG46)+(GH$19*GH46)+(GI$19*GI46)+(GJ$19*GJ46))","v":0},null,null,null,null,null,null,null,null,null,null,null,null,null,null,null,null,null,null,null,null,null,null,null,null,null,null,{"$f":"IF(OR('Set UP'!$C32=0,'Set UP'!$D32=0,'Set UP'!$E32=0),\"\",(GM$19*GM46)+(GN$19*GN46)+(GO$19*GO46)+(GP$19*GP46)+(GQ$19*GQ46)+(GR$19*GR46)+(GS$19*GS46)+(GT$19*GT46)+(GU$19*GU46)+(GV$19*GV46)+(GW$19*GW46)+(GX$19*GX46)+(GY$19*GY46)+(GZ$19*GZ46)+(HA$19*HA46)+(HB$19*HB46)+(HC$19*HC46)+(HD$19*HD46)+(HE$19*HE46)+(HF$19*HF46)+(HG$19*HG46)+(HH$19*HH46)+(HI$19*HI46)+(HJ$19*HJ46)+(HK$19*HK46))","v":0},null,null,null,null,null,null,null,null,null,null,null,null,null,null,null,null,null,null,null,null,null,null,null,null,null,null,{"$f":"IF(OR('Set UP'!$C32=0,'Set UP'!$D32=0,'Set UP'!$E32=0),\"\",(HN$19*HN46)+(HO$19*HO46)+(HP$19*HP46)+(HQ$19*HQ46)+(HR$19*HR46)+(HS$19*HS46)+(HT$19*HT46)+(HU$19*HU46)+(HV$19*HV46)+(HW$19*HW46)+(HX$19*HX46)+(HY$19*HY46)+(HZ$19*HZ46)+(IA$19*IA46)+(IB$19*IB46)+(IC$19*IC46)+(ID$19*ID46)+(IE$19*IE46)+(IF$19*IF46)+(IG$19*IG46)+(IH$19*IH46)+(II$19*II46)+(IJ$19*IJ46)+(IK$19*IK46)+(IL$19*IL46))","v":0},null,null,null,null,null,null,null,null,null,null,null,null,null,null,null,null,null,null,null,null,null,null,null,null,null,null,{"$f":"IF(OR('Set UP'!$C32=0,'Set UP'!$D32=0,'Set UP'!$E32=0),\"\",(IO$19*IO46)+(IP$19*IP46)+(IQ$19*IQ46)+(IR$19*IR46)+(IS$19*IS46)+(IT$19*IT46)+(IU$19*IU46)+(IV$19*IV46)+(IW$19*IW46)+(IX$19*IX46)+(IY$19*IY46)+(IZ$19*IZ46)+(JA$19*JA46)+(JB$19*JB46)+(JC$19*JC46)+(JD$19*JD46)+(JE$19*JE46)+(JF$19*JF46)+(JG$19*JG46)+(JH$19*JH46)+(JI$19*JI46)+(JJ$19*JJ46)+(JK$19*JK46)+(JL$19*JL46)+(JM$19*JM46))","v":0},{"$f":"IF(OR('Set UP'!$C32=0,'Set UP'!$D32=0,'Set UP'!$E32=0),\"\",(AF46+BG46+CH46+DI46+EJ46+FK46+GL46+HM46+IN46+JO46))","v":269.5},{"$f":"IF(OR('Set UP'!$C32=0,'Set UP'!$D32=0,'Set UP'!$E32=0),\"\",RANK(JP46,$JP$21:$JP$60,0))","v":4},{"$f":"IF(OR('Set UP'!K32<>1,'Set UP'!C32=0,'Set UP'!D32=0,'Set UP'!E32=0,'Set UP'!F32=0),\"\",$JP46)","v":269.5},{"$f":"IF(OR('Set UP'!K32<>1,'Set UP'!C32=0,'Set UP'!D32=0,'Set UP'!E32=0,'Set UP'!F32=0),\"\",RANK(JR46,$JR$21:$JR$60,0))","v":3},{"$f":"IF(OR('Set UP'!K32<>2,'Set UP'!C32=0,'Set UP'!D32=0,'Set UP'!E32=0,'Set UP'!F32=0),\"\",$JP46)","v":""},{"$f":"IF(OR('Set UP'!K32<>2,'Set UP'!C32=0,'Set UP'!D32=0,'Set UP'!E32=0,'Set UP'!F32=0),\"\",RANK(JT46,$JT$21:$JT$60,0))","v":""},{"$f":"IF(OR('Set UP'!F32<>\"F\",'Set UP'!C32=0,'Set UP'!D32=0,'Set UP'!E32=0),\"\",$JP46)","v":""},{"$f":"IF(OR('Set UP'!F32<>\"F\",'Set UP'!C32=0,'Set UP'!D32=0,'Set UP'!E32=0),\"\",RANK(JV46,$JV$21:$JV$60,0))","v":""},{"$f":"IF(OR('Set UP'!F32<>\"NS\",'Set UP'!C32=0,'Set UP'!D32=0,'Set UP'!E32=0),\"\",$JP46)","v":""},{"$f":"IF(OR('Set UP'!F32<>\"NS\",'Set UP'!C32=0,'Set UP'!D32=0,'Set UP'!E32=0),\"\",RANK(JX46,$JX$21:$JX$60,0))","v":""},{"$f":"IF(OR('Set UP'!$C32=0,'Set UP'!$D32=0,'Set UP'!$E32=0,JP46=0),\"\",JP46/MAX(JP$21:JP$60)*1000)","v":913.5593220338983}]
[null,27,{"$f":"IF(OR('Set UP'!$C33=0,'Set UP'!$D33=0,'Set UP'!$E33=0,'Set UP'!F33=0),\"  --\",'Set UP'!C33)","v":1456},{"$f":"IF(OR('Set UP'!$C33=0,'Set UP'!$D33=0,'Set UP'!$E33=0,'Set UP'!F33=0),\"  --\",'Set UP'!D33&\" \"&'Set UP'!E33)","v":"University of Warwick A"},{"$f":"IF(OR('Set UP'!$C33=0,'Set UP'!$D33=0,'Set UP'!$E33=0,'Set UP'!F33=0),\"  --\",'Set UP'!F33)","v":"S"},5,5,2,7,2,6,0,null,null,null,null,null,null,null,null,null,null,null,null,null,null,null,null,null,null,null,{"$f":"IF(OR('Set UP'!$C33=0,'Set UP'!$D33=0,'Set UP'!$E33=0),\"\",(F$19*F47)+(G$19*G47)+(H$19*H47)+(I$19*I47)+(J$19*J47)+(K$19*K47)+(L$19*L47)+(M$19*M47)+(N$19*N47)+(O$19*O47)+(P$19*P47)+(Q$19*Q47)+(R$19*R47)+(S$19*S47)+(T$19*T47)+(U$19*U47)+(V$19*V47)+(W$19*W47)+(X$19*X47)+(Y$19*Y47)+(Z$19*Z47)+(AA$19*AA47)+(AB$19*AB47)+(AC$19*AC47)+(AD$19*AD47))","v":33.5},5,5,4,8,6,7,8,8,null,null,null,null,null,null,null,null,null,null,null,null,null,null,null,null,null,null,{"$f":"IF(OR('Set UP'!$C33=0,'Set UP'!$D33=0,'Set UP'!$E33=0),\"\",(AG$19*AG47)+(AH$19*AH47)+(AI$19*AI47)+(AJ$19*AJ47)+(AK$19*AK47)+(AL$19*AL47)+(AM$19*AM47)+(AN$19*AN47)+(AO$19*AO47)+(AP$19*AP47)+(AQ$19*AQ47)+(AR$19*AR47)+(AS$19*AS47)+(AT$19*AT47)+(AU$19*AU47)+(AV$19*AV47)+(AW$19*AW47)+(AX$19*AX47)+(AY$19*AY47)+(AZ$19*AZ47)+(BA$19*BA47)+(BB$19*BB47)+(BC$19*BC47)+(BD$19*BD47)+(BE$19*BE47))","v":59},8,4,10,2,9,7,0,null,null,null,null,null,null,null,null,null,null,null,null,null,null,null,null,null,null,null,{"$f":"IF(OR('Set UP'!$C33=0,'Set UP'!$D33=0,'Set UP'!$E33=0),\"\",(BH$19*BH47)+(BI$19*BI47)+(BJ$19*BJ47)+(BK$19*BK47)+(BL$19*BL47)+(BM$19*BM47)+(BN$19*BN47)+(BO$19*BO47)+(BP$19*BP47)+(BQ$19*BQ47)+(BR$19*BR47)+(BS$19*BS47)+(BT$19*BT47)+(BU$19*BU47)+(BV$19*BV47)+(BW$19*BW47)+(BX$19*BX47)+(BY$19*BY47)+(BZ$19*BZ47)+(CA$19*CA47)+(CB$19*CB47)+(CC$19*CC47)+(CD$19*CD47)+(CE$19*CE47)+(CF$19*CF47))","v":45.5},9,9,9,5,9,0,1,null,null,null,null,null,null,null,null,null,null,null,null,null,null,null,null,null,null,null,{"$f":"IF(OR('Set UP'!$C33=0,'Set UP'!$D33=0,'Set UP'!$E33=0),\"\",(CI$19*CI47)+(CJ$19*CJ47)+(CK$19*CK47)+(CL$19*CL47)+(CM$19*CM47)+(CN$19*CN47)+(CO$19*CO47)+(CP$19*CP47)+(CQ$19*CQ47)+(CR$19*CR47)+(CS$19*CS47)+(CT$19*CT47)+(CU$19*CU47)+(CV$19*CV47)+(CW$19*CW47)+(CX$19*CX47)+(CY$19*CY47)+(CZ$19*CZ47)+(DA$19*DA47)+(DB$19*DB47)+(DC$19*DC47)+(DD$19*DD47)+(DE$19*DE47)+(DF$19*DF47)+(DG$19*DG47))","v":55.5},10,0,0,10,10,10,6,0,0,0,null,null,null,null,null,null,null,null,null,null,null,null,null,null,null,null,{"$f":"IF(OR('Set UP'!$C33=0,'Set UP'!$D33=0,'Set UP'!$E33=0),\"\",(DJ$19*DJ47)+(DK$19*DK47)+(DL$19*DL47)+(DM$19*DM47)+(DN$19*DN47)+(DO$19*DO47)+(DP$19*DP47)+(DQ$19*DQ47)+(DR$19*DR47)+(DS$19*DS47)+(DT$19*DT47)+(DU$19*DU47)+(DV$19*DV47)+(DW$19*DW47)+(DX$19*DX47)+(DY$19*DY47)+(DZ$19*DZ47)+(EA$19*EA47)+(EB$19*EB47)+(EC$19*EC47)+(ED$19*ED47)+(EE$19*EE47)+(EF$19*EF47)+(EG$19*EG47)+(EH$19*EH47))","v":43},7,9,9,7,null,null,null,null,null,null,null,null,null,null,null,null,null,null,null,null,null,null,null,null,null,null,{"$f":"IF(OR('Set UP'!$C33=0,'Set UP'!$D33=0,'Set UP'!$E33=0),\"\",(EK$19*EK47)+(EL$19*EL47)+(EM$19*EM47)+(EN$19*EN47)+(EO$19*EO47)+(EP$19*EP47)+(EQ$19*EQ47)+(ER$19*ER47)+(ES$19*ES47)+(ET$19*ET47)+(EU$19*EU47)+(EV$19*EV47)+(EW$19*EW47)+(EX$19*EX47)+(EY$19*EY47)+(EZ$19*EZ47)+(FA$19*FA47)+(FB$19*FB47)+(FC$19*FC47)+(FD$19*FD47)+(FE$19*FE47)+(FF$19*FF47)+(FG$19*FG47)+(FH$19*FH47)+(FI$19*FI47))","v":58.5},null,null,null,null,null,null,null,null,null,null,null,null,null,null,null,null,null,null,null,null,null,null,null,null,null,null,{"$f":"IF(OR('Set UP'!$C33=0,'Set UP'!$D33=0,'Set UP'!$E33=0),\"\",(FL$19*FL47)+(FM$19*FM47)+(FN$19*FN47)+(FO$19*FO47)+(FP$19*FP47)+(FQ$19*FQ47)+(FR$19*FR47)+(FS$19*FS47)+(FT$19*FT47)+(FU$19*FU47)+(FV$19*FV47)+(FW$19*FW47)+(FX$19*FX47)+(FY$19*FY47)+(FZ$19*FZ47)+(GA$19*GA47)+(GB$19*GB47)+(GC$19*GC47)+(GD$19*GD47)+(GE$19*GE47)+(GF$19*GF47)+(GG$19*GG47)+(GH$19*GH47)+(GI$19*GI47)+(GJ$19*GJ47))","v":0},null,null,null,null,null,null,null,null,null,null,null,null,null,null,null,null,null,null,null,null,null,null,null,null,null,null,{"$f":"IF(OR('Set UP'!$C33=0,'Set UP'!$D33=0,'Set UP'!$E33=0),\"\",(GM$19*GM47)+(GN$19*GN47)+(GO$19*GO47)+(GP$19*GP47)+(GQ$19*GQ47)+(GR$19*GR47)+(GS$19*GS47)+(GT$19*GT47)+(GU$19*GU47)+(GV$19*GV47)+(GW$19*GW47)+(GX$19*GX47)+(GY$19*GY47)+(GZ$19*GZ47)+(HA$19*HA47)+(HB$19*HB47)+(HC$19*HC47)+(HD$19*HD47)+(HE$19*HE47)+(HF$19*HF47)+(HG$19*HG47)+(HH$19*HH47)+(HI$19*HI47)+(HJ$19*HJ47)+(HK$19*HK47))","v":0},null,null,null,null,null,null,null,null,null,null,null,null,null,null,null,null,null,null,null,null,null,null,null,null,null,null,{"$f":"IF(OR('Set UP'!$C33=0,'Set UP'!$D33=0,'Set UP'!$E33=0),\"\",(HN$19*HN47)+(HO$19*HO47)+(HP$19*HP47)+(HQ$19*HQ47)+(HR$19*HR47)+(HS$19*HS47)+(HT$19*HT47)+(HU$19*HU47)+(HV$19*HV47)+(HW$19*HW47)+(HX$19*HX47)+(HY$19*HY47)+(HZ$19*HZ47)+(IA$19*IA47)+(IB$19*IB47)+(IC$19*IC47)+(ID$19*ID47)+(IE$19*IE47)+(IF$19*IF47)+(IG$19*IG47)+(IH$19*IH47)+(II$19*II47)+(IJ$19*IJ47)+(IK$19*IK47)+(IL$19*IL47))","v":0},null,null,null,null,null,null,null,null,null,null,null,null,null,null,null,null,null,null,null,null,null,null,null,null,null,null,{"$f":"IF(OR('Set UP'!$C33=0,'Set UP'!$D33=0,'Set UP'!$E33=0),\"\",(IO$19*IO47)+(IP$19*IP47)+(IQ$19*IQ47)+(IR$19*IR47)+(IS$19*IS47)+(IT$19*IT47)+(IU$19*IU47)+(IV$19*IV47)+(IW$19*IW47)+(IX$19*IX47)+(IY$19*IY47)+(IZ$19*IZ47)+(JA$19*JA47)+(JB$19*JB47)+(JC$19*JC47)+(JD$19*JD47)+(JE$19*JE47)+(JF$19*JF47)+(JG$19*JG47)+(JH$19*JH47)+(JI$19*JI47)+(JJ$19*JJ47)+(JK$19*JK47)+(JL$19*JL47)+(JM$19*JM47))","v":0},{"$f":"IF(OR('Set UP'!$C33=0,'Set UP'!$D33=0,'Set UP'!$E33=0),\"\",(AF47+BG47+CH47+DI47+EJ47+FK47+GL47+HM47+IN47+JO47))","v":295},{"$f":"IF(OR('Set UP'!$C33=0,'Set UP'!$D33=0,'Set UP'!$E33=0),\"\",RANK(JP47,$JP$21:$JP$60,0))","v":1},{"$f":"IF(OR('Set UP'!K33<>1,'Set UP'!C33=0,'Set UP'!D33=0,'Set UP'!E33=0,'Set UP'!F33=0),\"\",$JP47)","v":295},{"$f":"IF(OR('Set UP'!K33<>1,'Set UP'!C33=0,'Set UP'!D33=0,'Set UP'!E33=0,'Set UP'!F33=0),\"\",RANK(JR47,$JR$21:$JR$60,0))","v":1},{"$f":"IF(OR('Set UP'!K33<>2,'Set UP'!C33=0,'Set UP'!D33=0,'Set UP'!E33=0,'Set UP'!F33=0),\"\",$JP47)","v":""},{"$f":"IF(OR('Set UP'!K33<>2,'Set UP'!C33=0,'Set UP'!D33=0,'Set UP'!E33=0,'Set UP'!F33=0),\"\",RANK(JT47,$JT$21:$JT$60,0))","v":""},{"$f":"IF(OR('Set UP'!F33<>\"F\",'Set UP'!C33=0,'Set UP'!D33=0,'Set UP'!E33=0),\"\",$JP47)","v":""},{"$f":"IF(OR('Set UP'!F33<>\"F\",'Set UP'!C33=0,'Set UP'!D33=0,'Set UP'!E33=0),\"\",RANK(JV47,$JV$21:$JV$60,0))","v":""},{"$f":"IF(OR('Set UP'!F33<>\"NS\",'Set UP'!C33=0,'Set UP'!D33=0,'Set UP'!E33=0),\"\",$JP47)","v":""},{"$f":"IF(OR('Set UP'!F33<>\"NS\",'Set UP'!C33=0,'Set UP'!D33=0,'Set UP'!E33=0),\"\",RANK(JX47,$JX$21:$JX$60,0))","v":""},{"$f":"IF(OR('Set UP'!$C33=0,'Set UP'!$D33=0,'Set UP'!$E33=0,JP47=0),\"\",JP47/MAX(JP$21:JP$60)*1000)","v":1000}]
[null,28,{"$f":"IF(OR('Set UP'!$C34=0,'Set UP'!$D34=0,'Set UP'!$E34=0,'Set UP'!F34=0),\"  --\",'Set UP'!C34)","v":1460},{"$f":"IF(OR('Set UP'!$C34=0,'Set UP'!$D34=0,'Set UP'!$E34=0,'Set UP'!F34=0),\"  --\",'Set UP'!D34&\" \"&'Set UP'!E34)","v":"Bristol University A"},{"$f":"IF(OR('Set UP'!$C34=0,'Set UP'!$D34=0,'Set UP'!$E34=0,'Set UP'!F34=0),\"  --\",'Set UP'!F34)","v":"S"},3,3,0,2,0,0,0,null,null,null,null,null,null,null,null,null,null,null,null,null,null,null,null,null,null,null,{"$f":"IF(OR('Set UP'!$C34=0,'Set UP'!$D34=0,'Set UP'!$E34=0),\"\",(F$19*F48)+(G$19*G48)+(H$19*H48)+(I$19*I48)+(J$19*J48)+(K$19*K48)+(L$19*L48)+(M$19*M48)+(N$19*N48)+(O$19*O48)+(P$19*P48)+(Q$19*Q48)+(R$19*R48)+(S$19*S48)+(T$19*T48)+(U$19*U48)+(V$19*V48)+(W$19*W48)+(X$19*X48)+(Y$19*Y48)+(Z$19*Z48)+(AA$19*AA48)+(AB$19*AB48)+(AC$19*AC48)+(AD$19*AD48))","v":9.5},2,2,2,6,8,6,3,8,null,null,null,null,null,null,null,null,null,null,null,null,null,null,null,null,null,null,{"$f":"IF(OR('Set UP'!$C34=0,'Set UP'!$D34=0,'Set UP'!$E34=0),\"\",(AG$19*AG48)+(AH$19*AH48)+(AI$19*AI48)+(AJ$19*AJ48)+(AK$19*AK48)+(AL$19*AL48)+(AM$19*AM48)+(AN$19*AN48)+(AO$19*AO48)+(AP$19*AP48)+(AQ$19*AQ48)+(AR$19*AR48)+(AS$19*AS48)+(AT$19*AT48)+(AU$19*AU48)+(AV$19*AV48)+(AW$19*AW48)+(AX$19*AX48)+(AY$19*AY48)+(AZ$19*AZ48)+(BA$19*BA48)+(BB$19*BB48)+(BC$19*BC48)+(BD$19*BD48)+(BE$19*BE48))","v":47},8,4,0,0,9,6,0,null,null,null,null,null,null,null,null,null,null,null,null,null,null,null,null,null,null,null,{"$f":"IF(OR('Set UP'!$C34=0,'Set UP'!$D34=0,'Set UP'!$E34=0),\"\",(BH$19*BH48)+(BI$19*BI48)+(BJ$19*BJ48)+(BK$19*BK48)+(BL$19*BL48)+(BM$19*BM48)+(BN$19*BN48)+(BO$19*BO48)+(BP$19*BP48)+(BQ$19*BQ48)+(BR$19*BR48)+(BS$19*BS48)+(BT$19*BT48)+(BU$19*BU48)+(BV$19*BV48)+(BW$19*BW48)+(BX$19*BX48)+(BY$19*BY48)+(BZ$19*BZ48)+(CA$19*CA48)+(CB$19*CB48)+(CC$19*CC48)+(CD$19*CD48)+(CE$19*CE48)+(CF$19*CF48))","v":32},7,10,9,6,9,2,1,null,null,null,null,null,null,null,null,null,null,null,null,null,null,null,null,null,null,null,{"$f":"IF(OR('Set UP'!$C34=0,'Set UP'!$D34=0,'Set UP'!$E34=0),\"\",(CI$19*CI48)+(CJ$19*CJ48)+(CK$19*CK48)+(CL$19*CL48)+(CM$19*CM48)+(CN$19*CN48)+(CO$19*CO48)+(CP$19*CP48)+(CQ$19*CQ48)+(CR$19*CR48)+(CS$19*CS48)+(CT$19*CT48)+(CU$19*CU48)+(CV$19*CV48)+(CW$19*CW48)+(CX$19*CX48)+(CY$19*CY48)+(CZ$19*CZ48)+(DA$19*DA48)+(DB$19*DB48)+(DC$19*DC48)+(DD$19*DD48)+(DE$19*DE48)+(DF$19*DF48)+(DG$19*DG48))","v":57.5},10,0,0,10,10,10,4,6,0,5,null,null,null,null,null,null,null,null,null,null,null,null,null,null,null,null,{"$f":"IF(OR('Set UP'!$C34=0,'Set UP'!$D34=0,'Set UP'!$E34=0),\"\",(DJ$19*DJ48)+(DK$19*DK48)+(DL$19*DL48)+(DM$19*DM48)+(DN$19*DN48)+(DO$19*DO48)+(DP$19*DP48)+(DQ$19*DQ48)+(DR$19*DR48)+(DS$19*DS48)+(DT$19*DT48)+(DU$19*DU48)+(DV$19*DV48)+(DW$19*DW48)+(DX$19*DX48)+(DY$19*DY48)+(DZ$19*DZ48)+(EA$19*EA48)+(EB$19*EB48)+(EC$19*EC48)+(ED$19*ED48)+(EE$19*EE48)+(EF$19*EF48)+(EG$19*EG48)+(EH$19*EH48))","v":46.5},9,6,6,6,null,null,null,null,null,null,null,null,null,null,null,null,null,null,null,null,null,null,null,null,null,null,{"$f":"IF(OR('Set UP'!$C34=0,'Set UP'!$D34=0,'Set UP'!$E34=0),\"\",(EK$19*EK48)+(EL$19*EL48)+(EM$19*EM48)+(EN$19*EN48)+(EO$19*EO48)+(EP$19*EP48)+(EQ$19*EQ48)+(ER$19*ER48)+(ES$19*ES48)+(ET$19*ET48)+(EU$19*EU48)+(EV$19*EV48)+(EW$19*EW48)+(EX$19*EX48)+(EY$19*EY48)+(EZ$19*EZ48)+(FA$19*FA48)+(FB$19*FB48)+(FC$19*FC48)+(FD$19*FD48)+(FE$19*FE48)+(FF$19*FF48)+(FG$19*FG48)+(FH$19*FH48)+(FI$19*FI48))","v":54},null,null,null,null,null,null,null,null,null,null,null,null,null,null,null,null,null,null,null,null,null,null,null,null,null,null,{"$f":"IF(OR('Set UP'!$C34=0,'Set UP'!$D34=0,'Set UP'!$E34=0),\"\",(FL$19*FL48)+(FM$19*FM48)+(FN$19*FN48)+(FO$19*FO48)+(FP$19*FP48)+(FQ$19*FQ48)+(FR$19*FR48)+(FS$19*FS48)+(FT$19*FT48)+(FU$19*FU48)+(FV$19*FV48)+(FW$19*FW48)+(FX$19*FX48)+(FY$19*FY48)+(FZ$19*FZ48)+(GA$19*GA48)+(GB$19*GB48)+(GC$19*GC48)+(GD$19*GD48)+(GE$19*GE48)+(GF$19*GF48)+(GG$19*GG48)+(GH$19*GH48)+(GI$19*GI48)+(GJ$19*GJ48))","v":0},null,null,null,null,null,null,null,null,null,null,null,null,null,null,null,null,null,null,null,null,null,null,null,null,null,null,{"$f":"IF(OR('Set UP'!$C34=0,'Set UP'!$D34=0,'Set UP'!$E34=0),\"\",(GM$19*GM48)+(GN$19*GN48)+(GO$19*GO48)+(GP$19*GP48)+(GQ$19*GQ48)+(GR$19*GR48)+(GS$19*GS48)+(GT$19*GT48)+(GU$19*GU48)+(GV$19*GV48)+(GW$19*GW48)+(GX$19*GX48)+(GY$19*GY48)+(GZ$19*GZ48)+(HA$19*HA48)+(HB$19*HB48)+(HC$19*HC48)+(HD$19*HD48)+(HE$19*HE48)+(HF$19*HF48)+(HG$19*HG48)+(HH$19*HH48)+(HI$19*HI48)+(HJ$19*HJ48)+(HK$19*HK48))","v":0},null,null,null,null,null,null,null,null,null,null,null,null,null,null,null,null,null,null,null,null,null,null,null,null,null,null,{"$f":"IF(OR('Set UP'!$C34=0,'Set UP'!$D34=0,'Set UP'!$E34=0),\"\",(HN$19*HN48)+(HO$19*HO48)+(HP$19*HP48)+(HQ$19*HQ48)+(HR$19*HR48)+(HS$19*HS48)+(HT$19*HT48)+(HU$19*HU48)+(HV$19*HV48)+(HW$19*HW48)+(HX$19*HX48)+(HY$19*HY48)+(HZ$19*HZ48)+(IA$19*IA48)+(IB$19*IB48)+(IC$19*IC48)+(ID$19*ID48)+(IE$19*IE48)+(IF$19*IF48)+(IG$19*IG48)+(IH$19*IH48)+(II$19*II48)+(IJ$19*IJ48)+(IK$19*IK48)+(IL$19*IL48))","v":0},null,null,null,null,null,null,null,null,null,null,null,null,null,null,null,null,null,null,null,null,null,null,null,null,null,null,{"$f":"IF(OR('Set UP'!$C34=0,'Set UP'!$D34=0,'Set UP'!$E34=0),\"\",(IO$19*IO48)+(IP$19*IP48)+(IQ$19*IQ48)+(IR$19*IR48)+(IS$19*IS48)+(IT$19*IT48)+(IU$19*IU48)+(IV$19*IV48)+(IW$19*IW48)+(IX$19*IX48)+(IY$19*IY48)+(IZ$19*IZ48)+(JA$19*JA48)+(JB$19*JB48)+(JC$19*JC48)+(JD$19*JD48)+(JE$19*JE48)+(JF$19*JF48)+(JG$19*JG48)+(JH$19*JH48)+(JI$19*JI48)+(JJ$19*JJ48)+(JK$19*JK48)+(JL$19*JL48)+(JM$19*JM48))","v":0},{"$f":"IF(OR('Set UP'!$C34=0,'Set UP'!$D34=0,'Set UP'!$E34=0),\"\",(AF48+BG48+CH48+DI48+EJ48+FK48+GL48+HM48+IN48+JO48))","v":246.5},{"$f":"IF(OR('Set UP'!$C34=0,'Set UP'!$D34=0,'Set UP'!$E34=0),\"\",RANK(JP48,$JP$21:$JP$60,0))","v":12},{"$f":"IF(OR('Set UP'!K34<>1,'Set UP'!C34=0,'Set UP'!D34=0,'Set UP'!E34=0,'Set UP'!F34=0),\"\",$JP48)","v":246.5},{"$f":"IF(OR('Set UP'!K34<>1,'Set UP'!C34=0,'Set UP'!D34=0,'Set UP'!E34=0,'Set UP'!F34=0),\"\",RANK(JR48,$JR$21:$JR$60,0))","v":6},{"$f":"IF(OR('Set UP'!K34<>2,'Set UP'!C34=0,'Set UP'!D34=0,'Set UP'!E34=0,'Set UP'!F34=0),\"\",$JP48)","v":""},{"$f":"IF(OR('Set UP'!K34<>2,'Set UP'!C34=0,'Set UP'!D34=0,'Set UP'!E34=0,'Set UP'!F34=0),\"\",RANK(JT48,$JT$21:$JT$60,0))","v":""},{"$f":"IF(OR('Set UP'!F34<>\"F\",'Set UP'!C34=0,'Set UP'!D34=0,'Set UP'!E34=0),\"\",$JP48)","v":""},{"$f":"IF(OR('Set UP'!F34<>\"F\",'Set UP'!C34=0,'Set UP'!D34=0,'Set UP'!E34=0),\"\",RANK(JV48,$JV$21:$JV$60,0))","v":""},{"$f":"IF(OR('Set UP'!F34<>\"NS\",'Set UP'!C34=0,'Set UP'!D34=0,'Set UP'!E34=0),\"\",$JP48)","v":""},{"$f":"IF(OR('Set UP'!F34<>\"NS\",'Set UP'!C34=0,'Set UP'!D34=0,'Set UP'!E34=0),\"\",RANK(JX48,$JX$21:$JX$60,0))","v":""},{"$f":"IF(OR('Set UP'!$C34=0,'Set UP'!$D34=0,'Set UP'!$E34=0,JP48=0),\"\",JP48/MAX(JP$21:JP$60)*1000)","v":835.59322033898309}]
[null,29,{"$f":"IF(OR('Set UP'!$C35=0,'Set UP'!$D35=0,'Set UP'!$E35=0,'Set UP'!F35=0),\"  --\",'Set UP'!C35)","v":1437},{"$f":"IF(OR('Set UP'!$C35=0,'Set UP'!$D35=0,'Set UP'!$E35=0,'Set UP'!F35=0),\"  --\",'Set UP'!D35&\" \"&'Set UP'!E35)","v":"Swansea Universities Lifesaving A"},{"$f":"IF(OR('Set UP'!$C35=0,'Set UP'!$D35=0,'Set UP'!$E35=0,'Set UP'!F35=0),\"  --\",'Set UP'!F35)","v":"S"},0,0,0,7,3,5,2,null,null,null,null,null,null,null,null,null,null,null,null,null,null,null,null,null,null,null,{"$f":"IF(OR('Set UP'!$C35=0,'Set UP'!$D35=0,'Set UP'!$E35=0),\"\",(F$19*F49)+(G$19*G49)+(H$19*H49)+(I$19*I49)+(J$19*J49)+(K$19*K49)+(L$19*L49)+(M$19*M49)+(N$19*N49)+(O$19*O49)+(P$19*P49)+(Q$19*Q49)+(R$19*R49)+(S$19*S49)+(T$19*T49)+(U$19*U49)+(V$19*V49)+(W$19*W49)+(X$19*X49)+(Y$19*Y49)+(Z$19*Z49)+(AA$19*AA49)+(AB$19*AB49)+(AC$19*AC49)+(AD$19*AD49))","v":19.5},5,2,2,6,5,5,0,6,null,null,null,null,null,null,null,null,null,null,null,null,null,null,null,null,null,null,{"$f":"IF(OR('Set UP'!$C35=0,'Set UP'!$D35=0,'Set UP'!$E35=0),\"\",(AG$19*AG49)+(AH$19*AH49)+(AI$19*AI49)+(AJ$19*AJ49)+(AK$19*AK49)+(AL$19*AL49)+(AM$19*AM49)+(AN$19*AN49)+(AO$19*AO49)+(AP$19*AP49)+(AQ$19*AQ49)+(AR$19*AR49)+(AS$19*AS49)+(AT$19*AT49)+(AU$19*AU49)+(AV$19*AV49)+(AW$19*AW49)+(AX$19*AX49)+(AY$19*AY49)+(AZ$19*AZ49)+(BA$19*BA49)+(BB$19*BB49)+(BC$19*BC49)+(BD$19*BD49)+(BE$19*BE49))","v":38},0,0,0,0,8,6,0,null,null,null,null,null,null,null,null,null,null,null,null,null,null,null,null,null,null,null,{"$f":"IF(OR('Set UP'!$C35=0,'Set UP'!$D35=0,'Set UP'!$E35=0),\"\",(BH$19*BH49)+(BI$19*BI49)+(BJ$19*BJ49)+(BK$19*BK49)+(BL$19*BL49)+(BM$19*BM49)+(BN$19*BN49)+(BO$19*BO49)+(BP$19*BP49)+(BQ$19*BQ49)+(BR$19*BR49)+(BS$19*BS49)+(BT$19*BT49)+(BU$19*BU49)+(BV$19*BV49)+(BW$19*BW49)+(BX$19*BX49)+(BY$19*BY49)+(BZ$19*BZ49)+(CA$19*CA49)+(CB$19*CB49)+(CC$19*CC49)+(CD$19*CD49)+(CE$19*CE49)+(CF$19*CF49))","v":17},3,8,6,5,7,5,4,null,null,null,null,null,null,null,null,null,null,null,null,null,null,null,null,null,null,null,{"$f":"IF(OR('Set UP'!$C35=0,'Set UP'!$D35=0,'Set UP'!$E35=0),\"\",(CI$19*CI49)+(CJ$19*CJ49)+(CK$19*CK49)+(CL$19*CL49)+(CM$19*CM49)+(CN$19*CN49)+(CO$19*CO49)+(CP$19*CP49)+(CQ$19*CQ49)+(CR$19*CR49)+(CS$19*CS49)+(CT$19*CT49)+(CU$19*CU49)+(CV$19*CV49)+(CW$19*CW49)+(CX$19*CX49)+(CY$19*CY49)+(CZ$19*CZ49)+(DA$19*DA49)+(DB$19*DB49)+(DC$19*DC49)+(DD$19*DD49)+(DE$19*DE49)+(DF$19*DF49)+(DG$19*DG49))","v":47.5},10,0,0,10,5,2,0,0,10,0,null,null,null,null,null,null,null,null,null,null,null,null,null,null,null,null,{"$f":"IF(OR('Set UP'!$C35=0,'Set UP'!$D35=0,'Set UP'!$E35=0),\"\",(DJ$19*DJ49)+(DK$19*DK49)+(DL$19*DL49)+(DM$19*DM49)+(DN$19*DN49)+(DO$19*DO49)+(DP$19*DP49)+(DQ$19*DQ49)+(DR$19*DR49)+(DS$19*DS49)+(DT$19*DT49)+(DU$19*DU49)+(DV$19*DV49)+(DW$19*DW49)+(DX$19*DX49)+(DY$19*DY49)+(DZ$19*DZ49)+(EA$19*EA49)+(EB$19*EB49)+(EC$19*EC49)+(ED$19*ED49)+(EE$19*EE49)+(EF$19*EF49)+(EG$19*EG49)+(EH$19*EH49))","v":34.5},2,1,0,2,null,null,null,null,null,null,null,null,null,null,null,null,null,null,null,null,null,null,null,null,null,null,{"$f":"IF(OR('Set UP'!$C35=0,'Set UP'!$D35=0,'Set UP'!$E35=0),\"\",(EK$19*EK49)+(EL$19*EL49)+(EM$19*EM49)+(EN$19*EN49)+(EO$19*EO49)+(EP$19*EP49)+(EQ$19*EQ49)+(ER$19*ER49)+(ES$19*ES49)+(ET$19*ET49)+(EU$19*EU49)+(EV$19*EV49)+(EW$19*EW49)+(EX$19*EX49)+(EY$19*EY49)+(EZ$19*EZ49)+(FA$19*FA49)+(FB$19*FB49)+(FC$19*FC49)+(FD$19*FD49)+(FE$19*FE49)+(FF$19*FF49)+(FG$19*FG49)+(FH$19*FH49)+(FI$19*FI49))","v":10.5},null,null,null,null,null,null,null,null,null,null,null,null,null,null,null,null,null,null,null,null,null,null,null,null,null,null,{"$f":"IF(OR('Set UP'!$C35=0,'Set UP'!$D35=0,'Set UP'!$E35=0),\"\",(FL$19*FL49)+(FM$19*FM49)+(FN$19*FN49)+(FO$19*FO49)+(FP$19*FP49)+(FQ$19*FQ49)+(FR$19*FR49)+(FS$19*FS49)+(FT$19*FT49)+(FU$19*FU49)+(FV$19*FV49)+(FW$19*FW49)+(FX$19*FX49)+(FY$19*FY49)+(FZ$19*FZ49)+(GA$19*GA49)+(GB$19*GB49)+(GC$19*GC49)+(GD$19*GD49)+(GE$19*GE49)+(GF$19*GF49)+(GG$19*GG49)+(GH$19*GH49)+(GI$19*GI49)+(GJ$19*GJ49))","v":0},null,null,null,null,null,null,null,null,null,null,null,null,null,null,null,null,null,null,null,null,null,null,null,null,null,null,{"$f":"IF(OR('Set UP'!$C35=0,'Set UP'!$D35=0,'Set UP'!$E35=0),\"\",(GM$19*GM49)+(GN$19*GN49)+(GO$19*GO49)+(GP$19*GP49)+(GQ$19*GQ49)+(GR$19*GR49)+(GS$19*GS49)+(GT$19*GT49)+(GU$19*GU49)+(GV$19*GV49)+(GW$19*GW49)+(GX$19*GX49)+(GY$19*GY49)+(GZ$19*GZ49)+(HA$19*HA49)+(HB$19*HB49)+(HC$19*HC49)+(HD$19*HD49)+(HE$19*HE49)+(HF$19*HF49)+(HG$19*HG49)+(HH$19*HH49)+(HI$19*HI49)+(HJ$19*HJ49)+(HK$19*HK49))","v":0},null,null,null,null,null,null,null,null,null,null,null,null,null,null,null,null,null,null,null,null,null,null,null,null,null,null,{"$f":"IF(OR('Set UP'!$C35=0,'Set UP'!$D35=0,'Set UP'!$E35=0),\"\",(HN$19*HN49)+(HO$19*HO49)+(HP$19*HP49)+(HQ$19*HQ49)+(HR$19*HR49)+(HS$19*HS49)+(HT$19*HT49)+(HU$19*HU49)+(HV$19*HV49)+(HW$19*HW49)+(HX$19*HX49)+(HY$19*HY49)+(HZ$19*HZ49)+(IA$19*IA49)+(IB$19*IB49)+(IC$19*IC49)+(ID$19*ID49)+(IE$19*IE49)+(IF$19*IF49)+(IG$19*IG49)+(IH$19*IH49)+(II$19*II49)+(IJ$19*IJ49)+(IK$19*IK49)+(IL$19*IL49))","v":0},null,null,null,null,null,null,null,null,null,null,null,null,null,null,null,null,null,null,null,null,null,null,null,null,null,null,{"$f":"IF(OR('Set UP'!$C35=0,'Set UP'!$D35=0,'Set UP'!$E35=0),\"\",(IO$19*IO49)+(IP$19*IP49)+(IQ$19*IQ49)+(IR$19*IR49)+(IS$19*IS49)+(IT$19*IT49)+(IU$19*IU49)+(IV$19*IV49)+(IW$19*IW49)+(IX$19*IX49)+(IY$19*IY49)+(IZ$19*IZ49)+(JA$19*JA49)+(JB$19*JB49)+(JC$19*JC49)+(JD$19*JD49)+(JE$19*JE49)+(JF$19*JF49)+(JG$19*JG49)+(JH$19*JH49)+(JI$19*JI49)+(JJ$19*JJ49)+(JK$19*JK49)+(JL$19*JL49)+(JM$19*JM49))","v":0},{"$f":"IF(OR('Set UP'!$C35=0,'Set UP'!$D35=0,'Set UP'!$E35=0),\"\",(AF49+BG49+CH49+DI49+EJ49+FK49+GL49+HM49+IN49+JO49))","v":167},{"$f":"IF(OR('Set UP'!$C35=0,'Set UP'!$D35=0,'Set UP'!$E35=0),\"\",RANK(JP49,$JP$21:$JP$60,0))","v":24},{"$f":"IF(OR('Set UP'!K35<>1,'Set UP'!C35=0,'Set UP'!D35=0,'Set UP'!E35=0,'Set UP'!F35=0),\"\",$JP49)","v":167},{"$f":"IF(OR('Set UP'!K35<>1,'Set UP'!C35=0,'Set UP'!D35=0,'Set UP'!E35=0,'Set UP'!F35=0),\"\",RANK(JR49,$JR$21:$JR$60,0))","v":9},{"$f":"IF(OR('Set UP'!K35<>2,'Set UP'!C35=0,'Set UP'!D35=0,'Set UP'!E35=0,'Set UP'!F35=0),\"\",$JP49)","v":""},{"$f":"IF(OR('Set UP'!K35<>2,'Set UP'!C35=0,'Set UP'!D35=0,'Set UP'!E35=0,'Set UP'!F35=0),\"\",RANK(JT49,$JT$21:$JT$60,0))","v":""},{"$f":"IF(OR('Set UP'!F35<>\"F\",'Set UP'!C35=0,'Set UP'!D35=0,'Set UP'!E35=0),\"\",$JP49)","v":""},{"$f":"IF(OR('Set UP'!F35<>\"F\",'Set UP'!C35=0,'Set UP'!D35=0,'Set UP'!E35=0),\"\",RANK(JV49,$JV$21:$JV$60,0))","v":""},{"$f":"IF(OR('Set UP'!F35<>\"NS\",'Set UP'!C35=0,'Set UP'!D35=0,'Set UP'!E35=0),\"\",$JP49)","v":""},{"$f":"IF(OR('Set UP'!F35<>\"NS\",'Set UP'!C35=0,'Set UP'!D35=0,'Set UP'!E35=0),\"\",RANK(JX49,$JX$21:$JX$60,0))","v":""},{"$f":"IF(OR('Set UP'!$C35=0,'Set UP'!$D35=0,'Set UP'!$E35=0,JP49=0),\"\",JP49/MAX(JP$21:JP$60)*1000)","v":566.10169491525414}]
[null,30,{"$f":"IF(OR('Set UP'!$C36=0,'Set UP'!$D36=0,'Set UP'!$E36=0,'Set UP'!F36=0),\"  --\",'Set UP'!C36)","v":1425},{"$f":"IF(OR('Set UP'!$C36=0,'Set UP'!$D36=0,'Set UP'!$E36=0,'Set UP'!F36=0),\"  --\",'Set UP'!D36&\" \"&'Set UP'!E36)","v":"London Universities A"},{"$f":"IF(OR('Set UP'!$C36=0,'Set UP'!$D36=0,'Set UP'!$E36=0,'Set UP'!F36=0),\"  --\",'Set UP'!F36)","v":"S"},6,5,0,0,0,0,0,null,null,null,null,null,null,null,null,null,null,null,null,null,null,null,null,null,null,null,{"$f":"IF(OR('Set UP'!$C36=0,'Set UP'!$D36=0,'Set UP'!$E36=0),\"\",(F$19*F50)+(G$19*G50)+(H$19*H50)+(I$19*I50)+(J$19*J50)+(K$19*K50)+(L$19*L50)+(M$19*M50)+(N$19*N50)+(O$19*O50)+(P$19*P50)+(Q$19*Q50)+(R$19*R50)+(S$19*S50)+(T$19*T50)+(U$19*U50)+(V$19*V50)+(W$19*W50)+(X$19*X50)+(Y$19*Y50)+(Z$19*Z50)+(AA$19*AA50)+(AB$19*AB50)+(AC$19*AC50)+(AD$19*AD50))","v":13.5},5,6,8,8,9,8,8,8,null,null,null,null,null,null,null,null,null,null,null,null,null,null,null,null,null,null,{"$f":"IF(OR('Set UP'!$C36=0,'Set UP'!$D36=0,'Set UP'!$E36=0),\"\",(AG$19*AG50)+(AH$19*AH50)+(AI$19*AI50)+(AJ$19*AJ50)+(AK$19*AK50)+(AL$19*AL50)+(AM$19*AM50)+(AN$19*AN50)+(AO$19*AO50)+(AP$19*AP50)+(AQ$19*AQ50)+(AR$19*AR50)+(AS$19*AS50)+(AT$19*AT50)+(AU$19*AU50)+(AV$19*AV50)+(AW$19*AW50)+(AX$19*AX50)+(AY$19*AY50)+(AZ$19*AZ50)+(BA$19*BA50)+(BB$19*BB50)+(BC$19*BC50)+(BD$19*BD50)+(BE$19*BE50))","v":69},8,2,10,0,9,7,0,null,null,null,null,null,null,null,null,null,null,null,null,null,null,null,null,null,null,null,{"$f":"IF(OR('Set UP'!$C36=0,'Set UP'!$D36=0,'Set UP'!$E36=0),\"\",(BH$19*BH50)+(BI$19*BI50)+(BJ$19*BJ50)+(BK$19*BK50)+(BL$19*BL50)+(BM$19*BM50)+(BN$19*BN50)+(BO$19*BO50)+(BP$19*BP50)+(BQ$19*BQ50)+(BR$19*BR50)+(BS$19*BS50)+(BT$19*BT50)+(BU$19*BU50)+(BV$19*BV50)+(BW$19*BW50)+(BX$19*BX50)+(BY$19*BY50)+(BZ$19*BZ50)+(CA$19*CA50)+(CB$19*CB50)+(CC$19*CC50)+(CD$19*CD50)+(CE$19*CE50)+(CF$19*CF50))","v":40.5},8,9,6,5,6,2,4,null,null,null,null,null,null,null,null,null,null,null,null,null,null,null,null,null,null,null,{"$f":"IF(OR('Set UP'!$C36=0,'Set UP'!$D36=0,'Set UP'!$E36=0),\"\",(CI$19*CI50)+(CJ$19*CJ50)+(CK$19*CK50)+(CL$19*CL50)+(CM$19*CM50)+(CN$19*CN50)+(CO$19*CO50)+(CP$19*CP50)+(CQ$19*CQ50)+(CR$19*CR50)+(CS$19*CS50)+(CT$19*CT50)+(CU$19*CU50)+(CV$19*CV50)+(CW$19*CW50)+(CX$19*CX50)+(CY$19*CY50)+(CZ$19*CZ50)+(DA$19*DA50)+(DB$19*DB50)+(DC$19*DC50)+(DD$19*DD50)+(DE$19*DE50)+(DF$19*DF50)+(DG$19*DG50))","v":53},10,0,0,10,10,10,4,5,10,0,null,null,null,null,null,null,null,null,null,null,null,null,null,null,null,null,{"$f":"IF(OR('Set UP'!$C36=0,'Set UP'!$D36=0,'Set UP'!$E36=0),\"\",(DJ$19*DJ50)+(DK$19*DK50)+(DL$19*DL50)+(DM$19*DM50)+(DN$19*DN50)+(DO$19*DO50)+(DP$19*DP50)+(DQ$19*DQ50)+(DR$19*DR50)+(DS$19*DS50)+(DT$19*DT50)+(DU$19*DU50)+(DV$19*DV50)+(DW$19*DW50)+(DX$19*DX50)+(DY$19*DY50)+(DZ$19*DZ50)+(EA$19*EA50)+(EB$19*EB50)+(EC$19*EC50)+(ED$19*ED50)+(EE$19*EE50)+(EF$19*EF50)+(EG$19*EG50)+(EH$19*EH50))","v":54.5},9,8,7,7,null,null,null,null,null,null,null,null,null,null,null,null,null,null,null,null,null,null,null,null,null,null,{"$f":"IF(OR('Set UP'!$C36=0,'Set UP'!$D36=0,'Set UP'!$E36=0),\"\",(EK$19*EK50)+(EL$19*EL50)+(EM$19*EM50)+(EN$19*EN50)+(EO$19*EO50)+(EP$19*EP50)+(EQ$19*EQ50)+(ER$19*ER50)+(ES$19*ES50)+(ET$19*ET50)+(EU$19*EU50)+(EV$19*EV50)+(EW$19*EW50)+(EX$19*EX50)+(EY$19*EY50)+(EZ$19*EZ50)+(FA$19*FA50)+(FB$19*FB50)+(FC$19*FC50)+(FD$19*FD50)+(FE$19*FE50)+(FF$19*FF50)+(FG$19*FG50)+(FH$19*FH50)+(FI$19*FI50))","v":60},null,null,null,null,null,null,null,null,null,null,null,null,null,null,null,null,null,null,null,null,null,null,null,null,null,null,{"$f":"IF(OR('Set UP'!$C36=0,'Set UP'!$D36=0,'Set UP'!$E36=0),\"\",(FL$19*FL50)+(FM$19*FM50)+(FN$19*FN50)+(FO$19*FO50)+(FP$19*FP50)+(FQ$19*FQ50)+(FR$19*FR50)+(FS$19*FS50)+(FT$19*FT50)+(FU$19*FU50)+(FV$19*FV50)+(FW$19*FW50)+(FX$19*FX50)+(FY$19*FY50)+(FZ$19*FZ50)+(GA$19*GA50)+(GB$19*GB50)+(GC$19*GC50)+(GD$19*GD50)+(GE$19*GE50)+(GF$19*GF50)+(GG$19*GG50)+(GH$19*GH50)+(GI$19*GI50)+(GJ$19*GJ50))","v":0},null,null,null,null,null,null,null,null,null,null,null,null,null,null,null,null,null,null,null,null,null,null,null,null,null,null,{"$f":"IF(OR('Set UP'!$C36=0,'Set UP'!$D36=0,'Set UP'!$E36=0),\"\",(GM$19*GM50)+(GN$19*GN50)+(GO$19*GO50)+(GP$19*GP50)+(GQ$19*GQ50)+(GR$19*GR50)+(GS$19*GS50)+(GT$19*GT50)+(GU$19*GU50)+(GV$19*GV50)+(GW$19*GW50)+(GX$19*GX50)+(GY$19*GY50)+(GZ$19*GZ50)+(HA$19*HA50)+(HB$19*HB50)+(HC$19*HC50)+(HD$19*HD50)+(HE$19*HE50)+(HF$19*HF50)+(HG$19*HG50)+(HH$19*HH50)+(HI$19*HI50)+(HJ$19*HJ50)+(HK$19*HK50))","v":0},null,null,null,null,null,null,null,null,null,null,null,null,null,null,null,null,null,null,null,null,null,null,null,null,null,null,{"$f":"IF(OR('Set UP'!$C36=0,'Set UP'!$D36=0,'Set UP'!$E36=0),\"\",(HN$19*HN50)+(HO$19*HO50)+(HP$19*HP50)+(HQ$19*HQ50)+(HR$19*HR50)+(HS$19*HS50)+(HT$19*HT50)+(HU$19*HU50)+(HV$19*HV50)+(HW$19*HW50)+(HX$19*HX50)+(HY$19*HY50)+(HZ$19*HZ50)+(IA$19*IA50)+(IB$19*IB50)+(IC$19*IC50)+(ID$19*ID50)+(IE$19*IE50)+(IF$19*IF50)+(IG$19*IG50)+(IH$19*IH50)+(II$19*II50)+(IJ$19*IJ50)+(IK$19*IK50)+(IL$19*IL50))","v":0},null,null,null,null,null,null,null,null,null,null,null,null,null,null,null,null,null,null,null,null,null,null,null,null,null,null,{"$f":"IF(OR('Set UP'!$C36=0,'Set UP'!$D36=0,'Set UP'!$E36=0),\"\",(IO$19*IO50)+(IP$19*IP50)+(IQ$19*IQ50)+(IR$19*IR50)+(IS$19*IS50)+(IT$19*IT50)+(IU$19*IU50)+(IV$19*IV50)+(IW$19*IW50)+(IX$19*IX50)+(IY$19*IY50)+(IZ$19*IZ50)+(JA$19*JA50)+(JB$19*JB50)+(JC$19*JC50)+(JD$19*JD50)+(JE$19*JE50)+(JF$19*JF50)+(JG$19*JG50)+(JH$19*JH50)+(JI$19*JI50)+(JJ$19*JJ50)+(JK$19*JK50)+(JL$19*JL50)+(JM$19*JM50))","v":0},{"$f":"IF(OR('Set UP'!$C36=0,'Set UP'!$D36=0,'Set UP'!$E36=0),\"\",(AF50+BG50+CH50+DI50+EJ50+FK50+GL50+HM50+IN50+JO50))","v":290.5},{"$f":"IF(OR('Set UP'!$C36=0,'Set UP'!$D36=0,'Set UP'!$E36=0),\"\",RANK(JP50,$JP$21:$JP$60,0))","v":2},{"$f":"IF(OR('Set UP'!K36<>1,'Set UP'!C36=0,'Set UP'!D36=0,'Set UP'!E36=0,'Set UP'!F36=0),\"\",$JP50)","v":290.5},{"$f":"IF(OR('Set UP'!K36<>1,'Set UP'!C36=0,'Set UP'!D36=0,'Set UP'!E36=0,'Set UP'!F36=0),\"\",RANK(JR50,$JR$21:$JR$60,0))","v":2},{"$f":"IF(OR('Set UP'!K36<>2,'Set UP'!C36=0,'Set UP'!D36=0,'Set UP'!E36=0,'Set UP'!F36=0),\"\",$JP50)","v":""},{"$f":"IF(OR('Set UP'!K36<>2,'Set UP'!C36=0,'Set UP'!D36=0,'Set UP'!E36=0,'Set UP'!F36=0),\"\",RANK(JT50,$JT$21:$JT$60,0))","v":""},{"$f":"IF(OR('Set UP'!F36<>\"F\",'Set UP'!C36=0,'Set UP'!D36=0,'Set UP'!E36=0),\"\",$JP50)","v":""},{"$f":"IF(OR('Set UP'!F36<>\"F\",'Set UP'!C36=0,'Set UP'!D36=0,'Set UP'!E36=0),\"\",RANK(JV50,$JV$21:$JV$60,0))","v":""},{"$f":"IF(OR('Set UP'!F36<>\"NS\",'Set UP'!C36=0,'Set UP'!D36=0,'Set UP'!E36=0),\"\",$JP50)","v":""},{"$f":"IF(OR('Set UP'!F36<>\"NS\",'Set UP'!C36=0,'Set UP'!D36=0,'Set UP'!E36=0),\"\",RANK(JX50,$JX$21:$JX$60,0))","v":""},{"$f":"IF(OR('Set UP'!$C36=0,'Set UP'!$D36=0,'Set UP'!$E36=0,JP50=0),\"\",JP50/MAX(JP$21:JP$60)*1000)","v":984.74576271186447}]
[null,31,{"$f":"IF(OR('Set UP'!$C37=0,'Set UP'!$D37=0,'Set UP'!$E37=0,'Set UP'!F37=0),\"  --\",'Set UP'!C37)","v":"  --"},{"$f":"IF(OR('Set UP'!$C37=0,'Set UP'!$D37=0,'Set UP'!$E37=0,'Set UP'!F37=0),\"  --\",'Set UP'!D37&\" \"&'Set UP'!E37)","v":"  --"},{"$f":"IF(OR('Set UP'!$C37=0,'Set UP'!$D37=0,'Set UP'!$E37=0,'Set UP'!F37=0),\"  --\",'Set UP'!F37)","v":"  --"},null,null,null,null,null,null,null,null,null,null,null,null,null,null,null,null,null,null,null,null,null,null,null,null,null,null,{"$f":"IF(OR('Set UP'!$C37=0,'Set UP'!$D37=0,'Set UP'!$E37=0),\"\",(F$19*F51)+(G$19*G51)+(H$19*H51)+(I$19*I51)+(J$19*J51)+(K$19*K51)+(L$19*L51)+(M$19*M51)+(N$19*N51)+(O$19*O51)+(P$19*P51)+(Q$19*Q51)+(R$19*R51)+(S$19*S51)+(T$19*T51)+(U$19*U51)+(V$19*V51)+(W$19*W51)+(X$19*X51)+(Y$19*Y51)+(Z$19*Z51)+(AA$19*AA51)+(AB$19*AB51)+(AC$19*AC51)+(AD$19*AD51))","v":""},null,null,null,null,null,null,null,null,null,null,null,null,null,null,null,null,null,null,null,null,null,null,null,null,null,null,{"$f":"IF(OR('Set UP'!$C37=0,'Set UP'!$D37=0,'Set UP'!$E37=0),\"\",(AG$19*AG51)+(AH$19*AH51)+(AI$19*AI51)+(AJ$19*AJ51)+(AK$19*AK51)+(AL$19*AL51)+(AM$19*AM51)+(AN$19*AN51)+(AO$19*AO51)+(AP$19*AP51)+(AQ$19*AQ51)+(AR$19*AR51)+(AS$19*AS51)+(AT$19*AT51)+(AU$19*AU51)+(AV$19*AV51)+(AW$19*AW51)+(AX$19*AX51)+(AY$19*AY51)+(AZ$19*AZ51)+(BA$19*BA51)+(BB$19*BB51)+(BC$19*BC51)+(BD$19*BD51)+(BE$19*BE51))","v":""},null,null,null,null,null,null,null,null,null,null,null,null,null,null,null,null,null,null,null,null,null,null,null,null,null,null,{"$f":"IF(OR('Set UP'!$C37=0,'Set UP'!$D37=0,'Set UP'!$E37=0),\"\",(BH$19*BH51)+(BI$19*BI51)+(BJ$19*BJ51)+(BK$19*BK51)+(BL$19*BL51)+(BM$19*BM51)+(BN$19*BN51)+(BO$19*BO51)+(BP$19*BP51)+(BQ$19*BQ51)+(BR$19*BR51)+(BS$19*BS51)+(BT$19*BT51)+(BU$19*BU51)+(BV$19*BV51)+(BW$19*BW51)+(BX$19*BX51)+(BY$19*BY51)+(BZ$19*BZ51)+(CA$19*CA51)+(CB$19*CB51)+(CC$19*CC51)+(CD$19*CD51)+(CE$19*CE51)+(CF$19*CF51))","v":""},null,null,null,null,null,null,null,null,null,null,null,null,null,null,null,null,null,null,null,null,null,null,null,null,null,null,{"$f":"IF(OR('Set UP'!$C37=0,'Set UP'!$D37=0,'Set UP'!$E37=0),\"\",(CI$19*CI51)+(CJ$19*CJ51)+(CK$19*CK51)+(CL$19*CL51)+(CM$19*CM51)+(CN$19*CN51)+(CO$19*CO51)+(CP$19*CP51)+(CQ$19*CQ51)+(CR$19*CR51)+(CS$19*CS51)+(CT$19*CT51)+(CU$19*CU51)+(CV$19*CV51)+(CW$19*CW51)+(CX$19*CX51)+(CY$19*CY51)+(CZ$19*CZ51)+(DA$19*DA51)+(DB$19*DB51)+(DC$19*DC51)+(DD$19*DD51)+(DE$19*DE51)+(DF$19*DF51)+(DG$19*DG51))","v":""},null,null,null,null,null,null,null,null,null,null,null,null,null,null,null,null,null,null,null,null,null,null,null,null,null,null,{"$f":"IF(OR('Set UP'!$C37=0,'Set UP'!$D37=0,'Set UP'!$E37=0),\"\",(DJ$19*DJ51)+(DK$19*DK51)+(DL$19*DL51)+(DM$19*DM51)+(DN$19*DN51)+(DO$19*DO51)+(DP$19*DP51)+(DQ$19*DQ51)+(DR$19*DR51)+(DS$19*DS51)+(DT$19*DT51)+(DU$19*DU51)+(DV$19*DV51)+(DW$19*DW51)+(DX$19*DX51)+(DY$19*DY51)+(DZ$19*DZ51)+(EA$19*EA51)+(EB$19*EB51)+(EC$19*EC51)+(ED$19*ED51)+(EE$19*EE51)+(EF$19*EF51)+(EG$19*EG51)+(EH$19*EH51))","v":""},null,null,null,null,null,null,null,null,null,null,null,null,null,null,null,null,null,null,null,null,null,null,null,null,null,null,{"$f":"IF(OR('Set UP'!$C37=0,'Set UP'!$D37=0,'Set UP'!$E37=0),\"\",(EK$19*EK51)+(EL$19*EL51)+(EM$19*EM51)+(EN$19*EN51)+(EO$19*EO51)+(EP$19*EP51)+(EQ$19*EQ51)+(ER$19*ER51)+(ES$19*ES51)+(ET$19*ET51)+(EU$19*EU51)+(EV$19*EV51)+(EW$19*EW51)+(EX$19*EX51)+(EY$19*EY51)+(EZ$19*EZ51)+(FA$19*FA51)+(FB$19*FB51)+(FC$19*FC51)+(FD$19*FD51)+(FE$19*FE51)+(FF$19*FF51)+(FG$19*FG51)+(FH$19*FH51)+(FI$19*FI51))","v":""},null,null,null,null,null,null,null,null,null,null,null,null,null,null,null,null,null,null,null,null,null,null,null,null,null,null,{"$f":"IF(OR('Set UP'!$C37=0,'Set UP'!$D37=0,'Set UP'!$E37=0),\"\",(FL$19*FL51)+(FM$19*FM51)+(FN$19*FN51)+(FO$19*FO51)+(FP$19*FP51)+(FQ$19*FQ51)+(FR$19*FR51)+(FS$19*FS51)+(FT$19*FT51)+(FU$19*FU51)+(FV$19*FV51)+(FW$19*FW51)+(FX$19*FX51)+(FY$19*FY51)+(FZ$19*FZ51)+(GA$19*GA51)+(GB$19*GB51)+(GC$19*GC51)+(GD$19*GD51)+(GE$19*GE51)+(GF$19*GF51)+(GG$19*GG51)+(GH$19*GH51)+(GI$19*GI51)+(GJ$19*GJ51))","v":""},null,null,null,null,null,null,null,null,null,null,null,null,null,null,null,null,null,null,null,null,null,null,null,null,null,null,{"$f":"IF(OR('Set UP'!$C37=0,'Set UP'!$D37=0,'Set UP'!$E37=0),\"\",(GM$19*GM51)+(GN$19*GN51)+(GO$19*GO51)+(GP$19*GP51)+(GQ$19*GQ51)+(GR$19*GR51)+(GS$19*GS51)+(GT$19*GT51)+(GU$19*GU51)+(GV$19*GV51)+(GW$19*GW51)+(GX$19*GX51)+(GY$19*GY51)+(GZ$19*GZ51)+(HA$19*HA51)+(HB$19*HB51)+(HC$19*HC51)+(HD$19*HD51)+(HE$19*HE51)+(HF$19*HF51)+(HG$19*HG51)+(HH$19*HH51)+(HI$19*HI51)+(HJ$19*HJ51)+(HK$19*HK51))","v":""},null,null,null,null,null,null,null,null,null,null,null,null,null,null,null,null,null,null,null,null,null,null,null,null,null,null,{"$f":"IF(OR('Set UP'!$C37=0,'Set UP'!$D37=0,'Set UP'!$E37=0),\"\",(HN$19*HN51)+(HO$19*HO51)+(HP$19*HP51)+(HQ$19*HQ51)+(HR$19*HR51)+(HS$19*HS51)+(HT$19*HT51)+(HU$19*HU51)+(HV$19*HV51)+(HW$19*HW51)+(HX$19*HX51)+(HY$19*HY51)+(HZ$19*HZ51)+(IA$19*IA51)+(IB$19*IB51)+(IC$19*IC51)+(ID$19*ID51)+(IE$19*IE51)+(IF$19*IF51)+(IG$19*IG51)+(IH$19*IH51)+(II$19*II51)+(IJ$19*IJ51)+(IK$19*IK51)+(IL$19*IL51))","v":""},null,null,null,null,null,null,null,null,null,null,null,null,null,null,null,null,null,null,null,null,null,null,null,null,null,null,{"$f":"IF(OR('Set UP'!$C37=0,'Set UP'!$D37=0,'Set UP'!$E37=0),\"\",(IO$19*IO51)+(IP$19*IP51)+(IQ$19*IQ51)+(IR$19*IR51)+(IS$19*IS51)+(IT$19*IT51)+(IU$19*IU51)+(IV$19*IV51)+(IW$19*IW51)+(IX$19*IX51)+(IY$19*IY51)+(IZ$19*IZ51)+(JA$19*JA51)+(JB$19*JB51)+(JC$19*JC51)+(JD$19*JD51)+(JE$19*JE51)+(JF$19*JF51)+(JG$19*JG51)+(JH$19*JH51)+(JI$19*JI51)+(JJ$19*JJ51)+(JK$19*JK51)+(JL$19*JL51)+(JM$19*JM51))","v":""},{"$f":"IF(OR('Set UP'!$C37=0,'Set UP'!$D37=0,'Set UP'!$E37=0),\"\",(AF51+BG51+CH51+DI51+EJ51+FK51+GL51+HM51+IN51+JO51))","v":""},{"$f":"IF(OR('Set UP'!$C37=0,'Set UP'!$D37=0,'Set UP'!$E37=0),\"\",RANK(JP51,$JP$21:$JP$60,0))","v":""},{"$f":"IF(OR('Set UP'!K37<>1,'Set UP'!C37=0,'Set UP'!D37=0,'Set UP'!E37=0,'Set UP'!F37=0),\"\",$JP51)","v":""},{"$f":"IF(OR('Set UP'!K37<>1,'Set UP'!C37=0,'Set UP'!D37=0,'Set UP'!E37=0,'Set UP'!F37=0),\"\",RANK(JR51,$JR$21:$JR$60,0))","v":""},{"$f":"IF(OR('Set UP'!K37<>2,'Set UP'!C37=0,'Set UP'!D37=0,'Set UP'!E37=0,'Set UP'!F37=0),\"\",$JP51)","v":""},{"$f":"IF(OR('Set UP'!K37<>2,'Set UP'!C37=0,'Set UP'!D37=0,'Set UP'!E37=0,'Set UP'!F37=0),\"\",RANK(JT51,$JT$21:$JT$60,0))","v":""},{"$f":"IF(OR('Set UP'!F37<>\"F\",'Set UP'!C37=0,'Set UP'!D37=0,'Set UP'!E37=0),\"\",$JP51)","v":""},{"$f":"IF(OR('Set UP'!F37<>\"F\",'Set UP'!C37=0,'Set UP'!D37=0,'Set UP'!E37=0),\"\",RANK(JV51,$JV$21:$JV$60,0))","v":""},{"$f":"IF(OR('Set UP'!F37<>\"NS\",'Set UP'!C37=0,'Set UP'!D37=0,'Set UP'!E37=0),\"\",$JP51)","v":""},{"$f":"IF(OR('Set UP'!F37<>\"NS\",'Set UP'!C37=0,'Set UP'!D37=0,'Set UP'!E37=0),\"\",RANK(JX51,$JX$21:$JX$60,0))","v":""},{"$f":"IF(OR('Set UP'!$C37=0,'Set UP'!$D37=0,'Set UP'!$E37=0,JP51=0),\"\",JP51/MAX(JP$21:JP$60)*1000)","v":""}]
[null,32,{"$f":"IF(OR('Set UP'!$C38=0,'Set UP'!$D38=0,'Set UP'!$E38=0,'Set UP'!F38=0),\"  --\",'Set UP'!C38)","v":"  --"},{"$f":"IF(OR('Set UP'!$C38=0,'Set UP'!$D38=0,'Set UP'!$E38=0,'Set UP'!F38=0),\"  --\",'Set UP'!D38&\" \"&'Set UP'!E38)","v":"  --"},{"$f":"IF(OR('Set UP'!$C38=0,'Set UP'!$D38=0,'Set UP'!$E38=0,'Set UP'!F38=0),\"  --\",'Set UP'!F38)","v":"  --"},null,null,null,null,null,null,null,null,null,null,null,null,null,null,null,null,null,null,null,null,null,null,null,null,null,null,{"$f":"IF(OR('Set UP'!$C38=0,'Set UP'!$D38=0,'Set UP'!$E38=0),\"\",(F$19*F52)+(G$19*G52)+(H$19*H52)+(I$19*I52)+(J$19*J52)+(K$19*K52)+(L$19*L52)+(M$19*M52)+(N$19*N52)+(O$19*O52)+(P$19*P52)+(Q$19*Q52)+(R$19*R52)+(S$19*S52)+(T$19*T52)+(U$19*U52)+(V$19*V52)+(W$19*W52)+(X$19*X52)+(Y$19*Y52)+(Z$19*Z52)+(AA$19*AA52)+(AB$19*AB52)+(AC$19*AC52)+(AD$19*AD52))","v":""},null,null,null,null,null,null,null,null,null,null,null,null,null,null,null,null,null,null,null,null,null,null,null,null,null,null,{"$f":"IF(OR('Set UP'!$C38=0,'Set UP'!$D38=0,'Set UP'!$E38=0),\"\",(AG$19*AG52)+(AH$19*AH52)+(AI$19*AI52)+(AJ$19*AJ52)+(AK$19*AK52)+(AL$19*AL52)+(AM$19*AM52)+(AN$19*AN52)+(AO$19*AO52)+(AP$19*AP52)+(AQ$19*AQ52)+(AR$19*AR52)+(AS$19*AS52)+(AT$19*AT52)+(AU$19*AU52)+(AV$19*AV52)+(AW$19*AW52)+(AX$19*AX52)+(AY$19*AY52)+(AZ$19*AZ52)+(BA$19*BA52)+(BB$19*BB52)+(BC$19*BC52)+(BD$19*BD52)+(BE$19*BE52))","v":""},null,null,null,null,null,null,null,null,null,null,null,null,null,null,null,null,null,null,null,null,null,null,null,null,null,null,{"$f":"IF(OR('Set UP'!$C38=0,'Set UP'!$D38=0,'Set UP'!$E38=0),\"\",(BH$19*BH52)+(BI$19*BI52)+(BJ$19*BJ52)+(BK$19*BK52)+(BL$19*BL52)+(BM$19*BM52)+(BN$19*BN52)+(BO$19*BO52)+(BP$19*BP52)+(BQ$19*BQ52)+(BR$19*BR52)+(BS$19*BS52)+(BT$19*BT52)+(BU$19*BU52)+(BV$19*BV52)+(BW$19*BW52)+(BX$19*BX52)+(BY$19*BY52)+(BZ$19*BZ52)+(CA$19*CA52)+(CB$19*CB52)+(CC$19*CC52)+(CD$19*CD52)+(CE$19*CE52)+(CF$19*CF52))","v":""},null,null,null,null,null,null,null,null,null,null,null,null,null,null,null,null,null,null,null,null,null,null,null,null,null,null,{"$f":"IF(OR('Set UP'!$C38=0,'Set UP'!$D38=0,'Set UP'!$E38=0),\"\",(CI$19*CI52)+(CJ$19*CJ52)+(CK$19*CK52)+(CL$19*CL52)+(CM$19*CM52)+(CN$19*CN52)+(CO$19*CO52)+(CP$19*CP52)+(CQ$19*CQ52)+(CR$19*CR52)+(CS$19*CS52)+(CT$19*CT52)+(CU$19*CU52)+(CV$19*CV52)+(CW$19*CW52)+(CX$19*CX52)+(CY$19*CY52)+(CZ$19*CZ52)+(DA$19*DA52)+(DB$19*DB52)+(DC$19*DC52)+(DD$19*DD52)+(DE$19*DE52)+(DF$19*DF52)+(DG$19*DG52))","v":""},null,null,null,null,null,null,null,null,null,null,null,null,null,null,null,null,null,null,null,null,null,null,null,null,null,null,{"$f":"IF(OR('Set UP'!$C38=0,'Set UP'!$D38=0,'Set UP'!$E38=0),\"\",(DJ$19*DJ52)+(DK$19*DK52)+(DL$19*DL52)+(DM$19*DM52)+(DN$19*DN52)+(DO$19*DO52)+(DP$19*DP52)+(DQ$19*DQ52)+(DR$19*DR52)+(DS$19*DS52)+(DT$19*DT52)+(DU$19*DU52)+(DV$19*DV52)+(DW$19*DW52)+(DX$19*DX52)+(DY$19*DY52)+(DZ$19*DZ52)+(EA$19*EA52)+(EB$19*EB52)+(EC$19*EC52)+(ED$19*ED52)+(EE$19*EE52)+(EF$19*EF52)+(EG$19*EG52)+(EH$19*EH52))","v":""},null,null,null,null,null,null,null,null,null,null,null,null,null,null,null,null,null,null,null,null,null,null,null,null,null,null,{"$f":"IF(OR('Set UP'!$C38=0,'Set UP'!$D38=0,'Set UP'!$E38=0),\"\",(EK$19*EK52)+(EL$19*EL52)+(EM$19*EM52)+(EN$19*EN52)+(EO$19*EO52)+(EP$19*EP52)+(EQ$19*EQ52)+(ER$19*ER52)+(ES$19*ES52)+(ET$19*ET52)+(EU$19*EU52)+(EV$19*EV52)+(EW$19*EW52)+(EX$19*EX52)+(EY$19*EY52)+(EZ$19*EZ52)+(FA$19*FA52)+(FB$19*FB52)+(FC$19*FC52)+(FD$19*FD52)+(FE$19*FE52)+(FF$19*FF52)+(FG$19*FG52)+(FH$19*FH52)+(FI$19*FI52))","v":""},null,null,null,null,null,null,null,null,null,null,null,null,null,null,null,null,null,null,null,null,null,null,null,null,null,null,{"$f":"IF(OR('Set UP'!$C38=0,'Set UP'!$D38=0,'Set UP'!$E38=0),\"\",(FL$19*FL52)+(FM$19*FM52)+(FN$19*FN52)+(FO$19*FO52)+(FP$19*FP52)+(FQ$19*FQ52)+(FR$19*FR52)+(FS$19*FS52)+(FT$19*FT52)+(FU$19*FU52)+(FV$19*FV52)+(FW$19*FW52)+(FX$19*FX52)+(FY$19*FY52)+(FZ$19*FZ52)+(GA$19*GA52)+(GB$19*GB52)+(GC$19*GC52)+(GD$19*GD52)+(GE$19*GE52)+(GF$19*GF52)+(GG$19*GG52)+(GH$19*GH52)+(GI$19*GI52)+(GJ$19*GJ52))","v":""},null,null,null,null,null,null,null,null,null,null,null,null,null,null,null,null,null,null,null,null,null,null,null,null,null,null,{"$f":"IF(OR('Set UP'!$C38=0,'Set UP'!$D38=0,'Set UP'!$E38=0),\"\",(GM$19*GM52)+(GN$19*GN52)+(GO$19*GO52)+(GP$19*GP52)+(GQ$19*GQ52)+(GR$19*GR52)+(GS$19*GS52)+(GT$19*GT52)+(GU$19*GU52)+(GV$19*GV52)+(GW$19*GW52)+(GX$19*GX52)+(GY$19*GY52)+(GZ$19*GZ52)+(HA$19*HA52)+(HB$19*HB52)+(HC$19*HC52)+(HD$19*HD52)+(HE$19*HE52)+(HF$19*HF52)+(HG$19*HG52)+(HH$19*HH52)+(HI$19*HI52)+(HJ$19*HJ52)+(HK$19*HK52))","v":""},null,null,null,null,null,null,null,null,null,null,null,null,null,null,null,null,null,null,null,null,null,null,null,null,null,null,{"$f":"IF(OR('Set UP'!$C38=0,'Set UP'!$D38=0,'Set UP'!$E38=0),\"\",(HN$19*HN52)+(HO$19*HO52)+(HP$19*HP52)+(HQ$19*HQ52)+(HR$19*HR52)+(HS$19*HS52)+(HT$19*HT52)+(HU$19*HU52)+(HV$19*HV52)+(HW$19*HW52)+(HX$19*HX52)+(HY$19*HY52)+(HZ$19*HZ52)+(IA$19*IA52)+(IB$19*IB52)+(IC$19*IC52)+(ID$19*ID52)+(IE$19*IE52)+(IF$19*IF52)+(IG$19*IG52)+(IH$19*IH52)+(II$19*II52)+(IJ$19*IJ52)+(IK$19*IK52)+(IL$19*IL52))","v":""},null,null,null,null,null,null,null,null,null,null,null,null,null,null,null,null,null,null,null,null,null,null,null,null,null,null,{"$f":"IF(OR('Set UP'!$C38=0,'Set UP'!$D38=0,'Set UP'!$E38=0),\"\",(IO$19*IO52)+(IP$19*IP52)+(IQ$19*IQ52)+(IR$19*IR52)+(IS$19*IS52)+(IT$19*IT52)+(IU$19*IU52)+(IV$19*IV52)+(IW$19*IW52)+(IX$19*IX52)+(IY$19*IY52)+(IZ$19*IZ52)+(JA$19*JA52)+(JB$19*JB52)+(JC$19*JC52)+(JD$19*JD52)+(JE$19*JE52)+(JF$19*JF52)+(JG$19*JG52)+(JH$19*JH52)+(JI$19*JI52)+(JJ$19*JJ52)+(JK$19*JK52)+(JL$19*JL52)+(JM$19*JM52))","v":""},{"$f":"IF(OR('Set UP'!$C38=0,'Set UP'!$D38=0,'Set UP'!$E38=0),\"\",(AF52+BG52+CH52+DI52+EJ52+FK52+GL52+HM52+IN52+JO52))","v":""},{"$f":"IF(OR('Set UP'!$C38=0,'Set UP'!$D38=0,'Set UP'!$E38=0),\"\",RANK(JP52,$JP$21:$JP$60,0))","v":""},{"$f":"IF(OR('Set UP'!K38<>1,'Set UP'!C38=0,'Set UP'!D38=0,'Set UP'!E38=0,'Set UP'!F38=0),\"\",$JP52)","v":""},{"$f":"IF(OR('Set UP'!K38<>1,'Set UP'!C38=0,'Set UP'!D38=0,'Set UP'!E38=0,'Set UP'!F38=0),\"\",RANK(JR52,$JR$21:$JR$60,0))","v":""},{"$f":"IF(OR('Set UP'!K38<>2,'Set UP'!C38=0,'Set UP'!D38=0,'Set UP'!E38=0,'Set UP'!F38=0),\"\",$JP52)","v":""},{"$f":"IF(OR('Set UP'!K38<>2,'Set UP'!C38=0,'Set UP'!D38=0,'Set UP'!E38=0,'Set UP'!F38=0),\"\",RANK(JT52,$JT$21:$JT$60,0))","v":""},{"$f":"IF(OR('Set UP'!F38<>\"F\",'Set UP'!C38=0,'Set UP'!D38=0,'Set UP'!E38=0),\"\",$JP52)","v":""},{"$f":"IF(OR('Set UP'!F38<>\"F\",'Set UP'!C38=0,'Set UP'!D38=0,'Set UP'!E38=0),\"\",RANK(JV52,$JV$21:$JV$60,0))","v":""},{"$f":"IF(OR('Set UP'!F38<>\"NS\",'Set UP'!C38=0,'Set UP'!D38=0,'Set UP'!E38=0),\"\",$JP52)","v":""},{"$f":"IF(OR('Set UP'!F38<>\"NS\",'Set UP'!C38=0,'Set UP'!D38=0,'Set UP'!E38=0),\"\",RANK(JX52,$JX$21:$JX$60,0))","v":""},{"$f":"IF(OR('Set UP'!$C38=0,'Set UP'!$D38=0,'Set UP'!$E38=0,JP52=0),\"\",JP52/MAX(JP$21:JP$60)*1000)","v":""}]
[null,33,{"$f":"IF(OR('Set UP'!$C39=0,'Set UP'!$D39=0,'Set UP'!$E39=0,'Set UP'!F39=0),\"  --\",'Set UP'!C39)","v":"  --"},{"$f":"IF(OR('Set UP'!$C39=0,'Set UP'!$D39=0,'Set UP'!$E39=0,'Set UP'!F39=0),\"  --\",'Set UP'!D39&\" \"&'Set UP'!E39)","v":"  --"},{"$f":"IF(OR('Set UP'!$C39=0,'Set UP'!$D39=0,'Set UP'!$E39=0,'Set UP'!F39=0),\"  --\",'Set UP'!F39)","v":"  --"},null,null,null,null,null,null,null,null,null,null,null,null,null,null,null,null,null,null,null,null,null,null,null,null,null,null,{"$f":"IF(OR('Set UP'!$C39=0,'Set UP'!$D39=0,'Set UP'!$E39=0),\"\",(F$19*F53)+(G$19*G53)+(H$19*H53)+(I$19*I53)+(J$19*J53)+(K$19*K53)+(L$19*L53)+(M$19*M53)+(N$19*N53)+(O$19*O53)+(P$19*P53)+(Q$19*Q53)+(R$19*R53)+(S$19*S53)+(T$19*T53)+(U$19*U53)+(V$19*V53)+(W$19*W53)+(X$19*X53)+(Y$19*Y53)+(Z$19*Z53)+(AA$19*AA53)+(AB$19*AB53)+(AC$19*AC53)+(AD$19*AD53))","v":""},null,null,null,null,null,null,null,null,null,null,null,null,null,null,null,null,null,null,null,null,null,null,null,null,null,null,{"$f":"IF(OR('Set UP'!$C39=0,'Set UP'!$D39=0,'Set UP'!$E39=0),\"\",(AG$19*AG53)+(AH$19*AH53)+(AI$19*AI53)+(AJ$19*AJ53)+(AK$19*AK53)+(AL$19*AL53)+(AM$19*AM53)+(AN$19*AN53)+(AO$19*AO53)+(AP$19*AP53)+(AQ$19*AQ53)+(AR$19*AR53)+(AS$19*AS53)+(AT$19*AT53)+(AU$19*AU53)+(AV$19*AV53)+(AW$19*AW53)+(AX$19*AX53)+(AY$19*AY53)+(AZ$19*AZ53)+(BA$19*BA53)+(BB$19*BB53)+(BC$19*BC53)+(BD$19*BD53)+(BE$19*BE53))","v":""},null,null,null,null,null,null,null,null,null,null,null,null,null,null,null,null,null,null,null,null,null,null,null,null,null,null,{"$f":"IF(OR('Set UP'!$C39=0,'Set UP'!$D39=0,'Set UP'!$E39=0),\"\",(BH$19*BH53)+(BI$19*BI53)+(BJ$19*BJ53)+(BK$19*BK53)+(BL$19*BL53)+(BM$19*BM53)+(BN$19*BN53)+(BO$19*BO53)+(BP$19*BP53)+(BQ$19*BQ53)+(BR$19*BR53)+(BS$19*BS53)+(BT$19*BT53)+(BU$19*BU53)+(BV$19*BV53)+(BW$19*BW53)+(BX$19*BX53)+(BY$19*BY53)+(BZ$19*BZ53)+(CA$19*CA53)+(CB$19*CB53)+(CC$19*CC53)+(CD$19*CD53)+(CE$19*CE53)+(CF$19*CF53))","v":""},null,null,null,null,null,null,null,null,null,null,null,null,null,null,null,null,null,null,null,null,null,null,null,null,null,null,{"$f":"IF(OR('Set UP'!$C39=0,'Set UP'!$D39=0,'Set UP'!$E39=0),\"\",(CI$19*CI53)+(CJ$19*CJ53)+(CK$19*CK53)+(CL$19*CL53)+(CM$19*CM53)+(CN$19*CN53)+(CO$19*CO53)+(CP$19*CP53)+(CQ$19*CQ53)+(CR$19*CR53)+(CS$19*CS53)+(CT$19*CT53)+(CU$19*CU53)+(CV$19*CV53)+(CW$19*CW53)+(CX$19*CX53)+(CY$19*CY53)+(CZ$19*CZ53)+(DA$19*DA53)+(DB$19*DB53)+(DC$19*DC53)+(DD$19*DD53)+(DE$19*DE53)+(DF$19*DF53)+(DG$19*DG53))","v":""},null,null,null,null,null,null,null,null,null,null,null,null,null,null,null,null,null,null,null,null,null,null,null,null,null,null,{"$f":"IF(OR('Set UP'!$C39=0,'Set UP'!$D39=0,'Set UP'!$E39=0),\"\",(DJ$19*DJ53)+(DK$19*DK53)+(DL$19*DL53)+(DM$19*DM53)+(DN$19*DN53)+(DO$19*DO53)+(DP$19*DP53)+(DQ$19*DQ53)+(DR$19*DR53)+(DS$19*DS53)+(DT$19*DT53)+(DU$19*DU53)+(DV$19*DV53)+(DW$19*DW53)+(DX$19*DX53)+(DY$19*DY53)+(DZ$19*DZ53)+(EA$19*EA53)+(EB$19*EB53)+(EC$19*EC53)+(ED$19*ED53)+(EE$19*EE53)+(EF$19*EF53)+(EG$19*EG53)+(EH$19*EH53))","v":""},null,null,null,null,null,null,null,null,null,null,null,null,null,null,null,null,null,null,null,null,null,null,null,null,null,null,{"$f":"IF(OR('Set UP'!$C39=0,'Set UP'!$D39=0,'Set UP'!$E39=0),\"\",(EK$19*EK53)+(EL$19*EL53)+(EM$19*EM53)+(EN$19*EN53)+(EO$19*EO53)+(EP$19*EP53)+(EQ$19*EQ53)+(ER$19*ER53)+(ES$19*ES53)+(ET$19*ET53)+(EU$19*EU53)+(EV$19*EV53)+(EW$19*EW53)+(EX$19*EX53)+(EY$19*EY53)+(EZ$19*EZ53)+(FA$19*FA53)+(FB$19*FB53)+(FC$19*FC53)+(FD$19*FD53)+(FE$19*FE53)+(FF$19*FF53)+(FG$19*FG53)+(FH$19*FH53)+(FI$19*FI53))","v":""},null,null,null,null,null,null,null,null,null,null,null,null,null,null,null,null,null,null,null,null,null,null,null,null,null,null,{"$f":"IF(OR('Set UP'!$C39=0,'Set UP'!$D39=0,'Set UP'!$E39=0),\"\",(FL$19*FL53)+(FM$19*FM53)+(FN$19*FN53)+(FO$19*FO53)+(FP$19*FP53)+(FQ$19*FQ53)+(FR$19*FR53)+(FS$19*FS53)+(FT$19*FT53)+(FU$19*FU53)+(FV$19*FV53)+(FW$19*FW53)+(FX$19*FX53)+(FY$19*FY53)+(FZ$19*FZ53)+(GA$19*GA53)+(GB$19*GB53)+(GC$19*GC53)+(GD$19*GD53)+(GE$19*GE53)+(GF$19*GF53)+(GG$19*GG53)+(GH$19*GH53)+(GI$19*GI53)+(GJ$19*GJ53))","v":""},null,null,null,null,null,null,null,null,null,null,null,null,null,null,null,null,null,null,null,null,null,null,null,null,null,null,{"$f":"IF(OR('Set UP'!$C39=0,'Set UP'!$D39=0,'Set UP'!$E39=0),\"\",(GM$19*GM53)+(GN$19*GN53)+(GO$19*GO53)+(GP$19*GP53)+(GQ$19*GQ53)+(GR$19*GR53)+(GS$19*GS53)+(GT$19*GT53)+(GU$19*GU53)+(GV$19*GV53)+(GW$19*GW53)+(GX$19*GX53)+(GY$19*GY53)+(GZ$19*GZ53)+(HA$19*HA53)+(HB$19*HB53)+(HC$19*HC53)+(HD$19*HD53)+(HE$19*HE53)+(HF$19*HF53)+(HG$19*HG53)+(HH$19*HH53)+(HI$19*HI53)+(HJ$19*HJ53)+(HK$19*HK53))","v":""},null,null,null,null,null,null,null,null,null,null,null,null,null,null,null,null,null,null,null,null,null,null,null,null,null,null,{"$f":"IF(OR('Set UP'!$C39=0,'Set UP'!$D39=0,'Set UP'!$E39=0),\"\",(HN$19*HN53)+(HO$19*HO53)+(HP$19*HP53)+(HQ$19*HQ53)+(HR$19*HR53)+(HS$19*HS53)+(HT$19*HT53)+(HU$19*HU53)+(HV$19*HV53)+(HW$19*HW53)+(HX$19*HX53)+(HY$19*HY53)+(HZ$19*HZ53)+(IA$19*IA53)+(IB$19*IB53)+(IC$19*IC53)+(ID$19*ID53)+(IE$19*IE53)+(IF$19*IF53)+(IG$19*IG53)+(IH$19*IH53)+(II$19*II53)+(IJ$19*IJ53)+(IK$19*IK53)+(IL$19*IL53))","v":""},null,null,null,null,null,null,null,null,null,null,null,null,null,null,null,null,null,null,null,null,null,null,null,null,null,null,{"$f":"IF(OR('Set UP'!$C39=0,'Set UP'!$D39=0,'Set UP'!$E39=0),\"\",(IO$19*IO53)+(IP$19*IP53)+(IQ$19*IQ53)+(IR$19*IR53)+(IS$19*IS53)+(IT$19*IT53)+(IU$19*IU53)+(IV$19*IV53)+(IW$19*IW53)+(IX$19*IX53)+(IY$19*IY53)+(IZ$19*IZ53)+(JA$19*JA53)+(JB$19*JB53)+(JC$19*JC53)+(JD$19*JD53)+(JE$19*JE53)+(JF$19*JF53)+(JG$19*JG53)+(JH$19*JH53)+(JI$19*JI53)+(JJ$19*JJ53)+(JK$19*JK53)+(JL$19*JL53)+(JM$19*JM53))","v":""},{"$f":"IF(OR('Set UP'!$C39=0,'Set UP'!$D39=0,'Set UP'!$E39=0),\"\",(AF53+BG53+CH53+DI53+EJ53+FK53+GL53+HM53+IN53+JO53))","v":""},{"$f":"IF(OR('Set UP'!$C39=0,'Set UP'!$D39=0,'Set UP'!$E39=0),\"\",RANK(JP53,$JP$21:$JP$60,0))","v":""},{"$f":"IF(OR('Set UP'!K39<>1,'Set UP'!C39=0,'Set UP'!D39=0,'Set UP'!E39=0,'Set UP'!F39=0),\"\",$JP53)","v":""},{"$f":"IF(OR('Set UP'!K39<>1,'Set UP'!C39=0,'Set UP'!D39=0,'Set UP'!E39=0,'Set UP'!F39=0),\"\",RANK(JR53,$JR$21:$JR$60,0))","v":""},{"$f":"IF(OR('Set UP'!K39<>2,'Set UP'!C39=0,'Set UP'!D39=0,'Set UP'!E39=0,'Set UP'!F39=0),\"\",$JP53)","v":""},{"$f":"IF(OR('Set UP'!K39<>2,'Set UP'!C39=0,'Set UP'!D39=0,'Set UP'!E39=0,'Set UP'!F39=0),\"\",RANK(JT53,$JT$21:$JT$60,0))","v":""},{"$f":"IF(OR('Set UP'!F39<>\"F\",'Set UP'!C39=0,'Set UP'!D39=0,'Set UP'!E39=0),\"\",$JP53)","v":""},{"$f":"IF(OR('Set UP'!F39<>\"F\",'Set UP'!C39=0,'Set UP'!D39=0,'Set UP'!E39=0),\"\",RANK(JV53,$JV$21:$JV$60,0))","v":""},{"$f":"IF(OR('Set UP'!F39<>\"NS\",'Set UP'!C39=0,'Set UP'!D39=0,'Set UP'!E39=0),\"\",$JP53)","v":""},{"$f":"IF(OR('Set UP'!F39<>\"NS\",'Set UP'!C39=0,'Set UP'!D39=0,'Set UP'!E39=0),\"\",RANK(JX53,$JX$21:$JX$60,0))","v":""},{"$f":"IF(OR('Set UP'!$C39=0,'Set UP'!$D39=0,'Set UP'!$E39=0,JP53=0),\"\",JP53/MAX(JP$21:JP$60)*1000)","v":""}]
[null,34,{"$f":"IF(OR('Set UP'!$C40=0,'Set UP'!$D40=0,'Set UP'!$E40=0,'Set UP'!F40=0),\"  --\",'Set UP'!C40)","v":"  --"},{"$f":"IF(OR('Set UP'!$C40=0,'Set UP'!$D40=0,'Set UP'!$E40=0,'Set UP'!F40=0),\"  --\",'Set UP'!D40&\" \"&'Set UP'!E40)","v":"  --"},{"$f":"IF(OR('Set UP'!$C40=0,'Set UP'!$D40=0,'Set UP'!$E40=0,'Set UP'!F40=0),\"  --\",'Set UP'!F40)","v":"  --"},null,null,null,null,null,null,null,null,null,null,null,null,null,null,null,null,null,null,null,null,null,null,null,null,null,null,{"$f":"IF(OR('Set UP'!$C40=0,'Set UP'!$D40=0,'Set UP'!$E40=0),\"\",(F$19*F54)+(G$19*G54)+(H$19*H54)+(I$19*I54)+(J$19*J54)+(K$19*K54)+(L$19*L54)+(M$19*M54)+(N$19*N54)+(O$19*O54)+(P$19*P54)+(Q$19*Q54)+(R$19*R54)+(S$19*S54)+(T$19*T54)+(U$19*U54)+(V$19*V54)+(W$19*W54)+(X$19*X54)+(Y$19*Y54)+(Z$19*Z54)+(AA$19*AA54)+(AB$19*AB54)+(AC$19*AC54)+(AD$19*AD54))","v":""},null,null,null,null,null,null,null,null,null,null,null,null,null,null,null,null,null,null,null,null,null,null,null,null,null,null,{"$f":"IF(OR('Set UP'!$C40=0,'Set UP'!$D40=0,'Set UP'!$E40=0),\"\",(AG$19*AG54)+(AH$19*AH54)+(AI$19*AI54)+(AJ$19*AJ54)+(AK$19*AK54)+(AL$19*AL54)+(AM$19*AM54)+(AN$19*AN54)+(AO$19*AO54)+(AP$19*AP54)+(AQ$19*AQ54)+(AR$19*AR54)+(AS$19*AS54)+(AT$19*AT54)+(AU$19*AU54)+(AV$19*AV54)+(AW$19*AW54)+(AX$19*AX54)+(AY$19*AY54)+(AZ$19*AZ54)+(BA$19*BA54)+(BB$19*BB54)+(BC$19*BC54)+(BD$19*BD54)+(BE$19*BE54))","v":""},null,null,null,null,null,null,null,null,null,null,null,null,null,null,null,null,null,null,null,null,null,null,null,null,null,null,{"$f":"IF(OR('Set UP'!$C40=0,'Set UP'!$D40=0,'Set UP'!$E40=0),\"\",(BH$19*BH54)+(BI$19*BI54)+(BJ$19*BJ54)+(BK$19*BK54)+(BL$19*BL54)+(BM$19*BM54)+(BN$19*BN54)+(BO$19*BO54)+(BP$19*BP54)+(BQ$19*BQ54)+(BR$19*BR54)+(BS$19*BS54)+(BT$19*BT54)+(BU$19*BU54)+(BV$19*BV54)+(BW$19*BW54)+(BX$19*BX54)+(BY$19*BY54)+(BZ$19*BZ54)+(CA$19*CA54)+(CB$19*CB54)+(CC$19*CC54)+(CD$19*CD54)+(CE$19*CE54)+(CF$19*CF54))","v":""},null,null,null,null,null,null,null,null,null,null,null,null,null,null,null,null,null,null,null,null,null,null,null,null,null,null,{"$f":"IF(OR('Set UP'!$C40=0,'Set UP'!$D40=0,'Set UP'!$E40=0),\"\",(CI$19*CI54)+(CJ$19*CJ54)+(CK$19*CK54)+(CL$19*CL54)+(CM$19*CM54)+(CN$19*CN54)+(CO$19*CO54)+(CP$19*CP54)+(CQ$19*CQ54)+(CR$19*CR54)+(CS$19*CS54)+(CT$19*CT54)+(CU$19*CU54)+(CV$19*CV54)+(CW$19*CW54)+(CX$19*CX54)+(CY$19*CY54)+(CZ$19*CZ54)+(DA$19*DA54)+(DB$19*DB54)+(DC$19*DC54)+(DD$19*DD54)+(DE$19*DE54)+(DF$19*DF54)+(DG$19*DG54))","v":""},null,null,null,null,null,null,null,null,null,null,null,null,null,null,null,null,null,null,null,null,null,null,null,null,null,null,{"$f":"IF(OR('Set UP'!$C40=0,'Set UP'!$D40=0,'Set UP'!$E40=0),\"\",(DJ$19*DJ54)+(DK$19*DK54)+(DL$19*DL54)+(DM$19*DM54)+(DN$19*DN54)+(DO$19*DO54)+(DP$19*DP54)+(DQ$19*DQ54)+(DR$19*DR54)+(DS$19*DS54)+(DT$19*DT54)+(DU$19*DU54)+(DV$19*DV54)+(DW$19*DW54)+(DX$19*DX54)+(DY$19*DY54)+(DZ$19*DZ54)+(EA$19*EA54)+(EB$19*EB54)+(EC$19*EC54)+(ED$19*ED54)+(EE$19*EE54)+(EF$19*EF54)+(EG$19*EG54)+(EH$19*EH54))","v":""},null,null,null,null,null,null,null,null,null,null,null,null,null,null,null,null,null,null,null,null,null,null,null,null,null,null,{"$f":"IF(OR('Set UP'!$C40=0,'Set UP'!$D40=0,'Set UP'!$E40=0),\"\",(EK$19*EK54)+(EL$19*EL54)+(EM$19*EM54)+(EN$19*EN54)+(EO$19*EO54)+(EP$19*EP54)+(EQ$19*EQ54)+(ER$19*ER54)+(ES$19*ES54)+(ET$19*ET54)+(EU$19*EU54)+(EV$19*EV54)+(EW$19*EW54)+(EX$19*EX54)+(EY$19*EY54)+(EZ$19*EZ54)+(FA$19*FA54)+(FB$19*FB54)+(FC$19*FC54)+(FD$19*FD54)+(FE$19*FE54)+(FF$19*FF54)+(FG$19*FG54)+(FH$19*FH54)+(FI$19*FI54))","v":""},null,null,null,null,null,null,null,null,null,null,null,null,null,null,null,null,null,null,null,null,null,null,null,null,null,null,{"$f":"IF(OR('Set UP'!$C40=0,'Set UP'!$D40=0,'Set UP'!$E40=0),\"\",(FL$19*FL54)+(FM$19*FM54)+(FN$19*FN54)+(FO$19*FO54)+(FP$19*FP54)+(FQ$19*FQ54)+(FR$19*FR54)+(FS$19*FS54)+(FT$19*FT54)+(FU$19*FU54)+(FV$19*FV54)+(FW$19*FW54)+(FX$19*FX54)+(FY$19*FY54)+(FZ$19*FZ54)+(GA$19*GA54)+(GB$19*GB54)+(GC$19*GC54)+(GD$19*GD54)+(GE$19*GE54)+(GF$19*GF54)+(GG$19*GG54)+(GH$19*GH54)+(GI$19*GI54)+(GJ$19*GJ54))","v":""},null,null,null,null,null,null,null,null,null,null,null,null,null,null,null,null,null,null,null,null,null,null,null,null,null,null,{"$f":"IF(OR('Set UP'!$C40=0,'Set UP'!$D40=0,'Set UP'!$E40=0),\"\",(GM$19*GM54)+(GN$19*GN54)+(GO$19*GO54)+(GP$19*GP54)+(GQ$19*GQ54)+(GR$19*GR54)+(GS$19*GS54)+(GT$19*GT54)+(GU$19*GU54)+(GV$19*GV54)+(GW$19*GW54)+(GX$19*GX54)+(GY$19*GY54)+(GZ$19*GZ54)+(HA$19*HA54)+(HB$19*HB54)+(HC$19*HC54)+(HD$19*HD54)+(HE$19*HE54)+(HF$19*HF54)+(HG$19*HG54)+(HH$19*HH54)+(HI$19*HI54)+(HJ$19*HJ54)+(HK$19*HK54))","v":""},null,null,null,null,null,null,null,null,null,null,null,null,null,null,null,null,null,null,null,null,null,null,null,null,null,null,{"$f":"IF(OR('Set UP'!$C40=0,'Set UP'!$D40=0,'Set UP'!$E40=0),\"\",(HN$19*HN54)+(HO$19*HO54)+(HP$19*HP54)+(HQ$19*HQ54)+(HR$19*HR54)+(HS$19*HS54)+(HT$19*HT54)+(HU$19*HU54)+(HV$19*HV54)+(HW$19*HW54)+(HX$19*HX54)+(HY$19*HY54)+(HZ$19*HZ54)+(IA$19*IA54)+(IB$19*IB54)+(IC$19*IC54)+(ID$19*ID54)+(IE$19*IE54)+(IF$19*IF54)+(IG$19*IG54)+(IH$19*IH54)+(II$19*II54)+(IJ$19*IJ54)+(IK$19*IK54)+(IL$19*IL54))","v":""},null,null,null,null,null,null,null,null,null,null,null,null,null,null,null,null,null,null,null,null,null,null,null,null,null,null,{"$f":"IF(OR('Set UP'!$C40=0,'Set UP'!$D40=0,'Set UP'!$E40=0),\"\",(IO$19*IO54)+(IP$19*IP54)+(IQ$19*IQ54)+(IR$19*IR54)+(IS$19*IS54)+(IT$19*IT54)+(IU$19*IU54)+(IV$19*IV54)+(IW$19*IW54)+(IX$19*IX54)+(IY$19*IY54)+(IZ$19*IZ54)+(JA$19*JA54)+(JB$19*JB54)+(JC$19*JC54)+(JD$19*JD54)+(JE$19*JE54)+(JF$19*JF54)+(JG$19*JG54)+(JH$19*JH54)+(JI$19*JI54)+(JJ$19*JJ54)+(JK$19*JK54)+(JL$19*JL54)+(JM$19*JM54))","v":""},{"$f":"IF(OR('Set UP'!$C40=0,'Set UP'!$D40=0,'Set UP'!$E40=0),\"\",(AF54+BG54+CH54+DI54+EJ54+FK54+GL54+HM54+IN54+JO54))","v":""},{"$f":"IF(OR('Set UP'!$C40=0,'Set UP'!$D40=0,'Set UP'!$E40=0),\"\",RANK(JP54,$JP$21:$JP$60,0))","v":""},{"$f":"IF(OR('Set UP'!K40<>1,'Set UP'!C40=0,'Set UP'!D40=0,'Set UP'!E40=0,'Set UP'!F40=0),\"\",$JP54)","v":""},{"$f":"IF(OR('Set UP'!K40<>1,'Set UP'!C40=0,'Set UP'!D40=0,'Set UP'!E40=0,'Set UP'!F40=0),\"\",RANK(JR54,$JR$21:$JR$60,0))","v":""},{"$f":"IF(OR('Set UP'!K40<>2,'Set UP'!C40=0,'Set UP'!D40=0,'Set UP'!E40=0,'Set UP'!F40=0),\"\",$JP54)","v":""},{"$f":"IF(OR('Set UP'!K40<>2,'Set UP'!C40=0,'Set UP'!D40=0,'Set UP'!E40=0,'Set UP'!F40=0),\"\",RANK(JT54,$JT$21:$JT$60,0))","v":""},{"$f":"IF(OR('Set UP'!F40<>\"F\",'Set UP'!C40=0,'Set UP'!D40=0,'Set UP'!E40=0),\"\",$JP54)","v":""},{"$f":"IF(OR('Set UP'!F40<>\"F\",'Set UP'!C40=0,'Set UP'!D40=0,'Set UP'!E40=0),\"\",RANK(JV54,$JV$21:$JV$60,0))","v":""},{"$f":"IF(OR('Set UP'!F40<>\"NS\",'Set UP'!C40=0,'Set UP'!D40=0,'Set UP'!E40=0),\"\",$JP54)","v":""},{"$f":"IF(OR('Set UP'!F40<>\"NS\",'Set UP'!C40=0,'Set UP'!D40=0,'Set UP'!E40=0),\"\",RANK(JX54,$JX$21:$JX$60,0))","v":""},{"$f":"IF(OR('Set UP'!$C40=0,'Set UP'!$D40=0,'Set UP'!$E40=0,JP54=0),\"\",JP54/MAX(JP$21:JP$60)*1000)","v":""}]
[null,35,{"$f":"IF(OR('Set UP'!$C41=0,'Set UP'!$D41=0,'Set UP'!$E41=0,'Set UP'!F41=0),\"  --\",'Set UP'!C41)","v":"  --"},{"$f":"IF(OR('Set UP'!$C41=0,'Set UP'!$D41=0,'Set UP'!$E41=0,'Set UP'!F41=0),\"  --\",'Set UP'!D41&\" \"&'Set UP'!E41)","v":"  --"},{"$f":"IF(OR('Set UP'!$C41=0,'Set UP'!$D41=0,'Set UP'!$E41=0,'Set UP'!F41=0),\"  --\",'Set UP'!F41)","v":"  --"},null,null,null,null,null,null,null,null,null,null,null,null,null,null,null,null,null,null,null,null,null,null,null,null,null,null,{"$f":"IF(OR('Set UP'!$C41=0,'Set UP'!$D41=0,'Set UP'!$E41=0),\"\",(F$19*F55)+(G$19*G55)+(H$19*H55)+(I$19*I55)+(J$19*J55)+(K$19*K55)+(L$19*L55)+(M$19*M55)+(N$19*N55)+(O$19*O55)+(P$19*P55)+(Q$19*Q55)+(R$19*R55)+(S$19*S55)+(T$19*T55)+(U$19*U55)+(V$19*V55)+(W$19*W55)+(X$19*X55)+(Y$19*Y55)+(Z$19*Z55)+(AA$19*AA55)+(AB$19*AB55)+(AC$19*AC55)+(AD$19*AD55))","v":""},null,null,null,null,null,null,null,null,null,null,null,null,null,null,null,null,null,null,null,null,null,null,null,null,null,null,{"$f":"IF(OR('Set UP'!$C41=0,'Set UP'!$D41=0,'Set UP'!$E41=0),\"\",(AG$19*AG55)+(AH$19*AH55)+(AI$19*AI55)+(AJ$19*AJ55)+(AK$19*AK55)+(AL$19*AL55)+(AM$19*AM55)+(AN$19*AN55)+(AO$19*AO55)+(AP$19*AP55)+(AQ$19*AQ55)+(AR$19*AR55)+(AS$19*AS55)+(AT$19*AT55)+(AU$19*AU55)+(AV$19*AV55)+(AW$19*AW55)+(AX$19*AX55)+(AY$19*AY55)+(AZ$19*AZ55)+(BA$19*BA55)+(BB$19*BB55)+(BC$19*BC55)+(BD$19*BD55)+(BE$19*BE55))","v":""},null,null,null,null,null,null,null,null,null,null,null,null,null,null,null,null,null,null,null,null,null,null,null,null,null,null,{"$f":"IF(OR('Set UP'!$C41=0,'Set UP'!$D41=0,'Set UP'!$E41=0),\"\",(BH$19*BH55)+(BI$19*BI55)+(BJ$19*BJ55)+(BK$19*BK55)+(BL$19*BL55)+(BM$19*BM55)+(BN$19*BN55)+(BO$19*BO55)+(BP$19*BP55)+(BQ$19*BQ55)+(BR$19*BR55)+(BS$19*BS55)+(BT$19*BT55)+(BU$19*BU55)+(BV$19*BV55)+(BW$19*BW55)+(BX$19*BX55)+(BY$19*BY55)+(BZ$19*BZ55)+(CA$19*CA55)+(CB$19*CB55)+(CC$19*CC55)+(CD$19*CD55)+(CE$19*CE55)+(CF$19*CF55))","v":""},null,null,null,null,null,null,null,null,null,null,null,null,null,null,null,null,null,null,null,null,null,null,null,null,null,null,{"$f":"IF(OR('Set UP'!$C41=0,'Set UP'!$D41=0,'Set UP'!$E41=0),\"\",(CI$19*CI55)+(CJ$19*CJ55)+(CK$19*CK55)+(CL$19*CL55)+(CM$19*CM55)+(CN$19*CN55)+(CO$19*CO55)+(CP$19*CP55)+(CQ$19*CQ55)+(CR$19*CR55)+(CS$19*CS55)+(CT$19*CT55)+(CU$19*CU55)+(CV$19*CV55)+(CW$19*CW55)+(CX$19*CX55)+(CY$19*CY55)+(CZ$19*CZ55)+(DA$19*DA55)+(DB$19*DB55)+(DC$19*DC55)+(DD$19*DD55)+(DE$19*DE55)+(DF$19*DF55)+(DG$19*DG55))","v":""},null,null,null,null,null,null,null,null,null,null,null,null,null,null,null,null,null,null,null,null,null,null,null,null,null,null,{"$f":"IF(OR('Set UP'!$C41=0,'Set UP'!$D41=0,'Set UP'!$E41=0),\"\",(DJ$19*DJ55)+(DK$19*DK55)+(DL$19*DL55)+(DM$19*DM55)+(DN$19*DN55)+(DO$19*DO55)+(DP$19*DP55)+(DQ$19*DQ55)+(DR$19*DR55)+(DS$19*DS55)+(DT$19*DT55)+(DU$19*DU55)+(DV$19*DV55)+(DW$19*DW55)+(DX$19*DX55)+(DY$19*DY55)+(DZ$19*DZ55)+(EA$19*EA55)+(EB$19*EB55)+(EC$19*EC55)+(ED$19*ED55)+(EE$19*EE55)+(EF$19*EF55)+(EG$19*EG55)+(EH$19*EH55))","v":""},null,null,null,null,null,null,null,null,null,null,null,null,null,null,null,null,null,null,null,null,null,null,null,null,null,null,{"$f":"IF(OR('Set UP'!$C41=0,'Set UP'!$D41=0,'Set UP'!$E41=0),\"\",(EK$19*EK55)+(EL$19*EL55)+(EM$19*EM55)+(EN$19*EN55)+(EO$19*EO55)+(EP$19*EP55)+(EQ$19*EQ55)+(ER$19*ER55)+(ES$19*ES55)+(ET$19*ET55)+(EU$19*EU55)+(EV$19*EV55)+(EW$19*EW55)+(EX$19*EX55)+(EY$19*EY55)+(EZ$19*EZ55)+(FA$19*FA55)+(FB$19*FB55)+(FC$19*FC55)+(FD$19*FD55)+(FE$19*FE55)+(FF$19*FF55)+(FG$19*FG55)+(FH$19*FH55)+(FI$19*FI55))","v":""},null,null,null,null,null,null,null,null,null,null,null,null,null,null,null,null,null,null,null,null,null,null,null,null,null,null,{"$f":"IF(OR('Set UP'!$C41=0,'Set UP'!$D41=0,'Set UP'!$E41=0),\"\",(FL$19*FL55)+(FM$19*FM55)+(FN$19*FN55)+(FO$19*FO55)+(FP$19*FP55)+(FQ$19*FQ55)+(FR$19*FR55)+(FS$19*FS55)+(FT$19*FT55)+(FU$19*FU55)+(FV$19*FV55)+(FW$19*FW55)+(FX$19*FX55)+(FY$19*FY55)+(FZ$19*FZ55)+(GA$19*GA55)+(GB$19*GB55)+(GC$19*GC55)+(GD$19*GD55)+(GE$19*GE55)+(GF$19*GF55)+(GG$19*GG55)+(GH$19*GH55)+(GI$19*GI55)+(GJ$19*GJ55))","v":""},null,null,null,null,null,null,null,null,null,null,null,null,null,null,null,null,null,null,null,null,null,null,null,null,null,null,{"$f":"IF(OR('Set UP'!$C41=0,'Set UP'!$D41=0,'Set UP'!$E41=0),\"\",(GM$19*GM55)+(GN$19*GN55)+(GO$19*GO55)+(GP$19*GP55)+(GQ$19*GQ55)+(GR$19*GR55)+(GS$19*GS55)+(GT$19*GT55)+(GU$19*GU55)+(GV$19*GV55)+(GW$19*GW55)+(GX$19*GX55)+(GY$19*GY55)+(GZ$19*GZ55)+(HA$19*HA55)+(HB$19*HB55)+(HC$19*HC55)+(HD$19*HD55)+(HE$19*HE55)+(HF$19*HF55)+(HG$19*HG55)+(HH$19*HH55)+(HI$19*HI55)+(HJ$19*HJ55)+(HK$19*HK55))","v":""},null,null,null,null,null,null,null,null,null,null,null,null,null,null,null,null,null,null,null,null,null,null,null,null,null,null,{"$f":"IF(OR('Set UP'!$C41=0,'Set UP'!$D41=0,'Set UP'!$E41=0),\"\",(HN$19*HN55)+(HO$19*HO55)+(HP$19*HP55)+(HQ$19*HQ55)+(HR$19*HR55)+(HS$19*HS55)+(HT$19*HT55)+(HU$19*HU55)+(HV$19*HV55)+(HW$19*HW55)+(HX$19*HX55)+(HY$19*HY55)+(HZ$19*HZ55)+(IA$19*IA55)+(IB$19*IB55)+(IC$19*IC55)+(ID$19*ID55)+(IE$19*IE55)+(IF$19*IF55)+(IG$19*IG55)+(IH$19*IH55)+(II$19*II55)+(IJ$19*IJ55)+(IK$19*IK55)+(IL$19*IL55))","v":""},null,null,null,null,null,null,null,null,null,null,null,null,null,null,null,null,null,null,null,null,null,null,null,null,null,null,{"$f":"IF(OR('Set UP'!$C41=0,'Set UP'!$D41=0,'Set UP'!$E41=0),\"\",(IO$19*IO55)+(IP$19*IP55)+(IQ$19*IQ55)+(IR$19*IR55)+(IS$19*IS55)+(IT$19*IT55)+(IU$19*IU55)+(IV$19*IV55)+(IW$19*IW55)+(IX$19*IX55)+(IY$19*IY55)+(IZ$19*IZ55)+(JA$19*JA55)+(JB$19*JB55)+(JC$19*JC55)+(JD$19*JD55)+(JE$19*JE55)+(JF$19*JF55)+(JG$19*JG55)+(JH$19*JH55)+(JI$19*JI55)+(JJ$19*JJ55)+(JK$19*JK55)+(JL$19*JL55)+(JM$19*JM55))","v":""},{"$f":"IF(OR('Set UP'!$C41=0,'Set UP'!$D41=0,'Set UP'!$E41=0),\"\",(AF55+BG55+CH55+DI55+EJ55+FK55+GL55+HM55+IN55+JO55))","v":""},{"$f":"IF(OR('Set UP'!$C41=0,'Set UP'!$D41=0,'Set UP'!$E41=0),\"\",RANK(JP55,$JP$21:$JP$60,0))","v":""},{"$f":"IF(OR('Set UP'!K41<>1,'Set UP'!C41=0,'Set UP'!D41=0,'Set UP'!E41=0,'Set UP'!F41=0),\"\",$JP55)","v":""},{"$f":"IF(OR('Set UP'!K41<>1,'Set UP'!C41=0,'Set UP'!D41=0,'Set UP'!E41=0,'Set UP'!F41=0),\"\",RANK(JR55,$JR$21:$JR$60,0))","v":""},{"$f":"IF(OR('Set UP'!K41<>2,'Set UP'!C41=0,'Set UP'!D41=0,'Set UP'!E41=0,'Set UP'!F41=0),\"\",$JP55)","v":""},{"$f":"IF(OR('Set UP'!K41<>2,'Set UP'!C41=0,'Set UP'!D41=0,'Set UP'!E41=0,'Set UP'!F41=0),\"\",RANK(JT55,$JT$21:$JT$60,0))","v":""},{"$f":"IF(OR('Set UP'!F41<>\"F\",'Set UP'!C41=0,'Set UP'!D41=0,'Set UP'!E41=0),\"\",$JP55)","v":""},{"$f":"IF(OR('Set UP'!F41<>\"F\",'Set UP'!C41=0,'Set UP'!D41=0,'Set UP'!E41=0),\"\",RANK(JV55,$JV$21:$JV$60,0))","v":""},{"$f":"IF(OR('Set UP'!F41<>\"NS\",'Set UP'!C41=0,'Set UP'!D41=0,'Set UP'!E41=0),\"\",$JP55)","v":""},{"$f":"IF(OR('Set UP'!F41<>\"NS\",'Set UP'!C41=0,'Set UP'!D41=0,'Set UP'!E41=0),\"\",RANK(JX55,$JX$21:$JX$60,0))","v":""},{"$f":"IF(OR('Set UP'!$C41=0,'Set UP'!$D41=0,'Set UP'!$E41=0,JP55=0),\"\",JP55/MAX(JP$21:JP$60)*1000)","v":""}]
[null,36,{"$f":"IF(OR('Set UP'!$C42=0,'Set UP'!$D42=0,'Set UP'!$E42=0,'Set UP'!F42=0),\"  --\",'Set UP'!C42)","v":"  --"},{"$f":"IF(OR('Set UP'!$C42=0,'Set UP'!$D42=0,'Set UP'!$E42=0,'Set UP'!F42=0),\"  --\",'Set UP'!D42&\" \"&'Set UP'!E42)","v":"  --"},{"$f":"IF(OR('Set UP'!$C42=0,'Set UP'!$D42=0,'Set UP'!$E42=0,'Set UP'!F42=0),\"  --\",'Set UP'!F42)","v":"  --"},null,null,null,null,null,null,null,null,null,null,null,null,null,null,null,null,null,null,null,null,null,null,null,null,null,null,{"$f":"IF(OR('Set UP'!$C42=0,'Set UP'!$D42=0,'Set UP'!$E42=0),\"\",(F$19*F56)+(G$19*G56)+(H$19*H56)+(I$19*I56)+(J$19*J56)+(K$19*K56)+(L$19*L56)+(M$19*M56)+(N$19*N56)+(O$19*O56)+(P$19*P56)+(Q$19*Q56)+(R$19*R56)+(S$19*S56)+(T$19*T56)+(U$19*U56)+(V$19*V56)+(W$19*W56)+(X$19*X56)+(Y$19*Y56)+(Z$19*Z56)+(AA$19*AA56)+(AB$19*AB56)+(AC$19*AC56)+(AD$19*AD56))","v":""},null,null,null,null,null,null,null,null,null,null,null,null,null,null,null,null,null,null,null,null,null,null,null,null,null,null,{"$f":"IF(OR('Set UP'!$C42=0,'Set UP'!$D42=0,'Set UP'!$E42=0),\"\",(AG$19*AG56)+(AH$19*AH56)+(AI$19*AI56)+(AJ$19*AJ56)+(AK$19*AK56)+(AL$19*AL56)+(AM$19*AM56)+(AN$19*AN56)+(AO$19*AO56)+(AP$19*AP56)+(AQ$19*AQ56)+(AR$19*AR56)+(AS$19*AS56)+(AT$19*AT56)+(AU$19*AU56)+(AV$19*AV56)+(AW$19*AW56)+(AX$19*AX56)+(AY$19*AY56)+(AZ$19*AZ56)+(BA$19*BA56)+(BB$19*BB56)+(BC$19*BC56)+(BD$19*BD56)+(BE$19*BE56))","v":""},null,null,null,null,null,null,null,null,null,null,null,null,null,null,null,null,null,null,null,null,null,null,null,null,null,null,{"$f":"IF(OR('Set UP'!$C42=0,'Set UP'!$D42=0,'Set UP'!$E42=0),\"\",(BH$19*BH56)+(BI$19*BI56)+(BJ$19*BJ56)+(BK$19*BK56)+(BL$19*BL56)+(BM$19*BM56)+(BN$19*BN56)+(BO$19*BO56)+(BP$19*BP56)+(BQ$19*BQ56)+(BR$19*BR56)+(BS$19*BS56)+(BT$19*BT56)+(BU$19*BU56)+(BV$19*BV56)+(BW$19*BW56)+(BX$19*BX56)+(BY$19*BY56)+(BZ$19*BZ56)+(CA$19*CA56)+(CB$19*CB56)+(CC$19*CC56)+(CD$19*CD56)+(CE$19*CE56)+(CF$19*CF56))","v":""},null,null,null,null,null,null,null,null,null,null,null,null,null,null,null,null,null,null,null,null,null,null,null,null,null,null,{"$f":"IF(OR('Set UP'!$C42=0,'Set UP'!$D42=0,'Set UP'!$E42=0),\"\",(CI$19*CI56)+(CJ$19*CJ56)+(CK$19*CK56)+(CL$19*CL56)+(CM$19*CM56)+(CN$19*CN56)+(CO$19*CO56)+(CP$19*CP56)+(CQ$19*CQ56)+(CR$19*CR56)+(CS$19*CS56)+(CT$19*CT56)+(CU$19*CU56)+(CV$19*CV56)+(CW$19*CW56)+(CX$19*CX56)+(CY$19*CY56)+(CZ$19*CZ56)+(DA$19*DA56)+(DB$19*DB56)+(DC$19*DC56)+(DD$19*DD56)+(DE$19*DE56)+(DF$19*DF56)+(DG$19*DG56))","v":""},null,null,null,null,null,null,null,null,null,null,null,null,null,null,null,null,null,null,null,null,null,null,null,null,null,null,{"$f":"IF(OR('Set UP'!$C42=0,'Set UP'!$D42=0,'Set UP'!$E42=0),\"\",(DJ$19*DJ56)+(DK$19*DK56)+(DL$19*DL56)+(DM$19*DM56)+(DN$19*DN56)+(DO$19*DO56)+(DP$19*DP56)+(DQ$19*DQ56)+(DR$19*DR56)+(DS$19*DS56)+(DT$19*DT56)+(DU$19*DU56)+(DV$19*DV56)+(DW$19*DW56)+(DX$19*DX56)+(DY$19*DY56)+(DZ$19*DZ56)+(EA$19*EA56)+(EB$19*EB56)+(EC$19*EC56)+(ED$19*ED56)+(EE$19*EE56)+(EF$19*EF56)+(EG$19*EG56)+(EH$19*EH56))","v":""},null,null,null,null,null,null,null,null,null,null,null,null,null,null,null,null,null,null,null,null,null,null,null,null,null,null,{"$f":"IF(OR('Set UP'!$C42=0,'Set UP'!$D42=0,'Set UP'!$E42=0),\"\",(EK$19*EK56)+(EL$19*EL56)+(EM$19*EM56)+(EN$19*EN56)+(EO$19*EO56)+(EP$19*EP56)+(EQ$19*EQ56)+(ER$19*ER56)+(ES$19*ES56)+(ET$19*ET56)+(EU$19*EU56)+(EV$19*EV56)+(EW$19*EW56)+(EX$19*EX56)+(EY$19*EY56)+(EZ$19*EZ56)+(FA$19*FA56)+(FB$19*FB56)+(FC$19*FC56)+(FD$19*FD56)+(FE$19*FE56)+(FF$19*FF56)+(FG$19*FG56)+(FH$19*FH56)+(FI$19*FI56))","v":""},null,null,null,null,null,null,null,null,null,null,null,null,null,null,null,null,null,null,null,null,null,null,null,null,null,null,{"$f":"IF(OR('Set UP'!$C42=0,'Set UP'!$D42=0,'Set UP'!$E42=0),\"\",(FL$19*FL56)+(FM$19*FM56)+(FN$19*FN56)+(FO$19*FO56)+(FP$19*FP56)+(FQ$19*FQ56)+(FR$19*FR56)+(FS$19*FS56)+(FT$19*FT56)+(FU$19*FU56)+(FV$19*FV56)+(FW$19*FW56)+(FX$19*FX56)+(FY$19*FY56)+(FZ$19*FZ56)+(GA$19*GA56)+(GB$19*GB56)+(GC$19*GC56)+(GD$19*GD56)+(GE$19*GE56)+(GF$19*GF56)+(GG$19*GG56)+(GH$19*GH56)+(GI$19*GI56)+(GJ$19*GJ56))","v":""},null,null,null,null,null,null,null,null,null,null,null,null,null,null,null,null,null,null,null,null,null,null,null,null,null,null,{"$f":"IF(OR('Set UP'!$C42=0,'Set UP'!$D42=0,'Set UP'!$E42=0),\"\",(GM$19*GM56)+(GN$19*GN56)+(GO$19*GO56)+(GP$19*GP56)+(GQ$19*GQ56)+(GR$19*GR56)+(GS$19*GS56)+(GT$19*GT56)+(GU$19*GU56)+(GV$19*GV56)+(GW$19*GW56)+(GX$19*GX56)+(GY$19*GY56)+(GZ$19*GZ56)+(HA$19*HA56)+(HB$19*HB56)+(HC$19*HC56)+(HD$19*HD56)+(HE$19*HE56)+(HF$19*HF56)+(HG$19*HG56)+(HH$19*HH56)+(HI$19*HI56)+(HJ$19*HJ56)+(HK$19*HK56))","v":""},null,null,null,null,null,null,null,null,null,null,null,null,null,null,null,null,null,null,null,null,null,null,null,null,null,null,{"$f":"IF(OR('Set UP'!$C42=0,'Set UP'!$D42=0,'Set UP'!$E42=0),\"\",(HN$19*HN56)+(HO$19*HO56)+(HP$19*HP56)+(HQ$19*HQ56)+(HR$19*HR56)+(HS$19*HS56)+(HT$19*HT56)+(HU$19*HU56)+(HV$19*HV56)+(HW$19*HW56)+(HX$19*HX56)+(HY$19*HY56)+(HZ$19*HZ56)+(IA$19*IA56)+(IB$19*IB56)+(IC$19*IC56)+(ID$19*ID56)+(IE$19*IE56)+(IF$19*IF56)+(IG$19*IG56)+(IH$19*IH56)+(II$19*II56)+(IJ$19*IJ56)+(IK$19*IK56)+(IL$19*IL56))","v":""},null,null,null,null,null,null,null,null,null,null,null,null,null,null,null,null,null,null,null,null,null,null,null,null,null,null,{"$f":"IF(OR('Set UP'!$C42=0,'Set UP'!$D42=0,'Set UP'!$E42=0),\"\",(IO$19*IO56)+(IP$19*IP56)+(IQ$19*IQ56)+(IR$19*IR56)+(IS$19*IS56)+(IT$19*IT56)+(IU$19*IU56)+(IV$19*IV56)+(IW$19*IW56)+(IX$19*IX56)+(IY$19*IY56)+(IZ$19*IZ56)+(JA$19*JA56)+(JB$19*JB56)+(JC$19*JC56)+(JD$19*JD56)+(JE$19*JE56)+(JF$19*JF56)+(JG$19*JG56)+(JH$19*JH56)+(JI$19*JI56)+(JJ$19*JJ56)+(JK$19*JK56)+(JL$19*JL56)+(JM$19*JM56))","v":""},{"$f":"IF(OR('Set UP'!$C42=0,'Set UP'!$D42=0,'Set UP'!$E42=0),\"\",(AF56+BG56+CH56+DI56+EJ56+FK56+GL56+HM56+IN56+JO56))","v":""},{"$f":"IF(OR('Set UP'!$C42=0,'Set UP'!$D42=0,'Set UP'!$E42=0),\"\",RANK(JP56,$JP$21:$JP$60,0))","v":""},{"$f":"IF(OR('Set UP'!K42<>1,'Set UP'!C42=0,'Set UP'!D42=0,'Set UP'!E42=0,'Set UP'!F42=0),\"\",$JP56)","v":""},{"$f":"IF(OR('Set UP'!K42<>1,'Set UP'!C42=0,'Set UP'!D42=0,'Set UP'!E42=0,'Set UP'!F42=0),\"\",RANK(JR56,$JR$21:$JR$60,0))","v":""},{"$f":"IF(OR('Set UP'!K42<>2,'Set UP'!C42=0,'Set UP'!D42=0,'Set UP'!E42=0,'Set UP'!F42=0),\"\",$JP56)","v":""},{"$f":"IF(OR('Set UP'!K42<>2,'Set UP'!C42=0,'Set UP'!D42=0,'Set UP'!E42=0,'Set UP'!F42=0),\"\",RANK(JT56,$JT$21:$JT$60,0))","v":""},{"$f":"IF(OR('Set UP'!F42<>\"F\",'Set UP'!C42=0,'Set UP'!D42=0,'Set UP'!E42=0),\"\",$JP56)","v":""},{"$f":"IF(OR('Set UP'!F42<>\"F\",'Set UP'!C42=0,'Set UP'!D42=0,'Set UP'!E42=0),\"\",RANK(JV56,$JV$21:$JV$60,0))","v":""},{"$f":"IF(OR('Set UP'!F42<>\"NS\",'Set UP'!C42=0,'Set UP'!D42=0,'Set UP'!E42=0),\"\",$JP56)","v":""},{"$f":"IF(OR('Set UP'!F42<>\"NS\",'Set UP'!C42=0,'Set UP'!D42=0,'Set UP'!E42=0),\"\",RANK(JX56,$JX$21:$JX$60,0))","v":""},{"$f":"IF(OR('Set UP'!$C42=0,'Set UP'!$D42=0,'Set UP'!$E42=0,JP56=0),\"\",JP56/MAX(JP$21:JP$60)*1000)","v":""}]
[null,37,{"$f":"IF(OR('Set UP'!$C43=0,'Set UP'!$D43=0,'Set UP'!$E43=0,'Set UP'!F43=0),\"  --\",'Set UP'!C43)","v":"  --"},{"$f":"IF(OR('Set UP'!$C43=0,'Set UP'!$D43=0,'Set UP'!$E43=0,'Set UP'!F43=0),\"  --\",'Set UP'!D43&\" \"&'Set UP'!E43)","v":"  --"},{"$f":"IF(OR('Set UP'!$C43=0,'Set UP'!$D43=0,'Set UP'!$E43=0,'Set UP'!F43=0),\"  --\",'Set UP'!F43)","v":"  --"},null,null,null,null,null,null,null,null,null,null,null,null,null,null,null,null,null,null,null,null,null,null,null,null,null,null,{"$f":"IF(OR('Set UP'!$C43=0,'Set UP'!$D43=0,'Set UP'!$E43=0),\"\",(F$19*F57)+(G$19*G57)+(H$19*H57)+(I$19*I57)+(J$19*J57)+(K$19*K57)+(L$19*L57)+(M$19*M57)+(N$19*N57)+(O$19*O57)+(P$19*P57)+(Q$19*Q57)+(R$19*R57)+(S$19*S57)+(T$19*T57)+(U$19*U57)+(V$19*V57)+(W$19*W57)+(X$19*X57)+(Y$19*Y57)+(Z$19*Z57)+(AA$19*AA57)+(AB$19*AB57)+(AC$19*AC57)+(AD$19*AD57))","v":""},null,null,null,null,null,null,null,null,null,null,null,null,null,null,null,null,null,null,null,null,null,null,null,null,null,null,{"$f":"IF(OR('Set UP'!$C43=0,'Set UP'!$D43=0,'Set UP'!$E43=0),\"\",(AG$19*AG57)+(AH$19*AH57)+(AI$19*AI57)+(AJ$19*AJ57)+(AK$19*AK57)+(AL$19*AL57)+(AM$19*AM57)+(AN$19*AN57)+(AO$19*AO57)+(AP$19*AP57)+(AQ$19*AQ57)+(AR$19*AR57)+(AS$19*AS57)+(AT$19*AT57)+(AU$19*AU57)+(AV$19*AV57)+(AW$19*AW57)+(AX$19*AX57)+(AY$19*AY57)+(AZ$19*AZ57)+(BA$19*BA57)+(BB$19*BB57)+(BC$19*BC57)+(BD$19*BD57)+(BE$19*BE57))","v":""},null,null,null,null,null,null,null,null,null,null,null,null,null,null,null,null,null,null,null,null,null,null,null,null,null,null,{"$f":"IF(OR('Set UP'!$C43=0,'Set UP'!$D43=0,'Set UP'!$E43=0),\"\",(BH$19*BH57)+(BI$19*BI57)+(BJ$19*BJ57)+(BK$19*BK57)+(BL$19*BL57)+(BM$19*BM57)+(BN$19*BN57)+(BO$19*BO57)+(BP$19*BP57)+(BQ$19*BQ57)+(BR$19*BR57)+(BS$19*BS57)+(BT$19*BT57)+(BU$19*BU57)+(BV$19*BV57)+(BW$19*BW57)+(BX$19*BX57)+(BY$19*BY57)+(BZ$19*BZ57)+(CA$19*CA57)+(CB$19*CB57)+(CC$19*CC57)+(CD$19*CD57)+(CE$19*CE57)+(CF$19*CF57))","v":""},null,null,null,null,null,null,null,null,null,null,null,null,null,null,null,null,null,null,null,null,null,null,null,null,null,null,{"$f":"IF(OR('Set UP'!$C43=0,'Set UP'!$D43=0,'Set UP'!$E43=0),\"\",(CI$19*CI57)+(CJ$19*CJ57)+(CK$19*CK57)+(CL$19*CL57)+(CM$19*CM57)+(CN$19*CN57)+(CO$19*CO57)+(CP$19*CP57)+(CQ$19*CQ57)+(CR$19*CR57)+(CS$19*CS57)+(CT$19*CT57)+(CU$19*CU57)+(CV$19*CV57)+(CW$19*CW57)+(CX$19*CX57)+(CY$19*CY57)+(CZ$19*CZ57)+(DA$19*DA57)+(DB$19*DB57)+(DC$19*DC57)+(DD$19*DD57)+(DE$19*DE57)+(DF$19*DF57)+(DG$19*DG57))","v":""},null,null,null,null,null,null,null,null,null,null,null,null,null,null,null,null,null,null,null,null,null,null,null,null,null,null,{"$f":"IF(OR('Set UP'!$C43=0,'Set UP'!$D43=0,'Set UP'!$E43=0),\"\",(DJ$19*DJ57)+(DK$19*DK57)+(DL$19*DL57)+(DM$19*DM57)+(DN$19*DN57)+(DO$19*DO57)+(DP$19*DP57)+(DQ$19*DQ57)+(DR$19*DR57)+(DS$19*DS57)+(DT$19*DT57)+(DU$19*DU57)+(DV$19*DV57)+(DW$19*DW57)+(DX$19*DX57)+(DY$19*DY57)+(DZ$19*DZ57)+(EA$19*EA57)+(EB$19*EB57)+(EC$19*EC57)+(ED$19*ED57)+(EE$19*EE57)+(EF$19*EF57)+(EG$19*EG57)+(EH$19*EH57))","v":""},null,null,null,null,null,null,null,null,null,null,null,null,null,null,null,null,null,null,null,null,null,null,null,null,null,null,{"$f":"IF(OR('Set UP'!$C43=0,'Set UP'!$D43=0,'Set UP'!$E43=0),\"\",(EK$19*EK57)+(EL$19*EL57)+(EM$19*EM57)+(EN$19*EN57)+(EO$19*EO57)+(EP$19*EP57)+(EQ$19*EQ57)+(ER$19*ER57)+(ES$19*ES57)+(ET$19*ET57)+(EU$19*EU57)+(EV$19*EV57)+(EW$19*EW57)+(EX$19*EX57)+(EY$19*EY57)+(EZ$19*EZ57)+(FA$19*FA57)+(FB$19*FB57)+(FC$19*FC57)+(FD$19*FD57)+(FE$19*FE57)+(FF$19*FF57)+(FG$19*FG57)+(FH$19*FH57)+(FI$19*FI57))","v":""},null,null,null,null,null,null,null,null,null,null,null,null,null,null,null,null,null,null,null,null,null,null,null,null,null,null,{"$f":"IF(OR('Set UP'!$C43=0,'Set UP'!$D43=0,'Set UP'!$E43=0),\"\",(FL$19*FL57)+(FM$19*FM57)+(FN$19*FN57)+(FO$19*FO57)+(FP$19*FP57)+(FQ$19*FQ57)+(FR$19*FR57)+(FS$19*FS57)+(FT$19*FT57)+(FU$19*FU57)+(FV$19*FV57)+(FW$19*FW57)+(FX$19*FX57)+(FY$19*FY57)+(FZ$19*FZ57)+(GA$19*GA57)+(GB$19*GB57)+(GC$19*GC57)+(GD$19*GD57)+(GE$19*GE57)+(GF$19*GF57)+(GG$19*GG57)+(GH$19*GH57)+(GI$19*GI57)+(GJ$19*GJ57))","v":""},null,null,null,null,null,null,null,null,null,null,null,null,null,null,null,null,null,null,null,null,null,null,null,null,null,null,{"$f":"IF(OR('Set UP'!$C43=0,'Set UP'!$D43=0,'Set UP'!$E43=0),\"\",(GM$19*GM57)+(GN$19*GN57)+(GO$19*GO57)+(GP$19*GP57)+(GQ$19*GQ57)+(GR$19*GR57)+(GS$19*GS57)+(GT$19*GT57)+(GU$19*GU57)+(GV$19*GV57)+(GW$19*GW57)+(GX$19*GX57)+(GY$19*GY57)+(GZ$19*GZ57)+(HA$19*HA57)+(HB$19*HB57)+(HC$19*HC57)+(HD$19*HD57)+(HE$19*HE57)+(HF$19*HF57)+(HG$19*HG57)+(HH$19*HH57)+(HI$19*HI57)+(HJ$19*HJ57)+(HK$19*HK57))","v":""},null,null,null,null,null,null,null,null,null,null,null,null,null,null,null,null,null,null,null,null,null,null,null,null,null,null,{"$f":"IF(OR('Set UP'!$C43=0,'Set UP'!$D43=0,'Set UP'!$E43=0),\"\",(HN$19*HN57)+(HO$19*HO57)+(HP$19*HP57)+(HQ$19*HQ57)+(HR$19*HR57)+(HS$19*HS57)+(HT$19*HT57)+(HU$19*HU57)+(HV$19*HV57)+(HW$19*HW57)+(HX$19*HX57)+(HY$19*HY57)+(HZ$19*HZ57)+(IA$19*IA57)+(IB$19*IB57)+(IC$19*IC57)+(ID$19*ID57)+(IE$19*IE57)+(IF$19*IF57)+(IG$19*IG57)+(IH$19*IH57)+(II$19*II57)+(IJ$19*IJ57)+(IK$19*IK57)+(IL$19*IL57))","v":""},null,null,null,null,null,null,null,null,null,null,null,null,null,null,null,null,null,null,null,null,null,null,null,null,null,null,{"$f":"IF(OR('Set UP'!$C43=0,'Set UP'!$D43=0,'Set UP'!$E43=0),\"\",(IO$19*IO57)+(IP$19*IP57)+(IQ$19*IQ57)+(IR$19*IR57)+(IS$19*IS57)+(IT$19*IT57)+(IU$19*IU57)+(IV$19*IV57)+(IW$19*IW57)+(IX$19*IX57)+(IY$19*IY57)+(IZ$19*IZ57)+(JA$19*JA57)+(JB$19*JB57)+(JC$19*JC57)+(JD$19*JD57)+(JE$19*JE57)+(JF$19*JF57)+(JG$19*JG57)+(JH$19*JH57)+(JI$19*JI57)+(JJ$19*JJ57)+(JK$19*JK57)+(JL$19*JL57)+(JM$19*JM57))","v":""},{"$f":"IF(OR('Set UP'!$C43=0,'Set UP'!$D43=0,'Set UP'!$E43=0),\"\",(AF57+BG57+CH57+DI57+EJ57+FK57+GL57+HM57+IN57+JO57))","v":""},{"$f":"IF(OR('Set UP'!$C43=0,'Set UP'!$D43=0,'Set UP'!$E43=0),\"\",RANK(JP57,$JP$21:$JP$60,0))","v":""},{"$f":"IF(OR('Set UP'!K43<>1,'Set UP'!C43=0,'Set UP'!D43=0,'Set UP'!E43=0,'Set UP'!F43=0),\"\",$JP57)","v":""},{"$f":"IF(OR('Set UP'!K43<>1,'Set UP'!C43=0,'Set UP'!D43=0,'Set UP'!E43=0,'Set UP'!F43=0),\"\",RANK(JR57,$JR$21:$JR$60,0))","v":""},{"$f":"IF(OR('Set UP'!K43<>2,'Set UP'!C43=0,'Set UP'!D43=0,'Set UP'!E43=0,'Set UP'!F43=0),\"\",$JP57)","v":""},{"$f":"IF(OR('Set UP'!K43<>2,'Set UP'!C43=0,'Set UP'!D43=0,'Set UP'!E43=0,'Set UP'!F43=0),\"\",RANK(JT57,$JT$21:$JT$60,0))","v":""},{"$f":"IF(OR('Set UP'!F43<>\"F\",'Set UP'!C43=0,'Set UP'!D43=0,'Set UP'!E43=0),\"\",$JP57)","v":""},{"$f":"IF(OR('Set UP'!F43<>\"F\",'Set UP'!C43=0,'Set UP'!D43=0,'Set UP'!E43=0),\"\",RANK(JV57,$JV$21:$JV$60,0))","v":""},{"$f":"IF(OR('Set UP'!F43<>\"NS\",'Set UP'!C43=0,'Set UP'!D43=0,'Set UP'!E43=0),\"\",$JP57)","v":""},{"$f":"IF(OR('Set UP'!F43<>\"NS\",'Set UP'!C43=0,'Set UP'!D43=0,'Set UP'!E43=0),\"\",RANK(JX57,$JX$21:$JX$60,0))","v":""},{"$f":"IF(OR('Set UP'!$C43=0,'Set UP'!$D43=0,'Set UP'!$E43=0,JP57=0),\"\",JP57/MAX(JP$21:JP$60)*1000)","v":""}]
[null,38,{"$f":"IF(OR('Set UP'!$C44=0,'Set UP'!$D44=0,'Set UP'!$E44=0,'Set UP'!F44=0),\"  --\",'Set UP'!C44)","v":"  --"},{"$f":"IF(OR('Set UP'!$C44=0,'Set UP'!$D44=0,'Set UP'!$E44=0,'Set UP'!F44=0),\"  --\",'Set UP'!D44&\" \"&'Set UP'!E44)","v":"  --"},{"$f":"IF(OR('Set UP'!$C44=0,'Set UP'!$D44=0,'Set UP'!$E44=0,'Set UP'!F44=0),\"  --\",'Set UP'!F44)","v":"  --"},null,null,null,null,null,null,null,null,null,null,null,null,null,null,null,null,null,null,null,null,null,null,null,null,null,null,{"$f":"IF(OR('Set UP'!$C44=0,'Set UP'!$D44=0,'Set UP'!$E44=0),\"\",(F$19*F58)+(G$19*G58)+(H$19*H58)+(I$19*I58)+(J$19*J58)+(K$19*K58)+(L$19*L58)+(M$19*M58)+(N$19*N58)+(O$19*O58)+(P$19*P58)+(Q$19*Q58)+(R$19*R58)+(S$19*S58)+(T$19*T58)+(U$19*U58)+(V$19*V58)+(W$19*W58)+(X$19*X58)+(Y$19*Y58)+(Z$19*Z58)+(AA$19*AA58)+(AB$19*AB58)+(AC$19*AC58)+(AD$19*AD58))","v":""},null,null,null,null,null,null,null,null,null,null,null,null,null,null,null,null,null,null,null,null,null,null,null,null,null,null,{"$f":"IF(OR('Set UP'!$C44=0,'Set UP'!$D44=0,'Set UP'!$E44=0),\"\",(AG$19*AG58)+(AH$19*AH58)+(AI$19*AI58)+(AJ$19*AJ58)+(AK$19*AK58)+(AL$19*AL58)+(AM$19*AM58)+(AN$19*AN58)+(AO$19*AO58)+(AP$19*AP58)+(AQ$19*AQ58)+(AR$19*AR58)+(AS$19*AS58)+(AT$19*AT58)+(AU$19*AU58)+(AV$19*AV58)+(AW$19*AW58)+(AX$19*AX58)+(AY$19*AY58)+(AZ$19*AZ58)+(BA$19*BA58)+(BB$19*BB58)+(BC$19*BC58)+(BD$19*BD58)+(BE$19*BE58))","v":""},null,null,null,null,null,null,null,null,null,null,null,null,null,null,null,null,null,null,null,null,null,null,null,null,null,null,{"$f":"IF(OR('Set UP'!$C44=0,'Set UP'!$D44=0,'Set UP'!$E44=0),\"\",(BH$19*BH58)+(BI$19*BI58)+(BJ$19*BJ58)+(BK$19*BK58)+(BL$19*BL58)+(BM$19*BM58)+(BN$19*BN58)+(BO$19*BO58)+(BP$19*BP58)+(BQ$19*BQ58)+(BR$19*BR58)+(BS$19*BS58)+(BT$19*BT58)+(BU$19*BU58)+(BV$19*BV58)+(BW$19*BW58)+(BX$19*BX58)+(BY$19*BY58)+(BZ$19*BZ58)+(CA$19*CA58)+(CB$19*CB58)+(CC$19*CC58)+(CD$19*CD58)+(CE$19*CE58)+(CF$19*CF58))","v":""},null,null,null,null,null,null,null,null,null,null,null,null,null,null,null,null,null,null,null,null,null,null,null,null,null,null,{"$f":"IF(OR('Set UP'!$C44=0,'Set UP'!$D44=0,'Set UP'!$E44=0),\"\",(CI$19*CI58)+(CJ$19*CJ58)+(CK$19*CK58)+(CL$19*CL58)+(CM$19*CM58)+(CN$19*CN58)+(CO$19*CO58)+(CP$19*CP58)+(CQ$19*CQ58)+(CR$19*CR58)+(CS$19*CS58)+(CT$19*CT58)+(CU$19*CU58)+(CV$19*CV58)+(CW$19*CW58)+(CX$19*CX58)+(CY$19*CY58)+(CZ$19*CZ58)+(DA$19*DA58)+(DB$19*DB58)+(DC$19*DC58)+(DD$19*DD58)+(DE$19*DE58)+(DF$19*DF58)+(DG$19*DG58))","v":""},null,null,null,null,null,null,null,null,null,null,null,null,null,null,null,null,null,null,null,null,null,null,null,null,null,null,{"$f":"IF(OR('Set UP'!$C44=0,'Set UP'!$D44=0,'Set UP'!$E44=0),\"\",(DJ$19*DJ58)+(DK$19*DK58)+(DL$19*DL58)+(DM$19*DM58)+(DN$19*DN58)+(DO$19*DO58)+(DP$19*DP58)+(DQ$19*DQ58)+(DR$19*DR58)+(DS$19*DS58)+(DT$19*DT58)+(DU$19*DU58)+(DV$19*DV58)+(DW$19*DW58)+(DX$19*DX58)+(DY$19*DY58)+(DZ$19*DZ58)+(EA$19*EA58)+(EB$19*EB58)+(EC$19*EC58)+(ED$19*ED58)+(EE$19*EE58)+(EF$19*EF58)+(EG$19*EG58)+(EH$19*EH58))","v":""},null,null,null,null,null,null,null,null,null,null,null,null,null,null,null,null,null,null,null,null,null,null,null,null,null,null,{"$f":"IF(OR('Set UP'!$C44=0,'Set UP'!$D44=0,'Set UP'!$E44=0),\"\",(EK$19*EK58)+(EL$19*EL58)+(EM$19*EM58)+(EN$19*EN58)+(EO$19*EO58)+(EP$19*EP58)+(EQ$19*EQ58)+(ER$19*ER58)+(ES$19*ES58)+(ET$19*ET58)+(EU$19*EU58)+(EV$19*EV58)+(EW$19*EW58)+(EX$19*EX58)+(EY$19*EY58)+(EZ$19*EZ58)+(FA$19*FA58)+(FB$19*FB58)+(FC$19*FC58)+(FD$19*FD58)+(FE$19*FE58)+(FF$19*FF58)+(FG$19*FG58)+(FH$19*FH58)+(FI$19*FI58))","v":""},null,null,null,null,null,null,null,null,null,null,null,null,null,null,null,null,null,null,null,null,null,null,null,null,null,null,{"$f":"IF(OR('Set UP'!$C44=0,'Set UP'!$D44=0,'Set UP'!$E44=0),\"\",(FL$19*FL58)+(FM$19*FM58)+(FN$19*FN58)+(FO$19*FO58)+(FP$19*FP58)+(FQ$19*FQ58)+(FR$19*FR58)+(FS$19*FS58)+(FT$19*FT58)+(FU$19*FU58)+(FV$19*FV58)+(FW$19*FW58)+(FX$19*FX58)+(FY$19*FY58)+(FZ$19*FZ58)+(GA$19*GA58)+(GB$19*GB58)+(GC$19*GC58)+(GD$19*GD58)+(GE$19*GE58)+(GF$19*GF58)+(GG$19*GG58)+(GH$19*GH58)+(GI$19*GI58)+(GJ$19*GJ58))","v":""},null,null,null,null,null,null,null,null,null,null,null,null,null,null,null,null,null,null,null,null,null,null,null,null,null,null,{"$f":"IF(OR('Set UP'!$C44=0,'Set UP'!$D44=0,'Set UP'!$E44=0),\"\",(GM$19*GM58)+(GN$19*GN58)+(GO$19*GO58)+(GP$19*GP58)+(GQ$19*GQ58)+(GR$19*GR58)+(GS$19*GS58)+(GT$19*GT58)+(GU$19*GU58)+(GV$19*GV58)+(GW$19*GW58)+(GX$19*GX58)+(GY$19*GY58)+(GZ$19*GZ58)+(HA$19*HA58)+(HB$19*HB58)+(HC$19*HC58)+(HD$19*HD58)+(HE$19*HE58)+(HF$19*HF58)+(HG$19*HG58)+(HH$19*HH58)+(HI$19*HI58)+(HJ$19*HJ58)+(HK$19*HK58))","v":""},null,null,null,null,null,null,null,null,null,null,null,null,null,null,null,null,null,null,null,null,null,null,null,null,null,null,{"$f":"IF(OR('Set UP'!$C44=0,'Set UP'!$D44=0,'Set UP'!$E44=0),\"\",(HN$19*HN58)+(HO$19*HO58)+(HP$19*HP58)+(HQ$19*HQ58)+(HR$19*HR58)+(HS$19*HS58)+(HT$19*HT58)+(HU$19*HU58)+(HV$19*HV58)+(HW$19*HW58)+(HX$19*HX58)+(HY$19*HY58)+(HZ$19*HZ58)+(IA$19*IA58)+(IB$19*IB58)+(IC$19*IC58)+(ID$19*ID58)+(IE$19*IE58)+(IF$19*IF58)+(IG$19*IG58)+(IH$19*IH58)+(II$19*II58)+(IJ$19*IJ58)+(IK$19*IK58)+(IL$19*IL58))","v":""},null,null,null,null,null,null,null,null,null,null,null,null,null,null,null,null,null,null,null,null,null,null,null,null,null,null,{"$f":"IF(OR('Set UP'!$C44=0,'Set UP'!$D44=0,'Set UP'!$E44=0),\"\",(IO$19*IO58)+(IP$19*IP58)+(IQ$19*IQ58)+(IR$19*IR58)+(IS$19*IS58)+(IT$19*IT58)+(IU$19*IU58)+(IV$19*IV58)+(IW$19*IW58)+(IX$19*IX58)+(IY$19*IY58)+(IZ$19*IZ58)+(JA$19*JA58)+(JB$19*JB58)+(JC$19*JC58)+(JD$19*JD58)+(JE$19*JE58)+(JF$19*JF58)+(JG$19*JG58)+(JH$19*JH58)+(JI$19*JI58)+(JJ$19*JJ58)+(JK$19*JK58)+(JL$19*JL58)+(JM$19*JM58))","v":""},{"$f":"IF(OR('Set UP'!$C44=0,'Set UP'!$D44=0,'Set UP'!$E44=0),\"\",(AF58+BG58+CH58+DI58+EJ58+FK58+GL58+HM58+IN58+JO58))","v":""},{"$f":"IF(OR('Set UP'!$C44=0,'Set UP'!$D44=0,'Set UP'!$E44=0),\"\",RANK(JP58,$JP$21:$JP$60,0))","v":""},{"$f":"IF(OR('Set UP'!K44<>1,'Set UP'!C44=0,'Set UP'!D44=0,'Set UP'!E44=0,'Set UP'!F44=0),\"\",$JP58)","v":""},{"$f":"IF(OR('Set UP'!K44<>1,'Set UP'!C44=0,'Set UP'!D44=0,'Set UP'!E44=0,'Set UP'!F44=0),\"\",RANK(JR58,$JR$21:$JR$60,0))","v":""},{"$f":"IF(OR('Set UP'!K44<>2,'Set UP'!C44=0,'Set UP'!D44=0,'Set UP'!E44=0,'Set UP'!F44=0),\"\",$JP58)","v":""},{"$f":"IF(OR('Set UP'!K44<>2,'Set UP'!C44=0,'Set UP'!D44=0,'Set UP'!E44=0,'Set UP'!F44=0),\"\",RANK(JT58,$JT$21:$JT$60,0))","v":""},{"$f":"IF(OR('Set UP'!F44<>\"F\",'Set UP'!C44=0,'Set UP'!D44=0,'Set UP'!E44=0),\"\",$JP58)","v":""},{"$f":"IF(OR('Set UP'!F44<>\"F\",'Set UP'!C44=0,'Set UP'!D44=0,'Set UP'!E44=0),\"\",RANK(JV58,$JV$21:$JV$60,0))","v":""},{"$f":"IF(OR('Set UP'!F44<>\"NS\",'Set UP'!C44=0,'Set UP'!D44=0,'Set UP'!E44=0),\"\",$JP58)","v":""},{"$f":"IF(OR('Set UP'!F44<>\"NS\",'Set UP'!C44=0,'Set UP'!D44=0,'Set UP'!E44=0),\"\",RANK(JX58,$JX$21:$JX$60,0))","v":""},{"$f":"IF(OR('Set UP'!$C44=0,'Set UP'!$D44=0,'Set UP'!$E44=0,JP58=0),\"\",JP58/MAX(JP$21:JP$60)*1000)","v":""}]
[null,39,{"$f":"IF(OR('Set UP'!$C45=0,'Set UP'!$D45=0,'Set UP'!$E45=0,'Set UP'!F45=0),\"  --\",'Set UP'!C45)","v":"  --"},{"$f":"IF(OR('Set UP'!$C45=0,'Set UP'!$D45=0,'Set UP'!$E45=0,'Set UP'!F45=0),\"  --\",'Set UP'!D45&\" \"&'Set UP'!E45)","v":"  --"},{"$f":"IF(OR('Set UP'!$C45=0,'Set UP'!$D45=0,'Set UP'!$E45=0,'Set UP'!F45=0),\"  --\",'Set UP'!F45)","v":"  --"},null,null,null,null,null,null,null,null,null,null,null,null,null,null,null,null,null,null,null,null,null,null,null,null,null,null,{"$f":"IF(OR('Set UP'!$C45=0,'Set UP'!$D45=0,'Set UP'!$E45=0),\"\",(F$19*F59)+(G$19*G59)+(H$19*H59)+(I$19*I59)+(J$19*J59)+(K$19*K59)+(L$19*L59)+(M$19*M59)+(N$19*N59)+(O$19*O59)+(P$19*P59)+(Q$19*Q59)+(R$19*R59)+(S$19*S59)+(T$19*T59)+(U$19*U59)+(V$19*V59)+(W$19*W59)+(X$19*X59)+(Y$19*Y59)+(Z$19*Z59)+(AA$19*AA59)+(AB$19*AB59)+(AC$19*AC59)+(AD$19*AD59))","v":""},null,null,null,null,null,null,null,null,null,null,null,null,null,null,null,null,null,null,null,null,null,null,null,null,null,null,{"$f":"IF(OR('Set UP'!$C45=0,'Set UP'!$D45=0,'Set UP'!$E45=0),\"\",(AG$19*AG59)+(AH$19*AH59)+(AI$19*AI59)+(AJ$19*AJ59)+(AK$19*AK59)+(AL$19*AL59)+(AM$19*AM59)+(AN$19*AN59)+(AO$19*AO59)+(AP$19*AP59)+(AQ$19*AQ59)+(AR$19*AR59)+(AS$19*AS59)+(AT$19*AT59)+(AU$19*AU59)+(AV$19*AV59)+(AW$19*AW59)+(AX$19*AX59)+(AY$19*AY59)+(AZ$19*AZ59)+(BA$19*BA59)+(BB$19*BB59)+(BC$19*BC59)+(BD$19*BD59)+(BE$19*BE59))","v":""},null,null,null,null,null,null,null,null,null,null,null,null,null,null,null,null,null,null,null,null,null,null,null,null,null,null,{"$f":"IF(OR('Set UP'!$C45=0,'Set UP'!$D45=0,'Set UP'!$E45=0),\"\",(BH$19*BH59)+(BI$19*BI59)+(BJ$19*BJ59)+(BK$19*BK59)+(BL$19*BL59)+(BM$19*BM59)+(BN$19*BN59)+(BO$19*BO59)+(BP$19*BP59)+(BQ$19*BQ59)+(BR$19*BR59)+(BS$19*BS59)+(BT$19*BT59)+(BU$19*BU59)+(BV$19*BV59)+(BW$19*BW59)+(BX$19*BX59)+(BY$19*BY59)+(BZ$19*BZ59)+(CA$19*CA59)+(CB$19*CB59)+(CC$19*CC59)+(CD$19*CD59)+(CE$19*CE59)+(CF$19*CF59))","v":""},null,null,null,null,null,null,null,null,null,null,null,null,null,null,null,null,null,null,null,null,null,null,null,null,null,null,{"$f":"IF(OR('Set UP'!$C45=0,'Set UP'!$D45=0,'Set UP'!$E45=0),\"\",(CI$19*CI59)+(CJ$19*CJ59)+(CK$19*CK59)+(CL$19*CL59)+(CM$19*CM59)+(CN$19*CN59)+(CO$19*CO59)+(CP$19*CP59)+(CQ$19*CQ59)+(CR$19*CR59)+(CS$19*CS59)+(CT$19*CT59)+(CU$19*CU59)+(CV$19*CV59)+(CW$19*CW59)+(CX$19*CX59)+(CY$19*CY59)+(CZ$19*CZ59)+(DA$19*DA59)+(DB$19*DB59)+(DC$19*DC59)+(DD$19*DD59)+(DE$19*DE59)+(DF$19*DF59)+(DG$19*DG59))","v":""},null,null,null,null,null,null,null,null,null,null,null,null,null,null,null,null,null,null,null,null,null,null,null,null,null,null,{"$f":"IF(OR('Set UP'!$C45=0,'Set UP'!$D45=0,'Set UP'!$E45=0),\"\",(DJ$19*DJ59)+(DK$19*DK59)+(DL$19*DL59)+(DM$19*DM59)+(DN$19*DN59)+(DO$19*DO59)+(DP$19*DP59)+(DQ$19*DQ59)+(DR$19*DR59)+(DS$19*DS59)+(DT$19*DT59)+(DU$19*DU59)+(DV$19*DV59)+(DW$19*DW59)+(DX$19*DX59)+(DY$19*DY59)+(DZ$19*DZ59)+(EA$19*EA59)+(EB$19*EB59)+(EC$19*EC59)+(ED$19*ED59)+(EE$19*EE59)+(EF$19*EF59)+(EG$19*EG59)+(EH$19*EH59))","v":""},null,null,null,null,null,null,null,null,null,null,null,null,null,null,null,null,null,null,null,null,null,null,null,null,null,null,{"$f":"IF(OR('Set UP'!$C45=0,'Set UP'!$D45=0,'Set UP'!$E45=0),\"\",(EK$19*EK59)+(EL$19*EL59)+(EM$19*EM59)+(EN$19*EN59)+(EO$19*EO59)+(EP$19*EP59)+(EQ$19*EQ59)+(ER$19*ER59)+(ES$19*ES59)+(ET$19*ET59)+(EU$19*EU59)+(EV$19*EV59)+(EW$19*EW59)+(EX$19*EX59)+(EY$19*EY59)+(EZ$19*EZ59)+(FA$19*FA59)+(FB$19*FB59)+(FC$19*FC59)+(FD$19*FD59)+(FE$19*FE59)+(FF$19*FF59)+(FG$19*FG59)+(FH$19*FH59)+(FI$19*FI59))","v":""},null,null,null,null,null,null,null,null,null,null,null,null,null,null,null,null,null,null,null,null,null,null,null,null,null,null,{"$f":"IF(OR('Set UP'!$C45=0,'Set UP'!$D45=0,'Set UP'!$E45=0),\"\",(FL$19*FL59)+(FM$19*FM59)+(FN$19*FN59)+(FO$19*FO59)+(FP$19*FP59)+(FQ$19*FQ59)+(FR$19*FR59)+(FS$19*FS59)+(FT$19*FT59)+(FU$19*FU59)+(FV$19*FV59)+(FW$19*FW59)+(FX$19*FX59)+(FY$19*FY59)+(FZ$19*FZ59)+(GA$19*GA59)+(GB$19*GB59)+(GC$19*GC59)+(GD$19*GD59)+(GE$19*GE59)+(GF$19*GF59)+(GG$19*GG59)+(GH$19*GH59)+(GI$19*GI59)+(GJ$19*GJ59))","v":""},null,null,null,null,null,null,null,null,null,null,null,null,null,null,null,null,null,null,null,null,null,null,null,null,null,null,{"$f":"IF(OR('Set UP'!$C45=0,'Set UP'!$D45=0,'Set UP'!$E45=0),\"\",(GM$19*GM59)+(GN$19*GN59)+(GO$19*GO59)+(GP$19*GP59)+(GQ$19*GQ59)+(GR$19*GR59)+(GS$19*GS59)+(GT$19*GT59)+(GU$19*GU59)+(GV$19*GV59)+(GW$19*GW59)+(GX$19*GX59)+(GY$19*GY59)+(GZ$19*GZ59)+(HA$19*HA59)+(HB$19*HB59)+(HC$19*HC59)+(HD$19*HD59)+(HE$19*HE59)+(HF$19*HF59)+(HG$19*HG59)+(HH$19*HH59)+(HI$19*HI59)+(HJ$19*HJ59)+(HK$19*HK59))","v":""},null,null,null,null,null,null,null,null,null,null,null,null,null,null,null,null,null,null,null,null,null,null,null,null,null,null,{"$f":"IF(OR('Set UP'!$C45=0,'Set UP'!$D45=0,'Set UP'!$E45=0),\"\",(HN$19*HN59)+(HO$19*HO59)+(HP$19*HP59)+(HQ$19*HQ59)+(HR$19*HR59)+(HS$19*HS59)+(HT$19*HT59)+(HU$19*HU59)+(HV$19*HV59)+(HW$19*HW59)+(HX$19*HX59)+(HY$19*HY59)+(HZ$19*HZ59)+(IA$19*IA59)+(IB$19*IB59)+(IC$19*IC59)+(ID$19*ID59)+(IE$19*IE59)+(IF$19*IF59)+(IG$19*IG59)+(IH$19*IH59)+(II$19*II59)+(IJ$19*IJ59)+(IK$19*IK59)+(IL$19*IL59))","v":""},null,null,null,null,null,null,null,null,null,null,null,null,null,null,null,null,null,null,null,null,null,null,null,null,null,null,{"$f":"IF(OR('Set UP'!$C45=0,'Set UP'!$D45=0,'Set UP'!$E45=0),\"\",(IO$19*IO59)+(IP$19*IP59)+(IQ$19*IQ59)+(IR$19*IR59)+(IS$19*IS59)+(IT$19*IT59)+(IU$19*IU59)+(IV$19*IV59)+(IW$19*IW59)+(IX$19*IX59)+(IY$19*IY59)+(IZ$19*IZ59)+(JA$19*JA59)+(JB$19*JB59)+(JC$19*JC59)+(JD$19*JD59)+(JE$19*JE59)+(JF$19*JF59)+(JG$19*JG59)+(JH$19*JH59)+(JI$19*JI59)+(JJ$19*JJ59)+(JK$19*JK59)+(JL$19*JL59)+(JM$19*JM59))","v":""},{"$f":"IF(OR('Set UP'!$C45=0,'Set UP'!$D45=0,'Set UP'!$E45=0),\"\",(AF59+BG59+CH59+DI59+EJ59+FK59+GL59+HM59+IN59+JO59))","v":""},{"$f":"IF(OR('Set UP'!$C45=0,'Set UP'!$D45=0,'Set UP'!$E45=0),\"\",RANK(JP59,$JP$21:$JP$60,0))","v":""},{"$f":"IF(OR('Set UP'!K45<>1,'Set UP'!C45=0,'Set UP'!D45=0,'Set UP'!E45=0,'Set UP'!F45=0),\"\",$JP59)","v":""},{"$f":"IF(OR('Set UP'!K45<>1,'Set UP'!C45=0,'Set UP'!D45=0,'Set UP'!E45=0,'Set UP'!F45=0),\"\",RANK(JR59,$JR$21:$JR$60,0))","v":""},{"$f":"IF(OR('Set UP'!K45<>2,'Set UP'!C45=0,'Set UP'!D45=0,'Set UP'!E45=0,'Set UP'!F45=0),\"\",$JP59)","v":""},{"$f":"IF(OR('Set UP'!K45<>2,'Set UP'!C45=0,'Set UP'!D45=0,'Set UP'!E45=0,'Set UP'!F45=0),\"\",RANK(JT59,$JT$21:$JT$60,0))","v":""},{"$f":"IF(OR('Set UP'!F45<>\"F\",'Set UP'!C45=0,'Set UP'!D45=0,'Set UP'!E45=0),\"\",$JP59)","v":""},{"$f":"IF(OR('Set UP'!F45<>\"F\",'Set UP'!C45=0,'Set UP'!D45=0,'Set UP'!E45=0),\"\",RANK(JV59,$JV$21:$JV$60,0))","v":""},{"$f":"IF(OR('Set UP'!F45<>\"NS\",'Set UP'!C45=0,'Set UP'!D45=0,'Set UP'!E45=0),\"\",$JP59)","v":""},{"$f":"IF(OR('Set UP'!F45<>\"NS\",'Set UP'!C45=0,'Set UP'!D45=0,'Set UP'!E45=0),\"\",RANK(JX59,$JX$21:$JX$60,0))","v":""},{"$f":"IF(OR('Set UP'!$C45=0,'Set UP'!$D45=0,'Set UP'!$E45=0,JP59=0),\"\",JP59/MAX(JP$21:JP$60)*1000)","v":""}]
[null,40,{"$f":"IF(OR('Set UP'!$C46=0,'Set UP'!$D46=0,'Set UP'!$E46=0,'Set UP'!F46=0),\"  --\",'Set UP'!C46)","v":"  --"},{"$f":"IF(OR('Set UP'!$C46=0,'Set UP'!$D46=0,'Set UP'!$E46=0,'Set UP'!F46=0),\"  --\",'Set UP'!D46&\" \"&'Set UP'!E46)","v":"  --"},{"$f":"IF(OR('Set UP'!$C46=0,'Set UP'!$D46=0,'Set UP'!$E46=0,'Set UP'!F46=0),\"  --\",'Set UP'!F46)","v":"  --"},null,null,null,null,null,null,null,null,null,null,null,null,null,null,null,null,null,null,null,null,null,null,null,null,null,null,{"$f":"IF(OR('Set UP'!$C46=0,'Set UP'!$D46=0,'Set UP'!$E46=0),\"\",(F$19*F60)+(G$19*G60)+(H$19*H60)+(I$19*I60)+(J$19*J60)+(K$19*K60)+(L$19*L60)+(M$19*M60)+(N$19*N60)+(O$19*O60)+(P$19*P60)+(Q$19*Q60)+(R$19*R60)+(S$19*S60)+(T$19*T60)+(U$19*U60)+(V$19*V60)+(W$19*W60)+(X$19*X60)+(Y$19*Y60)+(Z$19*Z60)+(AA$19*AA60)+(AB$19*AB60)+(AC$19*AC60)+(AD$19*AD60))","v":""},null,null,null,null,null,null,null,null,null,null,null,null,null,null,null,null,null,null,null,null,null,null,null,null,null,null,{"$f":"IF(OR('Set UP'!$C46=0,'Set UP'!$D46=0,'Set UP'!$E46=0),\"\",(AG$19*AG60)+(AH$19*AH60)+(AI$19*AI60)+(AJ$19*AJ60)+(AK$19*AK60)+(AL$19*AL60)+(AM$19*AM60)+(AN$19*AN60)+(AO$19*AO60)+(AP$19*AP60)+(AQ$19*AQ60)+(AR$19*AR60)+(AS$19*AS60)+(AT$19*AT60)+(AU$19*AU60)+(AV$19*AV60)+(AW$19*AW60)+(AX$19*AX60)+(AY$19*AY60)+(AZ$19*AZ60)+(BA$19*BA60)+(BB$19*BB60)+(BC$19*BC60)+(BD$19*BD60)+(BE$19*BE60))","v":""},null,null,null,null,null,null,null,null,null,null,null,null,null,null,null,null,null,null,null,null,null,null,null,null,null,null,{"$f":"IF(OR('Set UP'!$C46=0,'Set UP'!$D46=0,'Set UP'!$E46=0),\"\",(BH$19*BH60)+(BI$19*BI60)+(BJ$19*BJ60)+(BK$19*BK60)+(BL$19*BL60)+(BM$19*BM60)+(BN$19*BN60)+(BO$19*BO60)+(BP$19*BP60)+(BQ$19*BQ60)+(BR$19*BR60)+(BS$19*BS60)+(BT$19*BT60)+(BU$19*BU60)+(BV$19*BV60)+(BW$19*BW60)+(BX$19*BX60)+(BY$19*BY60)+(BZ$19*BZ60)+(CA$19*CA60)+(CB$19*CB60)+(CC$19*CC60)+(CD$19*CD60)+(CE$19*CE60)+(CF$19*CF60))","v":""},null,null,null,null,null,null,null,null,null,null,null,null,null,null,null,null,null,null,null,null,null,null,null,null,null,null,{"$f":"IF(OR('Set UP'!$C46=0,'Set UP'!$D46=0,'Set UP'!$E46=0),\"\",(CI$19*CI60)+(CJ$19*CJ60)+(CK$19*CK60)+(CL$19*CL60)+(CM$19*CM60)+(CN$19*CN60)+(CO$19*CO60)+(CP$19*CP60)+(CQ$19*CQ60)+(CR$19*CR60)+(CS$19*CS60)+(CT$19*CT60)+(CU$19*CU60)+(CV$19*CV60)+(CW$19*CW60)+(CX$19*CX60)+(CY$19*CY60)+(CZ$19*CZ60)+(DA$19*DA60)+(DB$19*DB60)+(DC$19*DC60)+(DD$19*DD60)+(DE$19*DE60)+(DF$19*DF60)+(DG$19*DG60))","v":""},null,null,null,null,null,null,null,null,null,null,null,null,null,null,null,null,null,null,null,null,null,null,null,null,null,null,{"$f":"IF(OR('Set UP'!$C46=0,'Set UP'!$D46=0,'Set UP'!$E46=0),\"\",(DJ$19*DJ60)+(DK$19*DK60)+(DL$19*DL60)+(DM$19*DM60)+(DN$19*DN60)+(DO$19*DO60)+(DP$19*DP60)+(DQ$19*DQ60)+(DR$19*DR60)+(DS$19*DS60)+(DT$19*DT60)+(DU$19*DU60)+(DV$19*DV60)+(DW$19*DW60)+(DX$19*DX60)+(DY$19*DY60)+(DZ$19*DZ60)+(EA$19*EA60)+(EB$19*EB60)+(EC$19*EC60)+(ED$19*ED60)+(EE$19*EE60)+(EF$19*EF60)+(EG$19*EG60)+(EH$19*EH60))","v":""},null,null,null,null,null,null,null,null,null,null,null,null,null,null,null,null,null,null,null,null,null,null,null,null,null,null,{"$f":"IF(OR('Set UP'!$C46=0,'Set UP'!$D46=0,'Set UP'!$E46=0),\"\",(EK$19*EK60)+(EL$19*EL60)+(EM$19*EM60)+(EN$19*EN60)+(EO$19*EO60)+(EP$19*EP60)+(EQ$19*EQ60)+(ER$19*ER60)+(ES$19*ES60)+(ET$19*ET60)+(EU$19*EU60)+(EV$19*EV60)+(EW$19*EW60)+(EX$19*EX60)+(EY$19*EY60)+(EZ$19*EZ60)+(FA$19*FA60)+(FB$19*FB60)+(FC$19*FC60)+(FD$19*FD60)+(FE$19*FE60)+(FF$19*FF60)+(FG$19*FG60)+(FH$19*FH60)+(FI$19*FI60))","v":""},null,null,null,null,null,null,null,null,null,null,null,null,null,null,null,null,null,null,null,null,null,null,null,null,null,null,{"$f":"IF(OR('Set UP'!$C46=0,'Set UP'!$D46=0,'Set UP'!$E46=0),\"\",(FL$19*FL60)+(FM$19*FM60)+(FN$19*FN60)+(FO$19*FO60)+(FP$19*FP60)+(FQ$19*FQ60)+(FR$19*FR60)+(FS$19*FS60)+(FT$19*FT60)+(FU$19*FU60)+(FV$19*FV60)+(FW$19*FW60)+(FX$19*FX60)+(FY$19*FY60)+(FZ$19*FZ60)+(GA$19*GA60)+(GB$19*GB60)+(GC$19*GC60)+(GD$19*GD60)+(GE$19*GE60)+(GF$19*GF60)+(GG$19*GG60)+(GH$19*GH60)+(GI$19*GI60)+(GJ$19*GJ60))","v":""},null,null,null,null,null,null,null,null,null,null,null,null,null,null,null,null,null,null,null,null,null,null,null,null,null,null,{"$f":"IF(OR('Set UP'!$C46=0,'Set UP'!$D46=0,'Set UP'!$E46=0),\"\",(GM$19*GM60)+(GN$19*GN60)+(GO$19*GO60)+(GP$19*GP60)+(GQ$19*GQ60)+(GR$19*GR60)+(GS$19*GS60)+(GT$19*GT60)+(GU$19*GU60)+(GV$19*GV60)+(GW$19*GW60)+(GX$19*GX60)+(GY$19*GY60)+(GZ$19*GZ60)+(HA$19*HA60)+(HB$19*HB60)+(HC$19*HC60)+(HD$19*HD60)+(HE$19*HE60)+(HF$19*HF60)+(HG$19*HG60)+(HH$19*HH60)+(HI$19*HI60)+(HJ$19*HJ60)+(HK$19*HK60))","v":""},null,null,null,null,null,null,null,null,null,null,null,null,null,null,null,null,null,null,null,null,null,null,null,null,null,null,{"$f":"IF(OR('Set UP'!$C46=0,'Set UP'!$D46=0,'Set UP'!$E46=0),\"\",(HN$19*HN60)+(HO$19*HO60)+(HP$19*HP60)+(HQ$19*HQ60)+(HR$19*HR60)+(HS$19*HS60)+(HT$19*HT60)+(HU$19*HU60)+(HV$19*HV60)+(HW$19*HW60)+(HX$19*HX60)+(HY$19*HY60)+(HZ$19*HZ60)+(IA$19*IA60)+(IB$19*IB60)+(IC$19*IC60)+(ID$19*ID60)+(IE$19*IE60)+(IF$19*IF60)+(IG$19*IG60)+(IH$19*IH60)+(II$19*II60)+(IJ$19*IJ60)+(IK$19*IK60)+(IL$19*IL60))","v":""},null,null,null,null,null,null,null,null,null,null,null,null,null,null,null,null,null,null,null,null,null,null,null,null,null,null,{"$f":"IF(OR('Set UP'!$C46=0,'Set UP'!$D46=0,'Set UP'!$E46=0),\"\",(IO$19*IO60)+(IP$19*IP60)+(IQ$19*IQ60)+(IR$19*IR60)+(IS$19*IS60)+(IT$19*IT60)+(IU$19*IU60)+(IV$19*IV60)+(IW$19*IW60)+(IX$19*IX60)+(IY$19*IY60)+(IZ$19*IZ60)+(JA$19*JA60)+(JB$19*JB60)+(JC$19*JC60)+(JD$19*JD60)+(JE$19*JE60)+(JF$19*JF60)+(JG$19*JG60)+(JH$19*JH60)+(JI$19*JI60)+(JJ$19*JJ60)+(JK$19*JK60)+(JL$19*JL60)+(JM$19*JM60))","v":""},{"$f":"IF(OR('Set UP'!$C46=0,'Set UP'!$D46=0,'Set UP'!$E46=0),\"\",(AF60+BG60+CH60+DI60+EJ60+FK60+GL60+HM60+IN60+JO60))","v":""},{"$f":"IF(OR('Set UP'!$C46=0,'Set UP'!$D46=0,'Set UP'!$E46=0),\"\",RANK(JP60,$JP$21:$JP$60,0))","v":""},{"$f":"IF(OR('Set UP'!K46<>1,'Set UP'!C46=0,'Set UP'!D46=0,'Set UP'!E46=0,'Set UP'!F46=0),\"\",$JP60)","v":""},{"$f":"IF(OR('Set UP'!K46<>1,'Set UP'!C46=0,'Set UP'!D46=0,'Set UP'!E46=0,'Set UP'!F46=0),\"\",RANK(JR60,$JR$21:$JR$60,0))","v":""},{"$f":"IF(OR('Set UP'!K46<>2,'Set UP'!C46=0,'Set UP'!D46=0,'Set UP'!E46=0,'Set UP'!F46=0),\"\",$JP60)","v":""},{"$f":"IF(OR('Set UP'!K46<>2,'Set UP'!C46=0,'Set UP'!D46=0,'Set UP'!E46=0,'Set UP'!F46=0),\"\",RANK(JT60,$JT$21:$JT$60,0))","v":""},{"$f":"IF(OR('Set UP'!F46<>\"F\",'Set UP'!C46=0,'Set UP'!D46=0,'Set UP'!E46=0),\"\",$JP60)","v":""},{"$f":"IF(OR('Set UP'!F46<>\"F\",'Set UP'!C46=0,'Set UP'!D46=0,'Set UP'!E46=0),\"\",RANK(JV60,$JV$21:$JV$60,0))","v":""},{"$f":"IF(OR('Set UP'!F46<>\"NS\",'Set UP'!C46=0,'Set UP'!D46=0,'Set UP'!E46=0),\"\",$JP60)","v":""},{"$f":"IF(OR('Set UP'!F46<>\"NS\",'Set UP'!C46=0,'Set UP'!D46=0,'Set UP'!E46=0),\"\",RANK(JX60,$JX$21:$JX$60,0))","v":""},{"$f":"IF(OR('Set UP'!$C46=0,'Set UP'!$D46=0,'Set UP'!$E46=0,JP60=0),\"\",JP60/MAX(JP$21:JP$60)*1000)","v":""}]
[null,null,null,null,null,null,null,null,null,null,null,null,null,null,null,null,null,null,null,null,null,null,null,null,null,null,null,null,null,null,null,{"$f":"IF(OR('Set UP'!$C47=0,'Set UP'!$D47=0,'Set UP'!$E47=0),\"\",(F$19*F61)+(G$19*G61)+(H$19*H61)+(I$19*I61)+(J$19*J61)+(K$19*K61)+(L$19*L61)+(M$19*M61)+(N$19*N61)+(O$19*O61)+(P$19*P61)+(Q$19*Q61)+(R$19*R61)+(S$19*S61)+(T$19*T61))","v":""},null,null,null,null,null,null,null,null,null,null,null,null,null,null,null,null,null,null,null,null,null,null,null,null,null,null,null,null,null,null,null,null,null,null,null,null,null,null,null,null,null,null,null,null,null,null,null,null,null,null,null,null,null,null,null,null,null,null,null,null,null,null,null,null,null,null,null,null,null,null,null,null,null,null,null,null,null,null,null,null,null,null,null,null,null,null,null,null,null,null,null,null,null,null,null,null,null,null,null,null,null,null,null,null,null,null,null,null,null,null,null,null,null,null,null,null,null,null,null,null,null,null,null,null,null,null,null,null,null,null,null,null,null,null,null,null,null,null,null,null,null,null,null,null,null,null,null,null,null,null,null,null,null,null,null,null,null,null,null,null,null,null,null,null,null,null,null,null,null,null,null,null,null,null,null,null,null,null,null,null,null,null,null,null,null,null,null,null,null,null,null,null,null,null,null,null,null,null,null,null,null,null,null,null,null,null,null,null,null,null,null,null,null,null,null,null,null,null,null,null,null,null,null,null,null,null,null,null,null,null,null,null,null,null,null,null,null,null,null,null,null,null,null,null,null,null,null,null,null,{"$f":"IF(OR('Set UP'!F47<>\"F\",'Set UP'!E47=0,'Set UP'!G47=0,'Set UP'!H47=0),\"\",$JP61)","v":""},null,{"$f":"IF(OR('Set UP'!F47<>\"NS\",'Set UP'!C47=0,'Set UP'!D47=0,'Set UP'!E47=0),\"\",$JP61)","v":""},{"$f":"IF(OR('Set UP'!F47<>\"NS\",'Set UP'!C47=0,'Set UP'!D47=0,'Set UP'!E47=0),\"\",RANK(JX61,$JX$21:$JX$60,0))","v":""},{"$f":"IF(OR('Set UP'!$C47=0,'Set UP'!$D47=0,'Set UP'!$E47=0),\"\",JP61/MAX(JP$21:JP$60)*1000)","v":""}]

{"sheet":"SERC","index":4,"n_rows":0,"n_cols":0,"rows_kept":0,"cut":false,"hidden":false,"merged":[]}

{"sheet":" Wet Incident","index":5,"n_rows":61,"n_cols":286,"rows_kept":61,"cut":false,"hidden":false,"merged":[[15,285,19,285],[15,283,19,283],[15,284,19,284],[15,281,19,281],[15,282,19,282],[15,279,19,279],[15,280,19,280],[15,113,15,139],[15,278,19,278],[16,140,16,166],[15,140,15,166],[15,277,19,277],[15,276,19,276],[17,166,19,166],[15,275,19,275],[17,139,19,139],[16,113,16,139],[15,167,15,193],[15,194,15,220],[16,167,16,193],[16,194,16,220],[17,193,19,193],[17,220,19,220],[15,86,15,112],[16,86,16,112],[17,112,19,112],[17,31,19,31],[17,58,19,58],[17,85,19,85],[15,5,15,31],[16,5,16,31],[16,32,16,58],[16,59,16,85],[15,59,15,85],[15,32,15,58],[15,221,15,247],[15,248,15,274],[16,221,16,247],[16,248,16,274],[17,247,19,247],[17,274,19,274]]}
[null,null,null,null,"JUDGE START HIDE ROW",1,null,null,null,null,null,null,null,null,null,null,null,null,null,null,null,null,null,null,null,null,null,null,null,null,null,null,2,null,null,null,null,null,null,null,null,null,null,null,null,null,null,null,null,null,null,null,null,null,null,null,null,null,null,3,null,null,null,null,null,null,null,null,null,null,null,null,null,null,null,null,null,null,null,null,null,null,null,null,null,null,4,null,null,null,null,null,null,null,null,null,null,null,null,null,null,null,null,null,null,null,null,null,null,null,null,null,null,5,null,null,null,null,null,null,null,null,null,null,null,null,null,null,null,null,null,null,null,null,null,null,null,null,null,null,6,null,null,null,null,null,null,null,null,null,null,null,null,null,null,null,null,null,null,null,null,null,null,null,null,null,null,7,null,null,null,null,null,null,null,null,null,null,null,null,null,null,null,null,null,null,null,null,null,null,null,null,null,null,8,null,null,null,null,null,null,null,null,null,null,null,null,null,null,null,null,null,null,null,null,null,null,null,null,null,null,9,null,null,null,null,null,null,null,null,null,null,null,null,null,null,null,null,null,null,null,null,null,null,null,null,null,null,10,null,null,null,null,null,null,null,null,null,null,null,null,null,null,null,null,null,null,null,null,null,null,null,null,null,null,11,null,"h",null,"h",null,"h",null,"h",null,"e"]
[null,null,null,"No. Judges Required(1 to 10)",5]
[null,null,null,"Judge 1 Citeria (1 to 25)",4]
[null,null,null,"Judge 2 Citeria (1 to 25)",5]
[null,null,null,"Judge 3 Citeria (1 to 25)",12]
[null,null,null,"Judge 4 Citeria (1 to 25)",9]
[null,null,null,"Judge 5 Citeria (1 to 25)",10]
[null,null,null,"Judge 6 Citeria (1 to 25)"]
[null,null,null,"Judge 7 Citeria (1 to 25)"]
[null,null,null,"Judge 8 Citeria (1 to 25)"]
[null,null,null,"Judge 9 Citeria (1 to 25)"]
[null,null,null,"Judge 10 Citeria (1 to 25)"]
[]
[]
[null,null,null,{"$f":"'Set UP'!Q7","v":"Dry Incident"}]
[null,null,null,"Club to Highlight",null,"JUDGE 1",null,null,null,null,null,null,null,null,null,null,null,null,null,null,null,null,null,null,null,null,null,null,null,null,null,null,"JUDGE 2",null,null,null,null,null,null,null,null,null,null,null,null,null,null,null,null,null,null,null,null,null,null,null,null,null,null,"JUDGE 3",null,null,null,null,null,null,null,null,null,null,null,null,null,null,null,null,null,null,null,null,null,null,null,null,null,null,"JUDGE 4",null,null,null,null,null,null,null,null,null,null,null,null,null,null,null,null,null,null,null,null,null,null,null,null,null,null,"JUDGE 5",null,null,null,null,null,null,null,null,null,null,null,null,null,null,null,null,null,null,null,null,null,null,null,null,null,null,"JUDGE 6",null,null,null,null,null,null,null,null,null,null,null,null,null,null,null,null,null,null,null,null,null,null,null,null,null,null,"Judge 7",null,null,null,null,null,null,null,null,null,null,null,null,null,null,null,null,null,null,null,null,null,null,null,null,null,null,"Judge 8 ",null,null,null,null,null,null,null,null,null,null,null,null,null,null,null,null,null,null,null,null,null,null,null,null,null,null,"Judge 9",null,null,null,null,null,null,null,null,null,null,null,null,null,null,null,null,null,null,null,null,null,null,null,null,null,null,"Judge 10",null,null,null,null,null,null,null,null,null,null,null,null,null,null,null,null,null,null,null,null,null,null,null,null,null,null,"¬ OVERALL TOTAL","¬ POSITION (COMPETITION)","¬ OVERALL (A LEAGUE RANK)","¬ POSITION ( A LEAGUE)","¬ OVERALL (B LEAGUE RANK)","POSITION ( BLEAGUE)","¬ OVERALL (FRESHERS LEAGUE RANK)","POSITION ( FRESHERS LEAGUE)","¬ OVERALL (Non- Student RANK)","POSITION ( Non-Students LEAGUE)","Lifesaving Points (Competition)"]
[null,null,null,null,null,"Captaincy and overall",null,null,null,null,null,null,null,null,null,null,null,null,null,null,null,null,null,null,null,null,null,null,null,null,null,null,"Unconscious breathing ",null,null,null,null,null,null,null,null,null,null,null,null,null,null,null,null,null,null,null,null,null,null,null,null,null,null,"Unconscious non-breathing & diabetic hypoglycaemic & concerned bystander",null,null,null,null,null,null,null,null,null,null,null,null,null,null,null,null,null,null,null,null,null,null,null,null,null,null,"Non swimmer & weak swimmer",null,null,null,null,null,null,null,null,null,null,null,null,null,null,null,null,null,null,null,null,null,null,null,null,null,null,"Hysterical/ asthmatic & phone",null,null,null,null,null,null,null,null,null,null,null,null,null,null,null,null,null,null,null,null,null,null,null,null,null,null,"Judge 6 Description <Enter Here>",null,null,null,null,null,null,null,null,null,null,null,null,null,null,null,null,null,null,null,null,null,null,null,null,null,null,"Judge 7 Description <Enter Here>",null,null,null,null,null,null,null,null,null,null,null,null,null,null,null,null,null,null,null,null,null,null,null,null,null,null,"Judge 8 Description <Enter Here>",null,null,null,null,null,null,null,null,null,null,null,null,null,null,null,null,null,null,null,null,null,null,null,null,null,null,"Judge 9 Description <Enter Here>",null,null,null,null,null,null,null,null,null,null,null,null,null,null,null,null,null,null,null,null,null,null,null,null,null,null,"Judge 10 Description <Enter Here>"]
[null,null,null,null,null,"effective control of scenario","effective captaincy","effective prioritisation of casualties","effective communication","Mark Category 6 <Enter Here>","Mark Category 6 <Enter Here>","Mark Category 7 <Enter Here>","Mark Category 8 <Enter Here>","Mark Category 9 <Enter Here>","Mark Category 10 <Enter Here>","Mark Category 11 <Enter Here>","Mark Category 12 <Enter Here>","Mark Category 13 <Enter Here>","Mark Category 14<Enter Here>","Mark Category 15 <Enter Here>","Mark Category 16<Enter Here>","Mark Category 17<Enter Here>","Mark Category 18<Enter Here>","Mark Category 19 <Enter Here>","Mark Category 20 <Enter Here>","Mark Category 21 <Enter Here>","Mark Category 22<Enter Here>","Mark Category 23 <Enter Here>","Mark Category 24<Enter Here>","Mark Category 25 <Enter Here>","Do not fill in required for hidding process","¬ JUDGE 1  TOTAL","identification and speed of rescue","effective rescue and safe landing (including quality)","assessment","effective treatment (recovery position)","aftercare (rechecking breathing)","Mark Category 6 <Enter Here>","Mark Category 7 <Enter Here>","Mark Category 8 <Enter Here>","Mark Category 9 <Enter Here>","Mark Category 10 <Enter Here>","Mark Category 11 <Enter Here>","Mark Category 12 <Enter Here>","Mark Category 13 <Enter Here>","Mark Category 14<Enter Here>","Mark Category 15 <Enter Here>","Mark Category 16<Enter Here>","Mark Category 17<Enter Here>","Mark Category 18<Enter Here>","Mark Category 19 <Enter Here>","Mark Category 20 <Enter Here>","Mark Category 21 <Enter Here>","Mark Category 22<Enter Here>","Mark Category 23 <Enter Here>","Mark Category 24<Enter Here>","Mark Category 25 <Enter Here>","Do not fill in required for hidding process","¬ JUDGE 2  TOTAL","identification","effective rescue and safe landing (including quality)","assessment","early CPR (time to first breath)","effectiveness of CPR (including 5 initial breaths)","continuous CPR","identification","treatment of casualty","aftercare","questioning","Identification as a bystander, approach, and questioning","reassurance and aftercare","Mark Category 13 <Enter Here>","Mark Category 14<Enter Here>","Mark Category 15 <Enter Here>","Mark Category 16<Enter Here>","Mark Category 17<Enter Here>","Mark Category 18<Enter Here>","Mark Category 19 <Enter Here>","Mark Category 20 <Enter Here>","Mark Category 21 <Enter Here>","Mark Category 22<Enter Here>","Mark Category 23 <Enter Here>","Mark Category 24<Enter Here>","Mark Category 25 <Enter Here>","Do not fill in required for hidding process","¬ JUDGE 3  TOTAL","identification and speed of rescue","safe and effective rescue of casualty (including use of aids)","aftercare and treatment for shock","questioning","identification and speed of rescue","attempt to prevent casualty from being locked","safe and effective rescue (including use of aids)","aftercare","questioning","Mark Category 10 <Enter Here>","Mark Category 11 <Enter Here>","Mark Category 12 <Enter Here>","Mark Category 13 <Enter Here>","Mark Category 14<Enter Here>","Mark Category 15 <Enter Here>","Mark Category 16<Enter Here>","Mark Category 17<Enter Here>","Mark Category 18<Enter Here>","Mark Category 19 <Enter Here>","Mark Category 20 <Enter Here>","Mark Category 21 <Enter Here>","Mark Category 22<Enter Here>","Mark Category 23 <Enter Here>","Mark Category 24<Enter Here>","Mark Category 25 <Enter Here>","Do not fill in required for hidding process","¬ JUDGE 4  TOTAL","idenfitifcation","treatment of casualty","reassurance and aftercare","questioning","speed to phoning 999 (-1 point for every 10s after 25s)","emergency services requested (more than just an ambulance)","exact location given","details of what has happened","information about unconscious x2 given (including details of casualties, treatments given, etc)","other information given (including details of other casualties, number of casualties, treatments given, trained lifesavers, etc.)","Mark Category 11 <Enter Here>","Mark Category 12 <Enter Here>","Mark Category 13 <Enter Here>","Mark Category 14<Enter Here>","Mark Category 15 <Enter Here>","Mark Category 16<Enter Here>","Mark Category 17<Enter Here>","Mark Category 18<Enter Here>","Mark Category 19 <Enter Here>","Mark Category 20 <Enter Here>","Mark Category 21 <Enter Here>","Mark Category 22<Enter Here>","Mark Category 23 <Enter Here>","Mark Category 24<Enter Here>","Mark Category 25 <Enter Here>","Do not fill in required for hidding process","¬ JUDGE 5  TOTAL","Mark Category 1 <Enter Here>","Mark Category 2 <Enter Here>","Mark Category 3 <Enter Here>","Mark Category 4 <Enter Here>","Mark Category 6 <Enter Here>","Mark Category 6 <Enter Here>","Mark Category 7 <Enter Here>","Mark Category 8 <Enter Here>","Mark Category 9 <Enter Here>","Mark Category 10 <Enter Here>","Mark Category 11 <Enter Here>","Mark Category 12 <Enter Here>","Mark Category 13 <Enter Here>","Mark Category 14<Enter Here>","Mark Category 15 <Enter Here>","Mark Category 16<Enter Here>","Mark Category 17<Enter Here>","Mark Category 18<Enter Here>","Mark Category 19 <Enter Here>","Mark Category 20 <Enter Here>","Mark Category 21 <Enter Here>","Mark Category 22<Enter Here>","Mark Category 23 <Enter Here>","Mark Category 24<Enter Here>","Mark Category 25 <Enter Here>","Do not fill in required for hidding process","¬ JUDGE 6  TOTAL","Mark Category 1 <Enter Here>","Mark Category 2 <Enter Here>","Mark Category 3 <Enter Here>","Mark Category 4 <Enter Here>","Mark Category 5 <Enter Here>","Mark Category 6 <Enter Here>","Mark Category 7 <Enter Here>","Mark Category 8 <Enter Here>","Mark Category 9 <Enter Here>","Mark Category 10 <Enter Here>","Mark Category 11 <Enter Here>","Mark Category 12 <Enter Here>","Mark Category 13 <Enter Here>","Mark Category 14<Enter Here>","Mark Category 15 <Enter Here>","Mark Category 16<Enter Here>","Mark Category 17<Enter Here>","Mark Category 18<Enter Here>","Mark Category 19 <Enter Here>","Mark Category 20 <Enter Here>","Mark Category 21 <Enter Here>","Mark Category 22<Enter Here>","Mark Category 23 <Enter Here>","Mark Category 24<Enter Here>","Mark Category 25 <Enter Here>","Do not fill in required for hidding process","¬ JUDGE 7  TOTAL","Mark Category 1 <Enter Here>","Mark Category 2 <Enter Here>","Mark Category 3 <Enter Here>","Mark Category 4 <Enter Here>","Mark Category 5 <Enter Here>","Mark Category 6 <Enter Here>","Mark Category 7 <Enter Here>","Mark Category 8 <Enter Here>","Mark Category 9 <Enter Here>","Mark Category 10 <Enter Here>","Mark Category 11 <Enter Here>","Mark Category 12 <Enter Here>","Mark Category 13 <Enter Here>","Mark Category 14<Enter Here>","Mark Category 15 <Enter Here>","Mark Category 16<Enter Here>","Mark Category 17<Enter Here>","Mark Category 18<Enter Here>","Mark Category 19 <Enter Here>","Mark Category 20 <Enter Here>","Mark Category 21 <Enter Here>","Mark Category 22<Enter Here>","Mark Category 23 <Enter Here>","Mark Category 24<Enter Here>","Mark Category 25 <Enter Here>","Do not fill in required for hidding process","¬ JUDGE 8  TOTAL","Mark Category 1 <Enter Here>","Mark Category 2 <Enter Here>","Mark Category 3 <Enter Here>","Mark Category 4 <Enter Here>","Mark Category 5 <Enter Here>","Mark Category 6 <Enter Here>","Mark Category 7 <Enter Here>","Mark Category 8 <Enter Here>","Mark Category 9 <Enter Here>","Mark Category 10 <Enter Here>","Mark Category 11 <Enter Here>","Mark Category 12 <Enter Here>","Mark Category 13 <Enter Here>","Mark Category 14<Enter Here>","Mark Category 15 <Enter Here>","Mark Category 16<Enter Here>","Mark Category 17<Enter Here>","Mark Category 18<Enter Here>","Mark Category 19 <Enter Here>","Mark Category 20 <Enter Here>","Mark Category 21 <Enter Here>","Mark Category 22<Enter Here>","Mark Category 23 <Enter Here>","Mark Category 24<Enter Here>","Mark Category 25 <Enter Here>","Do not fill in required for hidding process","¬ JUDGE 9  TOTAL","Mark Category 1 <Enter Here>","Mark Category 2 <Enter Here>","Mark Category 3 <Enter Here>","Mark Category 4 <Enter Here>","Mark Category 5 <Enter Here>","Mark Category 6 <Enter Here>","Mark Category 7 <Enter Here>","Mark Category 8 <Enter Here>","Mark Category 9 <Enter Here>","Mark Category 10 <Enter Here>","Mark Category 11 <Enter Here>","Mark Category 12 <Enter Here>","Mark Category 13 <Enter Here>","Mark Category 14<Enter Here>","Mark Category 15 <Enter Here>","Mark Category 16<Enter Here>","Mark Category 17<Enter Here>","Mark Category 18<Enter Here>","Mark Category 19 <Enter Here>","Mark Category 20 <Enter Here>","Mark Category 21 <Enter Here>","Mark Category 22<Enter Here>","Mark Category 23 <Enter Here>","Mark Category 24<Enter Here>","Mark Category 25 <Enter Here>","Do not fill in required for hidding process","¬ JUDGE 10 TOTAL"]
[null,null,null,null,"MARK WEIGHTING →",1.5,1.5,3,1.5,null,null,null,null,null,null,null,null,null,null,null,null,null,null,null,null,null,null,null,null,null,null,null,1.5,1.5,1,1,1,null,null,null,null,null,null,null,null,null,null,null,null,null,null,null,null,null,null,null,null,null,null,0.5,1,1,1.5,1.5,1.5,1.5,1.5,1,0.5,1,1,null,null,null,null,null,null,null,null,null,null,null,null,null,null,null,2.5,3,1.5,0.5,2,1,2.5,1,0.5,null,null,null,null,null,null,null,null,null,null,null,null,null,null,null,null,null,null,1,1.5,1.5,0.5,1.5,1,1,0.5,2,1.5]
[null,null,"WEB","TEAM","CLASS"]
[null,1,{"$f":"IF(OR('Set UP'!$C7=0,'Set UP'!$D7=0,'Set UP'!$E7=0,'Set UP'!F7=0),\"  --\",'Set UP'!C7)","v":1418},{"$f":"IF(OR('Set UP'!$C7=0,'Set UP'!$D7=0,'Set UP'!$E7=0,'Set UP'!F7=0),\"  --\",'Set UP'!D7&\" \"&'Set UP'!E7)","v":"Bradford On Avon Lifesaving Club  B"},{"$f":"IF(OR('Set UP'!$C7=0,'Set UP'!$D7=0,'Set UP'!$E7=0,'Set UP'!F7=0),\"  --\",'Set UP'!F7)","v":"NS"},2,1,4,2,null,null,null,null,null,null,null,null,null,null,null,null,null,null,null,null,null,null,null,null,null,null,{"$f":"IF(OR('Set UP'!$C7=0,'Set UP'!$D7=0,'Set UP'!$E7=0),\"\",(F$19*F21)+(G$19*G21)+(H$19*H21)+(I$19*I21)+(J$19*J21)+(K$19*K21)+(L$19*L21)+(M$19*M21)+(N$19*N21)+(O$19*O21)+(P$19*P21)+(Q$19*Q21)+(R$19*R21)+(S$19*S21)+(T$19*T21)+(U$19*U21)+(V$19*V21)+(W$19*W21)+(X$19*X21)+(Y$19*Y21)+(Z$19*Z21)+(AA$19*AA21)+(AB$19*AB21)+(AC$19*AC21)+(AD$19*AD21))","v":19.5},2,1,5,0,0,null,null,null,null,null,null,null,null,null,null,null,null,null,null,null,null,null,null,null,null,null,{"$f":"IF(OR('Set UP'!$C7=0,'Set UP'!$D7=0,'Set UP'!$E7=0),\"\",(AG$19*AG21)+(AH$19*AH21)+(AI$19*AI21)+(AJ$19*AJ21)+(AK$19*AK21)+(AL$19*AL21)+(AM$19*AM21)+(AN$19*AN21)+(AO$19*AO21)+(AP$19*AP21)+(AQ$19*AQ21)+(AR$19*AR21)+(AS$19*AS21)+(AT$19*AT21)+(AU$19*AU21)+(AV$19*AV21)+(AW$19*AW21)+(AX$19*AX21)+(AY$19*AY21)+(AZ$19*AZ21)+(BA$19*BA21)+(BB$19*BB21)+(BC$19*BC21)+(BD$19*BD21)+(BE$19*BE21))","v":9.5},0,0,0,0,0,0,0,1,0,3,4,1,null,null,null,null,null,null,null,null,null,null,null,null,null,null,{"$f":"IF(OR('Set UP'!$C7=0,'Set UP'!$D7=0,'Set UP'!$E7=0),\"\",(BH$19*BH21)+(BI$19*BI21)+(BJ$19*BJ21)+(BK$19*BK21)+(BL$19*BL21)+(BM$19*BM21)+(BN$19*BN21)+(BO$19*BO21)+(BP$19*BP21)+(BQ$19*BQ21)+(BR$19*BR21)+(BS$19*BS21)+(BT$19*BT21)+(BU$19*BU21)+(BV$19*BV21)+(BW$19*BW21)+(BX$19*BX21)+(BY$19*BY21)+(BZ$19*BZ21)+(CA$19*CA21)+(CB$19*CB21)+(CC$19*CC21)+(CD$19*CD21)+(CE$19*CE21)+(CF$19*CF21))","v":8},7,2,0,1,7,3,4,0,1,null,null,null,null,null,null,null,null,null,null,null,null,null,null,null,null,null,{"$f":"IF(OR('Set UP'!$C7=0,'Set UP'!$D7=0,'Set UP'!$E7=0),\"\",(CI$19*CI21)+(CJ$19*CJ21)+(CK$19*CK21)+(CL$19*CL21)+(CM$19*CM21)+(CN$19*CN21)+(CO$19*CO21)+(CP$19*CP21)+(CQ$19*CQ21)+(CR$19*CR21)+(CS$19*CS21)+(CT$19*CT21)+(CU$19*CU21)+(CV$19*CV21)+(CW$19*CW21)+(CX$19*CX21)+(CY$19*CY21)+(CZ$19*CZ21)+(DA$19*DA21)+(DB$19*DB21)+(DC$19*DC21)+(DD$19*DD21)+(DE$19*DE21)+(DF$19*DF21)+(DG$19*DG21))","v":51.5},1,1,2,1,0,0,0,0,0,0,null,null,null,null,null,null,null,null,null,null,null,null,null,null,null,null,{"$f":"IF(OR('Set UP'!$C7=0,'Set UP'!$D7=0,'Set UP'!$E7=0),\"\",(DJ$19*DJ21)+(DK$19*DK21)+(DL$19*DL21)+(DM$19*DM21)+(DN$19*DN21)+(DO$19*DO21)+(DP$19*DP21)+(DQ$19*DQ21)+(DR$19*DR21)+(DS$19*DS21)+(DT$19*DT21)+(DU$19*DU21)+(DV$19*DV21)+(DW$19*DW21)+(DX$19*DX21)+(DY$19*DY21)+(DZ$19*DZ21)+(EA$19*EA21)+(EB$19*EB21)+(EC$19*EC21)+(ED$19*ED21)+(EE$19*EE21)+(EF$19*EF21)+(EG$19*EG21)+(EH$19*EH21))","v":6},null,null,null,null,null,null,null,null,null,null,null,null,null,null,null,null,null,null,null,null,null,null,null,null,null,null,{"$f":"IF(OR('Set UP'!$C7=0,'Set UP'!$D7=0,'Set UP'!$E7=0),\"\",(EK$19*EK21)+(EL$19*EL21)+(EM$19*EM21)+(EN$19*EN21)+(EO$19*EO21)+(EP$19*EP21)+(EQ$19*EQ21)+(ER$19*ER21)+(ES$19*ES21)+(ET$19*ET21)+(EU$19*EU21)+(EV$19*EV21)+(EW$19*EW21)+(EX$19*EX21)+(EY$19*EY21)+(EZ$19*EZ21)+(FA$19*FA21)+(FB$19*FB21)+(FC$19*FC21)+(FD$19*FD21)+(FE$19*FE21)+(FF$19*FF21)+(FG$19*FG21)+(FH$19*FH21)+(FI$19*FI21))","v":0},null,null,null,null,null,null,null,null,null,null,null,null,null,null,null,null,null,null,null,null,null,null,null,null,null,null,{"$f":"IF(OR('Set UP'!$C7=0,'Set UP'!$D7=0,'Set UP'!$E7=0),\"\",(FL$19*FL21)+(FM$19*FM21)+(FN$19*FN21)+(FO$19*FO21)+(FP$19*FP21)+(FQ$19*FQ21)+(FR$19*FR21)+(FS$19*FS21)+(FT$19*FT21)+(FU$19*FU21)+(FV$19*FV21)+(FW$19*FW21)+(FX$19*FX21)+(FY$19*FY21)+(FZ$19*FZ21)+(GA$19*GA21)+(GB$19*GB21)+(GC$19*GC21)+(GD$19*GD21)+(GE$19*GE21)+(GF$19*GF21)+(GG$19*GG21)+(GH$19*GH21)+(GI$19*GI21)+(GJ$19*GJ21))","v":0},null,null,null,null,null,null,null,null,null,null,null,null,null,null,null,null,null,null,null,null,null,null,null,null,null,null,{"$f":"IF(OR('Set UP'!$C7=0,'Set UP'!$D7=0,'Set UP'!$E7=0),\"\",(GM$19*GM21)+(GN$19*GN21)+(GO$19*GO21)+(GP$19*GP21)+(GQ$19*GQ21)+(GR$19*GR21)+(GS$19*GS21)+(GT$19*GT21)+(GU$19*GU21)+(GV$19*GV21)+(GW$19*GW21)+(GX$19*GX21)+(GY$19*GY21)+(GZ$19*GZ21)+(HA$19*HA21)+(HB$19*HB21)+(HC$19*HC21)+(HD$19*HD21)+(HE$19*HE21)+(HF$19*HF21)+(HG$19*HG21)+(HH$19*HH21)+(HI$19*HI21)+(HJ$19*HJ21)+(HK$19*HK21))","v":0},null,null,null,null,null,null,null,null,null,null,null,null,null,null,null,null,null,null,null,null,null,null,null,null,null,null,{"$f":"IF(OR('Set UP'!$C7=0,'Set UP'!$D7=0,'Set UP'!$E7=0),\"\",(HN$19*HN21)+(HO$19*HO21)+(HP$19*HP21)+(HQ$19*HQ21)+(HR$19*HR21)+(HS$19*HS21)+(HT$19*HT21)+(HU$19*HU21)+(HV$19*HV21)+(HW$19*HW21)+(HX$19*HX21)+(HY$19*HY21)+(HZ$19*HZ21)+(IA$19*IA21)+(IB$19*IB21)+(IC$19*IC21)+(ID$19*ID21)+(IE$19*IE21)+(IF$19*IF21)+(IG$19*IG21)+(IH$19*IH21)+(II$19*II21)+(IJ$19*IJ21)+(IK$19*IK21)+(IL$19*IL21))","v":0},null,null,null,null,null,null,null,null,null,null,null,null,null,null,null,null,null,null,null,null,null,null,null,null,null,null,{"$f":"IF(OR('Set UP'!$C7=0,'Set UP'!$D7=0,'Set UP'!$E7=0),\"\",(IO$19*IO21)+(IP$19*IP21)+(IQ$19*IQ21)+(IR$19*IR21)+(IS$19*IS21)+(IT$19*IT21)+(IU$19*IU21)+(IV$19*IV21)+(IW$19*IW21)+(IX$19*IX21)+(IY$19*IY21)+(IZ$19*IZ21)+(JA$19*JA21)+(JB$19*JB21)+(JC$19*JC21)+(JD$19*JD21)+(JE$19*JE21)+(JF$19*JF21)+(JG$19*JG21)+(JH$19*JH21)+(JI$19*JI21)+(JJ$19*JJ21)+(JK$19*JK21)+(JL$19*JL21)+(JM$19*JM21))","v":0},{"$f":"IF(OR('Set UP'!$C7=0,'Set UP'!$D7=0,'Set UP'!$E7=0),\"\",(AF21+BG21+CH21+DI21+EJ21+FK21+GL21+HM21+JO21+IN21))","v":94.5},{"$f":"IF(OR('Set UP'!$C7=0,'Set UP'!$D7=0,'Set UP'!$E7=0),\"\",RANK(JP21,$JP$21:$JP$60,0))","v":25},{"$f":"IF(OR('Set UP'!K7<>1,'Set UP'!C7=0,'Set UP'!D7=0,'Set UP'!E7=0,'Set UP'!F7=0),\"\",$JP21)","v":""},{"$f":"IF(OR('Set UP'!K7<>1,'Set UP'!C7=0,'Set UP'!D7=0,'Set UP'!E7=0,'Set UP'!F7=0),\"\",RANK(JR21,$JR$21:$JR$60,0))","v":""},{"$f":"IF(OR('Set UP'!K7<>2,'Set UP'!C7=0,'Set UP'!D7=0,'Set UP'!E7=0,'Set UP'!F7=0),\"\",$JP21)","v":""},{"$f":"IF(OR('Set UP'!K7<>2,'Set UP'!C7=0,'Set UP'!D7=0,'Set UP'!E7=0,'Set UP'!F7=0),\"\",RANK(JT21,$JT$21:$JT$60,0))","v":""},{"$f":"IF(OR('Set UP'!F7<>\"F\",'Set UP'!C7=0,'Set UP'!D7=0,'Set UP'!E7=0),\"\",$JP21)","v":""},{"$f":"IF(OR('Set UP'!F7<>\"F\",'Set UP'!C7=0,'Set UP'!D7=0,'Set UP'!E7=0),\"\",RANK(JV21,$JV$21:$JV$60,0))","v":""},{"$f":"IF(OR('Set UP'!F7<>\"NS\",'Set UP'!C7=0,'Set UP'!D7=0,'Set UP'!E7=0),\"\",$JP21)","v":94.5},{"$f":"IF(OR('Set UP'!F7<>\"NS\",'Set UP'!C7=0,'Set UP'!D7=0,'Set UP'!E7=0),\"\",RANK(JX21,$JX$21:$JX$60,0))","v":5},{"$f":"IF(OR('Set UP'!$C7=0,'Set UP'!$D7=0,'Set UP'!$E7=0,JP21=0),\"\",JP21/MAX(JP$21:JP$60)*1000)","v":319.25675675675672}]
[null,2,{"$f":"IF(OR('Set UP'!$C8=0,'Set UP'!$D8=0,'Set UP'!$E8=0,'Set UP'!F8=0),\"  --\",'Set UP'!C8)","v":1419},{"$f":"IF(OR('Set UP'!$C8=0,'Set UP'!$D8=0,'Set UP'!$E8=0,'Set UP'!F8=0),\"  --\",'Set UP'!D8&\" \"&'Set UP'!E8)","v":"Bradford On Avon Lifesaving Club  A"},{"$f":"IF(OR('Set UP'!$C8=0,'Set UP'!$D8=0,'Set UP'!$E8=0,'Set UP'!F8=0),\"  --\",'Set UP'!F8)","v":"NS"},3,3,5,7,null,null,null,null,null,null,null,null,null,null,null,null,null,null,null,null,null,null,null,null,null,null,{"$f":"IF(OR('Set UP'!$C8=0,'Set UP'!$D8=0,'Set UP'!$E8=0),\"\",(F$19*F22)+(G$19*G22)+(H$19*H22)+(I$19*I22)+(J$19*J22)+(K$19*K22)+(L$19*L22)+(M$19*M22)+(N$19*N22)+(O$19*O22)+(P$19*P22)+(Q$19*Q22)+(R$19*R22)+(S$19*S22)+(T$19*T22)+(U$19*U22)+(V$19*V22)+(W$19*W22)+(X$19*X22)+(Y$19*Y22)+(Z$19*Z22)+(AA$19*AA22)+(AB$19*AB22)+(AC$19*AC22)+(AD$19*AD22))","v":34.5},2,0,0,0,0,null,null,null,null,null,null,null,null,null,null,null,null,null,null,null,null,null,null,null,null,null,{"$f":"IF(OR('Set UP'!$C8=0,'Set UP'!$D8=0,'Set UP'!$E8=0),\"\",(AG$19*AG22)+(AH$19*AH22)+(AI$19*AI22)+(AJ$19*AJ22)+(AK$19*AK22)+(AL$19*AL22)+(AM$19*AM22)+(AN$19*AN22)+(AO$19*AO22)+(AP$19*AP22)+(AQ$19*AQ22)+(AR$19*AR22)+(AS$19*AS22)+(AT$19*AT22)+(AU$19*AU22)+(AV$19*AV22)+(AW$19*AW22)+(AX$19*AX22)+(AY$19*AY22)+(AZ$19*AZ22)+(BA$19*BA22)+(BB$19*BB22)+(BC$19*BC22)+(BD$19*BD22)+(BE$19*BE22))","v":3},0,0,0,0,0,0,8,8,5,3,4,2,null,null,null,null,null,null,null,null,null,null,null,null,null,null,{"$f":"IF(OR('Set UP'!$C8=0,'Set UP'!$D8=0,'Set UP'!$E8=0),\"\",(BH$19*BH22)+(BI$19*BI22)+(BJ$19*BJ22)+(BK$19*BK22)+(BL$19*BL22)+(BM$19*BM22)+(BN$19*BN22)+(BO$19*BO22)+(BP$19*BP22)+(BQ$19*BQ22)+(BR$19*BR22)+(BS$19*BS22)+(BT$19*BT22)+(BU$19*BU22)+(BV$19*BV22)+(BW$19*BW22)+(BX$19*BX22)+(BY$19*BY22)+(BZ$19*BZ22)+(CA$19*CA22)+(CB$19*CB22)+(CC$19*CC22)+(CD$19*CD22)+(CE$19*CE22)+(CF$19*CF22))","v":36.5},6,1,0,0,6,0,2,0,2,null,null,null,null,null,null,null,null,null,null,null,null,null,null,null,null,null,{"$f":"IF(OR('Set UP'!$C8=0,'Set UP'!$D8=0,'Set UP'!$E8=0),\"\",(CI$19*CI22)+(CJ$19*CJ22)+(CK$19*CK22)+(CL$19*CL22)+(CM$19*CM22)+(CN$19*CN22)+(CO$19*CO22)+(CP$19*CP22)+(CQ$19*CQ22)+(CR$19*CR22)+(CS$19*CS22)+(CT$19*CT22)+(CU$19*CU22)+(CV$19*CV22)+(CW$19*CW22)+(CX$19*CX22)+(CY$19*CY22)+(CZ$19*CZ22)+(DA$19*DA22)+(DB$19*DB22)+(DC$19*DC22)+(DD$19*DD22)+(DE$19*DE22)+(DF$19*DF22)+(DG$19*DG22))","v":36},2,0,0,2,0,3,0,0,0,0,null,null,null,null,null,null,null,null,null,null,null,null,null,null,null,null,{"$f":"IF(OR('Set UP'!$C8=0,'Set UP'!$D8=0,'Set UP'!$E8=0),\"\",(DJ$19*DJ22)+(DK$19*DK22)+(DL$19*DL22)+(DM$19*DM22)+(DN$19*DN22)+(DO$19*DO22)+(DP$19*DP22)+(DQ$19*DQ22)+(DR$19*DR22)+(DS$19*DS22)+(DT$19*DT22)+(DU$19*DU22)+(DV$19*DV22)+(DW$19*DW22)+(DX$19*DX22)+(DY$19*DY22)+(DZ$19*DZ22)+(EA$19*EA22)+(EB$19*EB22)+(EC$19*EC22)+(ED$19*ED22)+(EE$19*EE22)+(EF$19*EF22)+(EG$19*EG22)+(EH$19*EH22))","v":6},null,null,null,null,null,null,null,null,null,null,null,null,null,null,null,null,null,null,null,null,null,null,null,null,null,null,{"$f":"IF(OR('Set UP'!$C8=0,'Set UP'!$D8=0,'Set UP'!$E8=0),\"\",(EK$19*EK22)+(EL$19*EL22)+(EM$19*EM22)+(EN$19*EN22)+(EO$19*EO22)+(EP$19*EP22)+(EQ$19*EQ22)+(ER$19*ER22)+(ES$19*ES22)+(ET$19*ET22)+(EU$19*EU22)+(EV$19*EV22)+(EW$19*EW22)+(EX$19*EX22)+(EY$19*EY22)+(EZ$19*EZ22)+(FA$19*FA22)+(FB$19*FB22)+(FC$19*FC22)+(FD$19*FD22)+(FE$19*FE22)+(FF$19*FF22)+(FG$19*FG22)+(FH$19*FH22)+(FI$19*FI22))","v":0},null,null,null,null,null,null,null,null,null,null,null,null,null,null,null,null,null,null,null,null,null,null,null,null,null,null,{"$f":"IF(OR('Set UP'!$C8=0,'Set UP'!$D8=0,'Set UP'!$E8=0),\"\",(FL$19*FL22)+(FM$19*FM22)+(FN$19*FN22)+(FO$19*FO22)+(FP$19*FP22)+(FQ$19*FQ22)+(FR$19*FR22)+(FS$19*FS22)+(FT$19*FT22)+(FU$19*FU22)+(FV$19*FV22)+(FW$19*FW22)+(FX$19*FX22)+(FY$19*FY22)+(FZ$19*FZ22)+(GA$19*GA22)+(GB$19*GB22)+(GC$19*GC22)+(GD$19*GD22)+(GE$19*GE22)+(GF$19*GF22)+(GG$19*GG22)+(GH$19*GH22)+(GI$19*GI22)+(GJ$19*GJ22))","v":0},null,null,null,null,null,null,null,null,null,null,null,null,null,null,null,null,null,null,null,null,null,null,null,null,null,null,{"$f":"IF(OR('Set UP'!$C8=0,'Set UP'!$D8=0,'Set UP'!$E8=0),\"\",(GM$19*GM22)+(GN$19*GN22)+(GO$19*GO22)+(GP$19*GP22)+(GQ$19*GQ22)+(GR$19*GR22)+(GS$19*GS22)+(GT$19*GT22)+(GU$19*GU22)+(GV$19*GV22)+(GW$19*GW22)+(GX$19*GX22)+(GY$19*GY22)+(GZ$19*GZ22)+(HA$19*HA22)+(HB$19*HB22)+(HC$19*HC22)+(HD$19*HD22)+(HE$19*HE22)+(HF$19*HF22)+(HG$19*HG22)+(HH$19*HH22)+(HI$19*HI22)+(HJ$19*HJ22)+(HK$19*HK22))","v":0},null,null,null,null,null,null,null,null,null,null,null,null,null,null,null,null,null,null,null,null,null,null,null,null,null,null,{"$f":"IF(OR('Set UP'!$C8=0,'Set UP'!$D8=0,'Set UP'!$E8=0),\"\",(HN$19*HN22)+(HO$19*HO22)+(HP$19*HP22)+(HQ$19*HQ22)+(HR$19*HR22)+(HS$19*HS22)+(HT$19*HT22)+(HU$19*HU22)+(HV$19*HV22)+(HW$19*HW22)+(HX$19*HX22)+(HY$19*HY22)+(HZ$19*HZ22)+(IA$19*IA22)+(IB$19*IB22)+(IC$19*IC22)+(ID$19*ID22)+(IE$19*IE22)+(IF$19*IF22)+(IG$19*IG22)+(IH$19*IH22)+(II$19*II22)+(IJ$19*IJ22)+(IK$19*IK22)+(IL$19*IL22))","v":0},null,null,null,null,null,null,null,null,null,null,null,null,null,null,null,null,null,null,null,null,null,null,null,null,null,null,{"$f":"IF(OR('Set UP'!$C8=0,'Set UP'!$D8=0,'Set UP'!$E8=0),\"\",(IO$19*IO22)+(IP$19*IP22)+(IQ$19*IQ22)+(IR$19*IR22)+(IS$19*IS22)+(IT$19*IT22)+(IU$19*IU22)+(IV$19*IV22)+(IW$19*IW22)+(IX$19*IX22)+(IY$19*IY22)+(IZ$19*IZ22)+(JA$19*JA22)+(JB$19*JB22)+(JC$19*JC22)+(JD$19*JD22)+(JE$19*JE22)+(JF$19*JF22)+(JG$19*JG22)+(JH$19*JH22)+(JI$19*JI22)+(JJ$19*JJ22)+(JK$19*JK22)+(JL$19*JL22)+(JM$19*JM22))","v":0},{"$f":"IF(OR('Set UP'!$C8=0,'Set UP'!$D8=0,'Set UP'!$E8=0),\"\",(AF22+BG22+CH22+DI22+EJ22+FK22+GL22+HM22+JO22+IN22))","v":116},{"$f":"IF(OR('Set UP'!$C8=0,'Set UP'!$D8=0,'Set UP'!$E8=0),\"\",RANK(JP22,$JP$21:$JP$60,0))","v":20},{"$f":"IF(OR('Set UP'!K8<>1,'Set UP'!C8=0,'Set UP'!D8=0,'Set UP'!E8=0,'Set UP'!F8=0),\"\",$JP22)","v":""},{"$f":"IF(OR('Set UP'!K8<>1,'Set UP'!C8=0,'Set UP'!D8=0,'Set UP'!E8=0,'Set UP'!F8=0),\"\",RANK(JR22,$JR$21:$JR$60,0))","v":""},{"$f":"IF(OR('Set UP'!K8<>2,'Set UP'!C8=0,'Set UP'!D8=0,'Set UP'!E8=0,'Set UP'!F8=0),\"\",$JP22)","v":""},{"$f":"IF(OR('Set UP'!K8<>2,'Set UP'!C8=0,'Set UP'!D8=0,'Set UP'!E8=0,'Set UP'!F8=0),\"\",RANK(JT22,$JT$21:$JT$60,0))","v":""},{"$f":"IF(OR('Set UP'!F8<>\"F\",'Set UP'!C8=0,'Set UP'!D8=0,'Set UP'!E8=0),\"\",$JP22)","v":""},{"$f":"IF(OR('Set UP'!F8<>\"F\",'Set UP'!C8=0,'Set UP'!D8=0,'Set UP'!E8=0),\"\",RANK(JV22,$JV$21:$JV$60,0))","v":""},{"$f":"IF(OR('Set UP'!F8<>\"NS\",'Set UP'!C8=0,'Set UP'!D8=0,'Set UP'!E8=0),\"\",$JP22)","v":116},{"$f":"IF(OR('Set UP'!F8<>\"NS\",'Set UP'!C8=0,'Set UP'!D8=0,'Set UP'!E8=0),\"\",RANK(JX22,$JX$21:$JX$60,0))","v":3},{"$f":"IF(OR('Set UP'!$C8=0,'Set UP'!$D8=0,'Set UP'!$E8=0,JP22=0),\"\",JP22/MAX(JP$21:JP$60)*1000)","v":391.89189189189187}]
[null,3,{"$f":"IF(OR('Set UP'!$C9=0,'Set UP'!$D9=0,'Set UP'!$E9=0,'Set UP'!F9=0),\"  --\",'Set UP'!C9)","v":1417},{"$f":"IF(OR('Set UP'!$C9=0,'Set UP'!$D9=0,'Set UP'!$E9=0,'Set UP'!F9=0),\"  --\",'Set UP'!D9&\" \"&'Set UP'!E9)","v":"Bradford On Avon Lifesaving Club  C"},{"$f":"IF(OR('Set UP'!$C9=0,'Set UP'!$D9=0,'Set UP'!$E9=0,'Set UP'!F9=0),\"  --\",'Set UP'!F9)","v":"NS"},6,7,10,6,null,null,null,null,null,null,null,null,null,null,null,null,null,null,null,null,null,null,null,null,null,null,{"$f":"IF(OR('Set UP'!$C9=0,'Set UP'!$D9=0,'Set UP'!$E9=0),\"\",(F$19*F23)+(G$19*G23)+(H$19*H23)+(I$19*I23)+(J$19*J23)+(K$19*K23)+(L$19*L23)+(M$19*M23)+(N$19*N23)+(O$19*O23)+(P$19*P23)+(Q$19*Q23)+(R$19*R23)+(S$19*S23)+(T$19*T23)+(U$19*U23)+(V$19*V23)+(W$19*W23)+(X$19*X23)+(Y$19*Y23)+(Z$19*Z23)+(AA$19*AA23)+(AB$19*AB23)+(AC$19*AC23)+(AD$19*AD23))","v":58.5},4,4,0,0,0,null,null,null,null,null,null,null,null,null,null,null,null,null,null,null,null,null,null,null,null,null,{"$f":"IF(OR('Set UP'!$C9=0,'Set UP'!$D9=0,'Set UP'!$E9=0),\"\",(AG$19*AG23)+(AH$19*AH23)+(AI$19*AI23)+(AJ$19*AJ23)+(AK$19*AK23)+(AL$19*AL23)+(AM$19*AM23)+(AN$19*AN23)+(AO$19*AO23)+(AP$19*AP23)+(AQ$19*AQ23)+(AR$19*AR23)+(AS$19*AS23)+(AT$19*AT23)+(AU$19*AU23)+(AV$19*AV23)+(AW$19*AW23)+(AX$19*AX23)+(AY$19*AY23)+(AZ$19*AZ23)+(BA$19*BA23)+(BB$19*BB23)+(BC$19*BC23)+(BD$19*BD23)+(BE$19*BE23))","v":12},0,0,0,0,0,0,1,0,0,0,3,0,null,null,null,null,null,null,null,null,null,null,null,null,null,null,{"$f":"IF(OR('Set UP'!$C9=0,'Set UP'!$D9=0,'Set UP'!$E9=0),\"\",(BH$19*BH23)+(BI$19*BI23)+(BJ$19*BJ23)+(BK$19*BK23)+(BL$19*BL23)+(BM$19*BM23)+(BN$19*BN23)+(BO$19*BO23)+(BP$19*BP23)+(BQ$19*BQ23)+(BR$19*BR23)+(BS$19*BS23)+(BT$19*BT23)+(BU$19*BU23)+(BV$19*BV23)+(BW$19*BW23)+(BX$19*BX23)+(BY$19*BY23)+(BZ$19*BZ23)+(CA$19*CA23)+(CB$19*CB23)+(CC$19*CC23)+(CD$19*CD23)+(CE$19*CE23)+(CF$19*CF23))","v":4.5},6,1,0,0,5,0,2,0,0,null,null,null,null,null,null,null,null,null,null,null,null,null,null,null,null,null,{"$f":"IF(OR('Set UP'!$C9=0,'Set UP'!$D9=0,'Set UP'!$E9=0),\"\",(CI$19*CI23)+(CJ$19*CJ23)+(CK$19*CK23)+(CL$19*CL23)+(CM$19*CM23)+(CN$19*CN23)+(CO$19*CO23)+(CP$19*CP23)+(CQ$19*CQ23)+(CR$19*CR23)+(CS$19*CS23)+(CT$19*CT23)+(CU$19*CU23)+(CV$19*CV23)+(CW$19*CW23)+(CX$19*CX23)+(CY$19*CY23)+(CZ$19*CZ23)+(DA$19*DA23)+(DB$19*DB23)+(DC$19*DC23)+(DD$19*DD23)+(DE$19*DE23)+(DF$19*DF23)+(DG$19*DG23))","v":33},2,0,2,2,0,0,0,0,0,0,null,null,null,null,null,null,null,null,null,null,null,null,null,null,null,null,{"$f":"IF(OR('Set UP'!$C9=0,'Set UP'!$D9=0,'Set UP'!$E9=0),\"\",(DJ$19*DJ23)+(DK$19*DK23)+(DL$19*DL23)+(DM$19*DM23)+(DN$19*DN23)+(DO$19*DO23)+(DP$19*DP23)+(DQ$19*DQ23)+(DR$19*DR23)+(DS$19*DS23)+(DT$19*DT23)+(DU$19*DU23)+(DV$19*DV23)+(DW$19*DW23)+(DX$19*DX23)+(DY$19*DY23)+(DZ$19*DZ23)+(EA$19*EA23)+(EB$19*EB23)+(EC$19*EC23)+(ED$19*ED23)+(EE$19*EE23)+(EF$19*EF23)+(EG$19*EG23)+(EH$19*EH23))","v":6},null,null,null,null,null,null,null,null,null,null,null,null,null,null,null,null,null,null,null,null,null,null,null,null,null,null,{"$f":"IF(OR('Set UP'!$C9=0,'Set UP'!$D9=0,'Set UP'!$E9=0),\"\",(EK$19*EK23)+(EL$19*EL23)+(EM$19*EM23)+(EN$19*EN23)+(EO$19*EO23)+(EP$19*EP23)+(EQ$19*EQ23)+(ER$19*ER23)+(ES$19*ES23)+(ET$19*ET23)+(EU$19*EU23)+(EV$19*EV23)+(EW$19*EW23)+(EX$19*EX23)+(EY$19*EY23)+(EZ$19*EZ23)+(FA$19*FA23)+(FB$19*FB23)+(FC$19*FC23)+(FD$19*FD23)+(FE$19*FE23)+(FF$19*FF23)+(FG$19*FG23)+(FH$19*FH23)+(FI$19*FI23))","v":0},null,null,null,null,null,null,null,null,null,null,null,null,null,null,null,null,null,null,null,null,null,null,null,null,null,null,{"$f":"IF(OR('Set UP'!$C9=0,'Set UP'!$D9=0,'Set UP'!$E9=0),\"\",(FL$19*FL23)+(FM$19*FM23)+(FN$19*FN23)+(FO$19*FO23)+(FP$19*FP23)+(FQ$19*FQ23)+(FR$19*FR23)+(FS$19*FS23)+(FT$19*FT23)+(FU$19*FU23)+(FV$19*FV23)+(FW$19*FW23)+(FX$19*FX23)+(FY$19*FY23)+(FZ$19*FZ23)+(GA$19*GA23)+(GB$19*GB23)+(GC$19*GC23)+(GD$19*GD23)+(GE$19*GE23)+(GF$19*GF23)+(GG$19*GG23)+(GH$19*GH23)+(GI$19*GI23)+(GJ$19*GJ23))","v":0},null,null,null,null,null,null,null,null,null,null,null,null,null,null,null,null,null,null,null,null,null,null,null,null,null,null,{"$f":"IF(OR('Set UP'!$C9=0,'Set UP'!$D9=0,'Set UP'!$E9=0),\"\",(GM$19*GM23)+(GN$19*GN23)+(GO$19*GO23)+(GP$19*GP23)+(GQ$19*GQ23)+(GR$19*GR23)+(GS$19*GS23)+(GT$19*GT23)+(GU$19*GU23)+(GV$19*GV23)+(GW$19*GW23)+(GX$19*GX23)+(GY$19*GY23)+(GZ$19*GZ23)+(HA$19*HA23)+(HB$19*HB23)+(HC$19*HC23)+(HD$19*HD23)+(HE$19*HE23)+(HF$19*HF23)+(HG$19*HG23)+(HH$19*HH23)+(HI$19*HI23)+(HJ$19*HJ23)+(HK$19*HK23))","v":0},null,null,null,null,null,null,null,null,null,null,null,null,null,null,null,null,null,null,null,null,null,null,null,null,null,null,{"$f":"IF(OR('Set UP'!$C9=0,'Set UP'!$D9=0,'Set UP'!$E9=0),\"\",(HN$19*HN23)+(HO$19*HO23)+(HP$19*HP23)+(HQ$19*HQ23)+(HR$19*HR23)+(HS$19*HS23)+(HT$19*HT23)+(HU$19*HU23)+(HV$19*HV23)+(HW$19*HW23)+(HX$19*HX23)+(HY$19*HY23)+(HZ$19*HZ23)+(IA$19*IA23)+(IB$19*IB23)+(IC$19*IC23)+(ID$19*ID23)+(IE$19*IE23)+(IF$19*IF23)+(IG$19*IG23)+(IH$19*IH23)+(II$19*II23)+(IJ$19*IJ23)+(IK$19*IK23)+(IL$19*IL23))","v":0},null,null,null,null,null,null,null,null,null,null,null,null,null,null,null,null,null,null,null,null,null,null,null,null,null,null,{"$f":"IF(OR('Set UP'!$C9=0,'Set UP'!$D9=0,'Set UP'!$E9=0),\"\",(IO$19*IO23)+(IP$19*IP23)+(IQ$19*IQ23)+(IR$19*IR23)+(IS$19*IS23)+(IT$19*IT23)+(IU$19*IU23)+(IV$19*IV23)+(IW$19*IW23)+(IX$19*IX23)+(IY$19*IY23)+(IZ$19*IZ23)+(JA$19*JA23)+(JB$19*JB23)+(JC$19*JC23)+(JD$19*JD23)+(JE$19*JE23)+(JF$19*JF23)+(JG$19*JG23)+(JH$19*JH23)+(JI$19*JI23)+(JJ$19*JJ23)+(JK$19*JK23)+(JL$19*JL23)+(JM$19*JM23))","v":0},{"$f":"IF(OR('Set UP'!$C9=0,'Set UP'!$D9=0,'Set UP'!$E9=0),\"\",(AF23+BG23+CH23+DI23+EJ23+FK23+GL23+HM23+JO23+IN23))","v":114},{"$f":"IF(OR('Set UP'!$C9=0,'Set UP'!$D9=0,'Set UP'!$E9=0),\"\",RANK(JP23,$JP$21:$JP$60,0))","v":23},{"$f":"IF(OR('Set UP'!K9<>1,'Set UP'!C9=0,'Set UP'!D9=0,'Set UP'!E9=0,'Set UP'!F9=0),\"\",$JP23)","v":""},{"$f":"IF(OR('Set UP'!K9<>1,'Set UP'!C9=0,'Set UP'!D9=0,'Set UP'!E9=0,'Set UP'!F9=0),\"\",RANK(JR23,$JR$21:$JR$60,0))","v":""},{"$f":"IF(OR('Set UP'!K9<>2,'Set UP'!C9=0,'Set UP'!D9=0,'Set UP'!E9=0,'Set UP'!F9=0),\"\",$JP23)","v":""},{"$f":"IF(OR('Set UP'!K9<>2,'Set UP'!C9=0,'Set UP'!D9=0,'Set UP'!E9=0,'Set UP'!F9=0),\"\",RANK(JT23,$JT$21:$JT$60,0))","v":""},{"$f":"IF(OR('Set UP'!F9<>\"F\",'Set UP'!C9=0,'Set UP'!D9=0,'Set UP'!E9=0),\"\",$JP23)","v":""},{"$f":"IF(OR('Set UP'!F9<>\"F\",'Set UP'!C9=0,'Set UP'!D9=0,'Set UP'!E9=0),\"\",RANK(JV23,$JV$21:$JV$60,0))","v":""},{"$f":"IF(OR('Set UP'!F9<>\"NS\",'Set UP'!C9=0,'Set UP'!D9=0,'Set UP'!E9=0),\"\",$JP23)","v":114},{"$f":"IF(OR('Set UP'!F9<>\"NS\",'Set UP'!C9=0,'Set UP'!D9=0,'Set UP'!E9=0),\"\",RANK(JX23,$JX$21:$JX$60,0))","v":4},{"$f":"IF(OR('Set UP'!$C9=0,'Set UP'!$D9=0,'Set UP'!$E9=0,JP23=0),\"\",JP23/MAX(JP$21:JP$60)*1000)","v":385.13513513513516}]
[null,4,{"$f":"IF(OR('Set UP'!$C10=0,'Set UP'!$D10=0,'Set UP'!$E10=0,'Set UP'!F10=0),\"  --\",'Set UP'!C10)","v":"  --"},{"$f":"IF(OR('Set UP'!$C10=0,'Set UP'!$D10=0,'Set UP'!$E10=0,'Set UP'!F10=0),\"  --\",'Set UP'!D10&\" \"&'Set UP'!E10)","v":"  --"},{"$f":"IF(OR('Set UP'!$C10=0,'Set UP'!$D10=0,'Set UP'!$E10=0,'Set UP'!F10=0),\"  --\",'Set UP'!F10)","v":"  --"},null,null,null,null,null,null,null,null,null,null,null,null,null,null,null,null,null,null,null,null,null,null,null,null,null,null,{"$f":"IF(OR('Set UP'!$C10=0,'Set UP'!$D10=0,'Set UP'!$E10=0),\"\",(F$19*F24)+(G$19*G24)+(H$19*H24)+(I$19*I24)+(J$19*J24)+(K$19*K24)+(L$19*L24)+(M$19*M24)+(N$19*N24)+(O$19*O24)+(P$19*P24)+(Q$19*Q24)+(R$19*R24)+(S$19*S24)+(T$19*T24)+(U$19*U24)+(V$19*V24)+(W$19*W24)+(X$19*X24)+(Y$19*Y24)+(Z$19*Z24)+(AA$19*AA24)+(AB$19*AB24)+(AC$19*AC24)+(AD$19*AD24))","v":""},null,null,null,null,null,null,null,null,null,null,null,null,null,null,null,null,null,null,null,null,null,null,null,null,null,null,{"$f":"IF(OR('Set UP'!$C10=0,'Set UP'!$D10=0,'Set UP'!$E10=0),\"\",(AG$19*AG24)+(AH$19*AH24)+(AI$19*AI24)+(AJ$19*AJ24)+(AK$19*AK24)+(AL$19*AL24)+(AM$19*AM24)+(AN$19*AN24)+(AO$19*AO24)+(AP$19*AP24)+(AQ$19*AQ24)+(AR$19*AR24)+(AS$19*AS24)+(AT$19*AT24)+(AU$19*AU24)+(AV$19*AV24)+(AW$19*AW24)+(AX$19*AX24)+(AY$19*AY24)+(AZ$19*AZ24)+(BA$19*BA24)+(BB$19*BB24)+(BC$19*BC24)+(BD$19*BD24)+(BE$19*BE24))","v":""},null,null,null,null,null,null,null,null,null,null,null,null,null,null,null,null,null,null,null,null,null,null,null,null,null,null,{"$f":"IF(OR('Set UP'!$C10=0,'Set UP'!$D10=0,'Set UP'!$E10=0),\"\",(BH$19*BH24)+(BI$19*BI24)+(BJ$19*BJ24)+(BK$19*BK24)+(BL$19*BL24)+(BM$19*BM24)+(BN$19*BN24)+(BO$19*BO24)+(BP$19*BP24)+(BQ$19*BQ24)+(BR$19*BR24)+(BS$19*BS24)+(BT$19*BT24)+(BU$19*BU24)+(BV$19*BV24)+(BW$19*BW24)+(BX$19*BX24)+(BY$19*BY24)+(BZ$19*BZ24)+(CA$19*CA24)+(CB$19*CB24)+(CC$19*CC24)+(CD$19*CD24)+(CE$19*CE24)+(CF$19*CF24))","v":""},null,null,null,null,null,null,null,null,null,null,null,null,null,null,null,null,null,null,null,null,null,null,null,null,null,null,{"$f":"IF(OR('Set UP'!$C10=0,'Set UP'!$D10=0,'Set UP'!$E10=0),\"\",(CI$19*CI24)+(CJ$19*CJ24)+(CK$19*CK24)+(CL$19*CL24)+(CM$19*CM24)+(CN$19*CN24)+(CO$19*CO24)+(CP$19*CP24)+(CQ$19*CQ24)+(CR$19*CR24)+(CS$19*CS24)+(CT$19*CT24)+(CU$19*CU24)+(CV$19*CV24)+(CW$19*CW24)+(CX$19*CX24)+(CY$19*CY24)+(CZ$19*CZ24)+(DA$19*DA24)+(DB$19*DB24)+(DC$19*DC24)+(DD$19*DD24)+(DE$19*DE24)+(DF$19*DF24)+(DG$19*DG24))","v":""},null,null,null,null,null,null,null,null,null,null,null,null,null,null,null,null,null,null,null,null,null,null,null,null,null,null,{"$f":"IF(OR('Set UP'!$C10=0,'Set UP'!$D10=0,'Set UP'!$E10=0),\"\",(DJ$19*DJ24)+(DK$19*DK24)+(DL$19*DL24)+(DM$19*DM24)+(DN$19*DN24)+(DO$19*DO24)+(DP$19*DP24)+(DQ$19*DQ24)+(DR$19*DR24)+(DS$19*DS24)+(DT$19*DT24)+(DU$19*DU24)+(DV$19*DV24)+(DW$19*DW24)+(DX$19*DX24)+(DY$19*DY24)+(DZ$19*DZ24)+(EA$19*EA24)+(EB$19*EB24)+(EC$19*EC24)+(ED$19*ED24)+(EE$19*EE24)+(EF$19*EF24)+(EG$19*EG24)+(EH$19*EH24))","v":""},null,null,null,null,null,null,null,null,null,null,null,null,null,null,null,null,null,null,null,null,null,null,null,null,null,null,{"$f":"IF(OR('Set UP'!$C10=0,'Set UP'!$D10=0,'Set UP'!$E10=0),\"\",(EK$19*EK24)+(EL$19*EL24)+(EM$19*EM24)+(EN$19*EN24)+(EO$19*EO24)+(EP$19*EP24)+(EQ$19*EQ24)+(ER$19*ER24)+(ES$19*ES24)+(ET$19*ET24)+(EU$19*EU24)+(EV$19*EV24)+(EW$19*EW24)+(EX$19*EX24)+(EY$19*EY24)+(EZ$19*EZ24)+(FA$19*FA24)+(FB$19*FB24)+(FC$19*FC24)+(FD$19*FD24)+(FE$19*FE24)+(FF$19*FF24)+(FG$19*FG24)+(FH$19*FH24)+(FI$19*FI24))","v":""},null,null,null,null,null,null,null,null,null,null,null,null,null,null,null,null,null,null,null,null,null,null,null,null,null,null,{"$f":"IF(OR('Set UP'!$C10=0,'Set UP'!$D10=0,'Set UP'!$E10=0),\"\",(FL$19*FL24)+(FM$19*FM24)+(FN$19*FN24)+(FO$19*FO24)+(FP$19*FP24)+(FQ$19*FQ24)+(FR$19*FR24)+(FS$19*FS24)+(FT$19*FT24)+(FU$19*FU24)+(FV$19*FV24)+(FW$19*FW24)+(FX$19*FX24)+(FY$19*FY24)+(FZ$19*FZ24)+(GA$19*GA24)+(GB$19*GB24)+(GC$19*GC24)+(GD$19*GD24)+(GE$19*GE24)+(GF$19*GF24)+(GG$19*GG24)+(GH$19*GH24)+(GI$19*GI24)+(GJ$19*GJ24))","v":""},null,null,null,null,null,null,null,null,null,null,null,null,null,null,null,null,null,null,null,null,null,null,null,null,null,null,{"$f":"IF(OR('Set UP'!$C10=0,'Set UP'!$D10=0,'Set UP'!$E10=0),\"\",(GM$19*GM24)+(GN$19*GN24)+(GO$19*GO24)+(GP$19*GP24)+(GQ$19*GQ24)+(GR$19*GR24)+(GS$19*GS24)+(GT$19*GT24)+(GU$19*GU24)+(GV$19*GV24)+(GW$19*GW24)+(GX$19*GX24)+(GY$19*GY24)+(GZ$19*GZ24)+(HA$19*HA24)+(HB$19*HB24)+(HC$19*HC24)+(HD$19*HD24)+(HE$19*HE24)+(HF$19*HF24)+(HG$19*HG24)+(HH$19*HH24)+(HI$19*HI24)+(HJ$19*HJ24)+(HK$19*HK24))","v":""},null,null,null,null,null,null,null,null,null,null,null,null,null,null,null,null,null,null,null,null,null,null,null,null,null,null,{"$f":"IF(OR('Set UP'!$C10=0,'Set UP'!$D10=0,'Set UP'!$E10=0),\"\",(HN$19*HN24)+(HO$19*HO24)+(HP$19*HP24)+(HQ$19*HQ24)+(HR$19*HR24)+(HS$19*HS24)+(HT$19*HT24)+(HU$19*HU24)+(HV$19*HV24)+(HW$19*HW24)+(HX$19*HX24)+(HY$19*HY24)+(HZ$19*HZ24)+(IA$19*IA24)+(IB$19*IB24)+(IC$19*IC24)+(ID$19*ID24)+(IE$19*IE24)+(IF$19*IF24)+(IG$19*IG24)+(IH$19*IH24)+(II$19*II24)+(IJ$19*IJ24)+(IK$19*IK24)+(IL$19*IL24))","v":""},null,null,null,null,null,null,null,null,null,null,null,null,null,null,null,null,null,null,null,null,null,null,null,null,null,null,{"$f":"IF(OR('Set UP'!$C10=0,'Set UP'!$D10=0,'Set UP'!$E10=0),\"\",(IO$19*IO24)+(IP$19*IP24)+(IQ$19*IQ24)+(IR$19*IR24)+(IS$19*IS24)+(IT$19*IT24)+(IU$19*IU24)+(IV$19*IV24)+(IW$19*IW24)+(IX$19*IX24)+(IY$19*IY24)+(IZ$19*IZ24)+(JA$19*JA24)+(JB$19*JB24)+(JC$19*JC24)+(JD$19*JD24)+(JE$19*JE24)+(JF$19*JF24)+(JG$19*JG24)+(JH$19*JH24)+(JI$19*JI24)+(JJ$19*JJ24)+(JK$19*JK24)+(JL$19*JL24)+(JM$19*JM24))","v":""},{"$f":"IF(OR('Set UP'!$C10=0,'Set UP'!$D10=0,'Set UP'!$E10=0),\"\",(AF24+BG24+CH24+DI24+EJ24+FK24+GL24+HM24+JO24+IN24))","v":""},{"$f":"IF(OR('Set UP'!$C10=0,'Set UP'!$D10=0,'Set UP'!$E10=0),\"\",RANK(JP24,$JP$21:$JP$60,0))","v":""},{"$f":"IF(OR('Set UP'!K10<>1,'Set UP'!C10=0,'Set UP'!D10=0,'Set UP'!E10=0,'Set UP'!F10=0),\"\",$JP24)","v":""},{"$f":"IF(OR('Set UP'!K10<>1,'Set UP'!C10=0,'Set UP'!D10=0,'Set UP'!E10=0,'Set UP'!F10=0),\"\",RANK(JR24,$JR$21:$JR$60,0))","v":""},{"$f":"IF(OR('Set UP'!K10<>2,'Set UP'!C10=0,'Set UP'!D10=0,'Set UP'!E10=0,'Set UP'!F10=0),\"\",$JP24)","v":""},{"$f":"IF(OR('Set UP'!K10<>2,'Set UP'!C10=0,'Set UP'!D10=0,'Set UP'!E10=0,'Set UP'!F10=0),\"\",RANK(JT24,$JT$21:$JT$60,0))","v":""},{"$f":"IF(OR('Set UP'!F10<>\"F\",'Set UP'!C10=0,'Set UP'!D10=0,'Set UP'!E10=0),\"\",$JP24)","v":""},{"$f":"IF(OR('Set UP'!F10<>\"F\",'Set UP'!C10=0,'Set UP'!D10=0,'Set UP'!E10=0),\"\",RANK(JV24,$JV$21:$JV$60,0))","v":""},{"$f":"IF(OR('Set UP'!F10<>\"NS\",'Set UP'!C10=0,'Set UP'!D10=0,'Set UP'!E10=0),\"\",$JP24)","v":""},{"$f":"IF(OR('Set UP'!F10<>\"NS\",'Set UP'!C10=0,'Set UP'!D10=0,'Set UP'!E10=0),\"\",RANK(JX24,$JX$21:$JX$60,0))","v":""},{"$f":"IF(OR('Set UP'!$C10=0,'Set UP'!$D10=0,'Set UP'!$E10=0,JP24=0),\"\",JP24/MAX(JP$21:JP$60)*1000)","v":""}]
[null,5,{"$f":"IF(OR('Set UP'!$C11=0,'Set UP'!$D11=0,'Set UP'!$E11=0,'Set UP'!F11=0),\"  --\",'Set UP'!C11)","v":1424},{"$f":"IF(OR('Set UP'!$C11=0,'Set UP'!$D11=0,'Set UP'!$E11=0,'Set UP'!F11=0),\"  --\",'Set UP'!D11&\" \"&'Set UP'!E11)","v":"Keynsham B"},{"$f":"IF(OR('Set UP'!$C11=0,'Set UP'!$D11=0,'Set UP'!$E11=0,'Set UP'!F11=0),\"  --\",'Set UP'!F11)","v":"NS"},5,6,4,6,null,null,null,null,null,null,null,null,null,null,null,null,null,null,null,null,null,null,null,null,null,null,{"$f":"IF(OR('Set UP'!$C11=0,'Set UP'!$D11=0,'Set UP'!$E11=0),\"\",(F$19*F25)+(G$19*G25)+(H$19*H25)+(I$19*I25)+(J$19*J25)+(K$19*K25)+(L$19*L25)+(M$19*M25)+(N$19*N25)+(O$19*O25)+(P$19*P25)+(Q$19*Q25)+(R$19*R25)+(S$19*S25)+(T$19*T25)+(U$19*U25)+(V$19*V25)+(W$19*W25)+(X$19*X25)+(Y$19*Y25)+(Z$19*Z25)+(AA$19*AA25)+(AB$19*AB25)+(AC$19*AC25)+(AD$19*AD25))","v":37.5},4,3,0,0,0,null,null,null,null,null,null,null,null,null,null,null,null,null,null,null,null,null,null,null,null,null,{"$f":"IF(OR('Set UP'!$C11=0,'Set UP'!$D11=0,'Set UP'!$E11=0),\"\",(AG$19*AG25)+(AH$19*AH25)+(AI$19*AI25)+(AJ$19*AJ25)+(AK$19*AK25)+(AL$19*AL25)+(AM$19*AM25)+(AN$19*AN25)+(AO$19*AO25)+(AP$19*AP25)+(AQ$19*AQ25)+(AR$19*AR25)+(AS$19*AS25)+(AT$19*AT25)+(AU$19*AU25)+(AV$19*AV25)+(AW$19*AW25)+(AX$19*AX25)+(AY$19*AY25)+(AZ$19*AZ25)+(BA$19*BA25)+(BB$19*BB25)+(BC$19*BC25)+(BD$19*BD25)+(BE$19*BE25))","v":10.5},5,9,8,0,4,0,7,8,8,4,7,6,null,null,null,null,null,null,null,null,null,null,null,null,null,null,{"$f":"IF(OR('Set UP'!$C11=0,'Set UP'!$D11=0,'Set UP'!$E11=0),\"\",(BH$19*BH25)+(BI$19*BI25)+(BJ$19*BJ25)+(BK$19*BK25)+(BL$19*BL25)+(BM$19*BM25)+(BN$19*BN25)+(BO$19*BO25)+(BP$19*BP25)+(BQ$19*BQ25)+(BR$19*BR25)+(BS$19*BS25)+(BT$19*BT25)+(BU$19*BU25)+(BV$19*BV25)+(BW$19*BW25)+(BX$19*BX25)+(BY$19*BY25)+(BZ$19*BZ25)+(CA$19*CA25)+(CB$19*CB25)+(CC$19*CC25)+(CD$19*CD25)+(CE$19*CE25)+(CF$19*CF25))","v":71},7,5,0,0,7,0,4,0,0,null,null,null,null,null,null,null,null,null,null,null,null,null,null,null,null,null,{"$f":"IF(OR('Set UP'!$C11=0,'Set UP'!$D11=0,'Set UP'!$E11=0),\"\",(CI$19*CI25)+(CJ$19*CJ25)+(CK$19*CK25)+(CL$19*CL25)+(CM$19*CM25)+(CN$19*CN25)+(CO$19*CO25)+(CP$19*CP25)+(CQ$19*CQ25)+(CR$19*CR25)+(CS$19*CS25)+(CT$19*CT25)+(CU$19*CU25)+(CV$19*CV25)+(CW$19*CW25)+(CX$19*CX25)+(CY$19*CY25)+(CZ$19*CZ25)+(DA$19*DA25)+(DB$19*DB25)+(DC$19*DC25)+(DD$19*DD25)+(DE$19*DE25)+(DF$19*DF25)+(DG$19*DG25))","v":56.5},1,0,2,1,0,0,0,0,0,0,null,null,null,null,null,null,null,null,null,null,null,null,null,null,null,null,{"$f":"IF(OR('Set UP'!$C11=0,'Set UP'!$D11=0,'Set UP'!$E11=0),\"\",(DJ$19*DJ25)+(DK$19*DK25)+(DL$19*DL25)+(DM$19*DM25)+(DN$19*DN25)+(DO$19*DO25)+(DP$19*DP25)+(DQ$19*DQ25)+(DR$19*DR25)+(DS$19*DS25)+(DT$19*DT25)+(DU$19*DU25)+(DV$19*DV25)+(DW$19*DW25)+(DX$19*DX25)+(DY$19*DY25)+(DZ$19*DZ25)+(EA$19*EA25)+(EB$19*EB25)+(EC$19*EC25)+(ED$19*ED25)+(EE$19*EE25)+(EF$19*EF25)+(EG$19*EG25)+(EH$19*EH25))","v":4.5},null,null,null,null,null,null,null,null,null,null,null,null,null,null,null,null,null,null,null,null,null,null,null,null,null,null,{"$f":"IF(OR('Set UP'!$C11=0,'Set UP'!$D11=0,'Set UP'!$E11=0),\"\",(EK$19*EK25)+(EL$19*EL25)+(EM$19*EM25)+(EN$19*EN25)+(EO$19*EO25)+(EP$19*EP25)+(EQ$19*EQ25)+(ER$19*ER25)+(ES$19*ES25)+(ET$19*ET25)+(EU$19*EU25)+(EV$19*EV25)+(EW$19*EW25)+(EX$19*EX25)+(EY$19*EY25)+(EZ$19*EZ25)+(FA$19*FA25)+(FB$19*FB25)+(FC$19*FC25)+(FD$19*FD25)+(FE$19*FE25)+(FF$19*FF25)+(FG$19*FG25)+(FH$19*FH25)+(FI$19*FI25))","v":0},null,null,null,null,null,null,null,null,null,null,null,null,null,null,null,null,null,null,null,null,null,null,null,null,null,null,{"$f":"IF(OR('Set UP'!$C11=0,'Set UP'!$D11=0,'Set UP'!$E11=0),\"\",(FL$19*FL25)+(FM$19*FM25)+(FN$19*FN25)+(FO$19*FO25)+(FP$19*FP25)+(FQ$19*FQ25)+(FR$19*FR25)+(FS$19*FS25)+(FT$19*FT25)+(FU$19*FU25)+(FV$19*FV25)+(FW$19*FW25)+(FX$19*FX25)+(FY$19*FY25)+(FZ$19*FZ25)+(GA$19*GA25)+(GB$19*GB25)+(GC$19*GC25)+(GD$19*GD25)+(GE$19*GE25)+(GF$19*GF25)+(GG$19*GG25)+(GH$19*GH25)+(GI$19*GI25)+(GJ$19*GJ25))","v":0},null,null,null,null,null,null,null,null,null,null,null,null,null,null,null,null,null,null,null,null,null,null,null,null,null,null,{"$f":"IF(OR('Set UP'!$C11=0,'Set UP'!$D11=0,'Set UP'!$E11=0),\"\",(GM$19*GM25)+(GN$19*GN25)+(GO$19*GO25)+(GP$19*GP25)+(GQ$19*GQ25)+(GR$19*GR25)+(GS$19*GS25)+(GT$19*GT25)+(GU$19*GU25)+(GV$19*GV25)+(GW$19*GW25)+(GX$19*GX25)+(GY$19*GY25)+(GZ$19*GZ25)+(HA$19*HA25)+(HB$19*HB25)+(HC$19*HC25)+(HD$19*HD25)+(HE$19*HE25)+(HF$19*HF25)+(HG$19*HG25)+(HH$19*HH25)+(HI$19*HI25)+(HJ$19*HJ25)+(HK$19*HK25))","v":0},null,null,null,null,null,null,null,null,null,null,null,null,null,null,null,null,null,null,null,null,null,null,null,null,null,null,{"$f":"IF(OR('Set UP'!$C11=0,'Set UP'!$D11=0,'Set UP'!$E11=0),\"\",(HN$19*HN25)+(HO$19*HO25)+(HP$19*HP25)+(HQ$19*HQ25)+(HR$19*HR25)+(HS$19*HS25)+(HT$19*HT25)+(HU$19*HU25)+(HV$19*HV25)+(HW$19*HW25)+(HX$19*HX25)+(HY$19*HY25)+(HZ$19*HZ25)+(IA$19*IA25)+(IB$19*IB25)+(IC$19*IC25)+(ID$19*ID25)+(IE$19*IE25)+(IF$19*IF25)+(IG$19*IG25)+(IH$19*IH25)+(II$19*II25)+(IJ$19*IJ25)+(IK$19*IK25)+(IL$19*IL25))","v":0},null,null,null,null,null,null,null,null,null,null,null,null,null,null,null,null,null,null,null,null,null,null,null,null,null,null,{"$f":"IF(OR('Set UP'!$C11=0,'Set UP'!$D11=0,'Set UP'!$E11=0),\"\",(IO$19*IO25)+(IP$19*IP25)+(IQ$19*IQ25)+(IR$19*IR25)+(IS$19*IS25)+(IT$19*IT25)+(IU$19*IU25)+(IV$19*IV25)+(IW$19*IW25)+(IX$19*IX25)+(IY$19*IY25)+(IZ$19*IZ25)+(JA$19*JA25)+(JB$19*JB25)+(JC$19*JC25)+(JD$19*JD25)+(JE$19*JE25)+(JF$19*JF25)+(JG$19*JG25)+(JH$19*JH25)+(JI$19*JI25)+(JJ$19*JJ25)+(JK$19*JK25)+(JL$19*JL25)+(JM$19*JM25))","v":0},{"$f":"IF(OR('Set UP'!$C11=0,'Set UP'!$D11=0,'Set UP'!$E11=0),\"\",(AF25+BG25+CH25+DI25+EJ25+FK25+GL25+HM25+JO25+IN25))","v":180},{"$f":"IF(OR('Set UP'!$C11=0,'Set UP'!$D11=0,'Set UP'!$E11=0),\"\",RANK(JP25,$JP$21:$JP$60,0))","v":8},{"$f":"IF(OR('Set UP'!K11<>1,'Set UP'!C11=0,'Set UP'!D11=0,'Set UP'!E11=0,'Set UP'!F11=0),\"\",$JP25)","v":""},{"$f":"IF(OR('Set UP'!K11<>1,'Set UP'!C11=0,'Set UP'!D11=0,'Set UP'!E11=0,'Set UP'!F11=0),\"\",RANK(JR25,$JR$21:$JR$60,0))","v":""},{"$f":"IF(OR('Set UP'!K11<>2,'Set UP'!C11=0,'Set UP'!D11=0,'Set UP'!E11=0,'Set UP'!F11=0),\"\",$JP25)","v":""},{"$f":"IF(OR('Set UP'!K11<>2,'Set UP'!C11=0,'Set UP'!D11=0,'Set UP'!E11=0,'Set UP'!F11=0),\"\",RANK(JT25,$JT$21:$JT$60,0))","v":""},{"$f":"IF(OR('Set UP'!F11<>\"F\",'Set UP'!C11=0,'Set UP'!D11=0,'Set UP'!E11=0),\"\",$JP25)","v":""},{"$f":"IF(OR('Set UP'!F11<>\"F\",'Set UP'!C11=0,'Set UP'!D11=0,'Set UP'!E11=0),\"\",RANK(JV25,$JV$21:$JV$60,0))","v":""},{"$f":"IF(OR('Set UP'!F11<>\"NS\",'Set UP'!C11=0,'Set UP'!D11=0,'Set UP'!E11=0),\"\",$JP25)","v":180},{"$f":"IF(OR('Set UP'!F11<>\"NS\",'Set UP'!C11=0,'Set UP'!D11=0,'Set UP'!E11=0),\"\",RANK(JX25,$JX$21:$JX$60,0))","v":1},{"$f":"IF(OR('Set UP'!$C11=0,'Set UP'!$D11=0,'Set UP'!$E11=0,JP25=0),\"\",JP25/MAX(JP$21:JP$60)*1000)","v":608.10810810810813}]
[null,6,{"$f":"IF(OR('Set UP'!$C12=0,'Set UP'!$D12=0,'Set UP'!$E12=0,'Set UP'!F12=0),\"  --\",'Set UP'!C12)","v":1423},{"$f":"IF(OR('Set UP'!$C12=0,'Set UP'!$D12=0,'Set UP'!$E12=0,'Set UP'!F12=0),\"  --\",'Set UP'!D12&\" \"&'Set UP'!E12)","v":"Keynsham A"},{"$f":"IF(OR('Set UP'!$C12=0,'Set UP'!$D12=0,'Set UP'!$E12=0,'Set UP'!F12=0),\"  --\",'Set UP'!F12)","v":"NS"},6,7,5,8,null,null,null,null,null,null,null,null,null,null,null,null,null,null,null,null,null,null,null,null,null,null,{"$f":"IF(OR('Set UP'!$C12=0,'Set UP'!$D12=0,'Set UP'!$E12=0),\"\",(F$19*F26)+(G$19*G26)+(H$19*H26)+(I$19*I26)+(J$19*J26)+(K$19*K26)+(L$19*L26)+(M$19*M26)+(N$19*N26)+(O$19*O26)+(P$19*P26)+(Q$19*Q26)+(R$19*R26)+(S$19*S26)+(T$19*T26)+(U$19*U26)+(V$19*V26)+(W$19*W26)+(X$19*X26)+(Y$19*Y26)+(Z$19*Z26)+(AA$19*AA26)+(AB$19*AB26)+(AC$19*AC26)+(AD$19*AD26))","v":46.5},2,0,0,0,0,null,null,null,null,null,null,null,null,null,null,null,null,null,null,null,null,null,null,null,null,null,{"$f":"IF(OR('Set UP'!$C12=0,'Set UP'!$D12=0,'Set UP'!$E12=0),\"\",(AG$19*AG26)+(AH$19*AH26)+(AI$19*AI26)+(AJ$19*AJ26)+(AK$19*AK26)+(AL$19*AL26)+(AM$19*AM26)+(AN$19*AN26)+(AO$19*AO26)+(AP$19*AP26)+(AQ$19*AQ26)+(AR$19*AR26)+(AS$19*AS26)+(AT$19*AT26)+(AU$19*AU26)+(AV$19*AV26)+(AW$19*AW26)+(AX$19*AX26)+(AY$19*AY26)+(AZ$19*AZ26)+(BA$19*BA26)+(BB$19*BB26)+(BC$19*BC26)+(BD$19*BD26)+(BE$19*BE26))","v":3},0,0,0,0,0,0,1,3,3,3,2,0,null,null,null,null,null,null,null,null,null,null,null,null,null,null,{"$f":"IF(OR('Set UP'!$C12=0,'Set UP'!$D12=0,'Set UP'!$E12=0),\"\",(BH$19*BH26)+(BI$19*BI26)+(BJ$19*BJ26)+(BK$19*BK26)+(BL$19*BL26)+(BM$19*BM26)+(BN$19*BN26)+(BO$19*BO26)+(BP$19*BP26)+(BQ$19*BQ26)+(BR$19*BR26)+(BS$19*BS26)+(BT$19*BT26)+(BU$19*BU26)+(BV$19*BV26)+(BW$19*BW26)+(BX$19*BX26)+(BY$19*BY26)+(BZ$19*BZ26)+(CA$19*CA26)+(CB$19*CB26)+(CC$19*CC26)+(CD$19*CD26)+(CE$19*CE26)+(CF$19*CF26))","v":12.5},6,5,0,0,4,0,5,0,0,null,null,null,null,null,null,null,null,null,null,null,null,null,null,null,null,null,{"$f":"IF(OR('Set UP'!$C12=0,'Set UP'!$D12=0,'Set UP'!$E12=0),\"\",(CI$19*CI26)+(CJ$19*CJ26)+(CK$19*CK26)+(CL$19*CL26)+(CM$19*CM26)+(CN$19*CN26)+(CO$19*CO26)+(CP$19*CP26)+(CQ$19*CQ26)+(CR$19*CR26)+(CS$19*CS26)+(CT$19*CT26)+(CU$19*CU26)+(CV$19*CV26)+(CW$19*CW26)+(CX$19*CX26)+(CY$19*CY26)+(CZ$19*CZ26)+(DA$19*DA26)+(DB$19*DB26)+(DC$19*DC26)+(DD$19*DD26)+(DE$19*DE26)+(DF$19*DF26)+(DG$19*DG26))","v":50.5},2,1,2,1,0,0,0,0,0,0,null,null,null,null,null,null,null,null,null,null,null,null,null,null,null,null,{"$f":"IF(OR('Set UP'!$C12=0,'Set UP'!$D12=0,'Set UP'!$E12=0),\"\",(DJ$19*DJ26)+(DK$19*DK26)+(DL$19*DL26)+(DM$19*DM26)+(DN$19*DN26)+(DO$19*DO26)+(DP$19*DP26)+(DQ$19*DQ26)+(DR$19*DR26)+(DS$19*DS26)+(DT$19*DT26)+(DU$19*DU26)+(DV$19*DV26)+(DW$19*DW26)+(DX$19*DX26)+(DY$19*DY26)+(DZ$19*DZ26)+(EA$19*EA26)+(EB$19*EB26)+(EC$19*EC26)+(ED$19*ED26)+(EE$19*EE26)+(EF$19*EF26)+(EG$19*EG26)+(EH$19*EH26))","v":7},null,null,null,null,null,null,null,null,null,null,null,null,null,null,null,null,null,null,null,null,null,null,null,null,null,null,{"$f":"IF(OR('Set UP'!$C12=0,'Set UP'!$D12=0,'Set UP'!$E12=0),\"\",(EK$19*EK26)+(EL$19*EL26)+(EM$19*EM26)+(EN$19*EN26)+(EO$19*EO26)+(EP$19*EP26)+(EQ$19*EQ26)+(ER$19*ER26)+(ES$19*ES26)+(ET$19*ET26)+(EU$19*EU26)+(EV$19*EV26)+(EW$19*EW26)+(EX$19*EX26)+(EY$19*EY26)+(EZ$19*EZ26)+(FA$19*FA26)+(FB$19*FB26)+(FC$19*FC26)+(FD$19*FD26)+(FE$19*FE26)+(FF$19*FF26)+(FG$19*FG26)+(FH$19*FH26)+(FI$19*FI26))","v":0},null,null,null,null,null,null,null,null,null,null,null,null,null,null,null,null,null,null,null,null,null,null,null,null,null,null,{"$f":"IF(OR('Set UP'!$C12=0,'Set UP'!$D12=0,'Set UP'!$E12=0),\"\",(FL$19*FL26)+(FM$19*FM26)+(FN$19*FN26)+(FO$19*FO26)+(FP$19*FP26)+(FQ$19*FQ26)+(FR$19*FR26)+(FS$19*FS26)+(FT$19*FT26)+(FU$19*FU26)+(FV$19*FV26)+(FW$19*FW26)+(FX$19*FX26)+(FY$19*FY26)+(FZ$19*FZ26)+(GA$19*GA26)+(GB$19*GB26)+(GC$19*GC26)+(GD$19*GD26)+(GE$19*GE26)+(GF$19*GF26)+(GG$19*GG26)+(GH$19*GH26)+(GI$19*GI26)+(GJ$19*GJ26))","v":0},null,null,null,null,null,null,null,null,null,null,null,null,null,null,null,null,null,null,null,null,null,null,null,null,null,null,{"$f":"IF(OR('Set UP'!$C12=0,'Set UP'!$D12=0,'Set UP'!$E12=0),\"\",(GM$19*GM26)+(GN$19*GN26)+(GO$19*GO26)+(GP$19*GP26)+(GQ$19*GQ26)+(GR$19*GR26)+(GS$19*GS26)+(GT$19*GT26)+(GU$19*GU26)+(GV$19*GV26)+(GW$19*GW26)+(GX$19*GX26)+(GY$19*GY26)+(GZ$19*GZ26)+(HA$19*HA26)+(HB$19*HB26)+(HC$19*HC26)+(HD$19*HD26)+(HE$19*HE26)+(HF$19*HF26)+(HG$19*HG26)+(HH$19*HH26)+(HI$19*HI26)+(HJ$19*HJ26)+(HK$19*HK26))","v":0},null,null,null,null,null,null,null,null,null,null,null,null,null,null,null,null,null,null,null,null,null,null,null,null,null,null,{"$f":"IF(OR('Set UP'!$C12=0,'Set UP'!$D12=0,'Set UP'!$E12=0),\"\",(HN$19*HN26)+(HO$19*HO26)+(HP$19*HP26)+(HQ$19*HQ26)+(HR$19*HR26)+(HS$19*HS26)+(HT$19*HT26)+(HU$19*HU26)+(HV$19*HV26)+(HW$19*HW26)+(HX$19*HX26)+(HY$19*HY26)+(HZ$19*HZ26)+(IA$19*IA26)+(IB$19*IB26)+(IC$19*IC26)+(ID$19*ID26)+(IE$19*IE26)+(IF$19*IF26)+(IG$19*IG26)+(IH$19*IH26)+(II$19*II26)+(IJ$19*IJ26)+(IK$19*IK26)+(IL$19*IL26))","v":0},null,null,null,null,null,null,null,null,null,null,null,null,null,null,null,null,null,null,null,null,null,null,null,null,null,null,{"$f":"IF(OR('Set UP'!$C12=0,'Set UP'!$D12=0,'Set UP'!$E12=0),\"\",(IO$19*IO26)+(IP$19*IP26)+(IQ$19*IQ26)+(IR$19*IR26)+(IS$19*IS26)+(IT$19*IT26)+(IU$19*IU26)+(IV$19*IV26)+(IW$19*IW26)+(IX$19*IX26)+(IY$19*IY26)+(IZ$19*IZ26)+(JA$19*JA26)+(JB$19*JB26)+(JC$19*JC26)+(JD$19*JD26)+(JE$19*JE26)+(JF$19*JF26)+(JG$19*JG26)+(JH$19*JH26)+(JI$19*JI26)+(JJ$19*JJ26)+(JK$19*JK26)+(JL$19*JL26)+(JM$19*JM26))","v":0},{"$f":"IF(OR('Set UP'!$C12=0,'Set UP'!$D12=0,'Set UP'!$E12=0),\"\",(AF26+BG26+CH26+DI26+EJ26+FK26+GL26+HM26+JO26+IN26))","v":119.5},{"$f":"IF(OR('Set UP'!$C12=0,'Set UP'!$D12=0,'Set UP'!$E12=0),\"\",RANK(JP26,$JP$21:$JP$60,0))","v":18},{"$f":"IF(OR('Set UP'!K12<>1,'Set UP'!C12=0,'Set UP'!D12=0,'Set UP'!E12=0,'Set UP'!F12=0),\"\",$JP26)","v":""},{"$f":"IF(OR('Set UP'!K12<>1,'Set UP'!C12=0,'Set UP'!D12=0,'Set UP'!E12=0,'Set UP'!F12=0),\"\",RANK(JR26,$JR$21:$JR$60,0))","v":""},{"$f":"IF(OR('Set UP'!K12<>2,'Set UP'!C12=0,'Set UP'!D12=0,'Set UP'!E12=0,'Set UP'!F12=0),\"\",$JP26)","v":""},{"$f":"IF(OR('Set UP'!K12<>2,'Set UP'!C12=0,'Set UP'!D12=0,'Set UP'!E12=0,'Set UP'!F12=0),\"\",RANK(JT26,$JT$21:$JT$60,0))","v":""},{"$f":"IF(OR('Set UP'!F12<>\"F\",'Set UP'!C12=0,'Set UP'!D12=0,'Set UP'!E12=0),\"\",$JP26)","v":""},{"$f":"IF(OR('Set UP'!F12<>\"F\",'Set UP'!C12=0,'Set UP'!D12=0,'Set UP'!E12=0),\"\",RANK(JV26,$JV$21:$JV$60,0))","v":""},{"$f":"IF(OR('Set UP'!F12<>\"NS\",'Set UP'!C12=0,'Set UP'!D12=0,'Set UP'!E12=0),\"\",$JP26)","v":119.5},{"$f":"IF(OR('Set UP'!F12<>\"NS\",'Set UP'!C12=0,'Set UP'!D12=0,'Set UP'!E12=0),\"\",RANK(JX26,$JX$21:$JX$60,0))","v":2},{"$f":"IF(OR('Set UP'!$C12=0,'Set UP'!$D12=0,'Set UP'!$E12=0,JP26=0),\"\",JP26/MAX(JP$21:JP$60)*1000)","v":403.71621621621625}]
[null,7,{"$f":"IF(OR('Set UP'!$C13=0,'Set UP'!$D13=0,'Set UP'!$E13=0,'Set UP'!F13=0),\"  --\",'Set UP'!C13)","v":1433},{"$f":"IF(OR('Set UP'!$C13=0,'Set UP'!$D13=0,'Set UP'!$E13=0,'Set UP'!F13=0),\"  --\",'Set UP'!D13&\" \"&'Set UP'!E13)","v":"University of Nottingham B"},{"$f":"IF(OR('Set UP'!$C13=0,'Set UP'!$D13=0,'Set UP'!$E13=0,'Set UP'!F13=0),\"  --\",'Set UP'!F13)","v":"S"},2,3,4,5,null,null,null,null,null,null,null,null,null,null,null,null,null,null,null,null,null,null,null,null,null,null,{"$f":"IF(OR('Set UP'!$C13=0,'Set UP'!$D13=0,'Set UP'!$E13=0),\"\",(F$19*F27)+(G$19*G27)+(H$19*H27)+(I$19*I27)+(J$19*J27)+(K$19*K27)+(L$19*L27)+(M$19*M27)+(N$19*N27)+(O$19*O27)+(P$19*P27)+(Q$19*Q27)+(R$19*R27)+(S$19*S27)+(T$19*T27)+(U$19*U27)+(V$19*V27)+(W$19*W27)+(X$19*X27)+(Y$19*Y27)+(Z$19*Z27)+(AA$19*AA27)+(AB$19*AB27)+(AC$19*AC27)+(AD$19*AD27))","v":27},5,3,0,0,0,null,null,null,null,null,null,null,null,null,null,null,null,null,null,null,null,null,null,null,null,null,{"$f":"IF(OR('Set UP'!$C13=0,'Set UP'!$D13=0,'Set UP'!$E13=0),\"\",(AG$19*AG27)+(AH$19*AH27)+(AI$19*AI27)+(AJ$19*AJ27)+(AK$19*AK27)+(AL$19*AL27)+(AM$19*AM27)+(AN$19*AN27)+(AO$19*AO27)+(AP$19*AP27)+(AQ$19*AQ27)+(AR$19*AR27)+(AS$19*AS27)+(AT$19*AT27)+(AU$19*AU27)+(AV$19*AV27)+(AW$19*AW27)+(AX$19*AX27)+(AY$19*AY27)+(AZ$19*AZ27)+(BA$19*BA27)+(BB$19*BB27)+(BC$19*BC27)+(BD$19*BD27)+(BE$19*BE27))","v":12},3,0,0,0,0,0,6,8,6,6,7,7,null,null,null,null,null,null,null,null,null,null,null,null,null,null,{"$f":"IF(OR('Set UP'!$C13=0,'Set UP'!$D13=0,'Set UP'!$E13=0),\"\",(BH$19*BH27)+(BI$19*BI27)+(BJ$19*BJ27)+(BK$19*BK27)+(BL$19*BL27)+(BM$19*BM27)+(BN$19*BN27)+(BO$19*BO27)+(BP$19*BP27)+(BQ$19*BQ27)+(BR$19*BR27)+(BS$19*BS27)+(BT$19*BT27)+(BU$19*BU27)+(BV$19*BV27)+(BW$19*BW27)+(BX$19*BX27)+(BY$19*BY27)+(BZ$19*BZ27)+(CA$19*CA27)+(CB$19*CB27)+(CC$19*CC27)+(CD$19*CD27)+(CE$19*CE27)+(CF$19*CF27))","v":45.5},4,7,0,6,4,0,7,0,6,null,null,null,null,null,null,null,null,null,null,null,null,null,null,null,null,null,{"$f":"IF(OR('Set UP'!$C13=0,'Set UP'!$D13=0,'Set UP'!$E13=0),\"\",(CI$19*CI27)+(CJ$19*CJ27)+(CK$19*CK27)+(CL$19*CL27)+(CM$19*CM27)+(CN$19*CN27)+(CO$19*CO27)+(CP$19*CP27)+(CQ$19*CQ27)+(CR$19*CR27)+(CS$19*CS27)+(CT$19*CT27)+(CU$19*CU27)+(CV$19*CV27)+(CW$19*CW27)+(CX$19*CX27)+(CY$19*CY27)+(CZ$19*CZ27)+(DA$19*DA27)+(DB$19*DB27)+(DC$19*DC27)+(DD$19*DD27)+(DE$19*DE27)+(DF$19*DF27)+(DG$19*DG27))","v":62.5},4,8,0,2,2,5,5,0,0,0,null,null,null,null,null,null,null,null,null,null,null,null,null,null,null,null,{"$f":"IF(OR('Set UP'!$C13=0,'Set UP'!$D13=0,'Set UP'!$E13=0),\"\",(DJ$19*DJ27)+(DK$19*DK27)+(DL$19*DL27)+(DM$19*DM27)+(DN$19*DN27)+(DO$19*DO27)+(DP$19*DP27)+(DQ$19*DQ27)+(DR$19*DR27)+(DS$19*DS27)+(DT$19*DT27)+(DU$19*DU27)+(DV$19*DV27)+(DW$19*DW27)+(DX$19*DX27)+(DY$19*DY27)+(DZ$19*DZ27)+(EA$19*EA27)+(EB$19*EB27)+(EC$19*EC27)+(ED$19*ED27)+(EE$19*EE27)+(EF$19*EF27)+(EG$19*EG27)+(EH$19*EH27))","v":30},null,null,null,null,null,null,null,null,null,null,null,null,null,null,null,null,null,null,null,null,null,null,null,null,null,null,{"$f":"IF(OR('Set UP'!$C13=0,'Set UP'!$D13=0,'Set UP'!$E13=0),\"\",(EK$19*EK27)+(EL$19*EL27)+(EM$19*EM27)+(EN$19*EN27)+(EO$19*EO27)+(EP$19*EP27)+(EQ$19*EQ27)+(ER$19*ER27)+(ES$19*ES27)+(ET$19*ET27)+(EU$19*EU27)+(EV$19*EV27)+(EW$19*EW27)+(EX$19*EX27)+(EY$19*EY27)+(EZ$19*EZ27)+(FA$19*FA27)+(FB$19*FB27)+(FC$19*FC27)+(FD$19*FD27)+(FE$19*FE27)+(FF$19*FF27)+(FG$19*FG27)+(FH$19*FH27)+(FI$19*FI27))","v":0},null,null,null,null,null,null,null,null,null,null,null,null,null,null,null,null,null,null,null,null,null,null,null,null,null,null,{"$f":"IF(OR('Set UP'!$C13=0,'Set UP'!$D13=0,'Set UP'!$E13=0),\"\",(FL$19*FL27)+(FM$19*FM27)+(FN$19*FN27)+(FO$19*FO27)+(FP$19*FP27)+(FQ$19*FQ27)+(FR$19*FR27)+(FS$19*FS27)+(FT$19*FT27)+(FU$19*FU27)+(FV$19*FV27)+(FW$19*FW27)+(FX$19*FX27)+(FY$19*FY27)+(FZ$19*FZ27)+(GA$19*GA27)+(GB$19*GB27)+(GC$19*GC27)+(GD$19*GD27)+(GE$19*GE27)+(GF$19*GF27)+(GG$19*GG27)+(GH$19*GH27)+(GI$19*GI27)+(GJ$19*GJ27))","v":0},null,null,null,null,null,null,null,null,null,null,null,null,null,null,null,null,null,null,null,null,null,null,null,null,null,null,{"$f":"IF(OR('Set UP'!$C13=0,'Set UP'!$D13=0,'Set UP'!$E13=0),\"\",(GM$19*GM27)+(GN$19*GN27)+(GO$19*GO27)+(GP$19*GP27)+(GQ$19*GQ27)+(GR$19*GR27)+(GS$19*GS27)+(GT$19*GT27)+(GU$19*GU27)+(GV$19*GV27)+(GW$19*GW27)+(GX$19*GX27)+(GY$19*GY27)+(GZ$19*GZ27)+(HA$19*HA27)+(HB$19*HB27)+(HC$19*HC27)+(HD$19*HD27)+(HE$19*HE27)+(HF$19*HF27)+(HG$19*HG27)+(HH$19*HH27)+(HI$19*HI27)+(HJ$19*HJ27)+(HK$19*HK27))","v":0},null,null,null,null,null,null,null,null,null,null,null,null,null,null,null,null,null,null,null,null,null,null,null,null,null,null,{"$f":"IF(OR('Set UP'!$C13=0,'Set UP'!$D13=0,'Set UP'!$E13=0),\"\",(HN$19*HN27)+(HO$19*HO27)+(HP$19*HP27)+(HQ$19*HQ27)+(HR$19*HR27)+(HS$19*HS27)+(HT$19*HT27)+(HU$19*HU27)+(HV$19*HV27)+(HW$19*HW27)+(HX$19*HX27)+(HY$19*HY27)+(HZ$19*HZ27)+(IA$19*IA27)+(IB$19*IB27)+(IC$19*IC27)+(ID$19*ID27)+(IE$19*IE27)+(IF$19*IF27)+(IG$19*IG27)+(IH$19*IH27)+(II$19*II27)+(IJ$19*IJ27)+(IK$19*IK27)+(IL$19*IL27))","v":0},null,null,null,null,null,null,null,null,null,null,null,null,null,null,null,null,null,null,null,null,null,null,null,null,null,null,{"$f":"IF(OR('Set UP'!$C13=0,'Set UP'!$D13=0,'Set UP'!$E13=0),\"\",(IO$19*IO27)+(IP$19*IP27)+(IQ$19*IQ27)+(IR$19*IR27)+(IS$19*IS27)+(IT$19*IT27)+(IU$19*IU27)+(IV$19*IV27)+(IW$19*IW27)+(IX$19*IX27)+(IY$19*IY27)+(IZ$19*IZ27)+(JA$19*JA27)+(JB$19*JB27)+(JC$19*JC27)+(JD$19*JD27)+(JE$19*JE27)+(JF$19*JF27)+(JG$19*JG27)+(JH$19*JH27)+(JI$19*JI27)+(JJ$19*JJ27)+(JK$19*JK27)+(JL$19*JL27)+(JM$19*JM27))","v":0},{"$f":"IF(OR('Set UP'!$C13=0,'Set UP'!$D13=0,'Set UP'!$E13=0),\"\",(AF27+BG27+CH27+DI27+EJ27+FK27+GL27+HM27+JO27+IN27))","v":177},{"$f":"IF(OR('Set UP'!$C13=0,'Set UP'!$D13=0,'Set UP'!$E13=0),\"\",RANK(JP27,$JP$21:$JP$60,0))","v":10},{"$f":"IF(OR('Set UP'!K13<>1,'Set UP'!C13=0,'Set UP'!D13=0,'Set UP'!E13=0,'Set UP'!F13=0),\"\",$JP27)","v":""},{"$f":"IF(OR('Set UP'!K13<>1,'Set UP'!C13=0,'Set UP'!D13=0,'Set UP'!E13=0,'Set UP'!F13=0),\"\",RANK(JR27,$JR$21:$JR$60,0))","v":""},{"$f":"IF(OR('Set UP'!K13<>2,'Set UP'!C13=0,'Set UP'!D13=0,'Set UP'!E13=0,'Set UP'!F13=0),\"\",$JP27)","v":177},{"$f":"IF(OR('Set UP'!K13<>2,'Set UP'!C13=0,'Set UP'!D13=0,'Set UP'!E13=0,'Set UP'!F13=0),\"\",RANK(JT27,$JT$21:$JT$60,0))","v":3},{"$f":"IF(OR('Set UP'!F13<>\"F\",'Set UP'!C13=0,'Set UP'!D13=0,'Set UP'!E13=0),\"\",$JP27)","v":""},{"$f":"IF(OR('Set UP'!F13<>\"F\",'Set UP'!C13=0,'Set UP'!D13=0,'Set UP'!E13=0),\"\",RANK(JV27,$JV$21:$JV$60,0))","v":""},{"$f":"IF(OR('Set UP'!F13<>\"NS\",'Set UP'!C13=0,'Set UP'!D13=0,'Set UP'!E13=0),\"\",$JP27)","v":""},{"$f":"IF(OR('Set UP'!F13<>\"NS\",'Set UP'!C13=0,'Set UP'!D13=0,'Set UP'!E13=0),\"\",RANK(JX27,$JX$21:$JX$60,0))","v":""},{"$f":"IF(OR('Set UP'!$C13=0,'Set UP'!$D13=0,'Set UP'!$E13=0,JP27=0),\"\",JP27/MAX(JP$21:JP$60)*1000)","v":597.97297297297303}]
[null,8,{"$f":"IF(OR('Set UP'!$C14=0,'Set UP'!$D14=0,'Set UP'!$E14=0,'Set UP'!F14=0),\"  --\",'Set UP'!C14)","v":1441},{"$f":"IF(OR('Set UP'!$C14=0,'Set UP'!$D14=0,'Set UP'!$E14=0,'Set UP'!F14=0),\"  --\",'Set UP'!D14&\" \"&'Set UP'!E14)","v":"University of Plymouth C"},{"$f":"IF(OR('Set UP'!$C14=0,'Set UP'!$D14=0,'Set UP'!$E14=0,'Set UP'!F14=0),\"  --\",'Set UP'!F14)","v":"NC"},5,4,8,5,null,null,null,null,null,null,null,null,null,null,null,null,null,null,null,null,null,null,null,null,null,null,{"$f":"IF(OR('Set UP'!$C14=0,'Set UP'!$D14=0,'Set UP'!$E14=0),\"\",(F$19*F28)+(G$19*G28)+(H$19*H28)+(I$19*I28)+(J$19*J28)+(K$19*K28)+(L$19*L28)+(M$19*M28)+(N$19*N28)+(O$19*O28)+(P$19*P28)+(Q$19*Q28)+(R$19*R28)+(S$19*S28)+(T$19*T28)+(U$19*U28)+(V$19*V28)+(W$19*W28)+(X$19*X28)+(Y$19*Y28)+(Z$19*Z28)+(AA$19*AA28)+(AB$19*AB28)+(AC$19*AC28)+(AD$19*AD28))","v":45},4,1,3,0,0,null,null,null,null,null,null,null,null,null,null,null,null,null,null,null,null,null,null,null,null,null,{"$f":"IF(OR('Set UP'!$C14=0,'Set UP'!$D14=0,'Set UP'!$E14=0),\"\",(AG$19*AG28)+(AH$19*AH28)+(AI$19*AI28)+(AJ$19*AJ28)+(AK$19*AK28)+(AL$19*AL28)+(AM$19*AM28)+(AN$19*AN28)+(AO$19*AO28)+(AP$19*AP28)+(AQ$19*AQ28)+(AR$19*AR28)+(AS$19*AS28)+(AT$19*AT28)+(AU$19*AU28)+(AV$19*AV28)+(AW$19*AW28)+(AX$19*AX28)+(AY$19*AY28)+(AZ$19*AZ28)+(BA$19*BA28)+(BB$19*BB28)+(BC$19*BC28)+(BD$19*BD28)+(BE$19*BE28))","v":10.5},0,0,0,0,0,0,2,0,3,1,3,0,null,null,null,null,null,null,null,null,null,null,null,null,null,null,{"$f":"IF(OR('Set UP'!$C14=0,'Set UP'!$D14=0,'Set UP'!$E14=0),\"\",(BH$19*BH28)+(BI$19*BI28)+(BJ$19*BJ28)+(BK$19*BK28)+(BL$19*BL28)+(BM$19*BM28)+(BN$19*BN28)+(BO$19*BO28)+(BP$19*BP28)+(BQ$19*BQ28)+(BR$19*BR28)+(BS$19*BS28)+(BT$19*BT28)+(BU$19*BU28)+(BV$19*BV28)+(BW$19*BW28)+(BX$19*BX28)+(BY$19*BY28)+(BZ$19*BZ28)+(CA$19*CA28)+(CB$19*CB28)+(CC$19*CC28)+(CD$19*CD28)+(CE$19*CE28)+(CF$19*CF28))","v":9.5},5,2,0,1,4,0,3,0,1,null,null,null,null,null,null,null,null,null,null,null,null,null,null,null,null,null,{"$f":"IF(OR('Set UP'!$C14=0,'Set UP'!$D14=0,'Set UP'!$E14=0),\"\",(CI$19*CI28)+(CJ$19*CJ28)+(CK$19*CK28)+(CL$19*CL28)+(CM$19*CM28)+(CN$19*CN28)+(CO$19*CO28)+(CP$19*CP28)+(CQ$19*CQ28)+(CR$19*CR28)+(CS$19*CS28)+(CT$19*CT28)+(CU$19*CU28)+(CV$19*CV28)+(CW$19*CW28)+(CX$19*CX28)+(CY$19*CY28)+(CZ$19*CZ28)+(DA$19*DA28)+(DB$19*DB28)+(DC$19*DC28)+(DD$19*DD28)+(DE$19*DE28)+(DF$19*DF28)+(DG$19*DG28))","v":35},0,0,0,0,0,0,0,0,0,0,null,null,null,null,null,null,null,null,null,null,null,null,null,null,null,null,{"$f":"IF(OR('Set UP'!$C14=0,'Set UP'!$D14=0,'Set UP'!$E14=0),\"\",(DJ$19*DJ28)+(DK$19*DK28)+(DL$19*DL28)+(DM$19*DM28)+(DN$19*DN28)+(DO$19*DO28)+(DP$19*DP28)+(DQ$19*DQ28)+(DR$19*DR28)+(DS$19*DS28)+(DT$19*DT28)+(DU$19*DU28)+(DV$19*DV28)+(DW$19*DW28)+(DX$19*DX28)+(DY$19*DY28)+(DZ$19*DZ28)+(EA$19*EA28)+(EB$19*EB28)+(EC$19*EC28)+(ED$19*ED28)+(EE$19*EE28)+(EF$19*EF28)+(EG$19*EG28)+(EH$19*EH28))","v":0},null,null,null,null,null,null,null,null,null,null,null,null,null,null,null,null,null,null,null,null,null,null,null,null,null,null,{"$f":"IF(OR('Set UP'!$C14=0,'Set UP'!$D14=0,'Set UP'!$E14=0),\"\",(EK$19*EK28)+(EL$19*EL28)+(EM$19*EM28)+(EN$19*EN28)+(EO$19*EO28)+(EP$19*EP28)+(EQ$19*EQ28)+(ER$19*ER28)+(ES$19*ES28)+(ET$19*ET28)+(EU$19*EU28)+(EV$19*EV28)+(EW$19*EW28)+(EX$19*EX28)+(EY$19*EY28)+(EZ$19*EZ28)+(FA$19*FA28)+(FB$19*FB28)+(FC$19*FC28)+(FD$19*FD28)+(FE$19*FE28)+(FF$19*FF28)+(FG$19*FG28)+(FH$19*FH28)+(FI$19*FI28))","v":0},null,null,null,null,null,null,null,null,null,null,null,null,null,null,null,null,null,null,null,null,null,null,null,null,null,null,{"$f":"IF(OR('Set UP'!$C14=0,'Set UP'!$D14=0,'Set UP'!$E14=0),\"\",(FL$19*FL28)+(FM$19*FM28)+(FN$19*FN28)+(FO$19*FO28)+(FP$19*FP28)+(FQ$19*FQ28)+(FR$19*FR28)+(FS$19*FS28)+(FT$19*FT28)+(FU$19*FU28)+(FV$19*FV28)+(FW$19*FW28)+(FX$19*FX28)+(FY$19*FY28)+(FZ$19*FZ28)+(GA$19*GA28)+(GB$19*GB28)+(GC$19*GC28)+(GD$19*GD28)+(GE$19*GE28)+(GF$19*GF28)+(GG$19*GG28)+(GH$19*GH28)+(GI$19*GI28)+(GJ$19*GJ28))","v":0},null,null,null,null,null,null,null,null,null,null,null,null,null,null,null,null,null,null,null,null,null,null,null,null,null,null,{"$f":"IF(OR('Set UP'!$C14=0,'Set UP'!$D14=0,'Set UP'!$E14=0),\"\",(GM$19*GM28)+(GN$19*GN28)+(GO$19*GO28)+(GP$19*GP28)+(GQ$19*GQ28)+(GR$19*GR28)+(GS$19*GS28)+(GT$19*GT28)+(GU$19*GU28)+(GV$19*GV28)+(GW$19*GW28)+(GX$19*GX28)+(GY$19*GY28)+(GZ$19*GZ28)+(HA$19*HA28)+(HB$19*HB28)+(HC$19*HC28)+(HD$19*HD28)+(HE$19*HE28)+(HF$19*HF28)+(HG$19*HG28)+(HH$19*HH28)+(HI$19*HI28)+(HJ$19*HJ28)+(HK$19*HK28))","v":0},null,null,null,null,null,null,null,null,null,null,null,null,null,null,null,null,null,null,null,null,null,null,null,null,null,null,{"$f":"IF(OR('Set UP'!$C14=0,'Set UP'!$D14=0,'Set UP'!$E14=0),\"\",(HN$19*HN28)+(HO$19*HO28)+(HP$19*HP28)+(HQ$19*HQ28)+(HR$19*HR28)+(HS$19*HS28)+(HT$19*HT28)+(HU$19*HU28)+(HV$19*HV28)+(HW$19*HW28)+(HX$19*HX28)+(HY$19*HY28)+(HZ$19*HZ28)+(IA$19*IA28)+(IB$19*IB28)+(IC$19*IC28)+(ID$19*ID28)+(IE$19*IE28)+(IF$19*IF28)+(IG$19*IG28)+(IH$19*IH28)+(II$19*II28)+(IJ$19*IJ28)+(IK$19*IK28)+(IL$19*IL28))","v":0},null,null,null,null,null,null,null,null,null,null,null,null,null,null,null,null,null,null,null,null,null,null,null,null,null,null,{"$f":"IF(OR('Set UP'!$C14=0,'Set UP'!$D14=0,'Set UP'!$E14=0),\"\",(IO$19*IO28)+(IP$19*IP28)+(IQ$19*IQ28)+(IR$19*IR28)+(IS$19*IS28)+(IT$19*IT28)+(IU$19*IU28)+(IV$19*IV28)+(IW$19*IW28)+(IX$19*IX28)+(IY$19*IY28)+(IZ$19*IZ28)+(JA$19*JA28)+(JB$19*JB28)+(JC$19*JC28)+(JD$19*JD28)+(JE$19*JE28)+(JF$19*JF28)+(JG$19*JG28)+(JH$19*JH28)+(JI$19*JI28)+(JJ$19*JJ28)+(JK$19*JK28)+(JL$19*JL28)+(JM$19*JM28))","v":0},{"$f":"IF(OR('Set UP'!$C14=0,'Set UP'!$D14=0,'Set UP'!$E14=0),\"\",(AF28+BG28+CH28+DI28+EJ28+FK28+GL28+HM28+JO28+IN28))","v":100},{"$f":"IF(OR('Set UP'!$C14=0,'Set UP'!$D14=0,'Set UP'!$E14=0),\"\",RANK(JP28,$JP$21:$JP$60,0))","v":24},{"$f":"IF(OR('Set UP'!K14<>1,'Set UP'!C14=0,'Set UP'!D14=0,'Set UP'!E14=0,'Set UP'!F14=0),\"\",$JP28)","v":""},{"$f":"IF(OR('Set UP'!K14<>1,'Set UP'!C14=0,'Set UP'!D14=0,'Set UP'!E14=0,'Set UP'!F14=0),\"\",RANK(JR28,$JR$21:$JR$60,0))","v":""},{"$f":"IF(OR('Set UP'!K14<>2,'Set UP'!C14=0,'Set UP'!D14=0,'Set UP'!E14=0,'Set UP'!F14=0),\"\",$JP28)","v":""},{"$f":"IF(OR('Set UP'!K14<>2,'Set UP'!C14=0,'Set UP'!D14=0,'Set UP'!E14=0,'Set UP'!F14=0),\"\",RANK(JT28,$JT$21:$JT$60,0))","v":""},{"$f":"IF(OR('Set UP'!F14<>\"F\",'Set UP'!C14=0,'Set UP'!D14=0,'Set UP'!E14=0),\"\",$JP28)","v":""},{"$f":"IF(OR('Set UP'!F14<>\"F\",'Set UP'!C14=0,'Set UP'!D14=0,'Set UP'!E14=0),\"\",RANK(JV28,$JV$21:$JV$60,0))","v":""},{"$f":"IF(OR('Set UP'!F14<>\"NS\",'Set UP'!C14=0,'Set UP'!D14=0,'Set UP'!E14=0),\"\",$JP28)","v":""},{"$f":"IF(OR('Set UP'!F14<>\"NS\",'Set UP'!C14=0,'Set UP'!D14=0,'Set UP'!E14=0),\"\",RANK(JX28,$JX$21:$JX$60,0))","v":""},{"$f":"IF(OR('Set UP'!$C14=0,'Set UP'!$D14=0,'Set UP'!$E14=0,JP28=0),\"\",JP28/MAX(JP$21:JP$60)*1000)","v":337.83783783783781}]
[null,9,{"$f":"IF(OR('Set UP'!$C15=0,'Set UP'!$D15=0,'Set UP'!$E15=0,'Set UP'!F15=0),\"  --\",'Set UP'!C15)","v":1440},{"$f":"IF(OR('Set UP'!$C15=0,'Set UP'!$D15=0,'Set UP'!$E15=0,'Set UP'!F15=0),\"  --\",'Set UP'!D15&\" \"&'Set UP'!E15)","v":"University of Plymouth B"},{"$f":"IF(OR('Set UP'!$C15=0,'Set UP'!$D15=0,'Set UP'!$E15=0,'Set UP'!F15=0),\"  --\",'Set UP'!F15)","v":"S"},1,1,3,2,null,null,null,null,null,null,null,null,null,null,null,null,null,null,null,null,null,null,null,null,null,null,{"$f":"IF(OR('Set UP'!$C15=0,'Set UP'!$D15=0,'Set UP'!$E15=0),\"\",(F$19*F29)+(G$19*G29)+(H$19*H29)+(I$19*I29)+(J$19*J29)+(K$19*K29)+(L$19*L29)+(M$19*M29)+(N$19*N29)+(O$19*O29)+(P$19*P29)+(Q$19*Q29)+(R$19*R29)+(S$19*S29)+(T$19*T29)+(U$19*U29)+(V$19*V29)+(W$19*W29)+(X$19*X29)+(Y$19*Y29)+(Z$19*Z29)+(AA$19*AA29)+(AB$19*AB29)+(AC$19*AC29)+(AD$19*AD29))","v":15},3,6,6,0,0,null,null,null,null,null,null,null,null,null,null,null,null,null,null,null,null,null,null,null,null,null,{"$f":"IF(OR('Set UP'!$C15=0,'Set UP'!$D15=0,'Set UP'!$E15=0),\"\",(AG$19*AG29)+(AH$19*AH29)+(AI$19*AI29)+(AJ$19*AJ29)+(AK$19*AK29)+(AL$19*AL29)+(AM$19*AM29)+(AN$19*AN29)+(AO$19*AO29)+(AP$19*AP29)+(AQ$19*AQ29)+(AR$19*AR29)+(AS$19*AS29)+(AT$19*AT29)+(AU$19*AU29)+(AV$19*AV29)+(AW$19*AW29)+(AX$19*AX29)+(AY$19*AY29)+(AZ$19*AZ29)+(BA$19*BA29)+(BB$19*BB29)+(BC$19*BC29)+(BD$19*BD29)+(BE$19*BE29))","v":19.5},8,3,7,2,0,0,0,0,4,1,2,0,null,null,null,null,null,null,null,null,null,null,null,null,null,null,{"$f":"IF(OR('Set UP'!$C15=0,'Set UP'!$D15=0,'Set UP'!$E15=0),\"\",(BH$19*BH29)+(BI$19*BI29)+(BJ$19*BJ29)+(BK$19*BK29)+(BL$19*BL29)+(BM$19*BM29)+(BN$19*BN29)+(BO$19*BO29)+(BP$19*BP29)+(BQ$19*BQ29)+(BR$19*BR29)+(BS$19*BS29)+(BT$19*BT29)+(BU$19*BU29)+(BV$19*BV29)+(BW$19*BW29)+(BX$19*BX29)+(BY$19*BY29)+(BZ$19*BZ29)+(CA$19*CA29)+(CB$19*CB29)+(CC$19*CC29)+(CD$19*CD29)+(CE$19*CE29)+(CF$19*CF29))","v":23.5},7,1,2,3,7,3,3,2,0,null,null,null,null,null,null,null,null,null,null,null,null,null,null,null,null,null,{"$f":"IF(OR('Set UP'!$C15=0,'Set UP'!$D15=0,'Set UP'!$E15=0),\"\",(CI$19*CI29)+(CJ$19*CJ29)+(CK$19*CK29)+(CL$19*CL29)+(CM$19*CM29)+(CN$19*CN29)+(CO$19*CO29)+(CP$19*CP29)+(CQ$19*CQ29)+(CR$19*CR29)+(CS$19*CS29)+(CT$19*CT29)+(CU$19*CU29)+(CV$19*CV29)+(CW$19*CW29)+(CX$19*CX29)+(CY$19*CY29)+(CZ$19*CZ29)+(DA$19*DA29)+(DB$19*DB29)+(DC$19*DC29)+(DD$19*DD29)+(DE$19*DE29)+(DF$19*DF29)+(DG$19*DG29))","v":51.5},3,2,3,3,0,0,0,0,0,0,null,null,null,null,null,null,null,null,null,null,null,null,null,null,null,null,{"$f":"IF(OR('Set UP'!$C15=0,'Set UP'!$D15=0,'Set UP'!$E15=0),\"\",(DJ$19*DJ29)+(DK$19*DK29)+(DL$19*DL29)+(DM$19*DM29)+(DN$19*DN29)+(DO$19*DO29)+(DP$19*DP29)+(DQ$19*DQ29)+(DR$19*DR29)+(DS$19*DS29)+(DT$19*DT29)+(DU$19*DU29)+(DV$19*DV29)+(DW$19*DW29)+(DX$19*DX29)+(DY$19*DY29)+(DZ$19*DZ29)+(EA$19*EA29)+(EB$19*EB29)+(EC$19*EC29)+(ED$19*ED29)+(EE$19*EE29)+(EF$19*EF29)+(EG$19*EG29)+(EH$19*EH29))","v":12},null,null,null,null,null,null,null,null,null,null,null,null,null,null,null,null,null,null,null,null,null,null,null,null,null,null,{"$f":"IF(OR('Set UP'!$C15=0,'Set UP'!$D15=0,'Set UP'!$E15=0),\"\",(EK$19*EK29)+(EL$19*EL29)+(EM$19*EM29)+(EN$19*EN29)+(EO$19*EO29)+(EP$19*EP29)+(EQ$19*EQ29)+(ER$19*ER29)+(ES$19*ES29)+(ET$19*ET29)+(EU$19*EU29)+(EV$19*EV29)+(EW$19*EW29)+(EX$19*EX29)+(EY$19*EY29)+(EZ$19*EZ29)+(FA$19*FA29)+(FB$19*FB29)+(FC$19*FC29)+(FD$19*FD29)+(FE$19*FE29)+(FF$19*FF29)+(FG$19*FG29)+(FH$19*FH29)+(FI$19*FI29))","v":0},null,null,null,null,null,null,null,null,null,null,null,null,null,null,null,null,null,null,null,null,null,null,null,null,null,null,{"$f":"IF(OR('Set UP'!$C15=0,'Set UP'!$D15=0,'Set UP'!$E15=0),\"\",(FL$19*FL29)+(FM$19*FM29)+(FN$19*FN29)+(FO$19*FO29)+(FP$19*FP29)+(FQ$19*FQ29)+(FR$19*FR29)+(FS$19*FS29)+(FT$19*FT29)+(FU$19*FU29)+(FV$19*FV29)+(FW$19*FW29)+(FX$19*FX29)+(FY$19*FY29)+(FZ$19*FZ29)+(GA$19*GA29)+(GB$19*GB29)+(GC$19*GC29)+(GD$19*GD29)+(GE$19*GE29)+(GF$19*GF29)+(GG$19*GG29)+(GH$19*GH29)+(GI$19*GI29)+(GJ$19*GJ29))","v":0},null,null,null,null,null,null,null,null,null,null,null,null,null,null,null,null,null,null,null,null,null,null,null,null,null,null,{"$f":"IF(OR('Set UP'!$C15=0,'Set UP'!$D15=0,'Set UP'!$E15=0),\"\",(GM$19*GM29)+(GN$19*GN29)+(GO$19*GO29)+(GP$19*GP29)+(GQ$19*GQ29)+(GR$19*GR29)+(GS$19*GS29)+(GT$19*GT29)+(GU$19*GU29)+(GV$19*GV29)+(GW$19*GW29)+(GX$19*GX29)+(GY$19*GY29)+(GZ$19*GZ29)+(HA$19*HA29)+(HB$19*HB29)+(HC$19*HC29)+(HD$19*HD29)+(HE$19*HE29)+(HF$19*HF29)+(HG$19*HG29)+(HH$19*HH29)+(HI$19*HI29)+(HJ$19*HJ29)+(HK$19*HK29))","v":0},null,null,null,null,null,null,null,null,null,null,null,null,null,null,null,null,null,null,null,null,null,null,null,null,null,null,{"$f":"IF(OR('Set UP'!$C15=0,'Set UP'!$D15=0,'Set UP'!$E15=0),\"\",(HN$19*HN29)+(HO$19*HO29)+(HP$19*HP29)+(HQ$19*HQ29)+(HR$19*HR29)+(HS$19*HS29)+(HT$19*HT29)+(HU$19*HU29)+(HV$19*HV29)+(HW$19*HW29)+(HX$19*HX29)+(HY$19*HY29)+(HZ$19*HZ29)+(IA$19*IA29)+(IB$19*IB29)+(IC$19*IC29)+(ID$19*ID29)+(IE$19*IE29)+(IF$19*IF29)+(IG$19*IG29)+(IH$19*IH29)+(II$19*II29)+(IJ$19*IJ29)+(IK$19*IK29)+(IL$19*IL29))","v":0},null,null,null,null,null,null,null,null,null,null,null,null,null,null,null,null,null,null,null,null,null,null,null,null,null,null,{"$f":"IF(OR('Set UP'!$C15=0,'Set UP'!$D15=0,'Set UP'!$E15=0),\"\",(IO$19*IO29)+(IP$19*IP29)+(IQ$19*IQ29)+(IR$19*IR29)+(IS$19*IS29)+(IT$19*IT29)+(IU$19*IU29)+(IV$19*IV29)+(IW$19*IW29)+(IX$19*IX29)+(IY$19*IY29)+(IZ$19*IZ29)+(JA$19*JA29)+(JB$19*JB29)+(JC$19*JC29)+(JD$19*JD29)+(JE$19*JE29)+(JF$19*JF29)+(JG$19*JG29)+(JH$19*JH29)+(JI$19*JI29)+(JJ$19*JJ29)+(JK$19*JK29)+(JL$19*JL29)+(JM$19*JM29))","v":0},{"$f":"IF(OR('Set UP'!$C15=0,'Set UP'!$D15=0,'Set UP'!$E15=0),\"\",(AF29+BG29+CH29+DI29+EJ29+FK29+GL29+HM29+JO29+IN29))","v":121.5},{"$f":"IF(OR('Set UP'!$C15=0,'Set UP'!$D15=0,'Set UP'!$E15=0),\"\",RANK(JP29,$JP$21:$JP$60,0))","v":17},{"$f":"IF(OR('Set UP'!K15<>1,'Set UP'!C15=0,'Set UP'!D15=0,'Set UP'!E15=0,'Set UP'!F15=0),\"\",$JP29)","v":""},{"$f":"IF(OR('Set UP'!K15<>1,'Set UP'!C15=0,'Set UP'!D15=0,'Set UP'!E15=0,'Set UP'!F15=0),\"\",RANK(JR29,$JR$21:$JR$60,0))","v":""},{"$f":"IF(OR('Set UP'!K15<>2,'Set UP'!C15=0,'Set UP'!D15=0,'Set UP'!E15=0,'Set UP'!F15=0),\"\",$JP29)","v":121.5},{"$f":"IF(OR('Set UP'!K15<>2,'Set UP'!C15=0,'Set UP'!D15=0,'Set UP'!E15=0,'Set UP'!F15=0),\"\",RANK(JT29,$JT$21:$JT$60,0))","v":8},{"$f":"IF(OR('Set UP'!F15<>\"F\",'Set UP'!C15=0,'Set UP'!D15=0,'Set UP'!E15=0),\"\",$JP29)","v":""},{"$f":"IF(OR('Set UP'!F15<>\"F\",'Set UP'!C15=0,'Set UP'!D15=0,'Set UP'!E15=0),\"\",RANK(JV29,$JV$21:$JV$60,0))","v":""},{"$f":"IF(OR('Set UP'!F15<>\"NS\",'Set UP'!C15=0,'Set UP'!D15=0,'Set UP'!E15=0),\"\",$JP29)","v":""},{"$f":"IF(OR('Set UP'!F15<>\"NS\",'Set UP'!C15=0,'Set UP'!D15=0,'Set UP'!E15=0),\"\",RANK(JX29,$JX$21:$JX$60,0))","v":""},{"$f":"IF(OR('Set UP'!$C15=0,'Set UP'!$D15=0,'Set UP'!$E15=0,JP29=0),\"\",JP29/MAX(JP$21:JP$60)*1000)","v":410.47297297297297}]
[null,10,{"$f":"IF(OR('Set UP'!$C16=0,'Set UP'!$D16=0,'Set UP'!$E16=0,'Set UP'!F16=0),\"  --\",'Set UP'!C16)","v":1431},{"$f":"IF(OR('Set UP'!$C16=0,'Set UP'!$D16=0,'Set UP'!$E16=0,'Set UP'!F16=0),\"  --\",'Set UP'!D16&\" \"&'Set UP'!E16)","v":"University of Nottingham C"},{"$f":"IF(OR('Set UP'!$C16=0,'Set UP'!$D16=0,'Set UP'!$E16=0,'Set UP'!F16=0),\"  --\",'Set UP'!F16)","v":"S"},7,7,8,6,null,null,null,null,null,null,null,null,null,null,null,null,null,null,null,null,null,null,null,null,null,null,{"$f":"IF(OR('Set UP'!$C16=0,'Set UP'!$D16=0,'Set UP'!$E16=0),\"\",(F$19*F30)+(G$19*G30)+(H$19*H30)+(I$19*I30)+(J$19*J30)+(K$19*K30)+(L$19*L30)+(M$19*M30)+(N$19*N30)+(O$19*O30)+(P$19*P30)+(Q$19*Q30)+(R$19*R30)+(S$19*S30)+(T$19*T30)+(U$19*U30)+(V$19*V30)+(W$19*W30)+(X$19*X30)+(Y$19*Y30)+(Z$19*Z30)+(AA$19*AA30)+(AB$19*AB30)+(AC$19*AC30)+(AD$19*AD30))","v":54},7,7,7,0,0,null,null,null,null,null,null,null,null,null,null,null,null,null,null,null,null,null,null,null,null,null,{"$f":"IF(OR('Set UP'!$C16=0,'Set UP'!$D16=0,'Set UP'!$E16=0),\"\",(AG$19*AG30)+(AH$19*AH30)+(AI$19*AI30)+(AJ$19*AJ30)+(AK$19*AK30)+(AL$19*AL30)+(AM$19*AM30)+(AN$19*AN30)+(AO$19*AO30)+(AP$19*AP30)+(AQ$19*AQ30)+(AR$19*AR30)+(AS$19*AS30)+(AT$19*AT30)+(AU$19*AU30)+(AV$19*AV30)+(AW$19*AW30)+(AX$19*AX30)+(AY$19*AY30)+(AZ$19*AZ30)+(BA$19*BA30)+(BB$19*BB30)+(BC$19*BC30)+(BD$19*BD30)+(BE$19*BE30))","v":28},3,0,0,0,0,0,0,0,2,1,3,2,null,null,null,null,null,null,null,null,null,null,null,null,null,null,{"$f":"IF(OR('Set UP'!$C16=0,'Set UP'!$D16=0,'Set UP'!$E16=0),\"\",(BH$19*BH30)+(BI$19*BI30)+(BJ$19*BJ30)+(BK$19*BK30)+(BL$19*BL30)+(BM$19*BM30)+(BN$19*BN30)+(BO$19*BO30)+(BP$19*BP30)+(BQ$19*BQ30)+(BR$19*BR30)+(BS$19*BS30)+(BT$19*BT30)+(BU$19*BU30)+(BV$19*BV30)+(BW$19*BW30)+(BX$19*BX30)+(BY$19*BY30)+(BZ$19*BZ30)+(CA$19*CA30)+(CB$19*CB30)+(CC$19*CC30)+(CD$19*CD30)+(CE$19*CE30)+(CF$19*CF30))","v":9},2,0,0,1,2,0,0,0,1,null,null,null,null,null,null,null,null,null,null,null,null,null,null,null,null,null,{"$f":"IF(OR('Set UP'!$C16=0,'Set UP'!$D16=0,'Set UP'!$E16=0),\"\",(CI$19*CI30)+(CJ$19*CJ30)+(CK$19*CK30)+(CL$19*CL30)+(CM$19*CM30)+(CN$19*CN30)+(CO$19*CO30)+(CP$19*CP30)+(CQ$19*CQ30)+(CR$19*CR30)+(CS$19*CS30)+(CT$19*CT30)+(CU$19*CU30)+(CV$19*CV30)+(CW$19*CW30)+(CX$19*CX30)+(CY$19*CY30)+(CZ$19*CZ30)+(DA$19*DA30)+(DB$19*DB30)+(DC$19*DC30)+(DD$19*DD30)+(DE$19*DE30)+(DF$19*DF30)+(DG$19*DG30))","v":10},3,5,2,3,0,0,0,0,0,0,null,null,null,null,null,null,null,null,null,null,null,null,null,null,null,null,{"$f":"IF(OR('Set UP'!$C16=0,'Set UP'!$D16=0,'Set UP'!$E16=0),\"\",(DJ$19*DJ30)+(DK$19*DK30)+(DL$19*DL30)+(DM$19*DM30)+(DN$19*DN30)+(DO$19*DO30)+(DP$19*DP30)+(DQ$19*DQ30)+(DR$19*DR30)+(DS$19*DS30)+(DT$19*DT30)+(DU$19*DU30)+(DV$19*DV30)+(DW$19*DW30)+(DX$19*DX30)+(DY$19*DY30)+(DZ$19*DZ30)+(EA$19*EA30)+(EB$19*EB30)+(EC$19*EC30)+(ED$19*ED30)+(EE$19*EE30)+(EF$19*EF30)+(EG$19*EG30)+(EH$19*EH30))","v":15},null,null,null,null,null,null,null,null,null,null,null,null,null,null,null,null,null,null,null,null,null,null,null,null,null,null,{"$f":"IF(OR('Set UP'!$C16=0,'Set UP'!$D16=0,'Set UP'!$E16=0),\"\",(EK$19*EK30)+(EL$19*EL30)+(EM$19*EM30)+(EN$19*EN30)+(EO$19*EO30)+(EP$19*EP30)+(EQ$19*EQ30)+(ER$19*ER30)+(ES$19*ES30)+(ET$19*ET30)+(EU$19*EU30)+(EV$19*EV30)+(EW$19*EW30)+(EX$19*EX30)+(EY$19*EY30)+(EZ$19*EZ30)+(FA$19*FA30)+(FB$19*FB30)+(FC$19*FC30)+(FD$19*FD30)+(FE$19*FE30)+(FF$19*FF30)+(FG$19*FG30)+(FH$19*FH30)+(FI$19*FI30))","v":0},null,null,null,null,null,null,null,null,null,null,null,null,null,null,null,null,null,null,null,null,null,null,null,null,null,null,{"$f":"IF(OR('Set UP'!$C16=0,'Set UP'!$D16=0,'Set UP'!$E16=0),\"\",(FL$19*FL30)+(FM$19*FM30)+(FN$19*FN30)+(FO$19*FO30)+(FP$19*FP30)+(FQ$19*FQ30)+(FR$19*FR30)+(FS$19*FS30)+(FT$19*FT30)+(FU$19*FU30)+(FV$19*FV30)+(FW$19*FW30)+(FX$19*FX30)+(FY$19*FY30)+(FZ$19*FZ30)+(GA$19*GA30)+(GB$19*GB30)+(GC$19*GC30)+(GD$19*GD30)+(GE$19*GE30)+(GF$19*GF30)+(GG$19*GG30)+(GH$19*GH30)+(GI$19*GI30)+(GJ$19*GJ30))","v":0},null,null,null,null,null,null,null,null,null,null,null,null,null,null,null,null,null,null,null,null,null,null,null,null,null,null,{"$f":"IF(OR('Set UP'!$C16=0,'Set UP'!$D16=0,'Set UP'!$E16=0),\"\",(GM$19*GM30)+(GN$19*GN30)+(GO$19*GO30)+(GP$19*GP30)+(GQ$19*GQ30)+(GR$19*GR30)+(GS$19*GS30)+(GT$19*GT30)+(GU$19*GU30)+(GV$19*GV30)+(GW$19*GW30)+(GX$19*GX30)+(GY$19*GY30)+(GZ$19*GZ30)+(HA$19*HA30)+(HB$19*HB30)+(HC$19*HC30)+(HD$19*HD30)+(HE$19*HE30)+(HF$19*HF30)+(HG$19*HG30)+(HH$19*HH30)+(HI$19*HI30)+(HJ$19*HJ30)+(HK$19*HK30))","v":0},null,null,null,null,null,null,null,null,null,null,null,null,null,null,null,null,null,null,null,null,null,null,null,null,null,null,{"$f":"IF(OR('Set UP'!$C16=0,'Set UP'!$D16=0,'Set UP'!$E16=0),\"\",(HN$19*HN30)+(HO$19*HO30)+(HP$19*HP30)+(HQ$19*HQ30)+(HR$19*HR30)+(HS$19*HS30)+(HT$19*HT30)+(HU$19*HU30)+(HV$19*HV30)+(HW$19*HW30)+(HX$19*HX30)+(HY$19*HY30)+(HZ$19*HZ30)+(IA$19*IA30)+(IB$19*IB30)+(IC$19*IC30)+(ID$19*ID30)+(IE$19*IE30)+(IF$19*IF30)+(IG$19*IG30)+(IH$19*IH30)+(II$19*II30)+(IJ$19*IJ30)+(IK$19*IK30)+(IL$19*IL30))","v":0},null,null,null,null,null,null,null,null,null,null,null,null,null,null,null,null,null,null,null,null,null,null,null,null,null,null,{"$f":"IF(OR('Set UP'!$C16=0,'Set UP'!$D16=0,'Set UP'!$E16=0),\"\",(IO$19*IO30)+(IP$19*IP30)+(IQ$19*IQ30)+(IR$19*IR30)+(IS$19*IS30)+(IT$19*IT30)+(IU$19*IU30)+(IV$19*IV30)+(IW$19*IW30)+(IX$19*IX30)+(IY$19*IY30)+(IZ$19*IZ30)+(JA$19*JA30)+(JB$19*JB30)+(JC$19*JC30)+(JD$19*JD30)+(JE$19*JE30)+(JF$19*JF30)+(JG$19*JG30)+(JH$19*JH30)+(JI$19*JI30)+(JJ$19*JJ30)+(JK$19*JK30)+(JL$19*JL30)+(JM$19*JM30))","v":0},{"$f":"IF(OR('Set UP'!$C16=0,'Set UP'!$D16=0,'Set UP'!$E16=0),\"\",(AF30+BG30+CH30+DI30+EJ30+FK30+GL30+HM30+JO30+IN30))","v":116},{"$f":"IF(OR('Set UP'!$C16=0,'Set UP'!$D16=0,'Set UP'!$E16=0),\"\",RANK(JP30,$JP$21:$JP$60,0))","v":20},{"$f":"IF(OR('Set UP'!K16<>1,'Set UP'!C16=0,'Set UP'!D16=0,'Set UP'!E16=0,'Set UP'!F16=0),\"\",$JP30)","v":""},{"$f":"IF(OR('Set UP'!K16<>1,'Set UP'!C16=0,'Set UP'!D16=0,'Set UP'!E16=0,'Set UP'!F16=0),\"\",RANK(JR30,$JR$21:$JR$60,0))","v":""},{"$f":"IF(OR('Set UP'!K16<>2,'Set UP'!C16=0,'Set UP'!D16=0,'Set UP'!E16=0,'Set UP'!F16=0),\"\",$JP30)","v":116},{"$f":"IF(OR('Set UP'!K16<>2,'Set UP'!C16=0,'Set UP'!D16=0,'Set UP'!E16=0,'Set UP'!F16=0),\"\",RANK(JT30,$JT$21:$JT$60,0))","v":9},{"$f":"IF(OR('Set UP'!F16<>\"F\",'Set UP'!C16=0,'Set UP'!D16=0,'Set UP'!E16=0),\"\",$JP30)","v":""},{"$f":"IF(OR('Set UP'!F16<>\"F\",'Set UP'!C16=0,'Set UP'!D16=0,'Set UP'!E16=0),\"\",RANK(JV30,$JV$21:$JV$60,0))","v":""},{"$f":"IF(OR('Set UP'!F16<>\"NS\",'Set UP'!C16=0,'Set UP'!D16=0,'Set UP'!E16=0),\"\",$JP30)","v":""},{"$f":"IF(OR('Set UP'!F16<>\"NS\",'Set UP'!C16=0,'Set UP'!D16=0,'Set UP'!E16=0),\"\",RANK(JX30,$JX$21:$JX$60,0))","v":""},{"$f":"IF(OR('Set UP'!$C16=0,'Set UP'!$D16=0,'Set UP'!$E16=0,JP30=0),\"\",JP30/MAX(JP$21:JP$60)*1000)","v":391.89189189189187}]
[null,11,{"$f":"IF(OR('Set UP'!$C17=0,'Set UP'!$D17=0,'Set UP'!$E17=0,'Set UP'!F17=0),\"  --\",'Set UP'!C17)","v":1445},{"$f":"IF(OR('Set UP'!$C17=0,'Set UP'!$D17=0,'Set UP'!$E17=0,'Set UP'!F17=0),\"  --\",'Set UP'!D17&\" \"&'Set UP'!E17)","v":"University of Birmingham D"},{"$f":"IF(OR('Set UP'!$C17=0,'Set UP'!$D17=0,'Set UP'!$E17=0,'Set UP'!F17=0),\"  --\",'Set UP'!F17)","v":"NC"},8,8,8,5,null,null,null,null,null,null,null,null,null,null,null,null,null,null,null,null,null,null,null,null,null,null,{"$f":"IF(OR('Set UP'!$C17=0,'Set UP'!$D17=0,'Set UP'!$E17=0),\"\",(F$19*F31)+(G$19*G31)+(H$19*H31)+(I$19*I31)+(J$19*J31)+(K$19*K31)+(L$19*L31)+(M$19*M31)+(N$19*N31)+(O$19*O31)+(P$19*P31)+(Q$19*Q31)+(R$19*R31)+(S$19*S31)+(T$19*T31)+(U$19*U31)+(V$19*V31)+(W$19*W31)+(X$19*X31)+(Y$19*Y31)+(Z$19*Z31)+(AA$19*AA31)+(AB$19*AB31)+(AC$19*AC31)+(AD$19*AD31))","v":55.5},4,4,0,0,0,null,null,null,null,null,null,null,null,null,null,null,null,null,null,null,null,null,null,null,null,null,{"$f":"IF(OR('Set UP'!$C17=0,'Set UP'!$D17=0,'Set UP'!$E17=0),\"\",(AG$19*AG31)+(AH$19*AH31)+(AI$19*AI31)+(AJ$19*AJ31)+(AK$19*AK31)+(AL$19*AL31)+(AM$19*AM31)+(AN$19*AN31)+(AO$19*AO31)+(AP$19*AP31)+(AQ$19*AQ31)+(AR$19*AR31)+(AS$19*AS31)+(AT$19*AT31)+(AU$19*AU31)+(AV$19*AV31)+(AW$19*AW31)+(AX$19*AX31)+(AY$19*AY31)+(AZ$19*AZ31)+(BA$19*BA31)+(BB$19*BB31)+(BC$19*BC31)+(BD$19*BD31)+(BE$19*BE31))","v":12},8,1,0,0,0,0,4,5,5,2,8,3,null,null,null,null,null,null,null,null,null,null,null,null,null,null,{"$f":"IF(OR('Set UP'!$C17=0,'Set UP'!$D17=0,'Set UP'!$E17=0),\"\",(BH$19*BH31)+(BI$19*BI31)+(BJ$19*BJ31)+(BK$19*BK31)+(BL$19*BL31)+(BM$19*BM31)+(BN$19*BN31)+(BO$19*BO31)+(BP$19*BP31)+(BQ$19*BQ31)+(BR$19*BR31)+(BS$19*BS31)+(BT$19*BT31)+(BU$19*BU31)+(BV$19*BV31)+(BW$19*BW31)+(BX$19*BX31)+(BY$19*BY31)+(BZ$19*BZ31)+(CA$19*CA31)+(CB$19*CB31)+(CC$19*CC31)+(CD$19*CD31)+(CE$19*CE31)+(CF$19*CF31))","v":35.5},6,7,0,3,6,0,7,0,3,null,null,null,null,null,null,null,null,null,null,null,null,null,null,null,null,null,{"$f":"IF(OR('Set UP'!$C17=0,'Set UP'!$D17=0,'Set UP'!$E17=0),\"\",(CI$19*CI31)+(CJ$19*CJ31)+(CK$19*CK31)+(CL$19*CL31)+(CM$19*CM31)+(CN$19*CN31)+(CO$19*CO31)+(CP$19*CP31)+(CQ$19*CQ31)+(CR$19*CR31)+(CS$19*CS31)+(CT$19*CT31)+(CU$19*CU31)+(CV$19*CV31)+(CW$19*CW31)+(CX$19*CX31)+(CY$19*CY31)+(CZ$19*CZ31)+(DA$19*DA31)+(DB$19*DB31)+(DC$19*DC31)+(DD$19*DD31)+(DE$19*DE31)+(DF$19*DF31)+(DG$19*DG31))","v":68.5},1,0,1,2,0,0,0,0,0,0,null,null,null,null,null,null,null,null,null,null,null,null,null,null,null,null,{"$f":"IF(OR('Set UP'!$C17=0,'Set UP'!$D17=0,'Set UP'!$E17=0),\"\",(DJ$19*DJ31)+(DK$19*DK31)+(DL$19*DL31)+(DM$19*DM31)+(DN$19*DN31)+(DO$19*DO31)+(DP$19*DP31)+(DQ$19*DQ31)+(DR$19*DR31)+(DS$19*DS31)+(DT$19*DT31)+(DU$19*DU31)+(DV$19*DV31)+(DW$19*DW31)+(DX$19*DX31)+(DY$19*DY31)+(DZ$19*DZ31)+(EA$19*EA31)+(EB$19*EB31)+(EC$19*EC31)+(ED$19*ED31)+(EE$19*EE31)+(EF$19*EF31)+(EG$19*EG31)+(EH$19*EH31))","v":3.5},null,null,null,null,null,null,null,null,null,null,null,null,null,null,null,null,null,null,null,null,null,null,null,null,null,null,{"$f":"IF(OR('Set UP'!$C17=0,'Set UP'!$D17=0,'Set UP'!$E17=0),\"\",(EK$19*EK31)+(EL$19*EL31)+(EM$19*EM31)+(EN$19*EN31)+(EO$19*EO31)+(EP$19*EP31)+(EQ$19*EQ31)+(ER$19*ER31)+(ES$19*ES31)+(ET$19*ET31)+(EU$19*EU31)+(EV$19*EV31)+(EW$19*EW31)+(EX$19*EX31)+(EY$19*EY31)+(EZ$19*EZ31)+(FA$19*FA31)+(FB$19*FB31)+(FC$19*FC31)+(FD$19*FD31)+(FE$19*FE31)+(FF$19*FF31)+(FG$19*FG31)+(FH$19*FH31)+(FI$19*FI31))","v":0},null,null,null,null,null,null,null,null,null,null,null,null,null,null,null,null,null,null,null,null,null,null,null,null,null,null,{"$f":"IF(OR('Set UP'!$C17=0,'Set UP'!$D17=0,'Set UP'!$E17=0),\"\",(FL$19*FL31)+(FM$19*FM31)+(FN$19*FN31)+(FO$19*FO31)+(FP$19*FP31)+(FQ$19*FQ31)+(FR$19*FR31)+(FS$19*FS31)+(FT$19*FT31)+(FU$19*FU31)+(FV$19*FV31)+(FW$19*FW31)+(FX$19*FX31)+(FY$19*FY31)+(FZ$19*FZ31)+(GA$19*GA31)+(GB$19*GB31)+(GC$19*GC31)+(GD$19*GD31)+(GE$19*GE31)+(GF$19*GF31)+(GG$19*GG31)+(GH$19*GH31)+(GI$19*GI31)+(GJ$19*GJ31))","v":0},null,null,null,null,null,null,null,null,null,null,null,null,null,null,null,null,null,null,null,null,null,null,null,null,null,null,{"$f":"IF(OR('Set UP'!$C17=0,'Set UP'!$D17=0,'Set UP'!$E17=0),\"\",(GM$19*GM31)+(GN$19*GN31)+(GO$19*GO31)+(GP$19*GP31)+(GQ$19*GQ31)+(GR$19*GR31)+(GS$19*GS31)+(GT$19*GT31)+(GU$19*GU31)+(GV$19*GV31)+(GW$19*GW31)+(GX$19*GX31)+(GY$19*GY31)+(GZ$19*GZ31)+(HA$19*HA31)+(HB$19*HB31)+(HC$19*HC31)+(HD$19*HD31)+(HE$19*HE31)+(HF$19*HF31)+(HG$19*HG31)+(HH$19*HH31)+(HI$19*HI31)+(HJ$19*HJ31)+(HK$19*HK31))","v":0},null,null,null,null,null,null,null,null,null,null,null,null,null,null,null,null,null,null,null,null,null,null,null,null,null,null,{"$f":"IF(OR('Set UP'!$C17=0,'Set UP'!$D17=0,'Set UP'!$E17=0),\"\",(HN$19*HN31)+(HO$19*HO31)+(HP$19*HP31)+(HQ$19*HQ31)+(HR$19*HR31)+(HS$19*HS31)+(HT$19*HT31)+(HU$19*HU31)+(HV$19*HV31)+(HW$19*HW31)+(HX$19*HX31)+(HY$19*HY31)+(HZ$19*HZ31)+(IA$19*IA31)+(IB$19*IB31)+(IC$19*IC31)+(ID$19*ID31)+(IE$19*IE31)+(IF$19*IF31)+(IG$19*IG31)+(IH$19*IH31)+(II$19*II31)+(IJ$19*IJ31)+(IK$19*IK31)+(IL$19*IL31))","v":0},null,null,null,null,null,null,null,null,null,null,null,null,null,null,null,null,null,null,null,null,null,null,null,null,null,null,{"$f":"IF(OR('Set UP'!$C17=0,'Set UP'!$D17=0,'Set UP'!$E17=0),\"\",(IO$19*IO31)+(IP$19*IP31)+(IQ$19*IQ31)+(IR$19*IR31)+(IS$19*IS31)+(IT$19*IT31)+(IU$19*IU31)+(IV$19*IV31)+(IW$19*IW31)+(IX$19*IX31)+(IY$19*IY31)+(IZ$19*IZ31)+(JA$19*JA31)+(JB$19*JB31)+(JC$19*JC31)+(JD$19*JD31)+(JE$19*JE31)+(JF$19*JF31)+(JG$19*JG31)+(JH$19*JH31)+(JI$19*JI31)+(JJ$19*JJ31)+(JK$19*JK31)+(JL$19*JL31)+(JM$19*JM31))","v":0},{"$f":"IF(OR('Set UP'!$C17=0,'Set UP'!$D17=0,'Set UP'!$E17=0),\"\",(AF31+BG31+CH31+DI31+EJ31+FK31+GL31+HM31+JO31+IN31))","v":175},{"$f":"IF(OR('Set UP'!$C17=0,'Set UP'!$D17=0,'Set UP'!$E17=0),\"\",RANK(JP31,$JP$21:$JP$60,0))","v":11},{"$f":"IF(OR('Set UP'!K17<>1,'Set UP'!C17=0,'Set UP'!D17=0,'Set UP'!E17=0,'Set UP'!F17=0),\"\",$JP31)","v":""},{"$f":"IF(OR('Set UP'!K17<>1,'Set UP'!C17=0,'Set UP'!D17=0,'Set UP'!E17=0,'Set UP'!F17=0),\"\",RANK(JR31,$JR$21:$JR$60,0))","v":""},{"$f":"IF(OR('Set UP'!K17<>2,'Set UP'!C17=0,'Set UP'!D17=0,'Set UP'!E17=0,'Set UP'!F17=0),\"\",$JP31)","v":""},{"$f":"IF(OR('Set UP'!K17<>2,'Set UP'!C17=0,'Set UP'!D17=0,'Set UP'!E17=0,'Set UP'!F17=0),\"\",RANK(JT31,$JT$21:$JT$60,0))","v":""},{"$f":"IF(OR('Set UP'!F17<>\"F\",'Set UP'!C17=0,'Set UP'!D17=0,'Set UP'!E17=0),\"\",$JP31)","v":""},{"$f":"IF(OR('Set UP'!F17<>\"F\",'Set UP'!C17=0,'Set UP'!D17=0,'Set UP'!E17=0),\"\",RANK(JV31,$JV$21:$JV$60,0))","v":""},{"$f":"IF(OR('Set UP'!F17<>\"NS\",'Set UP'!C17=0,'Set UP'!D17=0,'Set UP'!E17=0),\"\",$JP31)","v":""},{"$f":"IF(OR('Set UP'!F17<>\"NS\",'Set UP'!C17=0,'Set UP'!D17=0,'Set UP'!E17=0),\"\",RANK(JX31,$JX$21:$JX$60,0))","v":""},{"$f":"IF(OR('Set UP'!$C17=0,'Set UP'!$D17=0,'Set UP'!$E17=0,JP31=0),\"\",JP31/MAX(JP$21:JP$60)*1000)","v":591.21621621621625}]
[null,12,{"$f":"IF(OR('Set UP'!$C18=0,'Set UP'!$D18=0,'Set UP'!$E18=0,'Set UP'!F18=0),\"  --\",'Set UP'!C18)","v":"  --"},{"$f":"IF(OR('Set UP'!$C18=0,'Set UP'!$D18=0,'Set UP'!$E18=0,'Set UP'!F18=0),\"  --\",'Set UP'!D18&\" \"&'Set UP'!E18)","v":"  --"},{"$f":"IF(OR('Set UP'!$C18=0,'Set UP'!$D18=0,'Set UP'!$E18=0,'Set UP'!F18=0),\"  --\",'Set UP'!F18)","v":"  --"},null,null,null,null,null,null,null,null,null,null,null,null,null,null,null,null,null,null,null,null,null,null,null,null,null,null,{"$f":"IF(OR('Set UP'!$C18=0,'Set UP'!$D18=0,'Set UP'!$E18=0),\"\",(F$19*F32)+(G$19*G32)+(H$19*H32)+(I$19*I32)+(J$19*J32)+(K$19*K32)+(L$19*L32)+(M$19*M32)+(N$19*N32)+(O$19*O32)+(P$19*P32)+(Q$19*Q32)+(R$19*R32)+(S$19*S32)+(T$19*T32)+(U$19*U32)+(V$19*V32)+(W$19*W32)+(X$19*X32)+(Y$19*Y32)+(Z$19*Z32)+(AA$19*AA32)+(AB$19*AB32)+(AC$19*AC32)+(AD$19*AD32))","v":""},null,null,null,null,null,null,null,null,null,null,null,null,null,null,null,null,null,null,null,null,null,null,null,null,null,null,{"$f":"IF(OR('Set UP'!$C18=0,'Set UP'!$D18=0,'Set UP'!$E18=0),\"\",(AG$19*AG32)+(AH$19*AH32)+(AI$19*AI32)+(AJ$19*AJ32)+(AK$19*AK32)+(AL$19*AL32)+(AM$19*AM32)+(AN$19*AN32)+(AO$19*AO32)+(AP$19*AP32)+(AQ$19*AQ32)+(AR$19*AR32)+(AS$19*AS32)+(AT$19*AT32)+(AU$19*AU32)+(AV$19*AV32)+(AW$19*AW32)+(AX$19*AX32)+(AY$19*AY32)+(AZ$19*AZ32)+(BA$19*BA32)+(BB$19*BB32)+(BC$19*BC32)+(BD$19*BD32)+(BE$19*BE32))","v":""},null,null,null,null,null,null,null,null,null,null,null,null,null,null,null,null,null,null,null,null,null,null,null,null,null,null,{"$f":"IF(OR('Set UP'!$C18=0,'Set UP'!$D18=0,'Set UP'!$E18=0),\"\",(BH$19*BH32)+(BI$19*BI32)+(BJ$19*BJ32)+(BK$19*BK32)+(BL$19*BL32)+(BM$19*BM32)+(BN$19*BN32)+(BO$19*BO32)+(BP$19*BP32)+(BQ$19*BQ32)+(BR$19*BR32)+(BS$19*BS32)+(BT$19*BT32)+(BU$19*BU32)+(BV$19*BV32)+(BW$19*BW32)+(BX$19*BX32)+(BY$19*BY32)+(BZ$19*BZ32)+(CA$19*CA32)+(CB$19*CB32)+(CC$19*CC32)+(CD$19*CD32)+(CE$19*CE32)+(CF$19*CF32))","v":""},null,null,null,null,null,null,null,null,null,null,null,null,null,null,null,null,null,null,null,null,null,null,null,null,null,null,{"$f":"IF(OR('Set UP'!$C18=0,'Set UP'!$D18=0,'Set UP'!$E18=0),\"\",(CI$19*CI32)+(CJ$19*CJ32)+(CK$19*CK32)+(CL$19*CL32)+(CM$19*CM32)+(CN$19*CN32)+(CO$19*CO32)+(CP$19*CP32)+(CQ$19*CQ32)+(CR$19*CR32)+(CS$19*CS32)+(CT$19*CT32)+(CU$19*CU32)+(CV$19*CV32)+(CW$19*CW32)+(CX$19*CX32)+(CY$19*CY32)+(CZ$19*CZ32)+(DA$19*DA32)+(DB$19*DB32)+(DC$19*DC32)+(DD$19*DD32)+(DE$19*DE32)+(DF$19*DF32)+(DG$19*DG32))","v":""},null,null,null,null,null,null,null,null,null,null,null,null,null,null,null,null,null,null,null,null,null,null,null,null,null,null,{"$f":"IF(OR('Set UP'!$C18=0,'Set UP'!$D18=0,'Set UP'!$E18=0),\"\",(DJ$19*DJ32)+(DK$19*DK32)+(DL$19*DL32)+(DM$19*DM32)+(DN$19*DN32)+(DO$19*DO32)+(DP$19*DP32)+(DQ$19*DQ32)+(DR$19*DR32)+(DS$19*DS32)+(DT$19*DT32)+(DU$19*DU32)+(DV$19*DV32)+(DW$19*DW32)+(DX$19*DX32)+(DY$19*DY32)+(DZ$19*DZ32)+(EA$19*EA32)+(EB$19*EB32)+(EC$19*EC32)+(ED$19*ED32)+(EE$19*EE32)+(EF$19*EF32)+(EG$19*EG32)+(EH$19*EH32))","v":""},null,null,null,null,null,null,null,null,null,null,null,null,null,null,null,null,null,null,null,null,null,null,null,null,null,null,{"$f":"IF(OR('Set UP'!$C18=0,'Set UP'!$D18=0,'Set UP'!$E18=0),\"\",(EK$19*EK32)+(EL$19*EL32)+(EM$19*EM32)+(EN$19*EN32)+(EO$19*EO32)+(EP$19*EP32)+(EQ$19*EQ32)+(ER$19*ER32)+(ES$19*ES32)+(ET$19*ET32)+(EU$19*EU32)+(EV$19*EV32)+(EW$19*EW32)+(EX$19*EX32)+(EY$19*EY32)+(EZ$19*EZ32)+(FA$19*FA32)+(FB$19*FB32)+(FC$19*FC32)+(FD$19*FD32)+(FE$19*FE32)+(FF$19*FF32)+(FG$19*FG32)+(FH$19*FH32)+(FI$19*FI32))","v":""},null,null,null,null,null,null,null,null,null,null,null,null,null,null,null,null,null,null,null,null,null,null,null,null,null,null,{"$f":"IF(OR('Set UP'!$C18=0,'Set UP'!$D18=0,'Set UP'!$E18=0),\"\",(FL$19*FL32)+(FM$19*FM32)+(FN$19*FN32)+(FO$19*FO32)+(FP$19*FP32)+(FQ$19*FQ32)+(FR$19*FR32)+(FS$19*FS32)+(FT$19*FT32)+(FU$19*FU32)+(FV$19*FV32)+(FW$19*FW32)+(FX$19*FX32)+(FY$19*FY32)+(FZ$19*FZ32)+(GA$19*GA32)+(GB$19*GB32)+(GC$19*GC32)+(GD$19*GD32)+(GE$19*GE32)+(GF$19*GF32)+(GG$19*GG32)+(GH$19*GH32)+(GI$19*GI32)+(GJ$19*GJ32))","v":""},null,null,null,null,null,null,null,null,null,null,null,null,null,null,null,null,null,null,null,null,null,null,null,null,null,null,{"$f":"IF(OR('Set UP'!$C18=0,'Set UP'!$D18=0,'Set UP'!$E18=0),\"\",(GM$19*GM32)+(GN$19*GN32)+(GO$19*GO32)+(GP$19*GP32)+(GQ$19*GQ32)+(GR$19*GR32)+(GS$19*GS32)+(GT$19*GT32)+(GU$19*GU32)+(GV$19*GV32)+(GW$19*GW32)+(GX$19*GX32)+(GY$19*GY32)+(GZ$19*GZ32)+(HA$19*HA32)+(HB$19*HB32)+(HC$19*HC32)+(HD$19*HD32)+(HE$19*HE32)+(HF$19*HF32)+(HG$19*HG32)+(HH$19*HH32)+(HI$19*HI32)+(HJ$19*HJ32)+(HK$19*HK32))","v":""},null,null,null,null,null,null,null,null,null,null,null,null,null,null,null,null,null,null,null,null,null,null,null,null,null,null,{"$f":"IF(OR('Set UP'!$C18=0,'Set UP'!$D18=0,'Set UP'!$E18=0),\"\",(HN$19*HN32)+(HO$19*HO32)+(HP$19*HP32)+(HQ$19*HQ32)+(HR$19*HR32)+(HS$19*HS32)+(HT$19*HT32)+(HU$19*HU32)+(HV$19*HV32)+(HW$19*HW32)+(HX$19*HX32)+(HY$19*HY32)+(HZ$19*HZ32)+(IA$19*IA32)+(IB$19*IB32)+(IC$19*IC32)+(ID$19*ID32)+(IE$19*IE32)+(IF$19*IF32)+(IG$19*IG32)+(IH$19*IH32)+(II$19*II32)+(IJ$19*IJ32)+(IK$19*IK32)+(IL$19*IL32))","v":""},null,null,null,null,null,null,null,null,null,null,null,null,null,null,null,null,null,null,null,null,null,null,null,null,null,null,{"$f":"IF(OR('Set UP'!$C18=0,'Set UP'!$D18=0,'Set UP'!$E18=0),\"\",(IO$19*IO32)+(IP$19*IP32)+(IQ$19*IQ32)+(IR$19*IR32)+(IS$19*IS32)+(IT$19*IT32)+(IU$19*IU32)+(IV$19*IV32)+(IW$19*IW32)+(IX$19*IX32)+(IY$19*IY32)+(IZ$19*IZ32)+(JA$19*JA32)+(JB$19*JB32)+(JC$19*JC32)+(JD$19*JD32)+(JE$19*JE32)+(JF$19*JF32)+(JG$19*JG32)+(JH$19*JH32)+(JI$19*JI32)+(JJ$19*JJ32)+(JK$19*JK32)+(JL$19*JL32)+(JM$19*JM32))","v":""},{"$f":"IF(OR('Set UP'!$C18=0,'Set UP'!$D18=0,'Set UP'!$E18=0),\"\",(AF32+BG32+CH32+DI32+EJ32+FK32+GL32+HM32+JO32+IN32))","v":""},{"$f":"IF(OR('Set UP'!$C18=0,'Set UP'!$D18=0,'Set UP'!$E18=0),\"\",RANK(JP32,$JP$21:$JP$60,0))","v":""},{"$f":"IF(OR('Set UP'!K18<>1,'Set UP'!C18=0,'Set UP'!D18=0,'Set UP'!E18=0,'Set UP'!F18=0),\"\",$JP32)","v":""},{"$f":"IF(OR('Set UP'!K18<>1,'Set UP'!C18=0,'Set UP'!D18=0,'Set UP'!E18=0,'Set UP'!F18=0),\"\",RANK(JR32,$JR$21:$JR$60,0))","v":""},{"$f":"IF(OR('Set UP'!K18<>2,'Set UP'!C18=0,'Set UP'!D18=0,'Set UP'!E18=0,'Set UP'!F18=0),\"\",$JP32)","v":""},{"$f":"IF(OR('Set UP'!K18<>2,'Set UP'!C18=0,'Set UP'!D18=0,'Set UP'!E18=0,'Set UP'!F18=0),\"\",RANK(JT32,$JT$21:$JT$60,0))","v":""},{"$f":"IF(OR('Set UP'!F18<>\"F\",'Set UP'!C18=0,'Set UP'!D18=0,'Set UP'!E18=0),\"\",$JP32)","v":""},{"$f":"IF(OR('Set UP'!F18<>\"F\",'Set UP'!C18=0,'Set UP'!D18=0,'Set UP'!E18=0),\"\",RANK(JV32,$JV$21:$JV$60,0))","v":""},{"$f":"IF(OR('Set UP'!F18<>\"NS\",'Set UP'!C18=0,'Set UP'!D18=0,'Set UP'!E18=0),\"\",$JP32)","v":""},{"$f":"IF(OR('Set UP'!F18<>\"NS\",'Set UP'!C18=0,'Set UP'!D18=0,'Set UP'!E18=0),\"\",RANK(JX32,$JX$21:$JX$60,0))","v":""},{"$f":"IF(OR('Set UP'!$C18=0,'Set UP'!$D18=0,'Set UP'!$E18=0,JP32=0),\"\",JP32/MAX(JP$21:JP$60)*1000)","v":""}]
[null,13,{"$f":"IF(OR('Set UP'!$C19=0,'Set UP'!$D19=0,'Set UP'!$E19=0,'Set UP'!F19=0),\"  --\",'Set UP'!C19)","v":1426},{"$f":"IF(OR('Set UP'!$C19=0,'Set UP'!$D19=0,'Set UP'!$E19=0,'Set UP'!F19=0),\"  --\",'Set UP'!D19&\" \"&'Set UP'!E19)","v":"London Universities B"},{"$f":"IF(OR('Set UP'!$C19=0,'Set UP'!$D19=0,'Set UP'!$E19=0,'Set UP'!F19=0),\"  --\",'Set UP'!F19)","v":"S"},7,6,6,6,null,null,null,null,null,null,null,null,null,null,null,null,null,null,null,null,null,null,null,null,null,null,{"$f":"IF(OR('Set UP'!$C19=0,'Set UP'!$D19=0,'Set UP'!$E19=0),\"\",(F$19*F33)+(G$19*G33)+(H$19*H33)+(I$19*I33)+(J$19*J33)+(K$19*K33)+(L$19*L33)+(M$19*M33)+(N$19*N33)+(O$19*O33)+(P$19*P33)+(Q$19*Q33)+(R$19*R33)+(S$19*S33)+(T$19*T33)+(U$19*U33)+(V$19*V33)+(W$19*W33)+(X$19*X33)+(Y$19*Y33)+(Z$19*Z33)+(AA$19*AA33)+(AB$19*AB33)+(AC$19*AC33)+(AD$19*AD33))","v":46.5},4,6,7,0,0,null,null,null,null,null,null,null,null,null,null,null,null,null,null,null,null,null,null,null,null,null,{"$f":"IF(OR('Set UP'!$C19=0,'Set UP'!$D19=0,'Set UP'!$E19=0),\"\",(AG$19*AG33)+(AH$19*AH33)+(AI$19*AI33)+(AJ$19*AJ33)+(AK$19*AK33)+(AL$19*AL33)+(AM$19*AM33)+(AN$19*AN33)+(AO$19*AO33)+(AP$19*AP33)+(AQ$19*AQ33)+(AR$19*AR33)+(AS$19*AS33)+(AT$19*AT33)+(AU$19*AU33)+(AV$19*AV33)+(AW$19*AW33)+(AX$19*AX33)+(AY$19*AY33)+(AZ$19*AZ33)+(BA$19*BA33)+(BB$19*BB33)+(BC$19*BC33)+(BD$19*BD33)+(BE$19*BE33))","v":22},0,0,0,0,0,0,5,2,1,2,3,1,null,null,null,null,null,null,null,null,null,null,null,null,null,null,{"$f":"IF(OR('Set UP'!$C19=0,'Set UP'!$D19=0,'Set UP'!$E19=0),\"\",(BH$19*BH33)+(BI$19*BI33)+(BJ$19*BJ33)+(BK$19*BK33)+(BL$19*BL33)+(BM$19*BM33)+(BN$19*BN33)+(BO$19*BO33)+(BP$19*BP33)+(BQ$19*BQ33)+(BR$19*BR33)+(BS$19*BS33)+(BT$19*BT33)+(BU$19*BU33)+(BV$19*BV33)+(BW$19*BW33)+(BX$19*BX33)+(BY$19*BY33)+(BZ$19*BZ33)+(CA$19*CA33)+(CB$19*CB33)+(CC$19*CC33)+(CD$19*CD33)+(CE$19*CE33)+(CF$19*CF33))","v":16.5},6,9,0,0,7,0,10,0,0,null,null,null,null,null,null,null,null,null,null,null,null,null,null,null,null,null,{"$f":"IF(OR('Set UP'!$C19=0,'Set UP'!$D19=0,'Set UP'!$E19=0),\"\",(CI$19*CI33)+(CJ$19*CJ33)+(CK$19*CK33)+(CL$19*CL33)+(CM$19*CM33)+(CN$19*CN33)+(CO$19*CO33)+(CP$19*CP33)+(CQ$19*CQ33)+(CR$19*CR33)+(CS$19*CS33)+(CT$19*CT33)+(CU$19*CU33)+(CV$19*CV33)+(CW$19*CW33)+(CX$19*CX33)+(CY$19*CY33)+(CZ$19*CZ33)+(DA$19*DA33)+(DB$19*DB33)+(DC$19*DC33)+(DD$19*DD33)+(DE$19*DE33)+(DF$19*DF33)+(DG$19*DG33))","v":81},1,0,1,0,0,0,0,0,0,0,null,null,null,null,null,null,null,null,null,null,null,null,null,null,null,null,{"$f":"IF(OR('Set UP'!$C19=0,'Set UP'!$D19=0,'Set UP'!$E19=0),\"\",(DJ$19*DJ33)+(DK$19*DK33)+(DL$19*DL33)+(DM$19*DM33)+(DN$19*DN33)+(DO$19*DO33)+(DP$19*DP33)+(DQ$19*DQ33)+(DR$19*DR33)+(DS$19*DS33)+(DT$19*DT33)+(DU$19*DU33)+(DV$19*DV33)+(DW$19*DW33)+(DX$19*DX33)+(DY$19*DY33)+(DZ$19*DZ33)+(EA$19*EA33)+(EB$19*EB33)+(EC$19*EC33)+(ED$19*ED33)+(EE$19*EE33)+(EF$19*EF33)+(EG$19*EG33)+(EH$19*EH33))","v":2.5},null,null,null,null,null,null,null,null,null,null,null,null,null,null,null,null,null,null,null,null,null,null,null,null,null,null,{"$f":"IF(OR('Set UP'!$C19=0,'Set UP'!$D19=0,'Set UP'!$E19=0),\"\",(EK$19*EK33)+(EL$19*EL33)+(EM$19*EM33)+(EN$19*EN33)+(EO$19*EO33)+(EP$19*EP33)+(EQ$19*EQ33)+(ER$19*ER33)+(ES$19*ES33)+(ET$19*ET33)+(EU$19*EU33)+(EV$19*EV33)+(EW$19*EW33)+(EX$19*EX33)+(EY$19*EY33)+(EZ$19*EZ33)+(FA$19*FA33)+(FB$19*FB33)+(FC$19*FC33)+(FD$19*FD33)+(FE$19*FE33)+(FF$19*FF33)+(FG$19*FG33)+(FH$19*FH33)+(FI$19*FI33))","v":0},null,null,null,null,null,null,null,null,null,null,null,null,null,null,null,null,null,null,null,null,null,null,null,null,null,null,{"$f":"IF(OR('Set UP'!$C19=0,'Set UP'!$D19=0,'Set UP'!$E19=0),\"\",(FL$19*FL33)+(FM$19*FM33)+(FN$19*FN33)+(FO$19*FO33)+(FP$19*FP33)+(FQ$19*FQ33)+(FR$19*FR33)+(FS$19*FS33)+(FT$19*FT33)+(FU$19*FU33)+(FV$19*FV33)+(FW$19*FW33)+(FX$19*FX33)+(FY$19*FY33)+(FZ$19*FZ33)+(GA$19*GA33)+(GB$19*GB33)+(GC$19*GC33)+(GD$19*GD33)+(GE$19*GE33)+(GF$19*GF33)+(GG$19*GG33)+(GH$19*GH33)+(GI$19*GI33)+(GJ$19*GJ33))","v":0},null,null,null,null,null,null,null,null,null,null,null,null,null,null,null,null,null,null,null,null,null,null,null,null,null,null,{"$f":"IF(OR('Set UP'!$C19=0,'Set UP'!$D19=0,'Set UP'!$E19=0),\"\",(GM$19*GM33)+(GN$19*GN33)+(GO$19*GO33)+(GP$19*GP33)+(GQ$19*GQ33)+(GR$19*GR33)+(GS$19*GS33)+(GT$19*GT33)+(GU$19*GU33)+(GV$19*GV33)+(GW$19*GW33)+(GX$19*GX33)+(GY$19*GY33)+(GZ$19*GZ33)+(HA$19*HA33)+(HB$19*HB33)+(HC$19*HC33)+(HD$19*HD33)+(HE$19*HE33)+(HF$19*HF33)+(HG$19*HG33)+(HH$19*HH33)+(HI$19*HI33)+(HJ$19*HJ33)+(HK$19*HK33))","v":0},null,null,null,null,null,null,null,null,null,null,null,null,null,null,null,null,null,null,null,null,null,null,null,null,null,null,{"$f":"IF(OR('Set UP'!$C19=0,'Set UP'!$D19=0,'Set UP'!$E19=0),\"\",(HN$19*HN33)+(HO$19*HO33)+(HP$19*HP33)+(HQ$19*HQ33)+(HR$19*HR33)+(HS$19*HS33)+(HT$19*HT33)+(HU$19*HU33)+(HV$19*HV33)+(HW$19*HW33)+(HX$19*HX33)+(HY$19*HY33)+(HZ$19*HZ33)+(IA$19*IA33)+(IB$19*IB33)+(IC$19*IC33)+(ID$19*ID33)+(IE$19*IE33)+(IF$19*IF33)+(IG$19*IG33)+(IH$19*IH33)+(II$19*II33)+(IJ$19*IJ33)+(IK$19*IK33)+(IL$19*IL33))","v":0},null,null,null,null,null,null,null,null,null,null,null,null,null,null,null,null,null,null,null,null,null,null,null,null,null,null,{"$f":"IF(OR('Set UP'!$C19=0,'Set UP'!$D19=0,'Set UP'!$E19=0),\"\",(IO$19*IO33)+(IP$19*IP33)+(IQ$19*IQ33)+(IR$19*IR33)+(IS$19*IS33)+(IT$19*IT33)+(IU$19*IU33)+(IV$19*IV33)+(IW$19*IW33)+(IX$19*IX33)+(IY$19*IY33)+(IZ$19*IZ33)+(JA$19*JA33)+(JB$19*JB33)+(JC$19*JC33)+(JD$19*JD33)+(JE$19*JE33)+(JF$19*JF33)+(JG$19*JG33)+(JH$19*JH33)+(JI$19*JI33)+(JJ$19*JJ33)+(JK$19*JK33)+(JL$19*JL33)+(JM$19*JM33))","v":0},{"$f":"IF(OR('Set UP'!$C19=0,'Set UP'!$D19=0,'Set UP'!$E19=0),\"\",(AF33+BG33+CH33+DI33+EJ33+FK33+GL33+HM33+JO33+IN33))","v":168.5},{"$f":"IF(OR('Set UP'!$C19=0,'Set UP'!$D19=0,'Set UP'!$E19=0),\"\",RANK(JP33,$JP$21:$JP$60,0))","v":12},{"$f":"IF(OR('Set UP'!K19<>1,'Set UP'!C19=0,'Set UP'!D19=0,'Set UP'!E19=0,'Set UP'!F19=0),\"\",$JP33)","v":""},{"$f":"IF(OR('Set UP'!K19<>1,'Set UP'!C19=0,'Set UP'!D19=0,'Set UP'!E19=0,'Set UP'!F19=0),\"\",RANK(JR33,$JR$21:$JR$60,0))","v":""},{"$f":"IF(OR('Set UP'!K19<>2,'Set UP'!C19=0,'Set UP'!D19=0,'Set UP'!E19=0,'Set UP'!F19=0),\"\",$JP33)","v":168.5},{"$f":"IF(OR('Set UP'!K19<>2,'Set UP'!C19=0,'Set UP'!D19=0,'Set UP'!E19=0,'Set UP'!F19=0),\"\",RANK(JT33,$JT$21:$JT$60,0))","v":4},{"$f":"IF(OR('Set UP'!F19<>\"F\",'Set UP'!C19=0,'Set UP'!D19=0,'Set UP'!E19=0),\"\",$JP33)","v":""},{"$f":"IF(OR('Set UP'!F19<>\"F\",'Set UP'!C19=0,'Set UP'!D19=0,'Set UP'!E19=0),\"\",RANK(JV33,$JV$21:$JV$60,0))","v":""},{"$f":"IF(OR('Set UP'!F19<>\"NS\",'Set UP'!C19=0,'Set UP'!D19=0,'Set UP'!E19=0),\"\",$JP33)","v":""},{"$f":"IF(OR('Set UP'!F19<>\"NS\",'Set UP'!C19=0,'Set UP'!D19=0,'Set UP'!E19=0),\"\",RANK(JX33,$JX$21:$JX$60,0))","v":""},{"$f":"IF(OR('Set UP'!$C19=0,'Set UP'!$D19=0,'Set UP'!$E19=0,JP33=0),\"\",JP33/MAX(JP$21:JP$60)*1000)","v":569.25675675675677}]
[null,14,{"$f":"IF(OR('Set UP'!$C20=0,'Set UP'!$D20=0,'Set UP'!$E20=0,'Set UP'!F20=0),\"  --\",'Set UP'!C20)","v":"  --"},{"$f":"IF(OR('Set UP'!$C20=0,'Set UP'!$D20=0,'Set UP'!$E20=0,'Set UP'!F20=0),\"  --\",'Set UP'!D20&\" \"&'Set UP'!E20)","v":"  --"},{"$f":"IF(OR('Set UP'!$C20=0,'Set UP'!$D20=0,'Set UP'!$E20=0,'Set UP'!F20=0),\"  --\",'Set UP'!F20)","v":"  --"},null,null,null,null,null,null,null,null,null,null,null,null,null,null,null,null,null,null,null,null,null,null,null,null,null,null,{"$f":"IF(OR('Set UP'!$C20=0,'Set UP'!$D20=0,'Set UP'!$E20=0),\"\",(F$19*F34)+(G$19*G34)+(H$19*H34)+(I$19*I34)+(J$19*J34)+(K$19*K34)+(L$19*L34)+(M$19*M34)+(N$19*N34)+(O$19*O34)+(P$19*P34)+(Q$19*Q34)+(R$19*R34)+(S$19*S34)+(T$19*T34)+(U$19*U34)+(V$19*V34)+(W$19*W34)+(X$19*X34)+(Y$19*Y34)+(Z$19*Z34)+(AA$19*AA34)+(AB$19*AB34)+(AC$19*AC34)+(AD$19*AD34))","v":""},null,null,null,null,null,null,null,null,null,null,null,null,null,null,null,null,null,null,null,null,null,null,null,null,null,null,{"$f":"IF(OR('Set UP'!$C20=0,'Set UP'!$D20=0,'Set UP'!$E20=0),\"\",(AG$19*AG34)+(AH$19*AH34)+(AI$19*AI34)+(AJ$19*AJ34)+(AK$19*AK34)+(AL$19*AL34)+(AM$19*AM34)+(AN$19*AN34)+(AO$19*AO34)+(AP$19*AP34)+(AQ$19*AQ34)+(AR$19*AR34)+(AS$19*AS34)+(AT$19*AT34)+(AU$19*AU34)+(AV$19*AV34)+(AW$19*AW34)+(AX$19*AX34)+(AY$19*AY34)+(AZ$19*AZ34)+(BA$19*BA34)+(BB$19*BB34)+(BC$19*BC34)+(BD$19*BD34)+(BE$19*BE34))","v":""},null,null,null,null,null,null,null,null,null,null,null,null,null,null,null,null,null,null,null,null,null,null,null,null,null,null,{"$f":"IF(OR('Set UP'!$C20=0,'Set UP'!$D20=0,'Set UP'!$E20=0),\"\",(BH$19*BH34)+(BI$19*BI34)+(BJ$19*BJ34)+(BK$19*BK34)+(BL$19*BL34)+(BM$19*BM34)+(BN$19*BN34)+(BO$19*BO34)+(BP$19*BP34)+(BQ$19*BQ34)+(BR$19*BR34)+(BS$19*BS34)+(BT$19*BT34)+(BU$19*BU34)+(BV$19*BV34)+(BW$19*BW34)+(BX$19*BX34)+(BY$19*BY34)+(BZ$19*BZ34)+(CA$19*CA34)+(CB$19*CB34)+(CC$19*CC34)+(CD$19*CD34)+(CE$19*CE34)+(CF$19*CF34))","v":""},null,null,null,null,null,null,null,null,null,null,null,null,null,null,null,null,null,null,null,null,null,null,null,null,null,null,{"$f":"IF(OR('Set UP'!$C20=0,'Set UP'!$D20=0,'Set UP'!$E20=0),\"\",(CI$19*CI34)+(CJ$19*CJ34)+(CK$19*CK34)+(CL$19*CL34)+(CM$19*CM34)+(CN$19*CN34)+(CO$19*CO34)+(CP$19*CP34)+(CQ$19*CQ34)+(CR$19*CR34)+(CS$19*CS34)+(CT$19*CT34)+(CU$19*CU34)+(CV$19*CV34)+(CW$19*CW34)+(CX$19*CX34)+(CY$19*CY34)+(CZ$19*CZ34)+(DA$19*DA34)+(DB$19*DB34)+(DC$19*DC34)+(DD$19*DD34)+(DE$19*DE34)+(DF$19*DF34)+(DG$19*DG34))","v":""},null,null,null,null,null,null,null,null,null,null,null,null,null,null,null,null,null,null,null,null,null,null,null,null,null,null,{"$f":"IF(OR('Set UP'!$C20=0,'Set UP'!$D20=0,'Set UP'!$E20=0),\"\",(DJ$19*DJ34)+(DK$19*DK34)+(DL$19*DL34)+(DM$19*DM34)+(DN$19*DN34)+(DO$19*DO34)+(DP$19*DP34)+(DQ$19*DQ34)+(DR$19*DR34)+(DS$19*DS34)+(DT$19*DT34)+(DU$19*DU34)+(DV$19*DV34)+(DW$19*DW34)+(DX$19*DX34)+(DY$19*DY34)+(DZ$19*DZ34)+(EA$19*EA34)+(EB$19*EB34)+(EC$19*EC34)+(ED$19*ED34)+(EE$19*EE34)+(EF$19*EF34)+(EG$19*EG34)+(EH$19*EH34))","v":""},null,null,null,null,null,null,null,null,null,null,null,null,null,null,null,null,null,null,null,null,null,null,null,null,null,null,{"$f":"IF(OR('Set UP'!$C20=0,'Set UP'!$D20=0,'Set UP'!$E20=0),\"\",(EK$19*EK34)+(EL$19*EL34)+(EM$19*EM34)+(EN$19*EN34)+(EO$19*EO34)+(EP$19*EP34)+(EQ$19*EQ34)+(ER$19*ER34)+(ES$19*ES34)+(ET$19*ET34)+(EU$19*EU34)+(EV$19*EV34)+(EW$19*EW34)+(EX$19*EX34)+(EY$19*EY34)+(EZ$19*EZ34)+(FA$19*FA34)+(FB$19*FB34)+(FC$19*FC34)+(FD$19*FD34)+(FE$19*FE34)+(FF$19*FF34)+(FG$19*FG34)+(FH$19*FH34)+(FI$19*FI34))","v":""},null,null,null,null,null,null,null,null,null,null,null,null,null,null,null,null,null,null,null,null,null,null,null,null,null,null,{"$f":"IF(OR('Set UP'!$C20=0,'Set UP'!$D20=0,'Set UP'!$E20=0),\"\",(FL$19*FL34)+(FM$19*FM34)+(FN$19*FN34)+(FO$19*FO34)+(FP$19*FP34)+(FQ$19*FQ34)+(FR$19*FR34)+(FS$19*FS34)+(FT$19*FT34)+(FU$19*FU34)+(FV$19*FV34)+(FW$19*FW34)+(FX$19*FX34)+(FY$19*FY34)+(FZ$19*FZ34)+(GA$19*GA34)+(GB$19*GB34)+(GC$19*GC34)+(GD$19*GD34)+(GE$19*GE34)+(GF$19*GF34)+(GG$19*GG34)+(GH$19*GH34)+(GI$19*GI34)+(GJ$19*GJ34))","v":""},null,null,null,null,null,null,null,null,null,null,null,null,null,null,null,null,null,null,null,null,null,null,null,null,null,null,{"$f":"IF(OR('Set UP'!$C20=0,'Set UP'!$D20=0,'Set UP'!$E20=0),\"\",(GM$19*GM34)+(GN$19*GN34)+(GO$19*GO34)+(GP$19*GP34)+(GQ$19*GQ34)+(GR$19*GR34)+(GS$19*GS34)+(GT$19*GT34)+(GU$19*GU34)+(GV$19*GV34)+(GW$19*GW34)+(GX$19*GX34)+(GY$19*GY34)+(GZ$19*GZ34)+(HA$19*HA34)+(HB$19*HB34)+(HC$19*HC34)+(HD$19*HD34)+(HE$19*HE34)+(HF$19*HF34)+(HG$19*HG34)+(HH$19*HH34)+(HI$19*HI34)+(HJ$19*HJ34)+(HK$19*HK34))","v":""},null,null,null,null,null,null,null,null,null,null,null,null,null,null,null,null,null,null,null,null,null,null,null,null,null,null,{"$f":"IF(OR('Set UP'!$C20=0,'Set UP'!$D20=0,'Set UP'!$E20=0),\"\",(HN$19*HN34)+(HO$19*HO34)+(HP$19*HP34)+(HQ$19*HQ34)+(HR$19*HR34)+(HS$19*HS34)+(HT$19*HT34)+(HU$19*HU34)+(HV$19*HV34)+(HW$19*HW34)+(HX$19*HX34)+(HY$19*HY34)+(HZ$19*HZ34)+(IA$19*IA34)+(IB$19*IB34)+(IC$19*IC34)+(ID$19*ID34)+(IE$19*IE34)+(IF$19*IF34)+(IG$19*IG34)+(IH$19*IH34)+(II$19*II34)+(IJ$19*IJ34)+(IK$19*IK34)+(IL$19*IL34))","v":""},null,null,null,null,null,null,null,null,null,null,null,null,null,null,null,null,null,null,null,null,null,null,null,null,null,null,{"$f":"IF(OR('Set UP'!$C20=0,'Set UP'!$D20=0,'Set UP'!$E20=0),\"\",(IO$19*IO34)+(IP$19*IP34)+(IQ$19*IQ34)+(IR$19*IR34)+(IS$19*IS34)+(IT$19*IT34)+(IU$19*IU34)+(IV$19*IV34)+(IW$19*IW34)+(IX$19*IX34)+(IY$19*IY34)+(IZ$19*IZ34)+(JA$19*JA34)+(JB$19*JB34)+(JC$19*JC34)+(JD$19*JD34)+(JE$19*JE34)+(JF$19*JF34)+(JG$19*JG34)+(JH$19*JH34)+(JI$19*JI34)+(JJ$19*JJ34)+(JK$19*JK34)+(JL$19*JL34)+(JM$19*JM34))","v":""},{"$f":"IF(OR('Set UP'!$C20=0,'Set UP'!$D20=0,'Set UP'!$E20=0),\"\",(AF34+BG34+CH34+DI34+EJ34+FK34+GL34+HM34+JO34+IN34))","v":""},{"$f":"IF(OR('Set UP'!$C20=0,'Set UP'!$D20=0,'Set UP'!$E20=0),\"\",RANK(JP34,$JP$21:$JP$60,0))","v":""},{"$f":"IF(OR('Set UP'!K20<>1,'Set UP'!C20=0,'Set UP'!D20=0,'Set UP'!E20=0,'Set UP'!F20=0),\"\",$JP34)","v":""},{"$f":"IF(OR('Set UP'!K20<>1,'Set UP'!C20=0,'Set UP'!D20=0,'Set UP'!E20=0,'Set UP'!F20=0),\"\",RANK(JR34,$JR$21:$JR$60,0))","v":""},{"$f":"IF(OR('Set UP'!K20<>2,'Set UP'!C20=0,'Set UP'!D20=0,'Set UP'!E20=0,'Set UP'!F20=0),\"\",$JP34)","v":""},{"$f":"IF(OR('Set UP'!K20<>2,'Set UP'!C20=0,'Set UP'!D20=0,'Set UP'!E20=0,'Set UP'!F20=0),\"\",RANK(JT34,$JT$21:$JT$60,0))","v":""},{"$f":"IF(OR('Set UP'!F20<>\"F\",'Set UP'!C20=0,'Set UP'!D20=0,'Set UP'!E20=0),\"\",$JP34)","v":""},{"$f":"IF(OR('Set UP'!F20<>\"F\",'Set UP'!C20=0,'Set UP'!D20=0,'Set UP'!E20=0),\"\",RANK(JV34,$JV$21:$JV$60,0))","v":""},{"$f":"IF(OR('Set UP'!F20<>\"NS\",'Set UP'!C20=0,'Set UP'!D20=0,'Set UP'!E20=0),\"\",$JP34)","v":""},{"$f":"IF(OR('Set UP'!F20<>\"NS\",'Set UP'!C20=0,'Set UP'!D20=0,'Set UP'!E20=0),\"\",RANK(JX34,$JX$21:$JX$60,0))","v":""},{"$f":"IF(OR('Set UP'!$C20=0,'Set UP'!$D20=0,'Set UP'!$E20=0,JP34=0),\"\",JP34/MAX(JP$21:JP$60)*1000)","v":""}]
[null,15,{"$f":"IF(OR('Set UP'!$C21=0,'Set UP'!$D21=0,'Set UP'!$E21=0,'Set UP'!F21=0),\"  --\",'Set UP'!C21)","v":1427},{"$f":"IF(OR('Set UP'!$C21=0,'Set UP'!$D21=0,'Set UP'!$E21=0,'Set UP'!F21=0),\"  --\",'Set UP'!D21&\" \"&'Set UP'!E21)","v":"University of Southampton A"},{"$f":"IF(OR('Set UP'!$C21=0,'Set UP'!$D21=0,'Set UP'!$E21=0,'Set UP'!F21=0),\"  --\",'Set UP'!F21)","v":"S"},6,5,8,7,null,null,null,null,null,null,null,null,null,null,null,null,null,null,null,null,null,null,null,null,null,null,{"$f":"IF(OR('Set UP'!$C21=0,'Set UP'!$D21=0,'Set UP'!$E21=0),\"\",(F$19*F35)+(G$19*G35)+(H$19*H35)+(I$19*I35)+(J$19*J35)+(K$19*K35)+(L$19*L35)+(M$19*M35)+(N$19*N35)+(O$19*O35)+(P$19*P35)+(Q$19*Q35)+(R$19*R35)+(S$19*S35)+(T$19*T35)+(U$19*U35)+(V$19*V35)+(W$19*W35)+(X$19*X35)+(Y$19*Y35)+(Z$19*Z35)+(AA$19*AA35)+(AB$19*AB35)+(AC$19*AC35)+(AD$19*AD35))","v":51},5,7,3,0,0,null,null,null,null,null,null,null,null,null,null,null,null,null,null,null,null,null,null,null,null,null,{"$f":"IF(OR('Set UP'!$C21=0,'Set UP'!$D21=0,'Set UP'!$E21=0),\"\",(AG$19*AG35)+(AH$19*AH35)+(AI$19*AI35)+(AJ$19*AJ35)+(AK$19*AK35)+(AL$19*AL35)+(AM$19*AM35)+(AN$19*AN35)+(AO$19*AO35)+(AP$19*AP35)+(AQ$19*AQ35)+(AR$19*AR35)+(AS$19*AS35)+(AT$19*AT35)+(AU$19*AU35)+(AV$19*AV35)+(AW$19*AW35)+(AX$19*AX35)+(AY$19*AY35)+(AZ$19*AZ35)+(BA$19*BA35)+(BB$19*BB35)+(BC$19*BC35)+(BD$19*BD35)+(BE$19*BE35))","v":21},0,0,0,0,0,0,8,0,4,2,2,4,null,null,null,null,null,null,null,null,null,null,null,null,null,null,{"$f":"IF(OR('Set UP'!$C21=0,'Set UP'!$D21=0,'Set UP'!$E21=0),\"\",(BH$19*BH35)+(BI$19*BI35)+(BJ$19*BJ35)+(BK$19*BK35)+(BL$19*BL35)+(BM$19*BM35)+(BN$19*BN35)+(BO$19*BO35)+(BP$19*BP35)+(BQ$19*BQ35)+(BR$19*BR35)+(BS$19*BS35)+(BT$19*BT35)+(BU$19*BU35)+(BV$19*BV35)+(BW$19*BW35)+(BX$19*BX35)+(BY$19*BY35)+(BZ$19*BZ35)+(CA$19*CA35)+(CB$19*CB35)+(CC$19*CC35)+(CD$19*CD35)+(CE$19*CE35)+(CF$19*CF35))","v":23},4,1,0,0,4,0,1,0,0,null,null,null,null,null,null,null,null,null,null,null,null,null,null,null,null,null,{"$f":"IF(OR('Set UP'!$C21=0,'Set UP'!$D21=0,'Set UP'!$E21=0),\"\",(CI$19*CI35)+(CJ$19*CJ35)+(CK$19*CK35)+(CL$19*CL35)+(CM$19*CM35)+(CN$19*CN35)+(CO$19*CO35)+(CP$19*CP35)+(CQ$19*CQ35)+(CR$19*CR35)+(CS$19*CS35)+(CT$19*CT35)+(CU$19*CU35)+(CV$19*CV35)+(CW$19*CW35)+(CX$19*CX35)+(CY$19*CY35)+(CZ$19*CZ35)+(DA$19*DA35)+(DB$19*DB35)+(DC$19*DC35)+(DD$19*DD35)+(DE$19*DE35)+(DF$19*DF35)+(DG$19*DG35))","v":23.5},2,2,5,0,0,0,0,0,0,0,null,null,null,null,null,null,null,null,null,null,null,null,null,null,null,null,{"$f":"IF(OR('Set UP'!$C21=0,'Set UP'!$D21=0,'Set UP'!$E21=0),\"\",(DJ$19*DJ35)+(DK$19*DK35)+(DL$19*DL35)+(DM$19*DM35)+(DN$19*DN35)+(DO$19*DO35)+(DP$19*DP35)+(DQ$19*DQ35)+(DR$19*DR35)+(DS$19*DS35)+(DT$19*DT35)+(DU$19*DU35)+(DV$19*DV35)+(DW$19*DW35)+(DX$19*DX35)+(DY$19*DY35)+(DZ$19*DZ35)+(EA$19*EA35)+(EB$19*EB35)+(EC$19*EC35)+(ED$19*ED35)+(EE$19*EE35)+(EF$19*EF35)+(EG$19*EG35)+(EH$19*EH35))","v":12.5},null,null,null,null,null,null,null,null,null,null,null,null,null,null,null,null,null,null,null,null,null,null,null,null,null,null,{"$f":"IF(OR('Set UP'!$C21=0,'Set UP'!$D21=0,'Set UP'!$E21=0),\"\",(EK$19*EK35)+(EL$19*EL35)+(EM$19*EM35)+(EN$19*EN35)+(EO$19*EO35)+(EP$19*EP35)+(EQ$19*EQ35)+(ER$19*ER35)+(ES$19*ES35)+(ET$19*ET35)+(EU$19*EU35)+(EV$19*EV35)+(EW$19*EW35)+(EX$19*EX35)+(EY$19*EY35)+(EZ$19*EZ35)+(FA$19*FA35)+(FB$19*FB35)+(FC$19*FC35)+(FD$19*FD35)+(FE$19*FE35)+(FF$19*FF35)+(FG$19*FG35)+(FH$19*FH35)+(FI$19*FI35))","v":0},null,null,null,null,null,null,null,null,null,null,null,null,null,null,null,null,null,null,null,null,null,null,null,null,null,null,{"$f":"IF(OR('Set UP'!$C21=0,'Set UP'!$D21=0,'Set UP'!$E21=0),\"\",(FL$19*FL35)+(FM$19*FM35)+(FN$19*FN35)+(FO$19*FO35)+(FP$19*FP35)+(FQ$19*FQ35)+(FR$19*FR35)+(FS$19*FS35)+(FT$19*FT35)+(FU$19*FU35)+(FV$19*FV35)+(FW$19*FW35)+(FX$19*FX35)+(FY$19*FY35)+(FZ$19*FZ35)+(GA$19*GA35)+(GB$19*GB35)+(GC$19*GC35)+(GD$19*GD35)+(GE$19*GE35)+(GF$19*GF35)+(GG$19*GG35)+(GH$19*GH35)+(GI$19*GI35)+(GJ$19*GJ35))","v":0},null,null,null,null,null,null,null,null,null,null,null,null,null,null,null,null,null,null,null,null,null,null,null,null,null,null,{"$f":"IF(OR('Set UP'!$C21=0,'Set UP'!$D21=0,'Set UP'!$E21=0),\"\",(GM$19*GM35)+(GN$19*GN35)+(GO$19*GO35)+(GP$19*GP35)+(GQ$19*GQ35)+(GR$19*GR35)+(GS$19*GS35)+(GT$19*GT35)+(GU$19*GU35)+(GV$19*GV35)+(GW$19*GW35)+(GX$19*GX35)+(GY$19*GY35)+(GZ$19*GZ35)+(HA$19*HA35)+(HB$19*HB35)+(HC$19*HC35)+(HD$19*HD35)+(HE$19*HE35)+(HF$19*HF35)+(HG$19*HG35)+(HH$19*HH35)+(HI$19*HI35)+(HJ$19*HJ35)+(HK$19*HK35))","v":0},null,null,null,null,null,null,null,null,null,null,null,null,null,null,null,null,null,null,null,null,null,null,null,null,null,null,{"$f":"IF(OR('Set UP'!$C21=0,'Set UP'!$D21=0,'Set UP'!$E21=0),\"\",(HN$19*HN35)+(HO$19*HO35)+(HP$19*HP35)+(HQ$19*HQ35)+(HR$19*HR35)+(HS$19*HS35)+(HT$19*HT35)+(HU$19*HU35)+(HV$19*HV35)+(HW$19*HW35)+(HX$19*HX35)+(HY$19*HY35)+(HZ$19*HZ35)+(IA$19*IA35)+(IB$19*IB35)+(IC$19*IC35)+(ID$19*ID35)+(IE$19*IE35)+(IF$19*IF35)+(IG$19*IG35)+(IH$19*IH35)+(II$19*II35)+(IJ$19*IJ35)+(IK$19*IK35)+(IL$19*IL35))","v":0},null,null,null,null,null,null,null,null,null,null,null,null,null,null,null,null,null,null,null,null,null,null,null,null,null,null,{"$f":"IF(OR('Set UP'!$C21=0,'Set UP'!$D21=0,'Set UP'!$E21=0),\"\",(IO$19*IO35)+(IP$19*IP35)+(IQ$19*IQ35)+(IR$19*IR35)+(IS$19*IS35)+(IT$19*IT35)+(IU$19*IU35)+(IV$19*IV35)+(IW$19*IW35)+(IX$19*IX35)+(IY$19*IY35)+(IZ$19*IZ35)+(JA$19*JA35)+(JB$19*JB35)+(JC$19*JC35)+(JD$19*JD35)+(JE$19*JE35)+(JF$19*JF35)+(JG$19*JG35)+(JH$19*JH35)+(JI$19*JI35)+(JJ$19*JJ35)+(JK$19*JK35)+(JL$19*JL35)+(JM$19*JM35))","v":0},{"$f":"IF(OR('Set UP'!$C21=0,'Set UP'!$D21=0,'Set UP'!$E21=0),\"\",(AF35+BG35+CH35+DI35+EJ35+FK35+GL35+HM35+JO35+IN35))","v":131},{"$f":"IF(OR('Set UP'!$C21=0,'Set UP'!$D21=0,'Set UP'!$E21=0),\"\",RANK(JP35,$JP$21:$JP$60,0))","v":15},{"$f":"IF(OR('Set UP'!K21<>1,'Set UP'!C21=0,'Set UP'!D21=0,'Set UP'!E21=0,'Set UP'!F21=0),\"\",$JP35)","v":131},{"$f":"IF(OR('Set UP'!K21<>1,'Set UP'!C21=0,'Set UP'!D21=0,'Set UP'!E21=0,'Set UP'!F21=0),\"\",RANK(JR35,$JR$21:$JR$60,0))","v":7},{"$f":"IF(OR('Set UP'!K21<>2,'Set UP'!C21=0,'Set UP'!D21=0,'Set UP'!E21=0,'Set UP'!F21=0),\"\",$JP35)","v":""},{"$f":"IF(OR('Set UP'!K21<>2,'Set UP'!C21=0,'Set UP'!D21=0,'Set UP'!E21=0,'Set UP'!F21=0),\"\",RANK(JT35,$JT$21:$JT$60,0))","v":""},{"$f":"IF(OR('Set UP'!F21<>\"F\",'Set UP'!C21=0,'Set UP'!D21=0,'Set UP'!E21=0),\"\",$JP35)","v":""},{"$f":"IF(OR('Set UP'!F21<>\"F\",'Set UP'!C21=0,'Set UP'!D21=0,'Set UP'!E21=0),\"\",RANK(JV35,$JV$21:$JV$60,0))","v":""},{"$f":"IF(OR('Set UP'!F21<>\"NS\",'Set UP'!C21=0,'Set UP'!D21=0,'Set UP'!E21=0),\"\",$JP35)","v":""},{"$f":"IF(OR('Set UP'!F21<>\"NS\",'Set UP'!C21=0,'Set UP'!D21=0,'Set UP'!E21=0),\"\",RANK(JX35,$JX$21:$JX$60,0))","v":""},{"$f":"IF(OR('Set UP'!$C21=0,'Set UP'!$D21=0,'Set UP'!$E21=0,JP35=0),\"\",JP35/MAX(JP$21:JP$60)*1000)","v":442.56756756756755}]
[null,16,{"$f":"IF(OR('Set UP'!$C22=0,'Set UP'!$D22=0,'Set UP'!$E22=0,'Set UP'!F22=0),\"  --\",'Set UP'!C22)","v":1444},{"$f":"IF(OR('Set UP'!$C22=0,'Set UP'!$D22=0,'Set UP'!$E22=0,'Set UP'!F22=0),\"  --\",'Set UP'!D22&\" \"&'Set UP'!E22)","v":"University of Birmingham C"},{"$f":"IF(OR('Set UP'!$C22=0,'Set UP'!$D22=0,'Set UP'!$E22=0,'Set UP'!F22=0),\"  --\",'Set UP'!F22)","v":"S"},5,4,7,5,null,null,null,null,null,null,null,null,null,null,null,null,null,null,null,null,null,null,null,null,null,null,{"$f":"IF(OR('Set UP'!$C22=0,'Set UP'!$D22=0,'Set UP'!$E22=0),\"\",(F$19*F36)+(G$19*G36)+(H$19*H36)+(I$19*I36)+(J$19*J36)+(K$19*K36)+(L$19*L36)+(M$19*M36)+(N$19*N36)+(O$19*O36)+(P$19*P36)+(Q$19*Q36)+(R$19*R36)+(S$19*S36)+(T$19*T36)+(U$19*U36)+(V$19*V36)+(W$19*W36)+(X$19*X36)+(Y$19*Y36)+(Z$19*Z36)+(AA$19*AA36)+(AB$19*AB36)+(AC$19*AC36)+(AD$19*AD36))","v":42},5,7,6,0,0,null,null,null,null,null,null,null,null,null,null,null,null,null,null,null,null,null,null,null,null,null,{"$f":"IF(OR('Set UP'!$C22=0,'Set UP'!$D22=0,'Set UP'!$E22=0),\"\",(AG$19*AG36)+(AH$19*AH36)+(AI$19*AI36)+(AJ$19*AJ36)+(AK$19*AK36)+(AL$19*AL36)+(AM$19*AM36)+(AN$19*AN36)+(AO$19*AO36)+(AP$19*AP36)+(AQ$19*AQ36)+(AR$19*AR36)+(AS$19*AS36)+(AT$19*AT36)+(AU$19*AU36)+(AV$19*AV36)+(AW$19*AW36)+(AX$19*AX36)+(AY$19*AY36)+(AZ$19*AZ36)+(BA$19*BA36)+(BB$19*BB36)+(BC$19*BC36)+(BD$19*BD36)+(BE$19*BE36))","v":24},8,0,0,0,0,0,3,0,3,1,4,2,null,null,null,null,null,null,null,null,null,null,null,null,null,null,{"$f":"IF(OR('Set UP'!$C22=0,'Set UP'!$D22=0,'Set UP'!$E22=0),\"\",(BH$19*BH36)+(BI$19*BI36)+(BJ$19*BJ36)+(BK$19*BK36)+(BL$19*BL36)+(BM$19*BM36)+(BN$19*BN36)+(BO$19*BO36)+(BP$19*BP36)+(BQ$19*BQ36)+(BR$19*BR36)+(BS$19*BS36)+(BT$19*BT36)+(BU$19*BU36)+(BV$19*BV36)+(BW$19*BW36)+(BX$19*BX36)+(BY$19*BY36)+(BZ$19*BZ36)+(CA$19*CA36)+(CB$19*CB36)+(CC$19*CC36)+(CD$19*CD36)+(CE$19*CE36)+(CF$19*CF36))","v":18},5,7,0,5,5,0,7,0,5,null,null,null,null,null,null,null,null,null,null,null,null,null,null,null,null,null,{"$f":"IF(OR('Set UP'!$C22=0,'Set UP'!$D22=0,'Set UP'!$E22=0),\"\",(CI$19*CI36)+(CJ$19*CJ36)+(CK$19*CK36)+(CL$19*CL36)+(CM$19*CM36)+(CN$19*CN36)+(CO$19*CO36)+(CP$19*CP36)+(CQ$19*CQ36)+(CR$19*CR36)+(CS$19*CS36)+(CT$19*CT36)+(CU$19*CU36)+(CV$19*CV36)+(CW$19*CW36)+(CX$19*CX36)+(CY$19*CY36)+(CZ$19*CZ36)+(DA$19*DA36)+(DB$19*DB36)+(DC$19*DC36)+(DD$19*DD36)+(DE$19*DE36)+(DF$19*DF36)+(DG$19*DG36))","v":66},7,7,1,3,6,3,0,0,4,3,null,null,null,null,null,null,null,null,null,null,null,null,null,null,null,null,{"$f":"IF(OR('Set UP'!$C22=0,'Set UP'!$D22=0,'Set UP'!$E22=0),\"\",(DJ$19*DJ36)+(DK$19*DK36)+(DL$19*DL36)+(DM$19*DM36)+(DN$19*DN36)+(DO$19*DO36)+(DP$19*DP36)+(DQ$19*DQ36)+(DR$19*DR36)+(DS$19*DS36)+(DT$19*DT36)+(DU$19*DU36)+(DV$19*DV36)+(DW$19*DW36)+(DX$19*DX36)+(DY$19*DY36)+(DZ$19*DZ36)+(EA$19*EA36)+(EB$19*EB36)+(EC$19*EC36)+(ED$19*ED36)+(EE$19*EE36)+(EF$19*EF36)+(EG$19*EG36)+(EH$19*EH36))","v":45},null,null,null,null,null,null,null,null,null,null,null,null,null,null,null,null,null,null,null,null,null,null,null,null,null,null,{"$f":"IF(OR('Set UP'!$C22=0,'Set UP'!$D22=0,'Set UP'!$E22=0),\"\",(EK$19*EK36)+(EL$19*EL36)+(EM$19*EM36)+(EN$19*EN36)+(EO$19*EO36)+(EP$19*EP36)+(EQ$19*EQ36)+(ER$19*ER36)+(ES$19*ES36)+(ET$19*ET36)+(EU$19*EU36)+(EV$19*EV36)+(EW$19*EW36)+(EX$19*EX36)+(EY$19*EY36)+(EZ$19*EZ36)+(FA$19*FA36)+(FB$19*FB36)+(FC$19*FC36)+(FD$19*FD36)+(FE$19*FE36)+(FF$19*FF36)+(FG$19*FG36)+(FH$19*FH36)+(FI$19*FI36))","v":0},null,null,null,null,null,null,null,null,null,null,null,null,null,null,null,null,null,null,null,null,null,null,null,null,null,null,{"$f":"IF(OR('Set UP'!$C22=0,'Set UP'!$D22=0,'Set UP'!$E22=0),\"\",(FL$19*FL36)+(FM$19*FM36)+(FN$19*FN36)+(FO$19*FO36)+(FP$19*FP36)+(FQ$19*FQ36)+(FR$19*FR36)+(FS$19*FS36)+(FT$19*FT36)+(FU$19*FU36)+(FV$19*FV36)+(FW$19*FW36)+(FX$19*FX36)+(FY$19*FY36)+(FZ$19*FZ36)+(GA$19*GA36)+(GB$19*GB36)+(GC$19*GC36)+(GD$19*GD36)+(GE$19*GE36)+(GF$19*GF36)+(GG$19*GG36)+(GH$19*GH36)+(GI$19*GI36)+(GJ$19*GJ36))","v":0},null,null,null,null,null,null,null,null,null,null,null,null,null,null,null,null,null,null,null,null,null,null,null,null,null,null,{"$f":"IF(OR('Set UP'!$C22=0,'Set UP'!$D22=0,'Set UP'!$E22=0),\"\",(GM$19*GM36)+(GN$19*GN36)+(GO$19*GO36)+(GP$19*GP36)+(GQ$19*GQ36)+(GR$19*GR36)+(GS$19*GS36)+(GT$19*GT36)+(GU$19*GU36)+(GV$19*GV36)+(GW$19*GW36)+(GX$19*GX36)+(GY$19*GY36)+(GZ$19*GZ36)+(HA$19*HA36)+(HB$19*HB36)+(HC$19*HC36)+(HD$19*HD36)+(HE$19*HE36)+(HF$19*HF36)+(HG$19*HG36)+(HH$19*HH36)+(HI$19*HI36)+(HJ$19*HJ36)+(HK$19*HK36))","v":0},null,null,null,null,null,null,null,null,null,null,null,null,null,null,null,null,null,null,null,null,null,null,null,null,null,null,{"$f":"IF(OR('Set UP'!$C22=0,'Set UP'!$D22=0,'Set UP'!$E22=0),\"\",(HN$19*HN36)+(HO$19*HO36)+(HP$19*HP36)+(HQ$19*HQ36)+(HR$19*HR36)+(HS$19*HS36)+(HT$19*HT36)+(HU$19*HU36)+(HV$19*HV36)+(HW$19*HW36)+(HX$19*HX36)+(HY$19*HY36)+(HZ$19*HZ36)+(IA$19*IA36)+(IB$19*IB36)+(IC$19*IC36)+(ID$19*ID36)+(IE$19*IE36)+(IF$19*IF36)+(IG$19*IG36)+(IH$19*IH36)+(II$19*II36)+(IJ$19*IJ36)+(IK$19*IK36)+(IL$19*IL36))","v":0},null,null,null,null,null,null,null,null,null,null,null,null,null,null,null,null,null,null,null,null,null,null,null,null,null,null,{"$f":"IF(OR('Set UP'!$C22=0,'Set UP'!$D22=0,'Set UP'!$E22=0),\"\",(IO$19*IO36)+(IP$19*IP36)+(IQ$19*IQ36)+(IR$19*IR36)+(IS$19*IS36)+(IT$19*IT36)+(IU$19*IU36)+(IV$19*IV36)+(IW$19*IW36)+(IX$19*IX36)+(IY$19*IY36)+(IZ$19*IZ36)+(JA$19*JA36)+(JB$19*JB36)+(JC$19*JC36)+(JD$19*JD36)+(JE$19*JE36)+(JF$19*JF36)+(JG$19*JG36)+(JH$19*JH36)+(JI$19*JI36)+(JJ$19*JJ36)+(JK$19*JK36)+(JL$19*JL36)+(JM$19*JM36))","v":0},{"$f":"IF(OR('Set UP'!$C22=0,'Set UP'!$D22=0,'Set UP'!$E22=0),\"\",(AF36+BG36+CH36+DI36+EJ36+FK36+GL36+HM36+JO36+IN36))","v":195},{"$f":"IF(OR('Set UP'!$C22=0,'Set UP'!$D22=0,'Set UP'!$E22=0),\"\",RANK(JP36,$JP$21:$JP$60,0))","v":7},{"$f":"IF(OR('Set UP'!K22<>1,'Set UP'!C22=0,'Set UP'!D22=0,'Set UP'!E22=0,'Set UP'!F22=0),\"\",$JP36)","v":""},{"$f":"IF(OR('Set UP'!K22<>1,'Set UP'!C22=0,'Set UP'!D22=0,'Set UP'!E22=0,'Set UP'!F22=0),\"\",RANK(JR36,$JR$21:$JR$60,0))","v":""},{"$f":"IF(OR('Set UP'!K22<>2,'Set UP'!C22=0,'Set UP'!D22=0,'Set UP'!E22=0,'Set UP'!F22=0),\"\",$JP36)","v":195},{"$f":"IF(OR('Set UP'!K22<>2,'Set UP'!C22=0,'Set UP'!D22=0,'Set UP'!E22=0,'Set UP'!F22=0),\"\",RANK(JT36,$JT$21:$JT$60,0))","v":2},{"$f":"IF(OR('Set UP'!F22<>\"F\",'Set UP'!C22=0,'Set UP'!D22=0,'Set UP'!E22=0),\"\",$JP36)","v":""},{"$f":"IF(OR('Set UP'!F22<>\"F\",'Set UP'!C22=0,'Set UP'!D22=0,'Set UP'!E22=0),\"\",RANK(JV36,$JV$21:$JV$60,0))","v":""},{"$f":"IF(OR('Set UP'!F22<>\"NS\",'Set UP'!C22=0,'Set UP'!D22=0,'Set UP'!E22=0),\"\",$JP36)","v":""},{"$f":"IF(OR('Set UP'!F22<>\"NS\",'Set UP'!C22=0,'Set UP'!D22=0,'Set UP'!E22=0),\"\",RANK(JX36,$JX$21:$JX$60,0))","v":""},{"$f":"IF(OR('Set UP'!$C22=0,'Set UP'!$D22=0,'Set UP'!$E22=0,JP36=0),\"\",JP36/MAX(JP$21:JP$60)*1000)","v":658.78378378378375}]
[null,17,{"$f":"IF(OR('Set UP'!$C23=0,'Set UP'!$D23=0,'Set UP'!$E23=0,'Set UP'!F23=0),\"  --\",'Set UP'!C23)","v":1439},{"$f":"IF(OR('Set UP'!$C23=0,'Set UP'!$D23=0,'Set UP'!$E23=0,'Set UP'!F23=0),\"  --\",'Set UP'!D23&\" \"&'Set UP'!E23)","v":"University of Plymouth A"},{"$f":"IF(OR('Set UP'!$C23=0,'Set UP'!$D23=0,'Set UP'!$E23=0,'Set UP'!F23=0),\"  --\",'Set UP'!F23)","v":"S"},3,3,8,4,null,null,null,null,null,null,null,null,null,null,null,null,null,null,null,null,null,null,null,null,null,null,{"$f":"IF(OR('Set UP'!$C23=0,'Set UP'!$D23=0,'Set UP'!$E23=0),\"\",(F$19*F37)+(G$19*G37)+(H$19*H37)+(I$19*I37)+(J$19*J37)+(K$19*K37)+(L$19*L37)+(M$19*M37)+(N$19*N37)+(O$19*O37)+(P$19*P37)+(Q$19*Q37)+(R$19*R37)+(S$19*S37)+(T$19*T37)+(U$19*U37)+(V$19*V37)+(W$19*W37)+(X$19*X37)+(Y$19*Y37)+(Z$19*Z37)+(AA$19*AA37)+(AB$19*AB37)+(AC$19*AC37)+(AD$19*AD37))","v":39},7,7,8,0,0,null,null,null,null,null,null,null,null,null,null,null,null,null,null,null,null,null,null,null,null,null,{"$f":"IF(OR('Set UP'!$C23=0,'Set UP'!$D23=0,'Set UP'!$E23=0),\"\",(AG$19*AG37)+(AH$19*AH37)+(AI$19*AI37)+(AJ$19*AJ37)+(AK$19*AK37)+(AL$19*AL37)+(AM$19*AM37)+(AN$19*AN37)+(AO$19*AO37)+(AP$19*AP37)+(AQ$19*AQ37)+(AR$19*AR37)+(AS$19*AS37)+(AT$19*AT37)+(AU$19*AU37)+(AV$19*AV37)+(AW$19*AW37)+(AX$19*AX37)+(AY$19*AY37)+(AZ$19*AZ37)+(BA$19*BA37)+(BB$19*BB37)+(BC$19*BC37)+(BD$19*BD37)+(BE$19*BE37))","v":29},0,0,0,0,0,0,8,8,2,3,4,3,null,null,null,null,null,null,null,null,null,null,null,null,null,null,{"$f":"IF(OR('Set UP'!$C23=0,'Set UP'!$D23=0,'Set UP'!$E23=0),\"\",(BH$19*BH37)+(BI$19*BI37)+(BJ$19*BJ37)+(BK$19*BK37)+(BL$19*BL37)+(BM$19*BM37)+(BN$19*BN37)+(BO$19*BO37)+(BP$19*BP37)+(BQ$19*BQ37)+(BR$19*BR37)+(BS$19*BS37)+(BT$19*BT37)+(BU$19*BU37)+(BV$19*BV37)+(BW$19*BW37)+(BX$19*BX37)+(BY$19*BY37)+(BZ$19*BZ37)+(CA$19*CA37)+(CB$19*CB37)+(CC$19*CC37)+(CD$19*CD37)+(CE$19*CE37)+(CF$19*CF37))","v":34.5},7,6,0,0,7,4,2,0,0,null,null,null,null,null,null,null,null,null,null,null,null,null,null,null,null,null,{"$f":"IF(OR('Set UP'!$C23=0,'Set UP'!$D23=0,'Set UP'!$E23=0),\"\",(CI$19*CI37)+(CJ$19*CJ37)+(CK$19*CK37)+(CL$19*CL37)+(CM$19*CM37)+(CN$19*CN37)+(CO$19*CO37)+(CP$19*CP37)+(CQ$19*CQ37)+(CR$19*CR37)+(CS$19*CS37)+(CT$19*CT37)+(CU$19*CU37)+(CV$19*CV37)+(CW$19*CW37)+(CX$19*CX37)+(CY$19*CY37)+(CZ$19*CZ37)+(DA$19*DA37)+(DB$19*DB37)+(DC$19*DC37)+(DD$19*DD37)+(DE$19*DE37)+(DF$19*DF37)+(DG$19*DG37))","v":58.5},6,9,2,3,5,5,7,1,6,0,null,null,null,null,null,null,null,null,null,null,null,null,null,null,null,null,{"$f":"IF(OR('Set UP'!$C23=0,'Set UP'!$D23=0,'Set UP'!$E23=0),\"\",(DJ$19*DJ37)+(DK$19*DK37)+(DL$19*DL37)+(DM$19*DM37)+(DN$19*DN37)+(DO$19*DO37)+(DP$19*DP37)+(DQ$19*DQ37)+(DR$19*DR37)+(DS$19*DS37)+(DT$19*DT37)+(DU$19*DU37)+(DV$19*DV37)+(DW$19*DW37)+(DX$19*DX37)+(DY$19*DY37)+(DZ$19*DZ37)+(EA$19*EA37)+(EB$19*EB37)+(EC$19*EC37)+(ED$19*ED37)+(EE$19*EE37)+(EF$19*EF37)+(EG$19*EG37)+(EH$19*EH37))","v":56},null,null,null,null,null,null,null,null,null,null,null,null,null,null,null,null,null,null,null,null,null,null,null,null,null,null,{"$f":"IF(OR('Set UP'!$C23=0,'Set UP'!$D23=0,'Set UP'!$E23=0),\"\",(EK$19*EK37)+(EL$19*EL37)+(EM$19*EM37)+(EN$19*EN37)+(EO$19*EO37)+(EP$19*EP37)+(EQ$19*EQ37)+(ER$19*ER37)+(ES$19*ES37)+(ET$19*ET37)+(EU$19*EU37)+(EV$19*EV37)+(EW$19*EW37)+(EX$19*EX37)+(EY$19*EY37)+(EZ$19*EZ37)+(FA$19*FA37)+(FB$19*FB37)+(FC$19*FC37)+(FD$19*FD37)+(FE$19*FE37)+(FF$19*FF37)+(FG$19*FG37)+(FH$19*FH37)+(FI$19*FI37))","v":0},null,null,null,null,null,null,null,null,null,null,null,null,null,null,null,null,null,null,null,null,null,null,null,null,null,null,{"$f":"IF(OR('Set UP'!$C23=0,'Set UP'!$D23=0,'Set UP'!$E23=0),\"\",(FL$19*FL37)+(FM$19*FM37)+(FN$19*FN37)+(FO$19*FO37)+(FP$19*FP37)+(FQ$19*FQ37)+(FR$19*FR37)+(FS$19*FS37)+(FT$19*FT37)+(FU$19*FU37)+(FV$19*FV37)+(FW$19*FW37)+(FX$19*FX37)+(FY$19*FY37)+(FZ$19*FZ37)+(GA$19*GA37)+(GB$19*GB37)+(GC$19*GC37)+(GD$19*GD37)+(GE$19*GE37)+(GF$19*GF37)+(GG$19*GG37)+(GH$19*GH37)+(GI$19*GI37)+(GJ$19*GJ37))","v":0},null,null,null,null,null,null,null,null,null,null,null,null,null,null,null,null,null,null,null,null,null,null,null,null,null,null,{"$f":"IF(OR('Set UP'!$C23=0,'Set UP'!$D23=0,'Set UP'!$E23=0),\"\",(GM$19*GM37)+(GN$19*GN37)+(GO$19*GO37)+(GP$19*GP37)+(GQ$19*GQ37)+(GR$19*GR37)+(GS$19*GS37)+(GT$19*GT37)+(GU$19*GU37)+(GV$19*GV37)+(GW$19*GW37)+(GX$19*GX37)+(GY$19*GY37)+(GZ$19*GZ37)+(HA$19*HA37)+(HB$19*HB37)+(HC$19*HC37)+(HD$19*HD37)+(HE$19*HE37)+(HF$19*HF37)+(HG$19*HG37)+(HH$19*HH37)+(HI$19*HI37)+(HJ$19*HJ37)+(HK$19*HK37))","v":0},null,null,null,null,null,null,null,null,null,null,null,null,null,null,null,null,null,null,null,null,null,null,null,null,null,null,{"$f":"IF(OR('Set UP'!$C23=0,'Set UP'!$D23=0,'Set UP'!$E23=0),\"\",(HN$19*HN37)+(HO$19*HO37)+(HP$19*HP37)+(HQ$19*HQ37)+(HR$19*HR37)+(HS$19*HS37)+(HT$19*HT37)+(HU$19*HU37)+(HV$19*HV37)+(HW$19*HW37)+(HX$19*HX37)+(HY$19*HY37)+(HZ$19*HZ37)+(IA$19*IA37)+(IB$19*IB37)+(IC$19*IC37)+(ID$19*ID37)+(IE$19*IE37)+(IF$19*IF37)+(IG$19*IG37)+(IH$19*IH37)+(II$19*II37)+(IJ$19*IJ37)+(IK$19*IK37)+(IL$19*IL37))","v":0},null,null,null,null,null,null,null,null,null,null,null,null,null,null,null,null,null,null,null,null,null,null,null,null,null,null,{"$f":"IF(OR('Set UP'!$C23=0,'Set UP'!$D23=0,'Set UP'!$E23=0),\"\",(IO$19*IO37)+(IP$19*IP37)+(IQ$19*IQ37)+(IR$19*IR37)+(IS$19*IS37)+(IT$19*IT37)+(IU$19*IU37)+(IV$19*IV37)+(IW$19*IW37)+(IX$19*IX37)+(IY$19*IY37)+(IZ$19*IZ37)+(JA$19*JA37)+(JB$19*JB37)+(JC$19*JC37)+(JD$19*JD37)+(JE$19*JE37)+(JF$19*JF37)+(JG$19*JG37)+(JH$19*JH37)+(JI$19*JI37)+(JJ$19*JJ37)+(JK$19*JK37)+(JL$19*JL37)+(JM$19*JM37))","v":0},{"$f":"IF(OR('Set UP'!$C23=0,'Set UP'!$D23=0,'Set UP'!$E23=0),\"\",(AF37+BG37+CH37+DI37+EJ37+FK37+GL37+HM37+JO37+IN37))","v":217},{"$f":"IF(OR('Set UP'!$C23=0,'Set UP'!$D23=0,'Set UP'!$E23=0),\"\",RANK(JP37,$JP$21:$JP$60,0))","v":2},{"$f":"IF(OR('Set UP'!K23<>1,'Set UP'!C23=0,'Set UP'!D23=0,'Set UP'!E23=0,'Set UP'!F23=0),\"\",$JP37)","v":217},{"$f":"IF(OR('Set UP'!K23<>1,'Set UP'!C23=0,'Set UP'!D23=0,'Set UP'!E23=0,'Set UP'!F23=0),\"\",RANK(JR37,$JR$21:$JR$60,0))","v":2},{"$f":"IF(OR('Set UP'!K23<>2,'Set UP'!C23=0,'Set UP'!D23=0,'Set UP'!E23=0,'Set UP'!F23=0),\"\",$JP37)","v":""},{"$f":"IF(OR('Set UP'!K23<>2,'Set UP'!C23=0,'Set UP'!D23=0,'Set UP'!E23=0,'Set UP'!F23=0),\"\",RANK(JT37,$JT$21:$JT$60,0))","v":""},{"$f":"IF(OR('Set UP'!F23<>\"F\",'Set UP'!C23=0,'Set UP'!D23=0,'Set UP'!E23=0),\"\",$JP37)","v":""},{"$f":"IF(OR('Set UP'!F23<>\"F\",'Set UP'!C23=0,'Set UP'!D23=0,'Set UP'!E23=0),\"\",RANK(JV37,$JV$21:$JV$60,0))","v":""},{"$f":"IF(OR('Set UP'!F23<>\"NS\",'Set UP'!C23=0,'Set UP'!D23=0,'Set UP'!E23=0),\"\",$JP37)","v":""},{"$f":"IF(OR('Set UP'!F23<>\"NS\",'Set UP'!C23=0,'Set UP'!D23=0,'Set UP'!E23=0),\"\",RANK(JX37,$JX$21:$JX$60,0))","v":""},{"$f":"IF(OR('Set UP'!$C23=0,'Set UP'!$D23=0,'Set UP'!$E23=0,JP37=0),\"\",JP37/MAX(JP$21:JP$60)*1000)","v":733.10810810810813}]
[null,18,{"$f":"IF(OR('Set UP'!$C24=0,'Set UP'!$D24=0,'Set UP'!$E24=0,'Set UP'!F24=0),\"  --\",'Set UP'!C24)","v":1461},{"$f":"IF(OR('Set UP'!$C24=0,'Set UP'!$D24=0,'Set UP'!$E24=0,'Set UP'!F24=0),\"  --\",'Set UP'!D24&\" \"&'Set UP'!E24)","v":"Bristol University B"},{"$f":"IF(OR('Set UP'!$C24=0,'Set UP'!$D24=0,'Set UP'!$E24=0,'Set UP'!F24=0),\"  --\",'Set UP'!F24)","v":"S"},2,2,5,4,null,null,null,null,null,null,null,null,null,null,null,null,null,null,null,null,null,null,null,null,null,null,{"$f":"IF(OR('Set UP'!$C24=0,'Set UP'!$D24=0,'Set UP'!$E24=0),\"\",(F$19*F38)+(G$19*G38)+(H$19*H38)+(I$19*I38)+(J$19*J38)+(K$19*K38)+(L$19*L38)+(M$19*M38)+(N$19*N38)+(O$19*O38)+(P$19*P38)+(Q$19*Q38)+(R$19*R38)+(S$19*S38)+(T$19*T38)+(U$19*U38)+(V$19*V38)+(W$19*W38)+(X$19*X38)+(Y$19*Y38)+(Z$19*Z38)+(AA$19*AA38)+(AB$19*AB38)+(AC$19*AC38)+(AD$19*AD38))","v":27},7,7,8,5,0,null,null,null,null,null,null,null,null,null,null,null,null,null,null,null,null,null,null,null,null,null,{"$f":"IF(OR('Set UP'!$C24=0,'Set UP'!$D24=0,'Set UP'!$E24=0),\"\",(AG$19*AG38)+(AH$19*AH38)+(AI$19*AI38)+(AJ$19*AJ38)+(AK$19*AK38)+(AL$19*AL38)+(AM$19*AM38)+(AN$19*AN38)+(AO$19*AO38)+(AP$19*AP38)+(AQ$19*AQ38)+(AR$19*AR38)+(AS$19*AS38)+(AT$19*AT38)+(AU$19*AU38)+(AV$19*AV38)+(AW$19*AW38)+(AX$19*AX38)+(AY$19*AY38)+(AZ$19*AZ38)+(BA$19*BA38)+(BB$19*BB38)+(BC$19*BC38)+(BD$19*BD38)+(BE$19*BE38))","v":34},8,1,0,0,0,0,8,8,3,3,6,3,null,null,null,null,null,null,null,null,null,null,null,null,null,null,{"$f":"IF(OR('Set UP'!$C24=0,'Set UP'!$D24=0,'Set UP'!$E24=0),\"\",(BH$19*BH38)+(BI$19*BI38)+(BJ$19*BJ38)+(BK$19*BK38)+(BL$19*BL38)+(BM$19*BM38)+(BN$19*BN38)+(BO$19*BO38)+(BP$19*BP38)+(BQ$19*BQ38)+(BR$19*BR38)+(BS$19*BS38)+(BT$19*BT38)+(BU$19*BU38)+(BV$19*BV38)+(BW$19*BW38)+(BX$19*BX38)+(BY$19*BY38)+(BZ$19*BZ38)+(CA$19*CA38)+(CB$19*CB38)+(CC$19*CC38)+(CD$19*CD38)+(CE$19*CE38)+(CF$19*CF38))","v":42.5},2,0,0,0,2,0,0,0,0,null,null,null,null,null,null,null,null,null,null,null,null,null,null,null,null,null,{"$f":"IF(OR('Set UP'!$C24=0,'Set UP'!$D24=0,'Set UP'!$E24=0),\"\",(CI$19*CI38)+(CJ$19*CJ38)+(CK$19*CK38)+(CL$19*CL38)+(CM$19*CM38)+(CN$19*CN38)+(CO$19*CO38)+(CP$19*CP38)+(CQ$19*CQ38)+(CR$19*CR38)+(CS$19*CS38)+(CT$19*CT38)+(CU$19*CU38)+(CV$19*CV38)+(CW$19*CW38)+(CX$19*CX38)+(CY$19*CY38)+(CZ$19*CZ38)+(DA$19*DA38)+(DB$19*DB38)+(DC$19*DC38)+(DD$19*DD38)+(DE$19*DE38)+(DF$19*DF38)+(DG$19*DG38))","v":9},5,9,2,4,2,5,0,0,4,2,null,null,null,null,null,null,null,null,null,null,null,null,null,null,null,null,{"$f":"IF(OR('Set UP'!$C24=0,'Set UP'!$D24=0,'Set UP'!$E24=0),\"\",(DJ$19*DJ38)+(DK$19*DK38)+(DL$19*DL38)+(DM$19*DM38)+(DN$19*DN38)+(DO$19*DO38)+(DP$19*DP38)+(DQ$19*DQ38)+(DR$19*DR38)+(DS$19*DS38)+(DT$19*DT38)+(DU$19*DU38)+(DV$19*DV38)+(DW$19*DW38)+(DX$19*DX38)+(DY$19*DY38)+(DZ$19*DZ38)+(EA$19*EA38)+(EB$19*EB38)+(EC$19*EC38)+(ED$19*ED38)+(EE$19*EE38)+(EF$19*EF38)+(EG$19*EG38)+(EH$19*EH38))","v":42.5},null,null,null,null,null,null,null,null,null,null,null,null,null,null,null,null,null,null,null,null,null,null,null,null,null,null,{"$f":"IF(OR('Set UP'!$C24=0,'Set UP'!$D24=0,'Set UP'!$E24=0),\"\",(EK$19*EK38)+(EL$19*EL38)+(EM$19*EM38)+(EN$19*EN38)+(EO$19*EO38)+(EP$19*EP38)+(EQ$19*EQ38)+(ER$19*ER38)+(ES$19*ES38)+(ET$19*ET38)+(EU$19*EU38)+(EV$19*EV38)+(EW$19*EW38)+(EX$19*EX38)+(EY$19*EY38)+(EZ$19*EZ38)+(FA$19*FA38)+(FB$19*FB38)+(FC$19*FC38)+(FD$19*FD38)+(FE$19*FE38)+(FF$19*FF38)+(FG$19*FG38)+(FH$19*FH38)+(FI$19*FI38))","v":0},null,null,null,null,null,null,null,null,null,null,null,null,null,null,null,null,null,null,null,null,null,null,null,null,null,null,{"$f":"IF(OR('Set UP'!$C24=0,'Set UP'!$D24=0,'Set UP'!$E24=0),\"\",(FL$19*FL38)+(FM$19*FM38)+(FN$19*FN38)+(FO$19*FO38)+(FP$19*FP38)+(FQ$19*FQ38)+(FR$19*FR38)+(FS$19*FS38)+(FT$19*FT38)+(FU$19*FU38)+(FV$19*FV38)+(FW$19*FW38)+(FX$19*FX38)+(FY$19*FY38)+(FZ$19*FZ38)+(GA$19*GA38)+(GB$19*GB38)+(GC$19*GC38)+(GD$19*GD38)+(GE$19*GE38)+(GF$19*GF38)+(GG$19*GG38)+(GH$19*GH38)+(GI$19*GI38)+(GJ$19*GJ38))","v":0},null,null,null,null,null,null,null,null,null,null,null,null,null,null,null,null,null,null,null,null,null,null,null,null,null,null,{"$f":"IF(OR('Set UP'!$C24=0,'Set UP'!$D24=0,'Set UP'!$E24=0),\"\",(GM$19*GM38)+(GN$19*GN38)+(GO$19*GO38)+(GP$19*GP38)+(GQ$19*GQ38)+(GR$19*GR38)+(GS$19*GS38)+(GT$19*GT38)+(GU$19*GU38)+(GV$19*GV38)+(GW$19*GW38)+(GX$19*GX38)+(GY$19*GY38)+(GZ$19*GZ38)+(HA$19*HA38)+(HB$19*HB38)+(HC$19*HC38)+(HD$19*HD38)+(HE$19*HE38)+(HF$19*HF38)+(HG$19*HG38)+(HH$19*HH38)+(HI$19*HI38)+(HJ$19*HJ38)+(HK$19*HK38))","v":0},null,null,null,null,null,null,null,null,null,null,null,null,null,null,null,null,null,null,null,null,null,null,null,null,null,null,{"$f":"IF(OR('Set UP'!$C24=0,'Set UP'!$D24=0,'Set UP'!$E24=0),\"\",(HN$19*HN38)+(HO$19*HO38)+(HP$19*HP38)+(HQ$19*HQ38)+(HR$19*HR38)+(HS$19*HS38)+(HT$19*HT38)+(HU$19*HU38)+(HV$19*HV38)+(HW$19*HW38)+(HX$19*HX38)+(HY$19*HY38)+(HZ$19*HZ38)+(IA$19*IA38)+(IB$19*IB38)+(IC$19*IC38)+(ID$19*ID38)+(IE$19*IE38)+(IF$19*IF38)+(IG$19*IG38)+(IH$19*IH38)+(II$19*II38)+(IJ$19*IJ38)+(IK$19*IK38)+(IL$19*IL38))","v":0},null,null,null,null,null,null,null,null,null,null,null,null,null,null,null,null,null,null,null,null,null,null,null,null,null,null,{"$f":"IF(OR('Set UP'!$C24=0,'Set UP'!$D24=0,'Set UP'!$E24=0),\"\",(IO$19*IO38)+(IP$19*IP38)+(IQ$19*IQ38)+(IR$19*IR38)+(IS$19*IS38)+(IT$19*IT38)+(IU$19*IU38)+(IV$19*IV38)+(IW$19*IW38)+(IX$19*IX38)+(IY$19*IY38)+(IZ$19*IZ38)+(JA$19*JA38)+(JB$19*JB38)+(JC$19*JC38)+(JD$19*JD38)+(JE$19*JE38)+(JF$19*JF38)+(JG$19*JG38)+(JH$19*JH38)+(JI$19*JI38)+(JJ$19*JJ38)+(JK$19*JK38)+(JL$19*JL38)+(JM$19*JM38))","v":0},{"$f":"IF(OR('Set UP'!$C24=0,'Set UP'!$D24=0,'Set UP'!$E24=0),\"\",(AF38+BG38+CH38+DI38+EJ38+FK38+GL38+HM38+JO38+IN38))","v":155},{"$f":"IF(OR('Set UP'!$C24=0,'Set UP'!$D24=0,'Set UP'!$E24=0),\"\",RANK(JP38,$JP$21:$JP$60,0))","v":13},{"$f":"IF(OR('Set UP'!K24<>1,'Set UP'!C24=0,'Set UP'!D24=0,'Set UP'!E24=0,'Set UP'!F24=0),\"\",$JP38)","v":""},{"$f":"IF(OR('Set UP'!K24<>1,'Set UP'!C24=0,'Set UP'!D24=0,'Set UP'!E24=0,'Set UP'!F24=0),\"\",RANK(JR38,$JR$21:$JR$60,0))","v":""},{"$f":"IF(OR('Set UP'!K24<>2,'Set UP'!C24=0,'Set UP'!D24=0,'Set UP'!E24=0,'Set UP'!F24=0),\"\",$JP38)","v":155},{"$f":"IF(OR('Set UP'!K24<>2,'Set UP'!C24=0,'Set UP'!D24=0,'Set UP'!E24=0,'Set UP'!F24=0),\"\",RANK(JT38,$JT$21:$JT$60,0))","v":5},{"$f":"IF(OR('Set UP'!F24<>\"F\",'Set UP'!C24=0,'Set UP'!D24=0,'Set UP'!E24=0),\"\",$JP38)","v":""},{"$f":"IF(OR('Set UP'!F24<>\"F\",'Set UP'!C24=0,'Set UP'!D24=0,'Set UP'!E24=0),\"\",RANK(JV38,$JV$21:$JV$60,0))","v":""},{"$f":"IF(OR('Set UP'!F24<>\"NS\",'Set UP'!C24=0,'Set UP'!D24=0,'Set UP'!E24=0),\"\",$JP38)","v":""},{"$f":"IF(OR('Set UP'!F24<>\"NS\",'Set UP'!C24=0,'Set UP'!D24=0,'Set UP'!E24=0),\"\",RANK(JX38,$JX$21:$JX$60,0))","v":""},{"$f":"IF(OR('Set UP'!$C24=0,'Set UP'!$D24=0,'Set UP'!$E24=0,JP38=0),\"\",JP38/MAX(JP$21:JP$60)*1000)","v":523.64864864864865}]
[null,19,{"$f":"IF(OR('Set UP'!$C25=0,'Set UP'!$D25=0,'Set UP'!$E25=0,'Set UP'!F25=0),\"  --\",'Set UP'!C25)","v":1436},{"$f":"IF(OR('Set UP'!$C25=0,'Set UP'!$D25=0,'Set UP'!$E25=0,'Set UP'!F25=0),\"  --\",'Set UP'!D25&\" \"&'Set UP'!E25)","v":"Loughborough University C"},{"$f":"IF(OR('Set UP'!$C25=0,'Set UP'!$D25=0,'Set UP'!$E25=0,'Set UP'!F25=0),\"  --\",'Set UP'!F25)","v":"S"},7,7,7,7,null,null,null,null,null,null,null,null,null,null,null,null,null,null,null,null,null,null,null,null,null,null,{"$f":"IF(OR('Set UP'!$C25=0,'Set UP'!$D25=0,'Set UP'!$E25=0),\"\",(F$19*F39)+(G$19*G39)+(H$19*H39)+(I$19*I39)+(J$19*J39)+(K$19*K39)+(L$19*L39)+(M$19*M39)+(N$19*N39)+(O$19*O39)+(P$19*P39)+(Q$19*Q39)+(R$19*R39)+(S$19*S39)+(T$19*T39)+(U$19*U39)+(V$19*V39)+(W$19*W39)+(X$19*X39)+(Y$19*Y39)+(Z$19*Z39)+(AA$19*AA39)+(AB$19*AB39)+(AC$19*AC39)+(AD$19*AD39))","v":52.5},4,4,0,0,0,null,null,null,null,null,null,null,null,null,null,null,null,null,null,null,null,null,null,null,null,null,{"$f":"IF(OR('Set UP'!$C25=0,'Set UP'!$D25=0,'Set UP'!$E25=0),\"\",(AG$19*AG39)+(AH$19*AH39)+(AI$19*AI39)+(AJ$19*AJ39)+(AK$19*AK39)+(AL$19*AL39)+(AM$19*AM39)+(AN$19*AN39)+(AO$19*AO39)+(AP$19*AP39)+(AQ$19*AQ39)+(AR$19*AR39)+(AS$19*AS39)+(AT$19*AT39)+(AU$19*AU39)+(AV$19*AV39)+(AW$19*AW39)+(AX$19*AX39)+(AY$19*AY39)+(AZ$19*AZ39)+(BA$19*BA39)+(BB$19*BB39)+(BC$19*BC39)+(BD$19*BD39)+(BE$19*BE39))","v":12},3,3,1,0,0,0,5,2,5,4,4,7,null,null,null,null,null,null,null,null,null,null,null,null,null,null,{"$f":"IF(OR('Set UP'!$C25=0,'Set UP'!$D25=0,'Set UP'!$E25=0),\"\",(BH$19*BH39)+(BI$19*BI39)+(BJ$19*BJ39)+(BK$19*BK39)+(BL$19*BL39)+(BM$19*BM39)+(BN$19*BN39)+(BO$19*BO39)+(BP$19*BP39)+(BQ$19*BQ39)+(BR$19*BR39)+(BS$19*BS39)+(BT$19*BT39)+(BU$19*BU39)+(BV$19*BV39)+(BW$19*BW39)+(BX$19*BX39)+(BY$19*BY39)+(BZ$19*BZ39)+(CA$19*CA39)+(CB$19*CB39)+(CC$19*CC39)+(CD$19*CD39)+(CE$19*CE39)+(CF$19*CF39))","v":34},4,0,0,1,4,1,1,0,0,null,null,null,null,null,null,null,null,null,null,null,null,null,null,null,null,null,{"$f":"IF(OR('Set UP'!$C25=0,'Set UP'!$D25=0,'Set UP'!$E25=0),\"\",(CI$19*CI39)+(CJ$19*CJ39)+(CK$19*CK39)+(CL$19*CL39)+(CM$19*CM39)+(CN$19*CN39)+(CO$19*CO39)+(CP$19*CP39)+(CQ$19*CQ39)+(CR$19*CR39)+(CS$19*CS39)+(CT$19*CT39)+(CU$19*CU39)+(CV$19*CV39)+(CW$19*CW39)+(CX$19*CX39)+(CY$19*CY39)+(CZ$19*CZ39)+(DA$19*DA39)+(DB$19*DB39)+(DC$19*DC39)+(DD$19*DD39)+(DE$19*DE39)+(DF$19*DF39)+(DG$19*DG39))","v":22},1,0,1,1,0,0,0,0,0,0,null,null,null,null,null,null,null,null,null,null,null,null,null,null,null,null,{"$f":"IF(OR('Set UP'!$C25=0,'Set UP'!$D25=0,'Set UP'!$E25=0),\"\",(DJ$19*DJ39)+(DK$19*DK39)+(DL$19*DL39)+(DM$19*DM39)+(DN$19*DN39)+(DO$19*DO39)+(DP$19*DP39)+(DQ$19*DQ39)+(DR$19*DR39)+(DS$19*DS39)+(DT$19*DT39)+(DU$19*DU39)+(DV$19*DV39)+(DW$19*DW39)+(DX$19*DX39)+(DY$19*DY39)+(DZ$19*DZ39)+(EA$19*EA39)+(EB$19*EB39)+(EC$19*EC39)+(ED$19*ED39)+(EE$19*EE39)+(EF$19*EF39)+(EG$19*EG39)+(EH$19*EH39))","v":3},null,null,null,null,null,null,null,null,null,null,null,null,null,null,null,null,null,null,null,null,null,null,null,null,null,null,{"$f":"IF(OR('Set UP'!$C25=0,'Set UP'!$D25=0,'Set UP'!$E25=0),\"\",(EK$19*EK39)+(EL$19*EL39)+(EM$19*EM39)+(EN$19*EN39)+(EO$19*EO39)+(EP$19*EP39)+(EQ$19*EQ39)+(ER$19*ER39)+(ES$19*ES39)+(ET$19*ET39)+(EU$19*EU39)+(EV$19*EV39)+(EW$19*EW39)+(EX$19*EX39)+(EY$19*EY39)+(EZ$19*EZ39)+(FA$19*FA39)+(FB$19*FB39)+(FC$19*FC39)+(FD$19*FD39)+(FE$19*FE39)+(FF$19*FF39)+(FG$19*FG39)+(FH$19*FH39)+(FI$19*FI39))","v":0},null,null,null,null,null,null,null,null,null,null,null,null,null,null,null,null,null,null,null,null,null,null,null,null,null,null,{"$f":"IF(OR('Set UP'!$C25=0,'Set UP'!$D25=0,'Set UP'!$E25=0),\"\",(FL$19*FL39)+(FM$19*FM39)+(FN$19*FN39)+(FO$19*FO39)+(FP$19*FP39)+(FQ$19*FQ39)+(FR$19*FR39)+(FS$19*FS39)+(FT$19*FT39)+(FU$19*FU39)+(FV$19*FV39)+(FW$19*FW39)+(FX$19*FX39)+(FY$19*FY39)+(FZ$19*FZ39)+(GA$19*GA39)+(GB$19*GB39)+(GC$19*GC39)+(GD$19*GD39)+(GE$19*GE39)+(GF$19*GF39)+(GG$19*GG39)+(GH$19*GH39)+(GI$19*GI39)+(GJ$19*GJ39))","v":0},null,null,null,null,null,null,null,null,null,null,null,null,null,null,null,null,null,null,null,null,null,null,null,null,null,null,{"$f":"IF(OR('Set UP'!$C25=0,'Set UP'!$D25=0,'Set UP'!$E25=0),\"\",(GM$19*GM39)+(GN$19*GN39)+(GO$19*GO39)+(GP$19*GP39)+(GQ$19*GQ39)+(GR$19*GR39)+(GS$19*GS39)+(GT$19*GT39)+(GU$19*GU39)+(GV$19*GV39)+(GW$19*GW39)+(GX$19*GX39)+(GY$19*GY39)+(GZ$19*GZ39)+(HA$19*HA39)+(HB$19*HB39)+(HC$19*HC39)+(HD$19*HD39)+(HE$19*HE39)+(HF$19*HF39)+(HG$19*HG39)+(HH$19*HH39)+(HI$19*HI39)+(HJ$19*HJ39)+(HK$19*HK39))","v":0},null,null,null,null,null,null,null,null,null,null,null,null,null,null,null,null,null,null,null,null,null,null,null,null,null,null,{"$f":"IF(OR('Set UP'!$C25=0,'Set UP'!$D25=0,'Set UP'!$E25=0),\"\",(HN$19*HN39)+(HO$19*HO39)+(HP$19*HP39)+(HQ$19*HQ39)+(HR$19*HR39)+(HS$19*HS39)+(HT$19*HT39)+(HU$19*HU39)+(HV$19*HV39)+(HW$19*HW39)+(HX$19*HX39)+(HY$19*HY39)+(HZ$19*HZ39)+(IA$19*IA39)+(IB$19*IB39)+(IC$19*IC39)+(ID$19*ID39)+(IE$19*IE39)+(IF$19*IF39)+(IG$19*IG39)+(IH$19*IH39)+(II$19*II39)+(IJ$19*IJ39)+(IK$19*IK39)+(IL$19*IL39))","v":0},null,null,null,null,null,null,null,null,null,null,null,null,null,null,null,null,null,null,null,null,null,null,null,null,null,null,{"$f":"IF(OR('Set UP'!$C25=0,'Set UP'!$D25=0,'Set UP'!$E25=0),\"\",(IO$19*IO39)+(IP$19*IP39)+(IQ$19*IQ39)+(IR$19*IR39)+(IS$19*IS39)+(IT$19*IT39)+(IU$19*IU39)+(IV$19*IV39)+(IW$19*IW39)+(IX$19*IX39)+(IY$19*IY39)+(IZ$19*IZ39)+(JA$19*JA39)+(JB$19*JB39)+(JC$19*JC39)+(JD$19*JD39)+(JE$19*JE39)+(JF$19*JF39)+(JG$19*JG39)+(JH$19*JH39)+(JI$19*JI39)+(JJ$19*JJ39)+(JK$19*JK39)+(JL$19*JL39)+(JM$19*JM39))","v":0},{"$f":"IF(OR('Set UP'!$C25=0,'Set UP'!$D25=0,'Set UP'!$E25=0),\"\",(AF39+BG39+CH39+DI39+EJ39+FK39+GL39+HM39+JO39+IN39))","v":123.5},{"$f":"IF(OR('Set UP'!$C25=0,'Set UP'!$D25=0,'Set UP'!$E25=0),\"\",RANK(JP39,$JP$21:$JP$60,0))","v":16},{"$f":"IF(OR('Set UP'!K25<>1,'Set UP'!C25=0,'Set UP'!D25=0,'Set UP'!E25=0,'Set UP'!F25=0),\"\",$JP39)","v":""},{"$f":"IF(OR('Set UP'!K25<>1,'Set UP'!C25=0,'Set UP'!D25=0,'Set UP'!E25=0,'Set UP'!F25=0),\"\",RANK(JR39,$JR$21:$JR$60,0))","v":""},{"$f":"IF(OR('Set UP'!K25<>2,'Set UP'!C25=0,'Set UP'!D25=0,'Set UP'!E25=0,'Set UP'!F25=0),\"\",$JP39)","v":123.5},{"$f":"IF(OR('Set UP'!K25<>2,'Set UP'!C25=0,'Set UP'!D25=0,'Set UP'!E25=0,'Set UP'!F25=0),\"\",RANK(JT39,$JT$21:$JT$60,0))","v":7},{"$f":"IF(OR('Set UP'!F25<>\"F\",'Set UP'!C25=0,'Set UP'!D25=0,'Set UP'!E25=0),\"\",$JP39)","v":""},{"$f":"IF(OR('Set UP'!F25<>\"F\",'Set UP'!C25=0,'Set UP'!D25=0,'Set UP'!E25=0),\"\",RANK(JV39,$JV$21:$JV$60,0))","v":""},{"$f":"IF(OR('Set UP'!F25<>\"NS\",'Set UP'!C25=0,'Set UP'!D25=0,'Set UP'!E25=0),\"\",$JP39)","v":""},{"$f":"IF(OR('Set UP'!F25<>\"NS\",'Set UP'!C25=0,'Set UP'!D25=0,'Set UP'!E25=0),\"\",RANK(JX39,$JX$21:$JX$60,0))","v":""},{"$f":"IF(OR('Set UP'!$C25=0,'Set UP'!$D25=0,'Set UP'!$E25=0,JP39=0),\"\",JP39/MAX(JP$21:JP$60)*1000)","v":417.22972972972974}]
[null,20,{"$f":"IF(OR('Set UP'!$C26=0,'Set UP'!$D26=0,'Set UP'!$E26=0,'Set UP'!F26=0),\"  --\",'Set UP'!C26)","v":1443},{"$f":"IF(OR('Set UP'!$C26=0,'Set UP'!$D26=0,'Set UP'!$E26=0,'Set UP'!F26=0),\"  --\",'Set UP'!D26&\" \"&'Set UP'!E26)","v":"University of Birmingham B"},{"$f":"IF(OR('Set UP'!$C26=0,'Set UP'!$D26=0,'Set UP'!$E26=0,'Set UP'!F26=0),\"  --\",'Set UP'!F26)","v":"S"},9,7,4,8,null,null,null,null,null,null,null,null,null,null,null,null,null,null,null,null,null,null,null,null,null,null,{"$f":"IF(OR('Set UP'!$C26=0,'Set UP'!$D26=0,'Set UP'!$E26=0),\"\",(F$19*F40)+(G$19*G40)+(H$19*H40)+(I$19*I40)+(J$19*J40)+(K$19*K40)+(L$19*L40)+(M$19*M40)+(N$19*N40)+(O$19*O40)+(P$19*P40)+(Q$19*Q40)+(R$19*R40)+(S$19*S40)+(T$19*T40)+(U$19*U40)+(V$19*V40)+(W$19*W40)+(X$19*X40)+(Y$19*Y40)+(Z$19*Z40)+(AA$19*AA40)+(AB$19*AB40)+(AC$19*AC40)+(AD$19*AD40))","v":48},5,7,3,0,0,null,null,null,null,null,null,null,null,null,null,null,null,null,null,null,null,null,null,null,null,null,{"$f":"IF(OR('Set UP'!$C26=0,'Set UP'!$D26=0,'Set UP'!$E26=0),\"\",(AG$19*AG40)+(AH$19*AH40)+(AI$19*AI40)+(AJ$19*AJ40)+(AK$19*AK40)+(AL$19*AL40)+(AM$19*AM40)+(AN$19*AN40)+(AO$19*AO40)+(AP$19*AP40)+(AQ$19*AQ40)+(AR$19*AR40)+(AS$19*AS40)+(AT$19*AT40)+(AU$19*AU40)+(AV$19*AV40)+(AW$19*AW40)+(AX$19*AX40)+(AY$19*AY40)+(AZ$19*AZ40)+(BA$19*BA40)+(BB$19*BB40)+(BC$19*BC40)+(BD$19*BD40)+(BE$19*BE40))","v":21},0,0,0,0,0,0,8,0,2,2,4,3,null,null,null,null,null,null,null,null,null,null,null,null,null,null,{"$f":"IF(OR('Set UP'!$C26=0,'Set UP'!$D26=0,'Set UP'!$E26=0),\"\",(BH$19*BH40)+(BI$19*BI40)+(BJ$19*BJ40)+(BK$19*BK40)+(BL$19*BL40)+(BM$19*BM40)+(BN$19*BN40)+(BO$19*BO40)+(BP$19*BP40)+(BQ$19*BQ40)+(BR$19*BR40)+(BS$19*BS40)+(BT$19*BT40)+(BU$19*BU40)+(BV$19*BV40)+(BW$19*BW40)+(BX$19*BX40)+(BY$19*BY40)+(BZ$19*BZ40)+(CA$19*CA40)+(CB$19*CB40)+(CC$19*CC40)+(CD$19*CD40)+(CE$19*CE40)+(CF$19*CF40))","v":22},7,9,1,4,7,3,9,1,0,null,null,null,null,null,null,null,null,null,null,null,null,null,null,null,null,null,{"$f":"IF(OR('Set UP'!$C26=0,'Set UP'!$D26=0,'Set UP'!$E26=0),\"\",(CI$19*CI40)+(CJ$19*CJ40)+(CK$19*CK40)+(CL$19*CL40)+(CM$19*CM40)+(CN$19*CN40)+(CO$19*CO40)+(CP$19*CP40)+(CQ$19*CQ40)+(CR$19*CR40)+(CS$19*CS40)+(CT$19*CT40)+(CU$19*CU40)+(CV$19*CV40)+(CW$19*CW40)+(CX$19*CX40)+(CY$19*CY40)+(CZ$19*CZ40)+(DA$19*DA40)+(DB$19*DB40)+(DC$19*DC40)+(DD$19*DD40)+(DE$19*DE40)+(DF$19*DF40)+(DG$19*DG40))","v":88.5},4,6,5,4,0,3,0,0,0,0,null,null,null,null,null,null,null,null,null,null,null,null,null,null,null,null,{"$f":"IF(OR('Set UP'!$C26=0,'Set UP'!$D26=0,'Set UP'!$E26=0),\"\",(DJ$19*DJ40)+(DK$19*DK40)+(DL$19*DL40)+(DM$19*DM40)+(DN$19*DN40)+(DO$19*DO40)+(DP$19*DP40)+(DQ$19*DQ40)+(DR$19*DR40)+(DS$19*DS40)+(DT$19*DT40)+(DU$19*DU40)+(DV$19*DV40)+(DW$19*DW40)+(DX$19*DX40)+(DY$19*DY40)+(DZ$19*DZ40)+(EA$19*EA40)+(EB$19*EB40)+(EC$19*EC40)+(ED$19*ED40)+(EE$19*EE40)+(EF$19*EF40)+(EG$19*EG40)+(EH$19*EH40))","v":25.5},null,null,null,null,null,null,null,null,null,null,null,null,null,null,null,null,null,null,null,null,null,null,null,null,null,null,{"$f":"IF(OR('Set UP'!$C26=0,'Set UP'!$D26=0,'Set UP'!$E26=0),\"\",(EK$19*EK40)+(EL$19*EL40)+(EM$19*EM40)+(EN$19*EN40)+(EO$19*EO40)+(EP$19*EP40)+(EQ$19*EQ40)+(ER$19*ER40)+(ES$19*ES40)+(ET$19*ET40)+(EU$19*EU40)+(EV$19*EV40)+(EW$19*EW40)+(EX$19*EX40)+(EY$19*EY40)+(EZ$19*EZ40)+(FA$19*FA40)+(FB$19*FB40)+(FC$19*FC40)+(FD$19*FD40)+(FE$19*FE40)+(FF$19*FF40)+(FG$19*FG40)+(FH$19*FH40)+(FI$19*FI40))","v":0},null,null,null,null,null,null,null,null,null,null,null,null,null,null,null,null,null,null,null,null,null,null,null,null,null,null,{"$f":"IF(OR('Set UP'!$C26=0,'Set UP'!$D26=0,'Set UP'!$E26=0),\"\",(FL$19*FL40)+(FM$19*FM40)+(FN$19*FN40)+(FO$19*FO40)+(FP$19*FP40)+(FQ$19*FQ40)+(FR$19*FR40)+(FS$19*FS40)+(FT$19*FT40)+(FU$19*FU40)+(FV$19*FV40)+(FW$19*FW40)+(FX$19*FX40)+(FY$19*FY40)+(FZ$19*FZ40)+(GA$19*GA40)+(GB$19*GB40)+(GC$19*GC40)+(GD$19*GD40)+(GE$19*GE40)+(GF$19*GF40)+(GG$19*GG40)+(GH$19*GH40)+(GI$19*GI40)+(GJ$19*GJ40))","v":0},null,null,null,null,null,null,null,null,null,null,null,null,null,null,null,null,null,null,null,null,null,null,null,null,null,null,{"$f":"IF(OR('Set UP'!$C26=0,'Set UP'!$D26=0,'Set UP'!$E26=0),\"\",(GM$19*GM40)+(GN$19*GN40)+(GO$19*GO40)+(GP$19*GP40)+(GQ$19*GQ40)+(GR$19*GR40)+(GS$19*GS40)+(GT$19*GT40)+(GU$19*GU40)+(GV$19*GV40)+(GW$19*GW40)+(GX$19*GX40)+(GY$19*GY40)+(GZ$19*GZ40)+(HA$19*HA40)+(HB$19*HB40)+(HC$19*HC40)+(HD$19*HD40)+(HE$19*HE40)+(HF$19*HF40)+(HG$19*HG40)+(HH$19*HH40)+(HI$19*HI40)+(HJ$19*HJ40)+(HK$19*HK40))","v":0},null,null,null,null,null,null,null,null,null,null,null,null,null,null,null,null,null,null,null,null,null,null,null,null,null,null,{"$f":"IF(OR('Set UP'!$C26=0,'Set UP'!$D26=0,'Set UP'!$E26=0),\"\",(HN$19*HN40)+(HO$19*HO40)+(HP$19*HP40)+(HQ$19*HQ40)+(HR$19*HR40)+(HS$19*HS40)+(HT$19*HT40)+(HU$19*HU40)+(HV$19*HV40)+(HW$19*HW40)+(HX$19*HX40)+(HY$19*HY40)+(HZ$19*HZ40)+(IA$19*IA40)+(IB$19*IB40)+(IC$19*IC40)+(ID$19*ID40)+(IE$19*IE40)+(IF$19*IF40)+(IG$19*IG40)+(IH$19*IH40)+(II$19*II40)+(IJ$19*IJ40)+(IK$19*IK40)+(IL$19*IL40))","v":0},null,null,null,null,null,null,null,null,null,null,null,null,null,null,null,null,null,null,null,null,null,null,null,null,null,null,{"$f":"IF(OR('Set UP'!$C26=0,'Set UP'!$D26=0,'Set UP'!$E26=0),\"\",(IO$19*IO40)+(IP$19*IP40)+(IQ$19*IQ40)+(IR$19*IR40)+(IS$19*IS40)+(IT$19*IT40)+(IU$19*IU40)+(IV$19*IV40)+(IW$19*IW40)+(IX$19*IX40)+(IY$19*IY40)+(IZ$19*IZ40)+(JA$19*JA40)+(JB$19*JB40)+(JC$19*JC40)+(JD$19*JD40)+(JE$19*JE40)+(JF$19*JF40)+(JG$19*JG40)+(JH$19*JH40)+(JI$19*JI40)+(JJ$19*JJ40)+(JK$19*JK40)+(JL$19*JL40)+(JM$19*JM40))","v":0},{"$f":"IF(OR('Set UP'!$C26=0,'Set UP'!$D26=0,'Set UP'!$E26=0),\"\",(AF40+BG40+CH40+DI40+EJ40+FK40+GL40+HM40+JO40+IN40))","v":205},{"$f":"IF(OR('Set UP'!$C26=0,'Set UP'!$D26=0,'Set UP'!$E26=0),\"\",RANK(JP40,$JP$21:$JP$60,0))","v":5},{"$f":"IF(OR('Set UP'!K26<>1,'Set UP'!C26=0,'Set UP'!D26=0,'Set UP'!E26=0,'Set UP'!F26=0),\"\",$JP40)","v":""},{"$f":"IF(OR('Set UP'!K26<>1,'Set UP'!C26=0,'Set UP'!D26=0,'Set UP'!E26=0,'Set UP'!F26=0),\"\",RANK(JR40,$JR$21:$JR$60,0))","v":""},{"$f":"IF(OR('Set UP'!K26<>2,'Set UP'!C26=0,'Set UP'!D26=0,'Set UP'!E26=0,'Set UP'!F26=0),\"\",$JP40)","v":205},{"$f":"IF(OR('Set UP'!K26<>2,'Set UP'!C26=0,'Set UP'!D26=0,'Set UP'!E26=0,'Set UP'!F26=0),\"\",RANK(JT40,$JT$21:$JT$60,0))","v":1},{"$f":"IF(OR('Set UP'!F26<>\"F\",'Set UP'!C26=0,'Set UP'!D26=0,'Set UP'!E26=0),\"\",$JP40)","v":""},{"$f":"IF(OR('Set UP'!F26<>\"F\",'Set UP'!C26=0,'Set UP'!D26=0,'Set UP'!E26=0),\"\",RANK(JV40,$JV$21:$JV$60,0))","v":""},{"$f":"IF(OR('Set UP'!F26<>\"NS\",'Set UP'!C26=0,'Set UP'!D26=0,'Set UP'!E26=0),\"\",$JP40)","v":""},{"$f":"IF(OR('Set UP'!F26<>\"NS\",'Set UP'!C26=0,'Set UP'!D26=0,'Set UP'!E26=0),\"\",RANK(JX40,$JX$21:$JX$60,0))","v":""},{"$f":"IF(OR('Set UP'!$C26=0,'Set UP'!$D26=0,'Set UP'!$E26=0,JP40=0),\"\",JP40/MAX(JP$21:JP$60)*1000)","v":692.56756756756749}]
[null,21,{"$f":"IF(OR('Set UP'!$C27=0,'Set UP'!$D27=0,'Set UP'!$E27=0,'Set UP'!F27=0),\"  --\",'Set UP'!C27)","v":1434},{"$f":"IF(OR('Set UP'!$C27=0,'Set UP'!$D27=0,'Set UP'!$E27=0,'Set UP'!F27=0),\"  --\",'Set UP'!D27&\" \"&'Set UP'!E27)","v":"Loughborough University A"},{"$f":"IF(OR('Set UP'!$C27=0,'Set UP'!$D27=0,'Set UP'!$E27=0,'Set UP'!F27=0),\"  --\",'Set UP'!F27)","v":"S"},4,6,6,8,null,null,null,null,null,null,null,null,null,null,null,null,null,null,null,null,null,null,null,null,null,null,{"$f":"IF(OR('Set UP'!$C27=0,'Set UP'!$D27=0,'Set UP'!$E27=0),\"\",(F$19*F41)+(G$19*G41)+(H$19*H41)+(I$19*I41)+(J$19*J41)+(K$19*K41)+(L$19*L41)+(M$19*M41)+(N$19*N41)+(O$19*O41)+(P$19*P41)+(Q$19*Q41)+(R$19*R41)+(S$19*S41)+(T$19*T41)+(U$19*U41)+(V$19*V41)+(W$19*W41)+(X$19*X41)+(Y$19*Y41)+(Z$19*Z41)+(AA$19*AA41)+(AB$19*AB41)+(AC$19*AC41)+(AD$19*AD41))","v":45},3,1,0,0,0,null,null,null,null,null,null,null,null,null,null,null,null,null,null,null,null,null,null,null,null,null,{"$f":"IF(OR('Set UP'!$C27=0,'Set UP'!$D27=0,'Set UP'!$E27=0),\"\",(AG$19*AG41)+(AH$19*AH41)+(AI$19*AI41)+(AJ$19*AJ41)+(AK$19*AK41)+(AL$19*AL41)+(AM$19*AM41)+(AN$19*AN41)+(AO$19*AO41)+(AP$19*AP41)+(AQ$19*AQ41)+(AR$19*AR41)+(AS$19*AS41)+(AT$19*AT41)+(AU$19*AU41)+(AV$19*AV41)+(AW$19*AW41)+(AX$19*AX41)+(AY$19*AY41)+(AZ$19*AZ41)+(BA$19*BA41)+(BB$19*BB41)+(BC$19*BC41)+(BD$19*BD41)+(BE$19*BE41))","v":6},5,0,0,0,0,0,4,4,4,4,5,6,null,null,null,null,null,null,null,null,null,null,null,null,null,null,{"$f":"IF(OR('Set UP'!$C27=0,'Set UP'!$D27=0,'Set UP'!$E27=0),\"\",(BH$19*BH41)+(BI$19*BI41)+(BJ$19*BJ41)+(BK$19*BK41)+(BL$19*BL41)+(BM$19*BM41)+(BN$19*BN41)+(BO$19*BO41)+(BP$19*BP41)+(BQ$19*BQ41)+(BR$19*BR41)+(BS$19*BS41)+(BT$19*BT41)+(BU$19*BU41)+(BV$19*BV41)+(BW$19*BW41)+(BX$19*BX41)+(BY$19*BY41)+(BZ$19*BZ41)+(CA$19*CA41)+(CB$19*CB41)+(CC$19*CC41)+(CD$19*CD41)+(CE$19*CE41)+(CF$19*CF41))","v":31.5},5,1,0,0,5,0,2,0,0,null,null,null,null,null,null,null,null,null,null,null,null,null,null,null,null,null,{"$f":"IF(OR('Set UP'!$C27=0,'Set UP'!$D27=0,'Set UP'!$E27=0),\"\",(CI$19*CI41)+(CJ$19*CJ41)+(CK$19*CK41)+(CL$19*CL41)+(CM$19*CM41)+(CN$19*CN41)+(CO$19*CO41)+(CP$19*CP41)+(CQ$19*CQ41)+(CR$19*CR41)+(CS$19*CS41)+(CT$19*CT41)+(CU$19*CU41)+(CV$19*CV41)+(CW$19*CW41)+(CX$19*CX41)+(CY$19*CY41)+(CZ$19*CZ41)+(DA$19*DA41)+(DB$19*DB41)+(DC$19*DC41)+(DD$19*DD41)+(DE$19*DE41)+(DF$19*DF41)+(DG$19*DG41))","v":30.5},1,1,2,0,0,0,0,0,0,0,null,null,null,null,null,null,null,null,null,null,null,null,null,null,null,null,{"$f":"IF(OR('Set UP'!$C27=0,'Set UP'!$D27=0,'Set UP'!$E27=0),\"\",(DJ$19*DJ41)+(DK$19*DK41)+(DL$19*DL41)+(DM$19*DM41)+(DN$19*DN41)+(DO$19*DO41)+(DP$19*DP41)+(DQ$19*DQ41)+(DR$19*DR41)+(DS$19*DS41)+(DT$19*DT41)+(DU$19*DU41)+(DV$19*DV41)+(DW$19*DW41)+(DX$19*DX41)+(DY$19*DY41)+(DZ$19*DZ41)+(EA$19*EA41)+(EB$19*EB41)+(EC$19*EC41)+(ED$19*ED41)+(EE$19*EE41)+(EF$19*EF41)+(EG$19*EG41)+(EH$19*EH41))","v":5.5},null,null,null,null,null,null,null,null,null,null,null,null,null,null,null,null,null,null,null,null,null,null,null,null,null,null,{"$f":"IF(OR('Set UP'!$C27=0,'Set UP'!$D27=0,'Set UP'!$E27=0),\"\",(EK$19*EK41)+(EL$19*EL41)+(EM$19*EM41)+(EN$19*EN41)+(EO$19*EO41)+(EP$19*EP41)+(EQ$19*EQ41)+(ER$19*ER41)+(ES$19*ES41)+(ET$19*ET41)+(EU$19*EU41)+(EV$19*EV41)+(EW$19*EW41)+(EX$19*EX41)+(EY$19*EY41)+(EZ$19*EZ41)+(FA$19*FA41)+(FB$19*FB41)+(FC$19*FC41)+(FD$19*FD41)+(FE$19*FE41)+(FF$19*FF41)+(FG$19*FG41)+(FH$19*FH41)+(FI$19*FI41))","v":0},null,null,null,null,null,null,null,null,null,null,null,null,null,null,null,null,null,null,null,null,null,null,null,null,null,null,{"$f":"IF(OR('Set UP'!$C27=0,'Set UP'!$D27=0,'Set UP'!$E27=0),\"\",(FL$19*FL41)+(FM$19*FM41)+(FN$19*FN41)+(FO$19*FO41)+(FP$19*FP41)+(FQ$19*FQ41)+(FR$19*FR41)+(FS$19*FS41)+(FT$19*FT41)+(FU$19*FU41)+(FV$19*FV41)+(FW$19*FW41)+(FX$19*FX41)+(FY$19*FY41)+(FZ$19*FZ41)+(GA$19*GA41)+(GB$19*GB41)+(GC$19*GC41)+(GD$19*GD41)+(GE$19*GE41)+(GF$19*GF41)+(GG$19*GG41)+(GH$19*GH41)+(GI$19*GI41)+(GJ$19*GJ41))","v":0},null,null,null,null,null,null,null,null,null,null,null,null,null,null,null,null,null,null,null,null,null,null,null,null,null,null,{"$f":"IF(OR('Set UP'!$C27=0,'Set UP'!$D27=0,'Set UP'!$E27=0),\"\",(GM$19*GM41)+(GN$19*GN41)+(GO$19*GO41)+(GP$19*GP41)+(GQ$19*GQ41)+(GR$19*GR41)+(GS$19*GS41)+(GT$19*GT41)+(GU$19*GU41)+(GV$19*GV41)+(GW$19*GW41)+(GX$19*GX41)+(GY$19*GY41)+(GZ$19*GZ41)+(HA$19*HA41)+(HB$19*HB41)+(HC$19*HC41)+(HD$19*HD41)+(HE$19*HE41)+(HF$19*HF41)+(HG$19*HG41)+(HH$19*HH41)+(HI$19*HI41)+(HJ$19*HJ41)+(HK$19*HK41))","v":0},null,null,null,null,null,null,null,null,null,null,null,null,null,null,null,null,null,null,null,null,null,null,null,null,null,null,{"$f":"IF(OR('Set UP'!$C27=0,'Set UP'!$D27=0,'Set UP'!$E27=0),\"\",(HN$19*HN41)+(HO$19*HO41)+(HP$19*HP41)+(HQ$19*HQ41)+(HR$19*HR41)+(HS$19*HS41)+(HT$19*HT41)+(HU$19*HU41)+(HV$19*HV41)+(HW$19*HW41)+(HX$19*HX41)+(HY$19*HY41)+(HZ$19*HZ41)+(IA$19*IA41)+(IB$19*IB41)+(IC$19*IC41)+(ID$19*ID41)+(IE$19*IE41)+(IF$19*IF41)+(IG$19*IG41)+(IH$19*IH41)+(II$19*II41)+(IJ$19*IJ41)+(IK$19*IK41)+(IL$19*IL41))","v":0},null,null,null,null,null,null,null,null,null,null,null,null,null,null,null,null,null,null,null,null,null,null,null,null,null,null,{"$f":"IF(OR('Set UP'!$C27=0,'Set UP'!$D27=0,'Set UP'!$E27=0),\"\",(IO$19*IO41)+(IP$19*IP41)+(IQ$19*IQ41)+(IR$19*IR41)+(IS$19*IS41)+(IT$19*IT41)+(IU$19*IU41)+(IV$19*IV41)+(IW$19*IW41)+(IX$19*IX41)+(IY$19*IY41)+(IZ$19*IZ41)+(JA$19*JA41)+(JB$19*JB41)+(JC$19*JC41)+(JD$19*JD41)+(JE$19*JE41)+(JF$19*JF41)+(JG$19*JG41)+(JH$19*JH41)+(JI$19*JI41)+(JJ$19*JJ41)+(JK$19*JK41)+(JL$19*JL41)+(JM$19*JM41))","v":0},{"$f":"IF(OR('Set UP'!$C27=0,'Set UP'!$D27=0,'Set UP'!$E27=0),\"\",(AF41+BG41+CH41+DI41+EJ41+FK41+GL41+HM41+JO41+IN41))","v":118.5},{"$f":"IF(OR('Set UP'!$C27=0,'Set UP'!$D27=0,'Set UP'!$E27=0),\"\",RANK(JP41,$JP$21:$JP$60,0))","v":19},{"$f":"IF(OR('Set UP'!K27<>1,'Set UP'!C27=0,'Set UP'!D27=0,'Set UP'!E27=0,'Set UP'!F27=0),\"\",$JP41)","v":118.5},{"$f":"IF(OR('Set UP'!K27<>1,'Set UP'!C27=0,'Set UP'!D27=0,'Set UP'!E27=0,'Set UP'!F27=0),\"\",RANK(JR41,$JR$21:$JR$60,0))","v":8},{"$f":"IF(OR('Set UP'!K27<>2,'Set UP'!C27=0,'Set UP'!D27=0,'Set UP'!E27=0,'Set UP'!F27=0),\"\",$JP41)","v":""},{"$f":"IF(OR('Set UP'!K27<>2,'Set UP'!C27=0,'Set UP'!D27=0,'Set UP'!E27=0,'Set UP'!F27=0),\"\",RANK(JT41,$JT$21:$JT$60,0))","v":""},{"$f":"IF(OR('Set UP'!F27<>\"F\",'Set UP'!C27=0,'Set UP'!D27=0,'Set UP'!E27=0),\"\",$JP41)","v":""},{"$f":"IF(OR('Set UP'!F27<>\"F\",'Set UP'!C27=0,'Set UP'!D27=0,'Set UP'!E27=0),\"\",RANK(JV41,$JV$21:$JV$60,0))","v":""},{"$f":"IF(OR('Set UP'!F27<>\"NS\",'Set UP'!C27=0,'Set UP'!D27=0,'Set UP'!E27=0),\"\",$JP41)","v":""},{"$f":"IF(OR('Set UP'!F27<>\"NS\",'Set UP'!C27=0,'Set UP'!D27=0,'Set UP'!E27=0),\"\",RANK(JX41,$JX$21:$JX$60,0))","v":""},{"$f":"IF(OR('Set UP'!$C27=0,'Set UP'!$D27=0,'Set UP'!$E27=0,JP41=0),\"\",JP41/MAX(JP$21:JP$60)*1000)","v":400.33783783783781}]
[null,22,{"$f":"IF(OR('Set UP'!$C28=0,'Set UP'!$D28=0,'Set UP'!$E28=0,'Set UP'!F28=0),\"  --\",'Set UP'!C28)","v":1435},{"$f":"IF(OR('Set UP'!$C28=0,'Set UP'!$D28=0,'Set UP'!$E28=0,'Set UP'!F28=0),\"  --\",'Set UP'!D28&\" \"&'Set UP'!E28)","v":"Loughborough University B"},{"$f":"IF(OR('Set UP'!$C28=0,'Set UP'!$D28=0,'Set UP'!$E28=0,'Set UP'!F28=0),\"  --\",'Set UP'!F28)","v":"S"},6,5,7,6,null,null,null,null,null,null,null,null,null,null,null,null,null,null,null,null,null,null,null,null,null,null,{"$f":"IF(OR('Set UP'!$C28=0,'Set UP'!$D28=0,'Set UP'!$E28=0),\"\",(F$19*F42)+(G$19*G42)+(H$19*H42)+(I$19*I42)+(J$19*J42)+(K$19*K42)+(L$19*L42)+(M$19*M42)+(N$19*N42)+(O$19*O42)+(P$19*P42)+(Q$19*Q42)+(R$19*R42)+(S$19*S42)+(T$19*T42)+(U$19*U42)+(V$19*V42)+(W$19*W42)+(X$19*X42)+(Y$19*Y42)+(Z$19*Z42)+(AA$19*AA42)+(AB$19*AB42)+(AC$19*AC42)+(AD$19*AD42))","v":46.5},5,4,3,0,0,null,null,null,null,null,null,null,null,null,null,null,null,null,null,null,null,null,null,null,null,null,{"$f":"IF(OR('Set UP'!$C28=0,'Set UP'!$D28=0,'Set UP'!$E28=0),\"\",(AG$19*AG42)+(AH$19*AH42)+(AI$19*AI42)+(AJ$19*AJ42)+(AK$19*AK42)+(AL$19*AL42)+(AM$19*AM42)+(AN$19*AN42)+(AO$19*AO42)+(AP$19*AP42)+(AQ$19*AQ42)+(AR$19*AR42)+(AS$19*AS42)+(AT$19*AT42)+(AU$19*AU42)+(AV$19*AV42)+(AW$19*AW42)+(AX$19*AX42)+(AY$19*AY42)+(AZ$19*AZ42)+(BA$19*BA42)+(BB$19*BB42)+(BC$19*BC42)+(BD$19*BD42)+(BE$19*BE42))","v":16.5},8,0,0,0,0,0,5,6,8,6,7,8,null,null,null,null,null,null,null,null,null,null,null,null,null,null,{"$f":"IF(OR('Set UP'!$C28=0,'Set UP'!$D28=0,'Set UP'!$E28=0),\"\",(BH$19*BH42)+(BI$19*BI42)+(BJ$19*BJ42)+(BK$19*BK42)+(BL$19*BL42)+(BM$19*BM42)+(BN$19*BN42)+(BO$19*BO42)+(BP$19*BP42)+(BQ$19*BQ42)+(BR$19*BR42)+(BS$19*BS42)+(BT$19*BT42)+(BU$19*BU42)+(BV$19*BV42)+(BW$19*BW42)+(BX$19*BX42)+(BY$19*BY42)+(BZ$19*BZ42)+(CA$19*CA42)+(CB$19*CB42)+(CC$19*CC42)+(CD$19*CD42)+(CE$19*CE42)+(CF$19*CF42))","v":46.5},5,1,0,0,5,2,2,0,0,null,null,null,null,null,null,null,null,null,null,null,null,null,null,null,null,null,{"$f":"IF(OR('Set UP'!$C28=0,'Set UP'!$D28=0,'Set UP'!$E28=0),\"\",(CI$19*CI42)+(CJ$19*CJ42)+(CK$19*CK42)+(CL$19*CL42)+(CM$19*CM42)+(CN$19*CN42)+(CO$19*CO42)+(CP$19*CP42)+(CQ$19*CQ42)+(CR$19*CR42)+(CS$19*CS42)+(CT$19*CT42)+(CU$19*CU42)+(CV$19*CV42)+(CW$19*CW42)+(CX$19*CX42)+(CY$19*CY42)+(CZ$19*CZ42)+(DA$19*DA42)+(DB$19*DB42)+(DC$19*DC42)+(DD$19*DD42)+(DE$19*DE42)+(DF$19*DF42)+(DG$19*DG42))","v":32.5},1,0,0,1,0,0,0,0,0,0,null,null,null,null,null,null,null,null,null,null,null,null,null,null,null,null,{"$f":"IF(OR('Set UP'!$C28=0,'Set UP'!$D28=0,'Set UP'!$E28=0),\"\",(DJ$19*DJ42)+(DK$19*DK42)+(DL$19*DL42)+(DM$19*DM42)+(DN$19*DN42)+(DO$19*DO42)+(DP$19*DP42)+(DQ$19*DQ42)+(DR$19*DR42)+(DS$19*DS42)+(DT$19*DT42)+(DU$19*DU42)+(DV$19*DV42)+(DW$19*DW42)+(DX$19*DX42)+(DY$19*DY42)+(DZ$19*DZ42)+(EA$19*EA42)+(EB$19*EB42)+(EC$19*EC42)+(ED$19*ED42)+(EE$19*EE42)+(EF$19*EF42)+(EG$19*EG42)+(EH$19*EH42))","v":1.5},null,null,null,null,null,null,null,null,null,null,null,null,null,null,null,null,null,null,null,null,null,null,null,null,null,null,{"$f":"IF(OR('Set UP'!$C28=0,'Set UP'!$D28=0,'Set UP'!$E28=0),\"\",(EK$19*EK42)+(EL$19*EL42)+(EM$19*EM42)+(EN$19*EN42)+(EO$19*EO42)+(EP$19*EP42)+(EQ$19*EQ42)+(ER$19*ER42)+(ES$19*ES42)+(ET$19*ET42)+(EU$19*EU42)+(EV$19*EV42)+(EW$19*EW42)+(EX$19*EX42)+(EY$19*EY42)+(EZ$19*EZ42)+(FA$19*FA42)+(FB$19*FB42)+(FC$19*FC42)+(FD$19*FD42)+(FE$19*FE42)+(FF$19*FF42)+(FG$19*FG42)+(FH$19*FH42)+(FI$19*FI42))","v":0},null,null,null,null,null,null,null,null,null,null,null,null,null,null,null,null,null,null,null,null,null,null,null,null,null,null,{"$f":"IF(OR('Set UP'!$C28=0,'Set UP'!$D28=0,'Set UP'!$E28=0),\"\",(FL$19*FL42)+(FM$19*FM42)+(FN$19*FN42)+(FO$19*FO42)+(FP$19*FP42)+(FQ$19*FQ42)+(FR$19*FR42)+(FS$19*FS42)+(FT$19*FT42)+(FU$19*FU42)+(FV$19*FV42)+(FW$19*FW42)+(FX$19*FX42)+(FY$19*FY42)+(FZ$19*FZ42)+(GA$19*GA42)+(GB$19*GB42)+(GC$19*GC42)+(GD$19*GD42)+(GE$19*GE42)+(GF$19*GF42)+(GG$19*GG42)+(GH$19*GH42)+(GI$19*GI42)+(GJ$19*GJ42))","v":0},null,null,null,null,null,null,null,null,null,null,null,null,null,null,null,null,null,null,null,null,null,null,null,null,null,null,{"$f":"IF(OR('Set UP'!$C28=0,'Set UP'!$D28=0,'Set UP'!$E28=0),\"\",(GM$19*GM42)+(GN$19*GN42)+(GO$19*GO42)+(GP$19*GP42)+(GQ$19*GQ42)+(GR$19*GR42)+(GS$19*GS42)+(GT$19*GT42)+(GU$19*GU42)+(GV$19*GV42)+(GW$19*GW42)+(GX$19*GX42)+(GY$19*GY42)+(GZ$19*GZ42)+(HA$19*HA42)+(HB$19*HB42)+(HC$19*HC42)+(HD$19*HD42)+(HE$19*HE42)+(HF$19*HF42)+(HG$19*HG42)+(HH$19*HH42)+(HI$19*HI42)+(HJ$19*HJ42)+(HK$19*HK42))","v":0},null,null,null,null,null,null,null,null,null,null,null,null,null,null,null,null,null,null,null,null,null,null,null,null,null,null,{"$f":"IF(OR('Set UP'!$C28=0,'Set UP'!$D28=0,'Set UP'!$E28=0),\"\",(HN$19*HN42)+(HO$19*HO42)+(HP$19*HP42)+(HQ$19*HQ42)+(HR$19*HR42)+(HS$19*HS42)+(HT$19*HT42)+(HU$19*HU42)+(HV$19*HV42)+(HW$19*HW42)+(HX$19*HX42)+(HY$19*HY42)+(HZ$19*HZ42)+(IA$19*IA42)+(IB$19*IB42)+(IC$19*IC42)+(ID$19*ID42)+(IE$19*IE42)+(IF$19*IF42)+(IG$19*IG42)+(IH$19*IH42)+(II$19*II42)+(IJ$19*IJ42)+(IK$19*IK42)+(IL$19*IL42))","v":0},null,null,null,null,null,null,null,null,null,null,null,null,null,null,null,null,null,null,null,null,null,null,null,null,null,null,{"$f":"IF(OR('Set UP'!$C28=0,'Set UP'!$D28=0,'Set UP'!$E28=0),\"\",(IO$19*IO42)+(IP$19*IP42)+(IQ$19*IQ42)+(IR$19*IR42)+(IS$19*IS42)+(IT$19*IT42)+(IU$19*IU42)+(IV$19*IV42)+(IW$19*IW42)+(IX$19*IX42)+(IY$19*IY42)+(IZ$19*IZ42)+(JA$19*JA42)+(JB$19*JB42)+(JC$19*JC42)+(JD$19*JD42)+(JE$19*JE42)+(JF$19*JF42)+(JG$19*JG42)+(JH$19*JH42)+(JI$19*JI42)+(JJ$19*JJ42)+(JK$19*JK42)+(JL$19*JL42)+(JM$19*JM42))","v":0},{"$f":"IF(OR('Set UP'!$C28=0,'Set UP'!$D28=0,'Set UP'!$E28=0),\"\",(AF42+BG42+CH42+DI42+EJ42+FK42+GL42+HM42+JO42+IN42))","v":143.5},{"$f":"IF(OR('Set UP'!$C28=0,'Set UP'!$D28=0,'Set UP'!$E28=0),\"\",RANK(JP42,$JP$21:$JP$60,0))","v":14},{"$f":"IF(OR('Set UP'!K28<>1,'Set UP'!C28=0,'Set UP'!D28=0,'Set UP'!E28=0,'Set UP'!F28=0),\"\",$JP42)","v":""},{"$f":"IF(OR('Set UP'!K28<>1,'Set UP'!C28=0,'Set UP'!D28=0,'Set UP'!E28=0,'Set UP'!F28=0),\"\",RANK(JR42,$JR$21:$JR$60,0))","v":""},{"$f":"IF(OR('Set UP'!K28<>2,'Set UP'!C28=0,'Set UP'!D28=0,'Set UP'!E28=0,'Set UP'!F28=0),\"\",$JP42)","v":143.5},{"$f":"IF(OR('Set UP'!K28<>2,'Set UP'!C28=0,'Set UP'!D28=0,'Set UP'!E28=0,'Set UP'!F28=0),\"\",RANK(JT42,$JT$21:$JT$60,0))","v":6},{"$f":"IF(OR('Set UP'!F28<>\"F\",'Set UP'!C28=0,'Set UP'!D28=0,'Set UP'!E28=0),\"\",$JP42)","v":""},{"$f":"IF(OR('Set UP'!F28<>\"F\",'Set UP'!C28=0,'Set UP'!D28=0,'Set UP'!E28=0),\"\",RANK(JV42,$JV$21:$JV$60,0))","v":""},{"$f":"IF(OR('Set UP'!F28<>\"NS\",'Set UP'!C28=0,'Set UP'!D28=0,'Set UP'!E28=0),\"\",$JP42)","v":""},{"$f":"IF(OR('Set UP'!F28<>\"NS\",'Set UP'!C28=0,'Set UP'!D28=0,'Set UP'!E28=0),\"\",RANK(JX42,$JX$21:$JX$60,0))","v":""},{"$f":"IF(OR('Set UP'!$C28=0,'Set UP'!$D28=0,'Set UP'!$E28=0,JP42=0),\"\",JP42/MAX(JP$21:JP$60)*1000)","v":484.79729729729729}]
[null,23,{"$f":"IF(OR('Set UP'!$C29=0,'Set UP'!$D29=0,'Set UP'!$E29=0,'Set UP'!F29=0),\"  --\",'Set UP'!C29)","v":1457},{"$f":"IF(OR('Set UP'!$C29=0,'Set UP'!$D29=0,'Set UP'!$E29=0,'Set UP'!F29=0),\"  --\",'Set UP'!D29&\" \"&'Set UP'!E29)","v":"University of Warwick B"},{"$f":"IF(OR('Set UP'!$C29=0,'Set UP'!$D29=0,'Set UP'!$E29=0,'Set UP'!F29=0),\"  --\",'Set UP'!F29)","v":"S"},6,7,4,5,null,null,null,null,null,null,null,null,null,null,null,null,null,null,null,null,null,null,null,null,null,null,{"$f":"IF(OR('Set UP'!$C29=0,'Set UP'!$D29=0,'Set UP'!$E29=0),\"\",(F$19*F43)+(G$19*G43)+(H$19*H43)+(I$19*I43)+(J$19*J43)+(K$19*K43)+(L$19*L43)+(M$19*M43)+(N$19*N43)+(O$19*O43)+(P$19*P43)+(Q$19*Q43)+(R$19*R43)+(S$19*S43)+(T$19*T43)+(U$19*U43)+(V$19*V43)+(W$19*W43)+(X$19*X43)+(Y$19*Y43)+(Z$19*Z43)+(AA$19*AA43)+(AB$19*AB43)+(AC$19*AC43)+(AD$19*AD43))","v":39},5,4,6,0,0,null,null,null,null,null,null,null,null,null,null,null,null,null,null,null,null,null,null,null,null,null,{"$f":"IF(OR('Set UP'!$C29=0,'Set UP'!$D29=0,'Set UP'!$E29=0),\"\",(AG$19*AG43)+(AH$19*AH43)+(AI$19*AI43)+(AJ$19*AJ43)+(AK$19*AK43)+(AL$19*AL43)+(AM$19*AM43)+(AN$19*AN43)+(AO$19*AO43)+(AP$19*AP43)+(AQ$19*AQ43)+(AR$19*AR43)+(AS$19*AS43)+(AT$19*AT43)+(AU$19*AU43)+(AV$19*AV43)+(AW$19*AW43)+(AX$19*AX43)+(AY$19*AY43)+(AZ$19*AZ43)+(BA$19*BA43)+(BB$19*BB43)+(BC$19*BC43)+(BD$19*BD43)+(BE$19*BE43))","v":19.5},8,4,0,0,0,0,0,1,0,1,3,1,null,null,null,null,null,null,null,null,null,null,null,null,null,null,{"$f":"IF(OR('Set UP'!$C29=0,'Set UP'!$D29=0,'Set UP'!$E29=0),\"\",(BH$19*BH43)+(BI$19*BI43)+(BJ$19*BJ43)+(BK$19*BK43)+(BL$19*BL43)+(BM$19*BM43)+(BN$19*BN43)+(BO$19*BO43)+(BP$19*BP43)+(BQ$19*BQ43)+(BR$19*BR43)+(BS$19*BS43)+(BT$19*BT43)+(BU$19*BU43)+(BV$19*BV43)+(BW$19*BW43)+(BX$19*BX43)+(BY$19*BY43)+(BZ$19*BZ43)+(CA$19*CA43)+(CB$19*CB43)+(CC$19*CC43)+(CD$19*CD43)+(CE$19*CE43)+(CF$19*CF43))","v":14},6,1,0,0,6,1,1,0,0,null,null,null,null,null,null,null,null,null,null,null,null,null,null,null,null,null,{"$f":"IF(OR('Set UP'!$C29=0,'Set UP'!$D29=0,'Set UP'!$E29=0),\"\",(CI$19*CI43)+(CJ$19*CJ43)+(CK$19*CK43)+(CL$19*CL43)+(CM$19*CM43)+(CN$19*CN43)+(CO$19*CO43)+(CP$19*CP43)+(CQ$19*CQ43)+(CR$19*CR43)+(CS$19*CS43)+(CT$19*CT43)+(CU$19*CU43)+(CV$19*CV43)+(CW$19*CW43)+(CX$19*CX43)+(CY$19*CY43)+(CZ$19*CZ43)+(DA$19*DA43)+(DB$19*DB43)+(DC$19*DC43)+(DD$19*DD43)+(DE$19*DE43)+(DF$19*DF43)+(DG$19*DG43))","v":33.5},2,2,2,2,0,0,0,0,0,0,null,null,null,null,null,null,null,null,null,null,null,null,null,null,null,null,{"$f":"IF(OR('Set UP'!$C29=0,'Set UP'!$D29=0,'Set UP'!$E29=0),\"\",(DJ$19*DJ43)+(DK$19*DK43)+(DL$19*DL43)+(DM$19*DM43)+(DN$19*DN43)+(DO$19*DO43)+(DP$19*DP43)+(DQ$19*DQ43)+(DR$19*DR43)+(DS$19*DS43)+(DT$19*DT43)+(DU$19*DU43)+(DV$19*DV43)+(DW$19*DW43)+(DX$19*DX43)+(DY$19*DY43)+(DZ$19*DZ43)+(EA$19*EA43)+(EB$19*EB43)+(EC$19*EC43)+(ED$19*ED43)+(EE$19*EE43)+(EF$19*EF43)+(EG$19*EG43)+(EH$19*EH43))","v":9},null,null,null,null,null,null,null,null,null,null,null,null,null,null,null,null,null,null,null,null,null,null,null,null,null,null,{"$f":"IF(OR('Set UP'!$C29=0,'Set UP'!$D29=0,'Set UP'!$E29=0),\"\",(EK$19*EK43)+(EL$19*EL43)+(EM$19*EM43)+(EN$19*EN43)+(EO$19*EO43)+(EP$19*EP43)+(EQ$19*EQ43)+(ER$19*ER43)+(ES$19*ES43)+(ET$19*ET43)+(EU$19*EU43)+(EV$19*EV43)+(EW$19*EW43)+(EX$19*EX43)+(EY$19*EY43)+(EZ$19*EZ43)+(FA$19*FA43)+(FB$19*FB43)+(FC$19*FC43)+(FD$19*FD43)+(FE$19*FE43)+(FF$19*FF43)+(FG$19*FG43)+(FH$19*FH43)+(FI$19*FI43))","v":0},null,null,null,null,null,null,null,null,null,null,null,null,null,null,null,null,null,null,null,null,null,null,null,null,null,null,{"$f":"IF(OR('Set UP'!$C29=0,'Set UP'!$D29=0,'Set UP'!$E29=0),\"\",(FL$19*FL43)+(FM$19*FM43)+(FN$19*FN43)+(FO$19*FO43)+(FP$19*FP43)+(FQ$19*FQ43)+(FR$19*FR43)+(FS$19*FS43)+(FT$19*FT43)+(FU$19*FU43)+(FV$19*FV43)+(FW$19*FW43)+(FX$19*FX43)+(FY$19*FY43)+(FZ$19*FZ43)+(GA$19*GA43)+(GB$19*GB43)+(GC$19*GC43)+(GD$19*GD43)+(GE$19*GE43)+(GF$19*GF43)+(GG$19*GG43)+(GH$19*GH43)+(GI$19*GI43)+(GJ$19*GJ43))","v":0},null,null,null,null,null,null,null,null,null,null,null,null,null,null,null,null,null,null,null,null,null,null,null,null,null,null,{"$f":"IF(OR('Set UP'!$C29=0,'Set UP'!$D29=0,'Set UP'!$E29=0),\"\",(GM$19*GM43)+(GN$19*GN43)+(GO$19*GO43)+(GP$19*GP43)+(GQ$19*GQ43)+(GR$19*GR43)+(GS$19*GS43)+(GT$19*GT43)+(GU$19*GU43)+(GV$19*GV43)+(GW$19*GW43)+(GX$19*GX43)+(GY$19*GY43)+(GZ$19*GZ43)+(HA$19*HA43)+(HB$19*HB43)+(HC$19*HC43)+(HD$19*HD43)+(HE$19*HE43)+(HF$19*HF43)+(HG$19*HG43)+(HH$19*HH43)+(HI$19*HI43)+(HJ$19*HJ43)+(HK$19*HK43))","v":0},null,null,null,null,null,null,null,null,null,null,null,null,null,null,null,null,null,null,null,null,null,null,null,null,null,null,{"$f":"IF(OR('Set UP'!$C29=0,'Set UP'!$D29=0,'Set UP'!$E29=0),\"\",(HN$19*HN43)+(HO$19*HO43)+(HP$19*HP43)+(HQ$19*HQ43)+(HR$19*HR43)+(HS$19*HS43)+(HT$19*HT43)+(HU$19*HU43)+(HV$19*HV43)+(HW$19*HW43)+(HX$19*HX43)+(HY$19*HY43)+(HZ$19*HZ43)+(IA$19*IA43)+(IB$19*IB43)+(IC$19*IC43)+(ID$19*ID43)+(IE$19*IE43)+(IF$19*IF43)+(IG$19*IG43)+(IH$19*IH43)+(II$19*II43)+(IJ$19*IJ43)+(IK$19*IK43)+(IL$19*IL43))","v":0},null,null,null,null,null,null,null,null,null,null,null,null,null,null,null,null,null,null,null,null,null,null,null,null,null,null,{"$f":"IF(OR('Set UP'!$C29=0,'Set UP'!$D29=0,'Set UP'!$E29=0),\"\",(IO$19*IO43)+(IP$19*IP43)+(IQ$19*IQ43)+(IR$19*IR43)+(IS$19*IS43)+(IT$19*IT43)+(IU$19*IU43)+(IV$19*IV43)+(IW$19*IW43)+(IX$19*IX43)+(IY$19*IY43)+(IZ$19*IZ43)+(JA$19*JA43)+(JB$19*JB43)+(JC$19*JC43)+(JD$19*JD43)+(JE$19*JE43)+(JF$19*JF43)+(JG$19*JG43)+(JH$19*JH43)+(JI$19*JI43)+(JJ$19*JJ43)+(JK$19*JK43)+(JL$19*JL43)+(JM$19*JM43))","v":0},{"$f":"IF(OR('Set UP'!$C29=0,'Set UP'!$D29=0,'Set UP'!$E29=0),\"\",(AF43+BG43+CH43+DI43+EJ43+FK43+GL43+HM43+JO43+IN43))","v":115},{"$f":"IF(OR('Set UP'!$C29=0,'Set UP'!$D29=0,'Set UP'!$E29=0),\"\",RANK(JP43,$JP$21:$JP$60,0))","v":22},{"$f":"IF(OR('Set UP'!K29<>1,'Set UP'!C29=0,'Set UP'!D29=0,'Set UP'!E29=0,'Set UP'!F29=0),\"\",$JP43)","v":""},{"$f":"IF(OR('Set UP'!K29<>1,'Set UP'!C29=0,'Set UP'!D29=0,'Set UP'!E29=0,'Set UP'!F29=0),\"\",RANK(JR43,$JR$21:$JR$60,0))","v":""},{"$f":"IF(OR('Set UP'!K29<>2,'Set UP'!C29=0,'Set UP'!D29=0,'Set UP'!E29=0,'Set UP'!F29=0),\"\",$JP43)","v":115},{"$f":"IF(OR('Set UP'!K29<>2,'Set UP'!C29=0,'Set UP'!D29=0,'Set UP'!E29=0,'Set UP'!F29=0),\"\",RANK(JT43,$JT$21:$JT$60,0))","v":10},{"$f":"IF(OR('Set UP'!F29<>\"F\",'Set UP'!C29=0,'Set UP'!D29=0,'Set UP'!E29=0),\"\",$JP43)","v":""},{"$f":"IF(OR('Set UP'!F29<>\"F\",'Set UP'!C29=0,'Set UP'!D29=0,'Set UP'!E29=0),\"\",RANK(JV43,$JV$21:$JV$60,0))","v":""},{"$f":"IF(OR('Set UP'!F29<>\"NS\",'Set UP'!C29=0,'Set UP'!D29=0,'Set UP'!E29=0),\"\",$JP43)","v":""},{"$f":"IF(OR('Set UP'!F29<>\"NS\",'Set UP'!C29=0,'Set UP'!D29=0,'Set UP'!E29=0),\"\",RANK(JX43,$JX$21:$JX$60,0))","v":""},{"$f":"IF(OR('Set UP'!$C29=0,'Set UP'!$D29=0,'Set UP'!$E29=0,JP43=0),\"\",JP43/MAX(JP$21:JP$60)*1000)","v":388.51351351351349}]
[null,24,{"$f":"IF(OR('Set UP'!$C30=0,'Set UP'!$D30=0,'Set UP'!$E30=0,'Set UP'!F30=0),\"  --\",'Set UP'!C30)","v":1429},{"$f":"IF(OR('Set UP'!$C30=0,'Set UP'!$D30=0,'Set UP'!$E30=0,'Set UP'!F30=0),\"  --\",'Set UP'!D30&\" \"&'Set UP'!E30)","v":"University of Nottingham A"},{"$f":"IF(OR('Set UP'!$C30=0,'Set UP'!$D30=0,'Set UP'!$E30=0,'Set UP'!F30=0),\"  --\",'Set UP'!F30)","v":"S"},8,8,9,9,null,null,null,null,null,null,null,null,null,null,null,null,null,null,null,null,null,null,null,null,null,null,{"$f":"IF(OR('Set UP'!$C30=0,'Set UP'!$D30=0,'Set UP'!$E30=0),\"\",(F$19*F44)+(G$19*G44)+(H$19*H44)+(I$19*I44)+(J$19*J44)+(K$19*K44)+(L$19*L44)+(M$19*M44)+(N$19*N44)+(O$19*O44)+(P$19*P44)+(Q$19*Q44)+(R$19*R44)+(S$19*S44)+(T$19*T44)+(U$19*U44)+(V$19*V44)+(W$19*W44)+(X$19*X44)+(Y$19*Y44)+(Z$19*Z44)+(AA$19*AA44)+(AB$19*AB44)+(AC$19*AC44)+(AD$19*AD44))","v":64.5},7,5,8,0,0,null,null,null,null,null,null,null,null,null,null,null,null,null,null,null,null,null,null,null,null,null,{"$f":"IF(OR('Set UP'!$C30=0,'Set UP'!$D30=0,'Set UP'!$E30=0),\"\",(AG$19*AG44)+(AH$19*AH44)+(AI$19*AI44)+(AJ$19*AJ44)+(AK$19*AK44)+(AL$19*AL44)+(AM$19*AM44)+(AN$19*AN44)+(AO$19*AO44)+(AP$19*AP44)+(AQ$19*AQ44)+(AR$19*AR44)+(AS$19*AS44)+(AT$19*AT44)+(AU$19*AU44)+(AV$19*AV44)+(AW$19*AW44)+(AX$19*AX44)+(AY$19*AY44)+(AZ$19*AZ44)+(BA$19*BA44)+(BB$19*BB44)+(BC$19*BC44)+(BD$19*BD44)+(BE$19*BE44))","v":26},8,0,0,0,0,0,8,8,8,8,8,8,null,null,null,null,null,null,null,null,null,null,null,null,null,null,{"$f":"IF(OR('Set UP'!$C30=0,'Set UP'!$D30=0,'Set UP'!$E30=0),\"\",(BH$19*BH44)+(BI$19*BI44)+(BJ$19*BJ44)+(BK$19*BK44)+(BL$19*BL44)+(BM$19*BM44)+(BN$19*BN44)+(BO$19*BO44)+(BP$19*BP44)+(BQ$19*BQ44)+(BR$19*BR44)+(BS$19*BS44)+(BT$19*BT44)+(BU$19*BU44)+(BV$19*BV44)+(BW$19*BW44)+(BX$19*BX44)+(BY$19*BY44)+(BZ$19*BZ44)+(CA$19*CA44)+(CB$19*CB44)+(CC$19*CC44)+(CD$19*CD44)+(CE$19*CE44)+(CF$19*CF44))","v":56},6,0,0,0,6,0,2,0,0,null,null,null,null,null,null,null,null,null,null,null,null,null,null,null,null,null,{"$f":"IF(OR('Set UP'!$C30=0,'Set UP'!$D30=0,'Set UP'!$E30=0),\"\",(CI$19*CI44)+(CJ$19*CJ44)+(CK$19*CK44)+(CL$19*CL44)+(CM$19*CM44)+(CN$19*CN44)+(CO$19*CO44)+(CP$19*CP44)+(CQ$19*CQ44)+(CR$19*CR44)+(CS$19*CS44)+(CT$19*CT44)+(CU$19*CU44)+(CV$19*CV44)+(CW$19*CW44)+(CX$19*CX44)+(CY$19*CY44)+(CZ$19*CZ44)+(DA$19*DA44)+(DB$19*DB44)+(DC$19*DC44)+(DD$19*DD44)+(DE$19*DE44)+(DF$19*DF44)+(DG$19*DG44))","v":32},5,6,2,3,0,0,0,0,0,0,null,null,null,null,null,null,null,null,null,null,null,null,null,null,null,null,{"$f":"IF(OR('Set UP'!$C30=0,'Set UP'!$D30=0,'Set UP'!$E30=0),\"\",(DJ$19*DJ44)+(DK$19*DK44)+(DL$19*DL44)+(DM$19*DM44)+(DN$19*DN44)+(DO$19*DO44)+(DP$19*DP44)+(DQ$19*DQ44)+(DR$19*DR44)+(DS$19*DS44)+(DT$19*DT44)+(DU$19*DU44)+(DV$19*DV44)+(DW$19*DW44)+(DX$19*DX44)+(DY$19*DY44)+(DZ$19*DZ44)+(EA$19*EA44)+(EB$19*EB44)+(EC$19*EC44)+(ED$19*ED44)+(EE$19*EE44)+(EF$19*EF44)+(EG$19*EG44)+(EH$19*EH44))","v":18.5},null,null,null,null,null,null,null,null,null,null,null,null,null,null,null,null,null,null,null,null,null,null,null,null,null,null,{"$f":"IF(OR('Set UP'!$C30=0,'Set UP'!$D30=0,'Set UP'!$E30=0),\"\",(EK$19*EK44)+(EL$19*EL44)+(EM$19*EM44)+(EN$19*EN44)+(EO$19*EO44)+(EP$19*EP44)+(EQ$19*EQ44)+(ER$19*ER44)+(ES$19*ES44)+(ET$19*ET44)+(EU$19*EU44)+(EV$19*EV44)+(EW$19*EW44)+(EX$19*EX44)+(EY$19*EY44)+(EZ$19*EZ44)+(FA$19*FA44)+(FB$19*FB44)+(FC$19*FC44)+(FD$19*FD44)+(FE$19*FE44)+(FF$19*FF44)+(FG$19*FG44)+(FH$19*FH44)+(FI$19*FI44))","v":0},null,null,null,null,null,null,null,null,null,null,null,null,null,null,null,null,null,null,null,null,null,null,null,null,null,null,{"$f":"IF(OR('Set UP'!$C30=0,'Set UP'!$D30=0,'Set UP'!$E30=0),\"\",(FL$19*FL44)+(FM$19*FM44)+(FN$19*FN44)+(FO$19*FO44)+(FP$19*FP44)+(FQ$19*FQ44)+(FR$19*FR44)+(FS$19*FS44)+(FT$19*FT44)+(FU$19*FU44)+(FV$19*FV44)+(FW$19*FW44)+(FX$19*FX44)+(FY$19*FY44)+(FZ$19*FZ44)+(GA$19*GA44)+(GB$19*GB44)+(GC$19*GC44)+(GD$19*GD44)+(GE$19*GE44)+(GF$19*GF44)+(GG$19*GG44)+(GH$19*GH44)+(GI$19*GI44)+(GJ$19*GJ44))","v":0},null,null,null,null,null,null,null,null,null,null,null,null,null,null,null,null,null,null,null,null,null,null,null,null,null,null,{"$f":"IF(OR('Set UP'!$C30=0,'Set UP'!$D30=0,'Set UP'!$E30=0),\"\",(GM$19*GM44)+(GN$19*GN44)+(GO$19*GO44)+(GP$19*GP44)+(GQ$19*GQ44)+(GR$19*GR44)+(GS$19*GS44)+(GT$19*GT44)+(GU$19*GU44)+(GV$19*GV44)+(GW$19*GW44)+(GX$19*GX44)+(GY$19*GY44)+(GZ$19*GZ44)+(HA$19*HA44)+(HB$19*HB44)+(HC$19*HC44)+(HD$19*HD44)+(HE$19*HE44)+(HF$19*HF44)+(HG$19*HG44)+(HH$19*HH44)+(HI$19*HI44)+(HJ$19*HJ44)+(HK$19*HK44))","v":0},null,null,null,null,null,null,null,null,null,null,null,null,null,null,null,null,null,null,null,null,null,null,null,null,null,null,{"$f":"IF(OR('Set UP'!$C30=0,'Set UP'!$D30=0,'Set UP'!$E30=0),\"\",(HN$19*HN44)+(HO$19*HO44)+(HP$19*HP44)+(HQ$19*HQ44)+(HR$19*HR44)+(HS$19*HS44)+(HT$19*HT44)+(HU$19*HU44)+(HV$19*HV44)+(HW$19*HW44)+(HX$19*HX44)+(HY$19*HY44)+(HZ$19*HZ44)+(IA$19*IA44)+(IB$19*IB44)+(IC$19*IC44)+(ID$19*ID44)+(IE$19*IE44)+(IF$19*IF44)+(IG$19*IG44)+(IH$19*IH44)+(II$19*II44)+(IJ$19*IJ44)+(IK$19*IK44)+(IL$19*IL44))","v":0},null,null,null,null,null,null,null,null,null,null,null,null,null,null,null,null,null,null,null,null,null,null,null,null,null,null,{"$f":"IF(OR('Set UP'!$C30=0,'Set UP'!$D30=0,'Set UP'!$E30=0),\"\",(IO$19*IO44)+(IP$19*IP44)+(IQ$19*IQ44)+(IR$19*IR44)+(IS$19*IS44)+(IT$19*IT44)+(IU$19*IU44)+(IV$19*IV44)+(IW$19*IW44)+(IX$19*IX44)+(IY$19*IY44)+(IZ$19*IZ44)+(JA$19*JA44)+(JB$19*JB44)+(JC$19*JC44)+(JD$19*JD44)+(JE$19*JE44)+(JF$19*JF44)+(JG$19*JG44)+(JH$19*JH44)+(JI$19*JI44)+(JJ$19*JJ44)+(JK$19*JK44)+(JL$19*JL44)+(JM$19*JM44))","v":0},{"$f":"IF(OR('Set UP'!$C30=0,'Set UP'!$D30=0,'Set UP'!$E30=0),\"\",(AF44+BG44+CH44+DI44+EJ44+FK44+GL44+HM44+JO44+IN44))","v":197},{"$f":"IF(OR('Set UP'!$C30=0,'Set UP'!$D30=0,'Set UP'!$E30=0),\"\",RANK(JP44,$JP$21:$JP$60,0))","v":6},{"$f":"IF(OR('Set UP'!K30<>1,'Set UP'!C30=0,'Set UP'!D30=0,'Set UP'!E30=0,'Set UP'!F30=0),\"\",$JP44)","v":197},{"$f":"IF(OR('Set UP'!K30<>1,'Set UP'!C30=0,'Set UP'!D30=0,'Set UP'!E30=0,'Set UP'!F30=0),\"\",RANK(JR44,$JR$21:$JR$60,0))","v":5},{"$f":"IF(OR('Set UP'!K30<>2,'Set UP'!C30=0,'Set UP'!D30=0,'Set UP'!E30=0,'Set UP'!F30=0),\"\",$JP44)","v":""},{"$f":"IF(OR('Set UP'!K30<>2,'Set UP'!C30=0,'Set UP'!D30=0,'Set UP'!E30=0,'Set UP'!F30=0),\"\",RANK(JT44,$JT$21:$JT$60,0))","v":""},{"$f":"IF(OR('Set UP'!F30<>\"F\",'Set UP'!C30=0,'Set UP'!D30=0,'Set UP'!E30=0),\"\",$JP44)","v":""},{"$f":"IF(OR('Set UP'!F30<>\"F\",'Set UP'!C30=0,'Set UP'!D30=0,'Set UP'!E30=0),\"\",RANK(JV44,$JV$21:$JV$60,0))","v":""},{"$f":"IF(OR('Set UP'!F30<>\"NS\",'Set UP'!C30=0,'Set UP'!D30=0,'Set UP'!E30=0),\"\",$JP44)","v":""},{"$f":"IF(OR('Set UP'!F30<>\"NS\",'Set UP'!C30=0,'Set UP'!D30=0,'Set UP'!E30=0),\"\",RANK(JX44,$JX$21:$JX$60,0))","v":""},{"$f":"IF(OR('Set UP'!$C30=0,'Set UP'!$D30=0,'Set UP'!$E30=0,JP44=0),\"\",JP44/MAX(JP$21:JP$60)*1000)","v":665.54054054054052}]
[null,25,{"$f":"IF(OR('Set UP'!$C31=0,'Set UP'!$D31=0,'Set UP'!$E31=0,'Set UP'!F31=0),\"  --\",'Set UP'!C31)","v":1438},{"$f":"IF(OR('Set UP'!$C31=0,'Set UP'!$D31=0,'Set UP'!$E31=0,'Set UP'!F31=0),\"  --\",'Set UP'!D31&\" \"&'Set UP'!E31)","v":"Swansea Universities Lifesaving B"},{"$f":"IF(OR('Set UP'!$C31=0,'Set UP'!$D31=0,'Set UP'!$E31=0,'Set UP'!F31=0),\"  --\",'Set UP'!F31)","v":"S"},3,3,4,6,null,null,null,null,null,null,null,null,null,null,null,null,null,null,null,null,null,null,null,null,null,null,{"$f":"IF(OR('Set UP'!$C31=0,'Set UP'!$D31=0,'Set UP'!$E31=0),\"\",(F$19*F45)+(G$19*G45)+(H$19*H45)+(I$19*I45)+(J$19*J45)+(K$19*K45)+(L$19*L45)+(M$19*M45)+(N$19*N45)+(O$19*O45)+(P$19*P45)+(Q$19*Q45)+(R$19*R45)+(S$19*S45)+(T$19*T45)+(U$19*U45)+(V$19*V45)+(W$19*W45)+(X$19*X45)+(Y$19*Y45)+(Z$19*Z45)+(AA$19*AA45)+(AB$19*AB45)+(AC$19*AC45)+(AD$19*AD45))","v":30},0,0,0,0,0,null,null,null,null,null,null,null,null,null,null,null,null,null,null,null,null,null,null,null,null,null,{"$f":"IF(OR('Set UP'!$C31=0,'Set UP'!$D31=0,'Set UP'!$E31=0),\"\",(AG$19*AG45)+(AH$19*AH45)+(AI$19*AI45)+(AJ$19*AJ45)+(AK$19*AK45)+(AL$19*AL45)+(AM$19*AM45)+(AN$19*AN45)+(AO$19*AO45)+(AP$19*AP45)+(AQ$19*AQ45)+(AR$19*AR45)+(AS$19*AS45)+(AT$19*AT45)+(AU$19*AU45)+(AV$19*AV45)+(AW$19*AW45)+(AX$19*AX45)+(AY$19*AY45)+(AZ$19*AZ45)+(BA$19*BA45)+(BB$19*BB45)+(BC$19*BC45)+(BD$19*BD45)+(BE$19*BE45))","v":0},0,0,0,0,0,0,5,1,0,4,4,1,null,null,null,null,null,null,null,null,null,null,null,null,null,null,{"$f":"IF(OR('Set UP'!$C31=0,'Set UP'!$D31=0,'Set UP'!$E31=0),\"\",(BH$19*BH45)+(BI$19*BI45)+(BJ$19*BJ45)+(BK$19*BK45)+(BL$19*BL45)+(BM$19*BM45)+(BN$19*BN45)+(BO$19*BO45)+(BP$19*BP45)+(BQ$19*BQ45)+(BR$19*BR45)+(BS$19*BS45)+(BT$19*BT45)+(BU$19*BU45)+(BV$19*BV45)+(BW$19*BW45)+(BX$19*BX45)+(BY$19*BY45)+(BZ$19*BZ45)+(CA$19*CA45)+(CB$19*CB45)+(CC$19*CC45)+(CD$19*CD45)+(CE$19*CE45)+(CF$19*CF45))","v":16},5,1,0,0,5,0,4,0,0,null,null,null,null,null,null,null,null,null,null,null,null,null,null,null,null,null,{"$f":"IF(OR('Set UP'!$C31=0,'Set UP'!$D31=0,'Set UP'!$E31=0),\"\",(CI$19*CI45)+(CJ$19*CJ45)+(CK$19*CK45)+(CL$19*CL45)+(CM$19*CM45)+(CN$19*CN45)+(CO$19*CO45)+(CP$19*CP45)+(CQ$19*CQ45)+(CR$19*CR45)+(CS$19*CS45)+(CT$19*CT45)+(CU$19*CU45)+(CV$19*CV45)+(CW$19*CW45)+(CX$19*CX45)+(CY$19*CY45)+(CZ$19*CZ45)+(DA$19*DA45)+(DB$19*DB45)+(DC$19*DC45)+(DD$19*DD45)+(DE$19*DE45)+(DF$19*DF45)+(DG$19*DG45))","v":35.5},0,0,0,0,0,0,0,0,0,0,null,null,null,null,null,null,null,null,null,null,null,null,null,null,null,null,{"$f":"IF(OR('Set UP'!$C31=0,'Set UP'!$D31=0,'Set UP'!$E31=0),\"\",(DJ$19*DJ45)+(DK$19*DK45)+(DL$19*DL45)+(DM$19*DM45)+(DN$19*DN45)+(DO$19*DO45)+(DP$19*DP45)+(DQ$19*DQ45)+(DR$19*DR45)+(DS$19*DS45)+(DT$19*DT45)+(DU$19*DU45)+(DV$19*DV45)+(DW$19*DW45)+(DX$19*DX45)+(DY$19*DY45)+(DZ$19*DZ45)+(EA$19*EA45)+(EB$19*EB45)+(EC$19*EC45)+(ED$19*ED45)+(EE$19*EE45)+(EF$19*EF45)+(EG$19*EG45)+(EH$19*EH45))","v":0},null,null,null,null,null,null,null,null,null,null,null,null,null,null,null,null,null,null,null,null,null,null,null,null,null,null,{"$f":"IF(OR('Set UP'!$C31=0,'Set UP'!$D31=0,'Set UP'!$E31=0),\"\",(EK$19*EK45)+(EL$19*EL45)+(EM$19*EM45)+(EN$19*EN45)+(EO$19*EO45)+(EP$19*EP45)+(EQ$19*EQ45)+(ER$19*ER45)+(ES$19*ES45)+(ET$19*ET45)+(EU$19*EU45)+(EV$19*EV45)+(EW$19*EW45)+(EX$19*EX45)+(EY$19*EY45)+(EZ$19*EZ45)+(FA$19*FA45)+(FB$19*FB45)+(FC$19*FC45)+(FD$19*FD45)+(FE$19*FE45)+(FF$19*FF45)+(FG$19*FG45)+(FH$19*FH45)+(FI$19*FI45))","v":0},null,null,null,null,null,null,null,null,null,null,null,null,null,null,null,null,null,null,null,null,null,null,null,null,null,null,{"$f":"IF(OR('Set UP'!$C31=0,'Set UP'!$D31=0,'Set UP'!$E31=0),\"\",(FL$19*FL45)+(FM$19*FM45)+(FN$19*FN45)+(FO$19*FO45)+(FP$19*FP45)+(FQ$19*FQ45)+(FR$19*FR45)+(FS$19*FS45)+(FT$19*FT45)+(FU$19*FU45)+(FV$19*FV45)+(FW$19*FW45)+(FX$19*FX45)+(FY$19*FY45)+(FZ$19*FZ45)+(GA$19*GA45)+(GB$19*GB45)+(GC$19*GC45)+(GD$19*GD45)+(GE$19*GE45)+(GF$19*GF45)+(GG$19*GG45)+(GH$19*GH45)+(GI$19*GI45)+(GJ$19*GJ45))","v":0},null,null,null,null,null,null,null,null,null,null,null,null,null,null,null,null,null,null,null,null,null,null,null,null,null,null,{"$f":"IF(OR('Set UP'!$C31=0,'Set UP'!$D31=0,'Set UP'!$E31=0),\"\",(GM$19*GM45)+(GN$19*GN45)+(GO$19*GO45)+(GP$19*GP45)+(GQ$19*GQ45)+(GR$19*GR45)+(GS$19*GS45)+(GT$19*GT45)+(GU$19*GU45)+(GV$19*GV45)+(GW$19*GW45)+(GX$19*GX45)+(GY$19*GY45)+(GZ$19*GZ45)+(HA$19*HA45)+(HB$19*HB45)+(HC$19*HC45)+(HD$19*HD45)+(HE$19*HE45)+(HF$19*HF45)+(HG$19*HG45)+(HH$19*HH45)+(HI$19*HI45)+(HJ$19*HJ45)+(HK$19*HK45))","v":0},null,null,null,null,null,null,null,null,null,null,null,null,null,null,null,null,null,null,null,null,null,null,null,null,null,null,{"$f":"IF(OR('Set UP'!$C31=0,'Set UP'!$D31=0,'Set UP'!$E31=0),\"\",(HN$19*HN45)+(HO$19*HO45)+(HP$19*HP45)+(HQ$19*HQ45)+(HR$19*HR45)+(HS$19*HS45)+(HT$19*HT45)+(HU$19*HU45)+(HV$19*HV45)+(HW$19*HW45)+(HX$19*HX45)+(HY$19*HY45)+(HZ$19*HZ45)+(IA$19*IA45)+(IB$19*IB45)+(IC$19*IC45)+(ID$19*ID45)+(IE$19*IE45)+(IF$19*IF45)+(IG$19*IG45)+(IH$19*IH45)+(II$19*II45)+(IJ$19*IJ45)+(IK$19*IK45)+(IL$19*IL45))","v":0},null,null,null,null,null,null,null,null,null,null,null,null,null,null,null,null,null,null,null,null,null,null,null,null,null,null,{"$f":"IF(OR('Set UP'!$C31=0,'Set UP'!$D31=0,'Set UP'!$E31=0),\"\",(IO$19*IO45)+(IP$19*IP45)+(IQ$19*IQ45)+(IR$19*IR45)+(IS$19*IS45)+(IT$19*IT45)+(IU$19*IU45)+(IV$19*IV45)+(IW$19*IW45)+(IX$19*IX45)+(IY$19*IY45)+(IZ$19*IZ45)+(JA$19*JA45)+(JB$19*JB45)+(JC$19*JC45)+(JD$19*JD45)+(JE$19*JE45)+(JF$19*JF45)+(JG$19*JG45)+(JH$19*JH45)+(JI$19*JI45)+(JJ$19*JJ45)+(JK$19*JK45)+(JL$19*JL45)+(JM$19*JM45))","v":0},{"$f":"IF(OR('Set UP'!$C31=0,'Set UP'!$D31=0,'Set UP'!$E31=0),\"\",(AF45+BG45+CH45+DI45+EJ45+FK45+GL45+HM45+JO45+IN45))","v":81.5},{"$f":"IF(OR('Set UP'!$C31=0,'Set UP'!$D31=0,'Set UP'!$E31=0),\"\",RANK(JP45,$JP$21:$JP$60,0))","v":26},{"$f":"IF(OR('Set UP'!K31<>1,'Set UP'!C31=0,'Set UP'!D31=0,'Set UP'!E31=0,'Set UP'!F31=0),\"\",$JP45)","v":""},{"$f":"IF(OR('Set UP'!K31<>1,'Set UP'!C31=0,'Set UP'!D31=0,'Set UP'!E31=0,'Set UP'!F31=0),\"\",RANK(JR45,$JR$21:$JR$60,0))","v":""},{"$f":"IF(OR('Set UP'!K31<>2,'Set UP'!C31=0,'Set UP'!D31=0,'Set UP'!E31=0,'Set UP'!F31=0),\"\",$JP45)","v":81.5},{"$f":"IF(OR('Set UP'!K31<>2,'Set UP'!C31=0,'Set UP'!D31=0,'Set UP'!E31=0,'Set UP'!F31=0),\"\",RANK(JT45,$JT$21:$JT$60,0))","v":11},{"$f":"IF(OR('Set UP'!F31<>\"F\",'Set UP'!C31=0,'Set UP'!D31=0,'Set UP'!E31=0),\"\",$JP45)","v":""},{"$f":"IF(OR('Set UP'!F31<>\"F\",'Set UP'!C31=0,'Set UP'!D31=0,'Set UP'!E31=0),\"\",RANK(JV45,$JV$21:$JV$60,0))","v":""},{"$f":"IF(OR('Set UP'!F31<>\"NS\",'Set UP'!C31=0,'Set UP'!D31=0,'Set UP'!E31=0),\"\",$JP45)","v":""},{"$f":"IF(OR('Set UP'!F31<>\"NS\",'Set UP'!C31=0,'Set UP'!D31=0,'Set UP'!E31=0),\"\",RANK(JX45,$JX$21:$JX$60,0))","v":""},{"$f":"IF(OR('Set UP'!$C31=0,'Set UP'!$D31=0,'Set UP'!$E31=0,JP45=0),\"\",JP45/MAX(JP$21:JP$60)*1000)","v":275.33783783783781}]
[null,26,{"$f":"IF(OR('Set UP'!$C32=0,'Set UP'!$D32=0,'Set UP'!$E32=0,'Set UP'!F32=0),\"  --\",'Set UP'!C32)","v":1442},{"$f":"IF(OR('Set UP'!$C32=0,'Set UP'!$D32=0,'Set UP'!$E32=0,'Set UP'!F32=0),\"  --\",'Set UP'!D32&\" \"&'Set UP'!E32)","v":"University of Birmingham A"},{"$f":"IF(OR('Set UP'!$C32=0,'Set UP'!$D32=0,'Set UP'!$E32=0,'Set UP'!F32=0),\"  --\",'Set UP'!F32)","v":"S"},3,5,5,7,null,null,null,null,null,null,null,null,null,null,null,null,null,null,null,null,null,null,null,null,null,null,{"$f":"IF(OR('Set UP'!$C32=0,'Set UP'!$D32=0,'Set UP'!$E32=0),\"\",(F$19*F46)+(G$19*G46)+(H$19*H46)+(I$19*I46)+(J$19*J46)+(K$19*K46)+(L$19*L46)+(M$19*M46)+(N$19*N46)+(O$19*O46)+(P$19*P46)+(Q$19*Q46)+(R$19*R46)+(S$19*S46)+(T$19*T46)+(U$19*U46)+(V$19*V46)+(W$19*W46)+(X$19*X46)+(Y$19*Y46)+(Z$19*Z46)+(AA$19*AA46)+(AB$19*AB46)+(AC$19*AC46)+(AD$19*AD46))","v":37.5},6,5,0,0,0,null,null,null,null,null,null,null,null,null,null,null,null,null,null,null,null,null,null,null,null,null,{"$f":"IF(OR('Set UP'!$C32=0,'Set UP'!$D32=0,'Set UP'!$E32=0),\"\",(AG$19*AG46)+(AH$19*AH46)+(AI$19*AI46)+(AJ$19*AJ46)+(AK$19*AK46)+(AL$19*AL46)+(AM$19*AM46)+(AN$19*AN46)+(AO$19*AO46)+(AP$19*AP46)+(AQ$19*AQ46)+(AR$19*AR46)+(AS$19*AS46)+(AT$19*AT46)+(AU$19*AU46)+(AV$19*AV46)+(AW$19*AW46)+(AX$19*AX46)+(AY$19*AY46)+(AZ$19*AZ46)+(BA$19*BA46)+(BB$19*BB46)+(BC$19*BC46)+(BD$19*BD46)+(BE$19*BE46))","v":16.5},5,5,9,0,0,0,4,1,0,0,5,7,null,null,null,null,null,null,null,null,null,null,null,null,null,null,{"$f":"IF(OR('Set UP'!$C32=0,'Set UP'!$D32=0,'Set UP'!$E32=0),\"\",(BH$19*BH46)+(BI$19*BI46)+(BJ$19*BJ46)+(BK$19*BK46)+(BL$19*BL46)+(BM$19*BM46)+(BN$19*BN46)+(BO$19*BO46)+(BP$19*BP46)+(BQ$19*BQ46)+(BR$19*BR46)+(BS$19*BS46)+(BT$19*BT46)+(BU$19*BU46)+(BV$19*BV46)+(BW$19*BW46)+(BX$19*BX46)+(BY$19*BY46)+(BZ$19*BZ46)+(CA$19*CA46)+(CB$19*CB46)+(CC$19*CC46)+(CD$19*CD46)+(CE$19*CE46)+(CF$19*CF46))","v":36},6,2,0,0,6,0,4,0,0,null,null,null,null,null,null,null,null,null,null,null,null,null,null,null,null,null,{"$f":"IF(OR('Set UP'!$C32=0,'Set UP'!$D32=0,'Set UP'!$E32=0),\"\",(CI$19*CI46)+(CJ$19*CJ46)+(CK$19*CK46)+(CL$19*CL46)+(CM$19*CM46)+(CN$19*CN46)+(CO$19*CO46)+(CP$19*CP46)+(CQ$19*CQ46)+(CR$19*CR46)+(CS$19*CS46)+(CT$19*CT46)+(CU$19*CU46)+(CV$19*CV46)+(CW$19*CW46)+(CX$19*CX46)+(CY$19*CY46)+(CZ$19*CZ46)+(DA$19*DA46)+(DB$19*DB46)+(DC$19*DC46)+(DD$19*DD46)+(DE$19*DE46)+(DF$19*DF46)+(DG$19*DG46))","v":43},6,7,5,3,3,5,0,0,4,2,null,null,null,null,null,null,null,null,null,null,null,null,null,null,null,null,{"$f":"IF(OR('Set UP'!$C32=0,'Set UP'!$D32=0,'Set UP'!$E32=0),\"\",(DJ$19*DJ46)+(DK$19*DK46)+(DL$19*DL46)+(DM$19*DM46)+(DN$19*DN46)+(DO$19*DO46)+(DP$19*DP46)+(DQ$19*DQ46)+(DR$19*DR46)+(DS$19*DS46)+(DT$19*DT46)+(DU$19*DU46)+(DV$19*DV46)+(DW$19*DW46)+(DX$19*DX46)+(DY$19*DY46)+(DZ$19*DZ46)+(EA$19*EA46)+(EB$19*EB46)+(EC$19*EC46)+(ED$19*ED46)+(EE$19*EE46)+(EF$19*EF46)+(EG$19*EG46)+(EH$19*EH46))","v":46},null,null,null,null,null,null,null,null,null,null,null,null,null,null,null,null,null,null,null,null,null,null,null,null,null,null,{"$f":"IF(OR('Set UP'!$C32=0,'Set UP'!$D32=0,'Set UP'!$E32=0),\"\",(EK$19*EK46)+(EL$19*EL46)+(EM$19*EM46)+(EN$19*EN46)+(EO$19*EO46)+(EP$19*EP46)+(EQ$19*EQ46)+(ER$19*ER46)+(ES$19*ES46)+(ET$19*ET46)+(EU$19*EU46)+(EV$19*EV46)+(EW$19*EW46)+(EX$19*EX46)+(EY$19*EY46)+(EZ$19*EZ46)+(FA$19*FA46)+(FB$19*FB46)+(FC$19*FC46)+(FD$19*FD46)+(FE$19*FE46)+(FF$19*FF46)+(FG$19*FG46)+(FH$19*FH46)+(FI$19*FI46))","v":0},null,null,null,null,null,null,null,null,null,null,null,null,null,null,null,null,null,null,null,null,null,null,null,null,null,null,{"$f":"IF(OR('Set UP'!$C32=0,'Set UP'!$D32=0,'Set UP'!$E32=0),\"\",(FL$19*FL46)+(FM$19*FM46)+(FN$19*FN46)+(FO$19*FO46)+(FP$19*FP46)+(FQ$19*FQ46)+(FR$19*FR46)+(FS$19*FS46)+(FT$19*FT46)+(FU$19*FU46)+(FV$19*FV46)+(FW$19*FW46)+(FX$19*FX46)+(FY$19*FY46)+(FZ$19*FZ46)+(GA$19*GA46)+(GB$19*GB46)+(GC$19*GC46)+(GD$19*GD46)+(GE$19*GE46)+(GF$19*GF46)+(GG$19*GG46)+(GH$19*GH46)+(GI$19*GI46)+(GJ$19*GJ46))","v":0},null,null,null,null,null,null,null,null,null,null,null,null,null,null,null,null,null,null,null,null,null,null,null,null,null,null,{"$f":"IF(OR('Set UP'!$C32=0,'Set UP'!$D32=0,'Set UP'!$E32=0),\"\",(GM$19*GM46)+(GN$19*GN46)+(GO$19*GO46)+(GP$19*GP46)+(GQ$19*GQ46)+(GR$19*GR46)+(GS$19*GS46)+(GT$19*GT46)+(GU$19*GU46)+(GV$19*GV46)+(GW$19*GW46)+(GX$19*GX46)+(GY$19*GY46)+(GZ$19*GZ46)+(HA$19*HA46)+(HB$19*HB46)+(HC$19*HC46)+(HD$19*HD46)+(HE$19*HE46)+(HF$19*HF46)+(HG$19*HG46)+(HH$19*HH46)+(HI$19*HI46)+(HJ$19*HJ46)+(HK$19*HK46))","v":0},null,null,null,null,null,null,null,null,null,null,null,null,null,null,null,null,null,null,null,null,null,null,null,null,null,null,{"$f":"IF(OR('Set UP'!$C32=0,'Set UP'!$D32=0,'Set UP'!$E32=0),\"\",(HN$19*HN46)+(HO$19*HO46)+(HP$19*HP46)+(HQ$19*HQ46)+(HR$19*HR46)+(HS$19*HS46)+(HT$19*HT46)+(HU$19*HU46)+(HV$19*HV46)+(HW$19*HW46)+(HX$19*HX46)+(HY$19*HY46)+(HZ$19*HZ46)+(IA$19*IA46)+(IB$19*IB46)+(IC$19*IC46)+(ID$19*ID46)+(IE$19*IE46)+(IF$19*IF46)+(IG$19*IG46)+(IH$19*IH46)+(II$19*II46)+(IJ$19*IJ46)+(IK$19*IK46)+(IL$19*IL46))","v":0},null,null,null,null,null,null,null,null,null,null,null,null,null,null,null,null,null,null,null,null,null,null,null,null,null,null,{"$f":"IF(OR('Set UP'!$C32=0,'Set UP'!$D32=0,'Set UP'!$E32=0),\"\",(IO$19*IO46)+(IP$19*IP46)+(IQ$19*IQ46)+(IR$19*IR46)+(IS$19*IS46)+(IT$19*IT46)+(IU$19*IU46)+(IV$19*IV46)+(IW$19*IW46)+(IX$19*IX46)+(IY$19*IY46)+(IZ$19*IZ46)+(JA$19*JA46)+(JB$19*JB46)+(JC$19*JC46)+(JD$19*JD46)+(JE$19*JE46)+(JF$19*JF46)+(JG$19*JG46)+(JH$19*JH46)+(JI$19*JI46)+(JJ$19*JJ46)+(JK$19*JK46)+(JL$19*JL46)+(JM$19*JM46))","v":0},{"$f":"IF(OR('Set UP'!$C32=0,'Set UP'!$D32=0,'Set UP'!$E32=0),\"\",(AF46+BG46+CH46+DI46+EJ46+FK46+GL46+HM46+JO46+IN46))","v":179},{"$f":"IF(OR('Set UP'!$C32=0,'Set UP'!$D32=0,'Set UP'!$E32=0),\"\",RANK(JP46,$JP$21:$JP$60,0))","v":9},{"$f":"IF(OR('Set UP'!K32<>1,'Set UP'!C32=0,'Set UP'!D32=0,'Set UP'!E32=0,'Set UP'!F32=0),\"\",$JP46)","v":179},{"$f":"IF(OR('Set UP'!K32<>1,'Set UP'!C32=0,'Set UP'!D32=0,'Set UP'!E32=0,'Set UP'!F32=0),\"\",RANK(JR46,$JR$21:$JR$60,0))","v":6},{"$f":"IF(OR('Set UP'!K32<>2,'Set UP'!C32=0,'Set UP'!D32=0,'Set UP'!E32=0,'Set UP'!F32=0),\"\",$JP46)","v":""},{"$f":"IF(OR('Set UP'!K32<>2,'Set UP'!C32=0,'Set UP'!D32=0,'Set UP'!E32=0,'Set UP'!F32=0),\"\",RANK(JT46,$JT$21:$JT$60,0))","v":""},{"$f":"IF(OR('Set UP'!F32<>\"F\",'Set UP'!C32=0,'Set UP'!D32=0,'Set UP'!E32=0),\"\",$JP46)","v":""},{"$f":"IF(OR('Set UP'!F32<>\"F\",'Set UP'!C32=0,'Set UP'!D32=0,'Set UP'!E32=0),\"\",RANK(JV46,$JV$21:$JV$60,0))","v":""},{"$f":"IF(OR('Set UP'!F32<>\"NS\",'Set UP'!C32=0,'Set UP'!D32=0,'Set UP'!E32=0),\"\",$JP46)","v":""},{"$f":"IF(OR('Set UP'!F32<>\"NS\",'Set UP'!C32=0,'Set UP'!D32=0,'Set UP'!E32=0),\"\",RANK(JX46,$JX$21:$JX$60,0))","v":""},{"$f":"IF(OR('Set UP'!$C32=0,'Set UP'!$D32=0,'Set UP'!$E32=0,JP46=0),\"\",JP46/MAX(JP$21:JP$60)*1000)","v":604.72972972972968}]
[null,27,{"$f":"IF(OR('Set UP'!$C33=0,'Set UP'!$D33=0,'Set UP'!$E33=0,'Set UP'!F33=0),\"  --\",'Set UP'!C33)","v":1456},{"$f":"IF(OR('Set UP'!$C33=0,'Set UP'!$D33=0,'Set UP'!$E33=0,'Set UP'!F33=0),\"  --\",'Set UP'!D33&\" \"&'Set UP'!E33)","v":"University of Warwick A"},{"$f":"IF(OR('Set UP'!$C33=0,'Set UP'!$D33=0,'Set UP'!$E33=0,'Set UP'!F33=0),\"  --\",'Set UP'!F33)","v":"S"},6,4,5,4,null,null,null,null,null,null,null,null,null,null,null,null,null,null,null,null,null,null,null,null,null,null,{"$f":"IF(OR('Set UP'!$C33=0,'Set UP'!$D33=0,'Set UP'!$E33=0),\"\",(F$19*F47)+(G$19*G47)+(H$19*H47)+(I$19*I47)+(J$19*J47)+(K$19*K47)+(L$19*L47)+(M$19*M47)+(N$19*N47)+(O$19*O47)+(P$19*P47)+(Q$19*Q47)+(R$19*R47)+(S$19*S47)+(T$19*T47)+(U$19*U47)+(V$19*V47)+(W$19*W47)+(X$19*X47)+(Y$19*Y47)+(Z$19*Z47)+(AA$19*AA47)+(AB$19*AB47)+(AC$19*AC47)+(AD$19*AD47))","v":36},7,5,0,0,0,null,null,null,null,null,null,null,null,null,null,null,null,null,null,null,null,null,null,null,null,null,{"$f":"IF(OR('Set UP'!$C33=0,'Set UP'!$D33=0,'Set UP'!$E33=0),\"\",(AG$19*AG47)+(AH$19*AH47)+(AI$19*AI47)+(AJ$19*AJ47)+(AK$19*AK47)+(AL$19*AL47)+(AM$19*AM47)+(AN$19*AN47)+(AO$19*AO47)+(AP$19*AP47)+(AQ$19*AQ47)+(AR$19*AR47)+(AS$19*AS47)+(AT$19*AT47)+(AU$19*AU47)+(AV$19*AV47)+(AW$19*AW47)+(AX$19*AX47)+(AY$19*AY47)+(AZ$19*AZ47)+(BA$19*BA47)+(BB$19*BB47)+(BC$19*BC47)+(BD$19*BD47)+(BE$19*BE47))","v":18},3,8,2,0,0,0,4,4,0,4,7,7,null,null,null,null,null,null,null,null,null,null,null,null,null,null,{"$f":"IF(OR('Set UP'!$C33=0,'Set UP'!$D33=0,'Set UP'!$E33=0),\"\",(BH$19*BH47)+(BI$19*BI47)+(BJ$19*BJ47)+(BK$19*BK47)+(BL$19*BL47)+(BM$19*BM47)+(BN$19*BN47)+(BO$19*BO47)+(BP$19*BP47)+(BQ$19*BQ47)+(BR$19*BR47)+(BS$19*BS47)+(BT$19*BT47)+(BU$19*BU47)+(BV$19*BV47)+(BW$19*BW47)+(BX$19*BX47)+(BY$19*BY47)+(BZ$19*BZ47)+(CA$19*CA47)+(CB$19*CB47)+(CC$19*CC47)+(CD$19*CD47)+(CE$19*CE47)+(CF$19*CF47))","v":39.5},8,7,0,0,7,1,7,0,0,null,null,null,null,null,null,null,null,null,null,null,null,null,null,null,null,null,{"$f":"IF(OR('Set UP'!$C33=0,'Set UP'!$D33=0,'Set UP'!$E33=0),\"\",(CI$19*CI47)+(CJ$19*CJ47)+(CK$19*CK47)+(CL$19*CL47)+(CM$19*CM47)+(CN$19*CN47)+(CO$19*CO47)+(CP$19*CP47)+(CQ$19*CQ47)+(CR$19*CR47)+(CS$19*CS47)+(CT$19*CT47)+(CU$19*CU47)+(CV$19*CV47)+(CW$19*CW47)+(CX$19*CX47)+(CY$19*CY47)+(CZ$19*CZ47)+(DA$19*DA47)+(DB$19*DB47)+(DC$19*DC47)+(DD$19*DD47)+(DE$19*DE47)+(DF$19*DF47)+(DG$19*DG47))","v":73.5},6,9,1,2,5,5,5,0,3,0,null,null,null,null,null,null,null,null,null,null,null,null,null,null,null,null,{"$f":"IF(OR('Set UP'!$C33=0,'Set UP'!$D33=0,'Set UP'!$E33=0),\"\",(DJ$19*DJ47)+(DK$19*DK47)+(DL$19*DL47)+(DM$19*DM47)+(DN$19*DN47)+(DO$19*DO47)+(DP$19*DP47)+(DQ$19*DQ47)+(DR$19*DR47)+(DS$19*DS47)+(DT$19*DT47)+(DU$19*DU47)+(DV$19*DV47)+(DW$19*DW47)+(DX$19*DX47)+(DY$19*DY47)+(DZ$19*DZ47)+(EA$19*EA47)+(EB$19*EB47)+(EC$19*EC47)+(ED$19*ED47)+(EE$19*EE47)+(EF$19*EF47)+(EG$19*EG47)+(EH$19*EH47))","v":45.5},null,null,null,null,null,null,null,null,null,null,null,null,null,null,null,null,null,null,null,null,null,null,null,null,null,null,{"$f":"IF(OR('Set UP'!$C33=0,'Set UP'!$D33=0,'Set UP'!$E33=0),\"\",(EK$19*EK47)+(EL$19*EL47)+(EM$19*EM47)+(EN$19*EN47)+(EO$19*EO47)+(EP$19*EP47)+(EQ$19*EQ47)+(ER$19*ER47)+(ES$19*ES47)+(ET$19*ET47)+(EU$19*EU47)+(EV$19*EV47)+(EW$19*EW47)+(EX$19*EX47)+(EY$19*EY47)+(EZ$19*EZ47)+(FA$19*FA47)+(FB$19*FB47)+(FC$19*FC47)+(FD$19*FD47)+(FE$19*FE47)+(FF$19*FF47)+(FG$19*FG47)+(FH$19*FH47)+(FI$19*FI47))","v":0},null,null,null,null,null,null,null,null,null,null,null,null,null,null,null,null,null,null,null,null,null,null,null,null,null,null,{"$f":"IF(OR('Set UP'!$C33=0,'Set UP'!$D33=0,'Set UP'!$E33=0),\"\",(FL$19*FL47)+(FM$19*FM47)+(FN$19*FN47)+(FO$19*FO47)+(FP$19*FP47)+(FQ$19*FQ47)+(FR$19*FR47)+(FS$19*FS47)+(FT$19*FT47)+(FU$19*FU47)+(FV$19*FV47)+(FW$19*FW47)+(FX$19*FX47)+(FY$19*FY47)+(FZ$19*FZ47)+(GA$19*GA47)+(GB$19*GB47)+(GC$19*GC47)+(GD$19*GD47)+(GE$19*GE47)+(GF$19*GF47)+(GG$19*GG47)+(GH$19*GH47)+(GI$19*GI47)+(GJ$19*GJ47))","v":0},null,null,null,null,null,null,null,null,null,null,null,null,null,null,null,null,null,null,null,null,null,null,null,null,null,null,{"$f":"IF(OR('Set UP'!$C33=0,'Set UP'!$D33=0,'Set UP'!$E33=0),\"\",(GM$19*GM47)+(GN$19*GN47)+(GO$19*GO47)+(GP$19*GP47)+(GQ$19*GQ47)+(GR$19*GR47)+(GS$19*GS47)+(GT$19*GT47)+(GU$19*GU47)+(GV$19*GV47)+(GW$19*GW47)+(GX$19*GX47)+(GY$19*GY47)+(GZ$19*GZ47)+(HA$19*HA47)+(HB$19*HB47)+(HC$19*HC47)+(HD$19*HD47)+(HE$19*HE47)+(HF$19*HF47)+(HG$19*HG47)+(HH$19*HH47)+(HI$19*HI47)+(HJ$19*HJ47)+(HK$19*HK47))","v":0},null,null,null,null,null,null,null,null,null,null,null,null,null,null,null,null,null,null,null,null,null,null,null,null,null,null,{"$f":"IF(OR('Set UP'!$C33=0,'Set UP'!$D33=0,'Set UP'!$E33=0),\"\",(HN$19*HN47)+(HO$19*HO47)+(HP$19*HP47)+(HQ$19*HQ47)+(HR$19*HR47)+(HS$19*HS47)+(HT$19*HT47)+(HU$19*HU47)+(HV$19*HV47)+(HW$19*HW47)+(HX$19*HX47)+(HY$19*HY47)+(HZ$19*HZ47)+(IA$19*IA47)+(IB$19*IB47)+(IC$19*IC47)+(ID$19*ID47)+(IE$19*IE47)+(IF$19*IF47)+(IG$19*IG47)+(IH$19*IH47)+(II$19*II47)+(IJ$19*IJ47)+(IK$19*IK47)+(IL$19*IL47))","v":0},null,null,null,null,null,null,null,null,null,null,null,null,null,null,null,null,null,null,null,null,null,null,null,null,null,null,{"$f":"IF(OR('Set UP'!$C33=0,'Set UP'!$D33=0,'Set UP'!$E33=0),\"\",(IO$19*IO47)+(IP$19*IP47)+(IQ$19*IQ47)+(IR$19*IR47)+(IS$19*IS47)+(IT$19*IT47)+(IU$19*IU47)+(IV$19*IV47)+(IW$19*IW47)+(IX$19*IX47)+(IY$19*IY47)+(IZ$19*IZ47)+(JA$19*JA47)+(JB$19*JB47)+(JC$19*JC47)+(JD$19*JD47)+(JE$19*JE47)+(JF$19*JF47)+(JG$19*JG47)+(JH$19*JH47)+(JI$19*JI47)+(JJ$19*JJ47)+(JK$19*JK47)+(JL$19*JL47)+(JM$19*JM47))","v":0},{"$f":"IF(OR('Set UP'!$C33=0,'Set UP'!$D33=0,'Set UP'!$E33=0),\"\",(AF47+BG47+CH47+DI47+EJ47+FK47+GL47+HM47+JO47+IN47))","v":212.5},{"$f":"IF(OR('Set UP'!$C33=0,'Set UP'!$D33=0,'Set UP'!$E33=0),\"\",RANK(JP47,$JP$21:$JP$60,0))","v":3},{"$f":"IF(OR('Set UP'!K33<>1,'Set UP'!C33=0,'Set UP'!D33=0,'Set UP'!E33=0,'Set UP'!F33=0),\"\",$JP47)","v":212.5},{"$f":"IF(OR('Set UP'!K33<>1,'Set UP'!C33=0,'Set UP'!D33=0,'Set UP'!E33=0,'Set UP'!F33=0),\"\",RANK(JR47,$JR$21:$JR$60,0))","v":3},{"$f":"IF(OR('Set UP'!K33<>2,'Set UP'!C33=0,'Set UP'!D33=0,'Set UP'!E33=0,'Set UP'!F33=0),\"\",$JP47)","v":""},{"$f":"IF(OR('Set UP'!K33<>2,'Set UP'!C33=0,'Set UP'!D33=0,'Set UP'!E33=0,'Set UP'!F33=0),\"\",RANK(JT47,$JT$21:$JT$60,0))","v":""},{"$f":"IF(OR('Set UP'!F33<>\"F\",'Set UP'!C33=0,'Set UP'!D33=0,'Set UP'!E33=0),\"\",$JP47)","v":""},{"$f":"IF(OR('Set UP'!F33<>\"F\",'Set UP'!C33=0,'Set UP'!D33=0,'Set UP'!E33=0),\"\",RANK(JV47,$JV$21:$JV$60,0))","v":""},{"$f":"IF(OR('Set UP'!F33<>\"NS\",'Set UP'!C33=0,'Set UP'!D33=0,'Set UP'!E33=0),\"\",$JP47)","v":""},{"$f":"IF(OR('Set UP'!F33<>\"NS\",'Set UP'!C33=0,'Set UP'!D33=0,'Set UP'!E33=0),\"\",RANK(JX47,$JX$21:$JX$60,0))","v":""},{"$f":"IF(OR('Set UP'!$C33=0,'Set UP'!$D33=0,'Set UP'!$E33=0,JP47=0),\"\",JP47/MAX(JP$21:JP$60)*1000)","v":717.90540540540542}]
[null,28,{"$f":"IF(OR('Set UP'!$C34=0,'Set UP'!$D34=0,'Set UP'!$E34=0,'Set UP'!F34=0),\"  --\",'Set UP'!C34)","v":1460},{"$f":"IF(OR('Set UP'!$C34=0,'Set UP'!$D34=0,'Set UP'!$E34=0,'Set UP'!F34=0),\"  --\",'Set UP'!D34&\" \"&'Set UP'!E34)","v":"Bristol University A"},{"$f":"IF(OR('Set UP'!$C34=0,'Set UP'!$D34=0,'Set UP'!$E34=0,'Set UP'!F34=0),\"  --\",'Set UP'!F34)","v":"S"},7,8,7,8,null,null,null,null,null,null,null,null,null,null,null,null,null,null,null,null,null,null,null,null,null,null,{"$f":"IF(OR('Set UP'!$C34=0,'Set UP'!$D34=0,'Set UP'!$E34=0),\"\",(F$19*F48)+(G$19*G48)+(H$19*H48)+(I$19*I48)+(J$19*J48)+(K$19*K48)+(L$19*L48)+(M$19*M48)+(N$19*N48)+(O$19*O48)+(P$19*P48)+(Q$19*Q48)+(R$19*R48)+(S$19*S48)+(T$19*T48)+(U$19*U48)+(V$19*V48)+(W$19*W48)+(X$19*X48)+(Y$19*Y48)+(Z$19*Z48)+(AA$19*AA48)+(AB$19*AB48)+(AC$19*AC48)+(AD$19*AD48))","v":55.5},4,7,3,0,0,null,null,null,null,null,null,null,null,null,null,null,null,null,null,null,null,null,null,null,null,null,{"$f":"IF(OR('Set UP'!$C34=0,'Set UP'!$D34=0,'Set UP'!$E34=0),\"\",(AG$19*AG48)+(AH$19*AH48)+(AI$19*AI48)+(AJ$19*AJ48)+(AK$19*AK48)+(AL$19*AL48)+(AM$19*AM48)+(AN$19*AN48)+(AO$19*AO48)+(AP$19*AP48)+(AQ$19*AQ48)+(AR$19*AR48)+(AS$19*AS48)+(AT$19*AT48)+(AU$19*AU48)+(AV$19*AV48)+(AW$19*AW48)+(AX$19*AX48)+(AY$19*AY48)+(AZ$19*AZ48)+(BA$19*BA48)+(BB$19*BB48)+(BC$19*BC48)+(BD$19*BD48)+(BE$19*BE48))","v":19.5},5,0,0,0,0,0,5,0,6,3,6,5,null,null,null,null,null,null,null,null,null,null,null,null,null,null,{"$f":"IF(OR('Set UP'!$C34=0,'Set UP'!$D34=0,'Set UP'!$E34=0),\"\",(BH$19*BH48)+(BI$19*BI48)+(BJ$19*BJ48)+(BK$19*BK48)+(BL$19*BL48)+(BM$19*BM48)+(BN$19*BN48)+(BO$19*BO48)+(BP$19*BP48)+(BQ$19*BQ48)+(BR$19*BR48)+(BS$19*BS48)+(BT$19*BT48)+(BU$19*BU48)+(BV$19*BV48)+(BW$19*BW48)+(BX$19*BX48)+(BY$19*BY48)+(BZ$19*BZ48)+(CA$19*CA48)+(CB$19*CB48)+(CC$19*CC48)+(CD$19*CD48)+(CE$19*CE48)+(CF$19*CF48))","v":28.5},6,10,5,3,6,0,10,5,4,null,null,null,null,null,null,null,null,null,null,null,null,null,null,null,null,null,{"$f":"IF(OR('Set UP'!$C34=0,'Set UP'!$D34=0,'Set UP'!$E34=0),\"\",(CI$19*CI48)+(CJ$19*CJ48)+(CK$19*CK48)+(CL$19*CL48)+(CM$19*CM48)+(CN$19*CN48)+(CO$19*CO48)+(CP$19*CP48)+(CQ$19*CQ48)+(CR$19*CR48)+(CS$19*CS48)+(CT$19*CT48)+(CU$19*CU48)+(CV$19*CV48)+(CW$19*CW48)+(CX$19*CX48)+(CY$19*CY48)+(CZ$19*CZ48)+(DA$19*DA48)+(DB$19*DB48)+(DC$19*DC48)+(DD$19*DD48)+(DE$19*DE48)+(DF$19*DF48)+(DG$19*DG48))","v":98},2,1,4,2,0,0,0,0,0,0,null,null,null,null,null,null,null,null,null,null,null,null,null,null,null,null,{"$f":"IF(OR('Set UP'!$C34=0,'Set UP'!$D34=0,'Set UP'!$E34=0),\"\",(DJ$19*DJ48)+(DK$19*DK48)+(DL$19*DL48)+(DM$19*DM48)+(DN$19*DN48)+(DO$19*DO48)+(DP$19*DP48)+(DQ$19*DQ48)+(DR$19*DR48)+(DS$19*DS48)+(DT$19*DT48)+(DU$19*DU48)+(DV$19*DV48)+(DW$19*DW48)+(DX$19*DX48)+(DY$19*DY48)+(DZ$19*DZ48)+(EA$19*EA48)+(EB$19*EB48)+(EC$19*EC48)+(ED$19*ED48)+(EE$19*EE48)+(EF$19*EF48)+(EG$19*EG48)+(EH$19*EH48))","v":10.5},null,null,null,null,null,null,null,null,null,null,null,null,null,null,null,null,null,null,null,null,null,null,null,null,null,null,{"$f":"IF(OR('Set UP'!$C34=0,'Set UP'!$D34=0,'Set UP'!$E34=0),\"\",(EK$19*EK48)+(EL$19*EL48)+(EM$19*EM48)+(EN$19*EN48)+(EO$19*EO48)+(EP$19*EP48)+(EQ$19*EQ48)+(ER$19*ER48)+(ES$19*ES48)+(ET$19*ET48)+(EU$19*EU48)+(EV$19*EV48)+(EW$19*EW48)+(EX$19*EX48)+(EY$19*EY48)+(EZ$19*EZ48)+(FA$19*FA48)+(FB$19*FB48)+(FC$19*FC48)+(FD$19*FD48)+(FE$19*FE48)+(FF$19*FF48)+(FG$19*FG48)+(FH$19*FH48)+(FI$19*FI48))","v":0},null,null,null,null,null,null,null,null,null,null,null,null,null,null,null,null,null,null,null,null,null,null,null,null,null,null,{"$f":"IF(OR('Set UP'!$C34=0,'Set UP'!$D34=0,'Set UP'!$E34=0),\"\",(FL$19*FL48)+(FM$19*FM48)+(FN$19*FN48)+(FO$19*FO48)+(FP$19*FP48)+(FQ$19*FQ48)+(FR$19*FR48)+(FS$19*FS48)+(FT$19*FT48)+(FU$19*FU48)+(FV$19*FV48)+(FW$19*FW48)+(FX$19*FX48)+(FY$19*FY48)+(FZ$19*FZ48)+(GA$19*GA48)+(GB$19*GB48)+(GC$19*GC48)+(GD$19*GD48)+(GE$19*GE48)+(GF$19*GF48)+(GG$19*GG48)+(GH$19*GH48)+(GI$19*GI48)+(GJ$19*GJ48))","v":0},null,null,null,null,null,null,null,null,null,null,null,null,null,null,null,null,null,null,null,null,null,null,null,null,null,null,{"$f":"IF(OR('Set UP'!$C34=0,'Set UP'!$D34=0,'Set UP'!$E34=0),\"\",(GM$19*GM48)+(GN$19*GN48)+(GO$19*GO48)+(GP$19*GP48)+(GQ$19*GQ48)+(GR$19*GR48)+(GS$19*GS48)+(GT$19*GT48)+(GU$19*GU48)+(GV$19*GV48)+(GW$19*GW48)+(GX$19*GX48)+(GY$19*GY48)+(GZ$19*GZ48)+(HA$19*HA48)+(HB$19*HB48)+(HC$19*HC48)+(HD$19*HD48)+(HE$19*HE48)+(HF$19*HF48)+(HG$19*HG48)+(HH$19*HH48)+(HI$19*HI48)+(HJ$19*HJ48)+(HK$19*HK48))","v":0},null,null,null,null,null,null,null,null,null,null,null,null,null,null,null,null,null,null,null,null,null,null,null,null,null,null,{"$f":"IF(OR('Set UP'!$C34=0,'Set UP'!$D34=0,'Set UP'!$E34=0),\"\",(HN$19*HN48)+(HO$19*HO48)+(HP$19*HP48)+(HQ$19*HQ48)+(HR$19*HR48)+(HS$19*HS48)+(HT$19*HT48)+(HU$19*HU48)+(HV$19*HV48)+(HW$19*HW48)+(HX$19*HX48)+(HY$19*HY48)+(HZ$19*HZ48)+(IA$19*IA48)+(IB$19*IB48)+(IC$19*IC48)+(ID$19*ID48)+(IE$19*IE48)+(IF$19*IF48)+(IG$19*IG48)+(IH$19*IH48)+(II$19*II48)+(IJ$19*IJ48)+(IK$19*IK48)+(IL$19*IL48))","v":0},null,null,null,null,null,null,null,null,null,null,null,null,null,null,null,null,null,null,null,null,null,null,null,null,null,null,{"$f":"IF(OR('Set UP'!$C34=0,'Set UP'!$D34=0,'Set UP'!$E34=0),\"\",(IO$19*IO48)+(IP$19*IP48)+(IQ$19*IQ48)+(IR$19*IR48)+(IS$19*IS48)+(IT$19*IT48)+(IU$19*IU48)+(IV$19*IV48)+(IW$19*IW48)+(IX$19*IX48)+(IY$19*IY48)+(IZ$19*IZ48)+(JA$19*JA48)+(JB$19*JB48)+(JC$19*JC48)+(JD$19*JD48)+(JE$19*JE48)+(JF$19*JF48)+(JG$19*JG48)+(JH$19*JH48)+(JI$19*JI48)+(JJ$19*JJ48)+(JK$19*JK48)+(JL$19*JL48)+(JM$19*JM48))","v":0},{"$f":"IF(OR('Set UP'!$C34=0,'Set UP'!$D34=0,'Set UP'!$E34=0),\"\",(AF48+BG48+CH48+DI48+EJ48+FK48+GL48+HM48+JO48+IN48))","v":212},{"$f":"IF(OR('Set UP'!$C34=0,'Set UP'!$D34=0,'Set UP'!$E34=0),\"\",RANK(JP48,$JP$21:$JP$60,0))","v":4},{"$f":"IF(OR('Set UP'!K34<>1,'Set UP'!C34=0,'Set UP'!D34=0,'Set UP'!E34=0,'Set UP'!F34=0),\"\",$JP48)","v":212},{"$f":"IF(OR('Set UP'!K34<>1,'Set UP'!C34=0,'Set UP'!D34=0,'Set UP'!E34=0,'Set UP'!F34=0),\"\",RANK(JR48,$JR$21:$JR$60,0))","v":4},{"$f":"IF(OR('Set UP'!K34<>2,'Set UP'!C34=0,'Set UP'!D34=0,'Set UP'!E34=0,'Set UP'!F34=0),\"\",$JP48)","v":""},{"$f":"IF(OR('Set UP'!K34<>2,'Set UP'!C34=0,'Set UP'!D34=0,'Set UP'!E34=0,'Set UP'!F34=0),\"\",RANK(JT48,$JT$21:$JT$60,0))","v":""},{"$f":"IF(OR('Set UP'!F34<>\"F\",'Set UP'!C34=0,'Set UP'!D34=0,'Set UP'!E34=0),\"\",$JP48)","v":""},{"$f":"IF(OR('Set UP'!F34<>\"F\",'Set UP'!C34=0,'Set UP'!D34=0,'Set UP'!E34=0),\"\",RANK(JV48,$JV$21:$JV$60,0))","v":""},{"$f":"IF(OR('Set UP'!F34<>\"NS\",'Set UP'!C34=0,'Set UP'!D34=0,'Set UP'!E34=0),\"\",$JP48)","v":""},{"$f":"IF(OR('Set UP'!F34<>\"NS\",'Set UP'!C34=0,'Set UP'!D34=0,'Set UP'!E34=0),\"\",RANK(JX48,$JX$21:$JX$60,0))","v":""},{"$f":"IF(OR('Set UP'!$C34=0,'Set UP'!$D34=0,'Set UP'!$E34=0,JP48=0),\"\",JP48/MAX(JP$21:JP$60)*1000)","v":716.21621621621625}]
[null,29,{"$f":"IF(OR('Set UP'!$C35=0,'Set UP'!$D35=0,'Set UP'!$E35=0,'Set UP'!F35=0),\"  --\",'Set UP'!C35)","v":1437},{"$f":"IF(OR('Set UP'!$C35=0,'Set UP'!$D35=0,'Set UP'!$E35=0,'Set UP'!F35=0),\"  --\",'Set UP'!D35&\" \"&'Set UP'!E35)","v":"Swansea Universities Lifesaving A"},{"$f":"IF(OR('Set UP'!$C35=0,'Set UP'!$D35=0,'Set UP'!$E35=0,'Set UP'!F35=0),\"  --\",'Set UP'!F35)","v":"S"},1,1,4,4,null,null,null,null,null,null,null,null,null,null,null,null,null,null,null,null,null,null,null,null,null,null,{"$f":"IF(OR('Set UP'!$C35=0,'Set UP'!$D35=0,'Set UP'!$E35=0),\"\",(F$19*F49)+(G$19*G49)+(H$19*H49)+(I$19*I49)+(J$19*J49)+(K$19*K49)+(L$19*L49)+(M$19*M49)+(N$19*N49)+(O$19*O49)+(P$19*P49)+(Q$19*Q49)+(R$19*R49)+(S$19*S49)+(T$19*T49)+(U$19*U49)+(V$19*V49)+(W$19*W49)+(X$19*X49)+(Y$19*Y49)+(Z$19*Z49)+(AA$19*AA49)+(AB$19*AB49)+(AC$19*AC49)+(AD$19*AD49))","v":21},4,4,0,0,0,null,null,null,null,null,null,null,null,null,null,null,null,null,null,null,null,null,null,null,null,null,{"$f":"IF(OR('Set UP'!$C35=0,'Set UP'!$D35=0,'Set UP'!$E35=0),\"\",(AG$19*AG49)+(AH$19*AH49)+(AI$19*AI49)+(AJ$19*AJ49)+(AK$19*AK49)+(AL$19*AL49)+(AM$19*AM49)+(AN$19*AN49)+(AO$19*AO49)+(AP$19*AP49)+(AQ$19*AQ49)+(AR$19*AR49)+(AS$19*AS49)+(AT$19*AT49)+(AU$19*AU49)+(AV$19*AV49)+(AW$19*AW49)+(AX$19*AX49)+(AY$19*AY49)+(AZ$19*AZ49)+(BA$19*BA49)+(BB$19*BB49)+(BC$19*BC49)+(BD$19*BD49)+(BE$19*BE49))","v":12},0,0,0,0,0,0,4,2,5,6,0,0,null,null,null,null,null,null,null,null,null,null,null,null,null,null,{"$f":"IF(OR('Set UP'!$C35=0,'Set UP'!$D35=0,'Set UP'!$E35=0),\"\",(BH$19*BH49)+(BI$19*BI49)+(BJ$19*BJ49)+(BK$19*BK49)+(BL$19*BL49)+(BM$19*BM49)+(BN$19*BN49)+(BO$19*BO49)+(BP$19*BP49)+(BQ$19*BQ49)+(BR$19*BR49)+(BS$19*BS49)+(BT$19*BT49)+(BU$19*BU49)+(BV$19*BV49)+(BW$19*BW49)+(BX$19*BX49)+(BY$19*BY49)+(BZ$19*BZ49)+(CA$19*CA49)+(CB$19*CB49)+(CC$19*CC49)+(CD$19*CD49)+(CE$19*CE49)+(CF$19*CF49))","v":17},4,1,2,0,5,0,2,0,0,null,null,null,null,null,null,null,null,null,null,null,null,null,null,null,null,null,{"$f":"IF(OR('Set UP'!$C35=0,'Set UP'!$D35=0,'Set UP'!$E35=0),\"\",(CI$19*CI49)+(CJ$19*CJ49)+(CK$19*CK49)+(CL$19*CL49)+(CM$19*CM49)+(CN$19*CN49)+(CO$19*CO49)+(CP$19*CP49)+(CQ$19*CQ49)+(CR$19*CR49)+(CS$19*CS49)+(CT$19*CT49)+(CU$19*CU49)+(CV$19*CV49)+(CW$19*CW49)+(CX$19*CX49)+(CY$19*CY49)+(CZ$19*CZ49)+(DA$19*DA49)+(DB$19*DB49)+(DC$19*DC49)+(DD$19*DD49)+(DE$19*DE49)+(DF$19*DF49)+(DG$19*DG49))","v":31},0,0,0,0,0,0,0,0,0,0,null,null,null,null,null,null,null,null,null,null,null,null,null,null,null,null,{"$f":"IF(OR('Set UP'!$C35=0,'Set UP'!$D35=0,'Set UP'!$E35=0),\"\",(DJ$19*DJ49)+(DK$19*DK49)+(DL$19*DL49)+(DM$19*DM49)+(DN$19*DN49)+(DO$19*DO49)+(DP$19*DP49)+(DQ$19*DQ49)+(DR$19*DR49)+(DS$19*DS49)+(DT$19*DT49)+(DU$19*DU49)+(DV$19*DV49)+(DW$19*DW49)+(DX$19*DX49)+(DY$19*DY49)+(DZ$19*DZ49)+(EA$19*EA49)+(EB$19*EB49)+(EC$19*EC49)+(ED$19*ED49)+(EE$19*EE49)+(EF$19*EF49)+(EG$19*EG49)+(EH$19*EH49))","v":0},null,null,null,null,null,null,null,null,null,null,null,null,null,null,null,null,null,null,null,null,null,null,null,null,null,null,{"$f":"IF(OR('Set UP'!$C35=0,'Set UP'!$D35=0,'Set UP'!$E35=0),\"\",(EK$19*EK49)+(EL$19*EL49)+(EM$19*EM49)+(EN$19*EN49)+(EO$19*EO49)+(EP$19*EP49)+(EQ$19*EQ49)+(ER$19*ER49)+(ES$19*ES49)+(ET$19*ET49)+(EU$19*EU49)+(EV$19*EV49)+(EW$19*EW49)+(EX$19*EX49)+(EY$19*EY49)+(EZ$19*EZ49)+(FA$19*FA49)+(FB$19*FB49)+(FC$19*FC49)+(FD$19*FD49)+(FE$19*FE49)+(FF$19*FF49)+(FG$19*FG49)+(FH$19*FH49)+(FI$19*FI49))","v":0},null,null,null,null,null,null,null,null,null,null,null,null,null,null,null,null,null,null,null,null,null,null,null,null,null,null,{"$f":"IF(OR('Set UP'!$C35=0,'Set UP'!$D35=0,'Set UP'!$E35=0),\"\",(FL$19*FL49)+(FM$19*FM49)+(FN$19*FN49)+(FO$19*FO49)+(FP$19*FP49)+(FQ$19*FQ49)+(FR$19*FR49)+(FS$19*FS49)+(FT$19*FT49)+(FU$19*FU49)+(FV$19*FV49)+(FW$19*FW49)+(FX$19*FX49)+(FY$19*FY49)+(FZ$19*FZ49)+(GA$19*GA49)+(GB$19*GB49)+(GC$19*GC49)+(GD$19*GD49)+(GE$19*GE49)+(GF$19*GF49)+(GG$19*GG49)+(GH$19*GH49)+(GI$19*GI49)+(GJ$19*GJ49))","v":0},null,null,null,null,null,null,null,null,null,null,null,null,null,null,null,null,null,null,null,null,null,null,null,null,null,null,{"$f":"IF(OR('Set UP'!$C35=0,'Set UP'!$D35=0,'Set UP'!$E35=0),\"\",(GM$19*GM49)+(GN$19*GN49)+(GO$19*GO49)+(GP$19*GP49)+(GQ$19*GQ49)+(GR$19*GR49)+(GS$19*GS49)+(GT$19*GT49)+(GU$19*GU49)+(GV$19*GV49)+(GW$19*GW49)+(GX$19*GX49)+(GY$19*GY49)+(GZ$19*GZ49)+(HA$19*HA49)+(HB$19*HB49)+(HC$19*HC49)+(HD$19*HD49)+(HE$19*HE49)+(HF$19*HF49)+(HG$19*HG49)+(HH$19*HH49)+(HI$19*HI49)+(HJ$19*HJ49)+(HK$19*HK49))","v":0},null,null,null,null,null,null,null,null,null,null,null,null,null,null,null,null,null,null,null,null,null,null,null,null,null,null,{"$f":"IF(OR('Set UP'!$C35=0,'Set UP'!$D35=0,'Set UP'!$E35=0),\"\",(HN$19*HN49)+(HO$19*HO49)+(HP$19*HP49)+(HQ$19*HQ49)+(HR$19*HR49)+(HS$19*HS49)+(HT$19*HT49)+(HU$19*HU49)+(HV$19*HV49)+(HW$19*HW49)+(HX$19*HX49)+(HY$19*HY49)+(HZ$19*HZ49)+(IA$19*IA49)+(IB$19*IB49)+(IC$19*IC49)+(ID$19*ID49)+(IE$19*IE49)+(IF$19*IF49)+(IG$19*IG49)+(IH$19*IH49)+(II$19*II49)+(IJ$19*IJ49)+(IK$19*IK49)+(IL$19*IL49))","v":0},null,null,null,null,null,null,null,null,null,null,null,null,null,null,null,null,null,null,null,null,null,null,null,null,null,null,{"$f":"IF(OR('Set UP'!$C35=0,'Set UP'!$D35=0,'Set UP'!$E35=0),\"\",(IO$19*IO49)+(IP$19*IP49)+(IQ$19*IQ49)+(IR$19*IR49)+(IS$19*IS49)+(IT$19*IT49)+(IU$19*IU49)+(IV$19*IV49)+(IW$19*IW49)+(IX$19*IX49)+(IY$19*IY49)+(IZ$19*IZ49)+(JA$19*JA49)+(JB$19*JB49)+(JC$19*JC49)+(JD$19*JD49)+(JE$19*JE49)+(JF$19*JF49)+(JG$19*JG49)+(JH$19*JH49)+(JI$19*JI49)+(JJ$19*JJ49)+(JK$19*JK49)+(JL$19*JL49)+(JM$19*JM49))","v":0},{"$f":"IF(OR('Set UP'!$C35=0,'Set UP'!$D35=0,'Set UP'!$E35=0),\"\",(AF49+BG49+CH49+DI49+EJ49+FK49+GL49+HM49+JO49+IN49))","v":81},{"$f":"IF(OR('Set UP'!$C35=0,'Set UP'!$D35=0,'Set UP'!$E35=0),\"\",RANK(JP49,$JP$21:$JP$60,0))","v":27},{"$f":"IF(OR('Set UP'!K35<>1,'Set UP'!C35=0,'Set UP'!D35=0,'Set UP'!E35=0,'Set UP'!F35=0),\"\",$JP49)","v":81},{"$f":"IF(OR('Set UP'!K35<>1,'Set UP'!C35=0,'Set UP'!D35=0,'Set UP'!E35=0,'Set UP'!F35=0),\"\",RANK(JR49,$JR$21:$JR$60,0))","v":9},{"$f":"IF(OR('Set UP'!K35<>2,'Set UP'!C35=0,'Set UP'!D35=0,'Set UP'!E35=0,'Set UP'!F35=0),\"\",$JP49)","v":""},{"$f":"IF(OR('Set UP'!K35<>2,'Set UP'!C35=0,'Set UP'!D35=0,'Set UP'!E35=0,'Set UP'!F35=0),\"\",RANK(JT49,$JT$21:$JT$60,0))","v":""},{"$f":"IF(OR('Set UP'!F35<>\"F\",'Set UP'!C35=0,'Set UP'!D35=0,'Set UP'!E35=0),\"\",$JP49)","v":""},{"$f":"IF(OR('Set UP'!F35<>\"F\",'Set UP'!C35=0,'Set UP'!D35=0,'Set UP'!E35=0),\"\",RANK(JV49,$JV$21:$JV$60,0))","v":""},{"$f":"IF(OR('Set UP'!F35<>\"NS\",'Set UP'!C35=0,'Set UP'!D35=0,'Set UP'!E35=0),\"\",$JP49)","v":""},{"$f":"IF(OR('Set UP'!F35<>\"NS\",'Set UP'!C35=0,'Set UP'!D35=0,'Set UP'!E35=0),\"\",RANK(JX49,$JX$21:$JX$60,0))","v":""},{"$f":"IF(OR('Set UP'!$C35=0,'Set UP'!$D35=0,'Set UP'!$E35=0,JP49=0),\"\",JP49/MAX(JP$21:JP$60)*1000)","v":273.64864864864865}]
[null,30,{"$f":"IF(OR('Set UP'!$C36=0,'Set UP'!$D36=0,'Set UP'!$E36=0,'Set UP'!F36=0),\"  --\",'Set UP'!C36)","v":1425},{"$f":"IF(OR('Set UP'!$C36=0,'Set UP'!$D36=0,'Set UP'!$E36=0,'Set UP'!F36=0),\"  --\",'Set UP'!D36&\" \"&'Set UP'!E36)","v":"London Universities A"},{"$f":"IF(OR('Set UP'!$C36=0,'Set UP'!$D36=0,'Set UP'!$E36=0,'Set UP'!F36=0),\"  --\",'Set UP'!F36)","v":"S"},9,9,6,7,null,null,null,null,null,null,null,null,null,null,null,null,null,null,null,null,null,null,null,null,null,null,{"$f":"IF(OR('Set UP'!$C36=0,'Set UP'!$D36=0,'Set UP'!$E36=0),\"\",(F$19*F50)+(G$19*G50)+(H$19*H50)+(I$19*I50)+(J$19*J50)+(K$19*K50)+(L$19*L50)+(M$19*M50)+(N$19*N50)+(O$19*O50)+(P$19*P50)+(Q$19*Q50)+(R$19*R50)+(S$19*S50)+(T$19*T50)+(U$19*U50)+(V$19*V50)+(W$19*W50)+(X$19*X50)+(Y$19*Y50)+(Z$19*Z50)+(AA$19*AA50)+(AB$19*AB50)+(AC$19*AC50)+(AD$19*AD50))","v":55.5},7,7,8,0,0,null,null,null,null,null,null,null,null,null,null,null,null,null,null,null,null,null,null,null,null,null,{"$f":"IF(OR('Set UP'!$C36=0,'Set UP'!$D36=0,'Set UP'!$E36=0),\"\",(AG$19*AG50)+(AH$19*AH50)+(AI$19*AI50)+(AJ$19*AJ50)+(AK$19*AK50)+(AL$19*AL50)+(AM$19*AM50)+(AN$19*AN50)+(AO$19*AO50)+(AP$19*AP50)+(AQ$19*AQ50)+(AR$19*AR50)+(AS$19*AS50)+(AT$19*AT50)+(AU$19*AU50)+(AV$19*AV50)+(AW$19*AW50)+(AX$19*AX50)+(AY$19*AY50)+(AZ$19*AZ50)+(BA$19*BA50)+(BB$19*BB50)+(BC$19*BC50)+(BD$19*BD50)+(BE$19*BE50))","v":29},5,5,0,0,0,0,8,8,8,7,8,6,null,null,null,null,null,null,null,null,null,null,null,null,null,null,{"$f":"IF(OR('Set UP'!$C36=0,'Set UP'!$D36=0,'Set UP'!$E36=0),\"\",(BH$19*BH50)+(BI$19*BI50)+(BJ$19*BJ50)+(BK$19*BK50)+(BL$19*BL50)+(BM$19*BM50)+(BN$19*BN50)+(BO$19*BO50)+(BP$19*BP50)+(BQ$19*BQ50)+(BR$19*BR50)+(BS$19*BS50)+(BT$19*BT50)+(BU$19*BU50)+(BV$19*BV50)+(BW$19*BW50)+(BX$19*BX50)+(BY$19*BY50)+(BZ$19*BZ50)+(CA$19*CA50)+(CB$19*CB50)+(CC$19*CC50)+(CD$19*CD50)+(CE$19*CE50)+(CF$19*CF50))","v":57},6,8,1,0,6,0,9,1,4,null,null,null,null,null,null,null,null,null,null,null,null,null,null,null,null,null,{"$f":"IF(OR('Set UP'!$C36=0,'Set UP'!$D36=0,'Set UP'!$E36=0),\"\",(CI$19*CI50)+(CJ$19*CJ50)+(CK$19*CK50)+(CL$19*CL50)+(CM$19*CM50)+(CN$19*CN50)+(CO$19*CO50)+(CP$19*CP50)+(CQ$19*CQ50)+(CR$19*CR50)+(CS$19*CS50)+(CT$19*CT50)+(CU$19*CU50)+(CV$19*CV50)+(CW$19*CW50)+(CX$19*CX50)+(CY$19*CY50)+(CZ$19*CZ50)+(DA$19*DA50)+(DB$19*DB50)+(DC$19*DC50)+(DD$19*DD50)+(DE$19*DE50)+(DF$19*DF50)+(DG$19*DG50))","v":78},7,9,4,5,7,5,10,2,6,6,null,null,null,null,null,null,null,null,null,null,null,null,null,null,null,null,{"$f":"IF(OR('Set UP'!$C36=0,'Set UP'!$D36=0,'Set UP'!$E36=0),\"\",(DJ$19*DJ50)+(DK$19*DK50)+(DL$19*DL50)+(DM$19*DM50)+(DN$19*DN50)+(DO$19*DO50)+(DP$19*DP50)+(DQ$19*DQ50)+(DR$19*DR50)+(DS$19*DS50)+(DT$19*DT50)+(DU$19*DU50)+(DV$19*DV50)+(DW$19*DW50)+(DX$19*DX50)+(DY$19*DY50)+(DZ$19*DZ50)+(EA$19*EA50)+(EB$19*EB50)+(EC$19*EC50)+(ED$19*ED50)+(EE$19*EE50)+(EF$19*EF50)+(EG$19*EG50)+(EH$19*EH50))","v":76.5},null,null,null,null,null,null,null,null,null,null,null,null,null,null,null,null,null,null,null,null,null,null,null,null,null,null,{"$f":"IF(OR('Set UP'!$C36=0,'Set UP'!$D36=0,'Set UP'!$E36=0),\"\",(EK$19*EK50)+(EL$19*EL50)+(EM$19*EM50)+(EN$19*EN50)+(EO$19*EO50)+(EP$19*EP50)+(EQ$19*EQ50)+(ER$19*ER50)+(ES$19*ES50)+(ET$19*ET50)+(EU$19*EU50)+(EV$19*EV50)+(EW$19*EW50)+(EX$19*EX50)+(EY$19*EY50)+(EZ$19*EZ50)+(FA$19*FA50)+(FB$19*FB50)+(FC$19*FC50)+(FD$19*FD50)+(FE$19*FE50)+(FF$19*FF50)+(FG$19*FG50)+(FH$19*FH50)+(FI$19*FI50))","v":0},null,null,null,null,null,null,null,null,null,null,null,null,null,null,null,null,null,null,null,null,null,null,null,null,null,null,{"$f":"IF(OR('Set UP'!$C36=0,'Set UP'!$D36=0,'Set UP'!$E36=0),\"\",(FL$19*FL50)+(FM$19*FM50)+(FN$19*FN50)+(FO$19*FO50)+(FP$19*FP50)+(FQ$19*FQ50)+(FR$19*FR50)+(FS$19*FS50)+(FT$19*FT50)+(FU$19*FU50)+(FV$19*FV50)+(FW$19*FW50)+(FX$19*FX50)+(FY$19*FY50)+(FZ$19*FZ50)+(GA$19*GA50)+(GB$19*GB50)+(GC$19*GC50)+(GD$19*GD50)+(GE$19*GE50)+(GF$19*GF50)+(GG$19*GG50)+(GH$19*GH50)+(GI$19*GI50)+(GJ$19*GJ50))","v":0},null,null,null,null,null,null,null,null,null,null,null,null,null,null,null,null,null,null,null,null,null,null,null,null,null,null,{"$f":"IF(OR('Set UP'!$C36=0,'Set UP'!$D36=0,'Set UP'!$E36=0),\"\",(GM$19*GM50)+(GN$19*GN50)+(GO$19*GO50)+(GP$19*GP50)+(GQ$19*GQ50)+(GR$19*GR50)+(GS$19*GS50)+(GT$19*GT50)+(GU$19*GU50)+(GV$19*GV50)+(GW$19*GW50)+(GX$19*GX50)+(GY$19*GY50)+(GZ$19*GZ50)+(HA$19*HA50)+(HB$19*HB50)+(HC$19*HC50)+(HD$19*HD50)+(HE$19*HE50)+(HF$19*HF50)+(HG$19*HG50)+(HH$19*HH50)+(HI$19*HI50)+(HJ$19*HJ50)+(HK$19*HK50))","v":0},null,null,null,null,null,null,null,null,null,null,null,null,null,null,null,null,null,null,null,null,null,null,null,null,null,null,{"$f":"IF(OR('Set UP'!$C36=0,'Set UP'!$D36=0,'Set UP'!$E36=0),\"\",(HN$19*HN50)+(HO$19*HO50)+(HP$19*HP50)+(HQ$19*HQ50)+(HR$19*HR50)+(HS$19*HS50)+(HT$19*HT50)+(HU$19*HU50)+(HV$19*HV50)+(HW$19*HW50)+(HX$19*HX50)+(HY$19*HY50)+(HZ$19*HZ50)+(IA$19*IA50)+(IB$19*IB50)+(IC$19*IC50)+(ID$19*ID50)+(IE$19*IE50)+(IF$19*IF50)+(IG$19*IG50)+(IH$19*IH50)+(II$19*II50)+(IJ$19*IJ50)+(IK$19*IK50)+(IL$19*IL50))","v":0},null,null,null,null,null,null,null,null,null,null,null,null,null,null,null,null,null,null,null,null,null,null,null,null,null,null,{"$f":"IF(OR('Set UP'!$C36=0,'Set UP'!$D36=0,'Set UP'!$E36=0),\"\",(IO$19*IO50)+(IP$19*IP50)+(IQ$19*IQ50)+(IR$19*IR50)+(IS$19*IS50)+(IT$19*IT50)+(IU$19*IU50)+(IV$19*IV50)+(IW$19*IW50)+(IX$19*IX50)+(IY$19*IY50)+(IZ$19*IZ50)+(JA$19*JA50)+(JB$19*JB50)+(JC$19*JC50)+(JD$19*JD50)+(JE$19*JE50)+(JF$19*JF50)+(JG$19*JG50)+(JH$19*JH50)+(JI$19*JI50)+(JJ$19*JJ50)+(JK$19*JK50)+(JL$19*JL50)+(JM$19*JM50))","v":0},{"$f":"IF(OR('Set UP'!$C36=0,'Set UP'!$D36=0,'Set UP'!$E36=0),\"\",(AF50+BG50+CH50+DI50+EJ50+FK50+GL50+HM50+JO50+IN50))","v":296},{"$f":"IF(OR('Set UP'!$C36=0,'Set UP'!$D36=0,'Set UP'!$E36=0),\"\",RANK(JP50,$JP$21:$JP$60,0))","v":1},{"$f":"IF(OR('Set UP'!K36<>1,'Set UP'!C36=0,'Set UP'!D36=0,'Set UP'!E36=0,'Set UP'!F36=0),\"\",$JP50)","v":296},{"$f":"IF(OR('Set UP'!K36<>1,'Set UP'!C36=0,'Set UP'!D36=0,'Set UP'!E36=0,'Set UP'!F36=0),\"\",RANK(JR50,$JR$21:$JR$60,0))","v":1},{"$f":"IF(OR('Set UP'!K36<>2,'Set UP'!C36=0,'Set UP'!D36=0,'Set UP'!E36=0,'Set UP'!F36=0),\"\",$JP50)","v":""},{"$f":"IF(OR('Set UP'!K36<>2,'Set UP'!C36=0,'Set UP'!D36=0,'Set UP'!E36=0,'Set UP'!F36=0),\"\",RANK(JT50,$JT$21:$JT$60,0))","v":""},{"$f":"IF(OR('Set UP'!F36<>\"F\",'Set UP'!C36=0,'Set UP'!D36=0,'Set UP'!E36=0),\"\",$JP50)","v":""},{"$f":"IF(OR('Set UP'!F36<>\"F\",'Set UP'!C36=0,'Set UP'!D36=0,'Set UP'!E36=0),\"\",RANK(JV50,$JV$21:$JV$60,0))","v":""},{"$f":"IF(OR('Set UP'!F36<>\"NS\",'Set UP'!C36=0,'Set UP'!D36=0,'Set UP'!E36=0),\"\",$JP50)","v":""},{"$f":"IF(OR('Set UP'!F36<>\"NS\",'Set UP'!C36=0,'Set UP'!D36=0,'Set UP'!E36=0),\"\",RANK(JX50,$JX$21:$JX$60,0))","v":""},{"$f":"IF(OR('Set UP'!$C36=0,'Set UP'!$D36=0,'Set UP'!$E36=0,JP50=0),\"\",JP50/MAX(JP$21:JP$60)*1000)","v":1000}]
[null,31,{"$f":"IF(OR('Set UP'!$C37=0,'Set UP'!$D37=0,'Set UP'!$E37=0,'Set UP'!F37=0),\"  --\",'Set UP'!C37)","v":"  --"},{"$f":"IF(OR('Set UP'!$C37=0,'Set UP'!$D37=0,'Set UP'!$E37=0,'Set UP'!F37=0),\"  --\",'Set UP'!D37&\" \"&'Set UP'!E37)","v":"  --"},{"$f":"IF(OR('Set UP'!$C37=0,'Set UP'!$D37=0,'Set UP'!$E37=0,'Set UP'!F37=0),\"  --\",'Set UP'!F37)","v":"  --"},null,null,null,null,null,null,null,null,null,null,null,null,null,null,null,null,null,null,null,null,null,null,null,null,null,null,{"$f":"IF(OR('Set UP'!$C37=0,'Set UP'!$D37=0,'Set UP'!$E37=0),\"\",(F$19*F51)+(G$19*G51)+(H$19*H51)+(I$19*I51)+(J$19*J51)+(K$19*K51)+(L$19*L51)+(M$19*M51)+(N$19*N51)+(O$19*O51)+(P$19*P51)+(Q$19*Q51)+(R$19*R51)+(S$19*S51)+(T$19*T51)+(U$19*U51)+(V$19*V51)+(W$19*W51)+(X$19*X51)+(Y$19*Y51)+(Z$19*Z51)+(AA$19*AA51)+(AB$19*AB51)+(AC$19*AC51)+(AD$19*AD51))","v":""},null,null,null,null,null,null,null,null,null,null,null,null,null,null,null,null,null,null,null,null,null,null,null,null,null,null,{"$f":"IF(OR('Set UP'!$C37=0,'Set UP'!$D37=0,'Set UP'!$E37=0),\"\",(AG$19*AG51)+(AH$19*AH51)+(AI$19*AI51)+(AJ$19*AJ51)+(AK$19*AK51)+(AL$19*AL51)+(AM$19*AM51)+(AN$19*AN51)+(AO$19*AO51)+(AP$19*AP51)+(AQ$19*AQ51)+(AR$19*AR51)+(AS$19*AS51)+(AT$19*AT51)+(AU$19*AU51)+(AV$19*AV51)+(AW$19*AW51)+(AX$19*AX51)+(AY$19*AY51)+(AZ$19*AZ51)+(BA$19*BA51)+(BB$19*BB51)+(BC$19*BC51)+(BD$19*BD51)+(BE$19*BE51))","v":""},null,null,null,null,null,null,null,null,null,null,null,null,null,null,null,null,null,null,null,null,null,null,null,null,null,null,{"$f":"IF(OR('Set UP'!$C37=0,'Set UP'!$D37=0,'Set UP'!$E37=0),\"\",(BH$19*BH51)+(BI$19*BI51)+(BJ$19*BJ51)+(BK$19*BK51)+(BL$19*BL51)+(BM$19*BM51)+(BN$19*BN51)+(BO$19*BO51)+(BP$19*BP51)+(BQ$19*BQ51)+(BR$19*BR51)+(BS$19*BS51)+(BT$19*BT51)+(BU$19*BU51)+(BV$19*BV51)+(BW$19*BW51)+(BX$19*BX51)+(BY$19*BY51)+(BZ$19*BZ51)+(CA$19*CA51)+(CB$19*CB51)+(CC$19*CC51)+(CD$19*CD51)+(CE$19*CE51)+(CF$19*CF51))","v":""},null,null,null,null,null,null,null,null,null,null,null,null,null,null,null,null,null,null,null,null,null,null,null,null,null,null,{"$f":"IF(OR('Set UP'!$C37=0,'Set UP'!$D37=0,'Set UP'!$E37=0),\"\",(CI$19*CI51)+(CJ$19*CJ51)+(CK$19*CK51)+(CL$19*CL51)+(CM$19*CM51)+(CN$19*CN51)+(CO$19*CO51)+(CP$19*CP51)+(CQ$19*CQ51)+(CR$19*CR51)+(CS$19*CS51)+(CT$19*CT51)+(CU$19*CU51)+(CV$19*CV51)+(CW$19*CW51)+(CX$19*CX51)+(CY$19*CY51)+(CZ$19*CZ51)+(DA$19*DA51)+(DB$19*DB51)+(DC$19*DC51)+(DD$19*DD51)+(DE$19*DE51)+(DF$19*DF51)+(DG$19*DG51))","v":""},null,null,null,null,null,null,null,null,null,null,null,null,null,null,null,null,null,null,null,null,null,null,null,null,null,null,{"$f":"IF(OR('Set UP'!$C37=0,'Set UP'!$D37=0,'Set UP'!$E37=0),\"\",(DJ$19*DJ51)+(DK$19*DK51)+(DL$19*DL51)+(DM$19*DM51)+(DN$19*DN51)+(DO$19*DO51)+(DP$19*DP51)+(DQ$19*DQ51)+(DR$19*DR51)+(DS$19*DS51)+(DT$19*DT51)+(DU$19*DU51)+(DV$19*DV51)+(DW$19*DW51)+(DX$19*DX51)+(DY$19*DY51)+(DZ$19*DZ51)+(EA$19*EA51)+(EB$19*EB51)+(EC$19*EC51)+(ED$19*ED51)+(EE$19*EE51)+(EF$19*EF51)+(EG$19*EG51)+(EH$19*EH51))","v":""},null,null,null,null,null,null,null,null,null,null,null,null,null,null,null,null,null,null,null,null,null,null,null,null,null,null,{"$f":"IF(OR('Set UP'!$C37=0,'Set UP'!$D37=0,'Set UP'!$E37=0),\"\",(EK$19*EK51)+(EL$19*EL51)+(EM$19*EM51)+(EN$19*EN51)+(EO$19*EO51)+(EP$19*EP51)+(EQ$19*EQ51)+(ER$19*ER51)+(ES$19*ES51)+(ET$19*ET51)+(EU$19*EU51)+(EV$19*EV51)+(EW$19*EW51)+(EX$19*EX51)+(EY$19*EY51)+(EZ$19*EZ51)+(FA$19*FA51)+(FB$19*FB51)+(FC$19*FC51)+(FD$19*FD51)+(FE$19*FE51)+(FF$19*FF51)+(FG$19*FG51)+(FH$19*FH51)+(FI$19*FI51))","v":""},null,null,null,null,null,null,null,null,null,null,null,null,null,null,null,null,null,null,null,null,null,null,null,null,null,null,{"$f":"IF(OR('Set UP'!$C37=0,'Set UP'!$D37=0,'Set UP'!$E37=0),\"\",(FL$19*FL51)+(FM$19*FM51)+(FN$19*FN51)+(FO$19*FO51)+(FP$19*FP51)+(FQ$19*FQ51)+(FR$19*FR51)+(FS$19*FS51)+(FT$19*FT51)+(FU$19*FU51)+(FV$19*FV51)+(FW$19*FW51)+(FX$19*FX51)+(FY$19*FY51)+(FZ$19*FZ51)+(GA$19*GA51)+(GB$19*GB51)+(GC$19*GC51)+(GD$19*GD51)+(GE$19*GE51)+(GF$19*GF51)+(GG$19*GG51)+(GH$19*GH51)+(GI$19*GI51)+(GJ$19*GJ51))","v":""},null,null,null,null,null,null,null,null,null,null,null,null,null,null,null,null,null,null,null,null,null,null,null,null,null,null,{"$f":"IF(OR('Set UP'!$C37=0,'Set UP'!$D37=0,'Set UP'!$E37=0),\"\",(GM$19*GM51)+(GN$19*GN51)+(GO$19*GO51)+(GP$19*GP51)+(GQ$19*GQ51)+(GR$19*GR51)+(GS$19*GS51)+(GT$19*GT51)+(GU$19*GU51)+(GV$19*GV51)+(GW$19*GW51)+(GX$19*GX51)+(GY$19*GY51)+(GZ$19*GZ51)+(HA$19*HA51)+(HB$19*HB51)+(HC$19*HC51)+(HD$19*HD51)+(HE$19*HE51)+(HF$19*HF51)+(HG$19*HG51)+(HH$19*HH51)+(HI$19*HI51)+(HJ$19*HJ51)+(HK$19*HK51))","v":""},null,null,null,null,null,null,null,null,null,null,null,null,null,null,null,null,null,null,null,null,null,null,null,null,null,null,{"$f":"IF(OR('Set UP'!$C37=0,'Set UP'!$D37=0,'Set UP'!$E37=0),\"\",(HN$19*HN51)+(HO$19*HO51)+(HP$19*HP51)+(HQ$19*HQ51)+(HR$19*HR51)+(HS$19*HS51)+(HT$19*HT51)+(HU$19*HU51)+(HV$19*HV51)+(HW$19*HW51)+(HX$19*HX51)+(HY$19*HY51)+(HZ$19*HZ51)+(IA$19*IA51)+(IB$19*IB51)+(IC$19*IC51)+(ID$19*ID51)+(IE$19*IE51)+(IF$19*IF51)+(IG$19*IG51)+(IH$19*IH51)+(II$19*II51)+(IJ$19*IJ51)+(IK$19*IK51)+(IL$19*IL51))","v":""},null,null,null,null,null,null,null,null,null,null,null,null,null,null,null,null,null,null,null,null,null,null,null,null,null,null,{"$f":"IF(OR('Set UP'!$C37=0,'Set UP'!$D37=0,'Set UP'!$E37=0),\"\",(IO$19*IO51)+(IP$19*IP51)+(IQ$19*IQ51)+(IR$19*IR51)+(IS$19*IS51)+(IT$19*IT51)+(IU$19*IU51)+(IV$19*IV51)+(IW$19*IW51)+(IX$19*IX51)+(IY$19*IY51)+(IZ$19*IZ51)+(JA$19*JA51)+(JB$19*JB51)+(JC$19*JC51)+(JD$19*JD51)+(JE$19*JE51)+(JF$19*JF51)+(JG$19*JG51)+(JH$19*JH51)+(JI$19*JI51)+(JJ$19*JJ51)+(JK$19*JK51)+(JL$19*JL51)+(JM$19*JM51))","v":""},{"$f":"IF(OR('Set UP'!$C37=0,'Set UP'!$D37=0,'Set UP'!$E37=0),\"\",(AF51+BG51+CH51+DI51+EJ51+FK51+GL51+HM51+JO51+IN51))","v":""},{"$f":"IF(OR('Set UP'!$C37=0,'Set UP'!$D37=0,'Set UP'!$E37=0),\"\",RANK(JP51,$JP$21:$JP$60,0))","v":""},{"$f":"IF(OR('Set UP'!K37<>1,'Set UP'!C37=0,'Set UP'!D37=0,'Set UP'!E37=0,'Set UP'!F37=0),\"\",$JP51)","v":""},{"$f":"IF(OR('Set UP'!K37<>1,'Set UP'!C37=0,'Set UP'!D37=0,'Set UP'!E37=0,'Set UP'!F37=0),\"\",RANK(JR51,$JR$21:$JR$60,0))","v":""},{"$f":"IF(OR('Set UP'!K37<>2,'Set UP'!C37=0,'Set UP'!D37=0,'Set UP'!E37=0,'Set UP'!F37=0),\"\",$JP51)","v":""},{"$f":"IF(OR('Set UP'!K37<>2,'Set UP'!C37=0,'Set UP'!D37=0,'Set UP'!E37=0,'Set UP'!F37=0),\"\",RANK(JT51,$JT$21:$JT$60,0))","v":""},{"$f":"IF(OR('Set UP'!F37<>\"F\",'Set UP'!C37=0,'Set UP'!D37=0,'Set UP'!E37=0),\"\",$JP51)","v":""},{"$f":"IF(OR('Set UP'!F37<>\"F\",'Set UP'!C37=0,'Set UP'!D37=0,'Set UP'!E37=0),\"\",RANK(JV51,$JV$21:$JV$60,0))","v":""},{"$f":"IF(OR('Set UP'!F37<>\"NS\",'Set UP'!C37=0,'Set UP'!D37=0,'Set UP'!E37=0),\"\",$JP51)","v":""},{"$f":"IF(OR('Set UP'!F37<>\"NS\",'Set UP'!C37=0,'Set UP'!D37=0,'Set UP'!E37=0),\"\",RANK(JX51,$JX$21:$JX$60,0))","v":""},{"$f":"IF(OR('Set UP'!$C37=0,'Set UP'!$D37=0,'Set UP'!$E37=0,JP51=0),\"\",JP51/MAX(JP$21:JP$60)*1000)","v":""}]
[null,32,{"$f":"IF(OR('Set UP'!$C38=0,'Set UP'!$D38=0,'Set UP'!$E38=0,'Set UP'!F38=0),\"  --\",'Set UP'!C38)","v":"  --"},{"$f":"IF(OR('Set UP'!$C38=0,'Set UP'!$D38=0,'Set UP'!$E38=0,'Set UP'!F38=0),\"  --\",'Set UP'!D38&\" \"&'Set UP'!E38)","v":"  --"},{"$f":"IF(OR('Set UP'!$C38=0,'Set UP'!$D38=0,'Set UP'!$E38=0,'Set UP'!F38=0),\"  --\",'Set UP'!F38)","v":"  --"},null,null,null,null,null,null,null,null,null,null,null,null,null,null,null,null,null,null,null,null,null,null,null,null,null,null,{"$f":"IF(OR('Set UP'!$C38=0,'Set UP'!$D38=0,'Set UP'!$E38=0),\"\",(F$19*F52)+(G$19*G52)+(H$19*H52)+(I$19*I52)+(J$19*J52)+(K$19*K52)+(L$19*L52)+(M$19*M52)+(N$19*N52)+(O$19*O52)+(P$19*P52)+(Q$19*Q52)+(R$19*R52)+(S$19*S52)+(T$19*T52)+(U$19*U52)+(V$19*V52)+(W$19*W52)+(X$19*X52)+(Y$19*Y52)+(Z$19*Z52)+(AA$19*AA52)+(AB$19*AB52)+(AC$19*AC52)+(AD$19*AD52))","v":""},null,null,null,null,null,null,null,null,null,null,null,null,null,null,null,null,null,null,null,null,null,null,null,null,null,null,{"$f":"IF(OR('Set UP'!$C38=0,'Set UP'!$D38=0,'Set UP'!$E38=0),\"\",(AG$19*AG52)+(AH$19*AH52)+(AI$19*AI52)+(AJ$19*AJ52)+(AK$19*AK52)+(AL$19*AL52)+(AM$19*AM52)+(AN$19*AN52)+(AO$19*AO52)+(AP$19*AP52)+(AQ$19*AQ52)+(AR$19*AR52)+(AS$19*AS52)+(AT$19*AT52)+(AU$19*AU52)+(AV$19*AV52)+(AW$19*AW52)+(AX$19*AX52)+(AY$19*AY52)+(AZ$19*AZ52)+(BA$19*BA52)+(BB$19*BB52)+(BC$19*BC52)+(BD$19*BD52)+(BE$19*BE52))","v":""},null,null,null,null,null,null,null,null,null,null,null,null,null,null,null,null,null,null,null,null,null,null,null,null,null,null,{"$f":"IF(OR('Set UP'!$C38=0,'Set UP'!$D38=0,'Set UP'!$E38=0),\"\",(BH$19*BH52)+(BI$19*BI52)+(BJ$19*BJ52)+(BK$19*BK52)+(BL$19*BL52)+(BM$19*BM52)+(BN$19*BN52)+(BO$19*BO52)+(BP$19*BP52)+(BQ$19*BQ52)+(BR$19*BR52)+(BS$19*BS52)+(BT$19*BT52)+(BU$19*BU52)+(BV$19*BV52)+(BW$19*BW52)+(BX$19*BX52)+(BY$19*BY52)+(BZ$19*BZ52)+(CA$19*CA52)+(CB$19*CB52)+(CC$19*CC52)+(CD$19*CD52)+(CE$19*CE52)+(CF$19*CF52))","v":""},null,null,null,null,null,null,null,null,null,null,null,null,null,null,null,null,null,null,null,null,null,null,null,null,null,null,{"$f":"IF(OR('Set UP'!$C38=0,'Set UP'!$D38=0,'Set UP'!$E38=0),\"\",(CI$19*CI52)+(CJ$19*CJ52)+(CK$19*CK52)+(CL$19*CL52)+(CM$19*CM52)+(CN$19*CN52)+(CO$19*CO52)+(CP$19*CP52)+(CQ$19*CQ52)+(CR$19*CR52)+(CS$19*CS52)+(CT$19*CT52)+(CU$19*CU52)+(CV$19*CV52)+(CW$19*CW52)+(CX$19*CX52)+(CY$19*CY52)+(CZ$19*CZ52)+(DA$19*DA52)+(DB$19*DB52)+(DC$19*DC52)+(DD$19*DD52)+(DE$19*DE52)+(DF$19*DF52)+(DG$19*DG52))","v":""},null,null,null,null,null,null,null,null,null,null,null,null,null,null,null,null,null,null,null,null,null,null,null,null,null,null,{"$f":"IF(OR('Set UP'!$C38=0,'Set UP'!$D38=0,'Set UP'!$E38=0),\"\",(DJ$19*DJ52)+(DK$19*DK52)+(DL$19*DL52)+(DM$19*DM52)+(DN$19*DN52)+(DO$19*DO52)+(DP$19*DP52)+(DQ$19*DQ52)+(DR$19*DR52)+(DS$19*DS52)+(DT$19*DT52)+(DU$19*DU52)+(DV$19*DV52)+(DW$19*DW52)+(DX$19*DX52)+(DY$19*DY52)+(DZ$19*DZ52)+(EA$19*EA52)+(EB$19*EB52)+(EC$19*EC52)+(ED$19*ED52)+(EE$19*EE52)+(EF$19*EF52)+(EG$19*EG52)+(EH$19*EH52))","v":""},null,null,null,null,null,null,null,null,null,null,null,null,null,null,null,null,null,null,null,null,null,null,null,null,null,null,{"$f":"IF(OR('Set UP'!$C38=0,'Set UP'!$D38=0,'Set UP'!$E38=0),\"\",(EK$19*EK52)+(EL$19*EL52)+(EM$19*EM52)+(EN$19*EN52)+(EO$19*EO52)+(EP$19*EP52)+(EQ$19*EQ52)+(ER$19*ER52)+(ES$19*ES52)+(ET$19*ET52)+(EU$19*EU52)+(EV$19*EV52)+(EW$19*EW52)+(EX$19*EX52)+(EY$19*EY52)+(EZ$19*EZ52)+(FA$19*FA52)+(FB$19*FB52)+(FC$19*FC52)+(FD$19*FD52)+(FE$19*FE52)+(FF$19*FF52)+(FG$19*FG52)+(FH$19*FH52)+(FI$19*FI52))","v":""},null,null,null,null,null,null,null,null,null,null,null,null,null,null,null,null,null,null,null,null,null,null,null,null,null,null,{"$f":"IF(OR('Set UP'!$C38=0,'Set UP'!$D38=0,'Set UP'!$E38=0),\"\",(FL$19*FL52)+(FM$19*FM52)+(FN$19*FN52)+(FO$19*FO52)+(FP$19*FP52)+(FQ$19*FQ52)+(FR$19*FR52)+(FS$19*FS52)+(FT$19*FT52)+(FU$19*FU52)+(FV$19*FV52)+(FW$19*FW52)+(FX$19*FX52)+(FY$19*FY52)+(FZ$19*FZ52)+(GA$19*GA52)+(GB$19*GB52)+(GC$19*GC52)+(GD$19*GD52)+(GE$19*GE52)+(GF$19*GF52)+(GG$19*GG52)+(GH$19*GH52)+(GI$19*GI52)+(GJ$19*GJ52))","v":""},null,null,null,null,null,null,null,null,null,null,null,null,null,null,null,null,null,null,null,null,null,null,null,null,null,null,{"$f":"IF(OR('Set UP'!$C38=0,'Set UP'!$D38=0,'Set UP'!$E38=0),\"\",(GM$19*GM52)+(GN$19*GN52)+(GO$19*GO52)+(GP$19*GP52)+(GQ$19*GQ52)+(GR$19*GR52)+(GS$19*GS52)+(GT$19*GT52)+(GU$19*GU52)+(GV$19*GV52)+(GW$19*GW52)+(GX$19*GX52)+(GY$19*GY52)+(GZ$19*GZ52)+(HA$19*HA52)+(HB$19*HB52)+(HC$19*HC52)+(HD$19*HD52)+(HE$19*HE52)+(HF$19*HF52)+(HG$19*HG52)+(HH$19*HH52)+(HI$19*HI52)+(HJ$19*HJ52)+(HK$19*HK52))","v":""},null,null,null,null,null,null,null,null,null,null,null,null,null,null,null,null,null,null,null,null,null,null,null,null,null,null,{"$f":"IF(OR('Set UP'!$C38=0,'Set UP'!$D38=0,'Set UP'!$E38=0),\"\",(HN$19*HN52)+(HO$19*HO52)+(HP$19*HP52)+(HQ$19*HQ52)+(HR$19*HR52)+(HS$19*HS52)+(HT$19*HT52)+(HU$19*HU52)+(HV$19*HV52)+(HW$19*HW52)+(HX$19*HX52)+(HY$19*HY52)+(HZ$19*HZ52)+(IA$19*IA52)+(IB$19*IB52)+(IC$19*IC52)+(ID$19*ID52)+(IE$19*IE52)+(IF$19*IF52)+(IG$19*IG52)+(IH$19*IH52)+(II$19*II52)+(IJ$19*IJ52)+(IK$19*IK52)+(IL$19*IL52))","v":""},null,null,null,null,null,null,null,null,null,null,null,null,null,null,null,null,null,null,null,null,null,null,null,null,null,null,{"$f":"IF(OR('Set UP'!$C38=0,'Set UP'!$D38=0,'Set UP'!$E38=0),\"\",(IO$19*IO52)+(IP$19*IP52)+(IQ$19*IQ52)+(IR$19*IR52)+(IS$19*IS52)+(IT$19*IT52)+(IU$19*IU52)+(IV$19*IV52)+(IW$19*IW52)+(IX$19*IX52)+(IY$19*IY52)+(IZ$19*IZ52)+(JA$19*JA52)+(JB$19*JB52)+(JC$19*JC52)+(JD$19*JD52)+(JE$19*JE52)+(JF$19*JF52)+(JG$19*JG52)+(JH$19*JH52)+(JI$19*JI52)+(JJ$19*JJ52)+(JK$19*JK52)+(JL$19*JL52)+(JM$19*JM52))","v":""},{"$f":"IF(OR('Set UP'!$C38=0,'Set UP'!$D38=0,'Set UP'!$E38=0),\"\",(AF52+BG52+CH52+DI52+EJ52+FK52+GL52+HM52+JO52+IN52))","v":""},{"$f":"IF(OR('Set UP'!$C38=0,'Set UP'!$D38=0,'Set UP'!$E38=0),\"\",RANK(JP52,$JP$21:$JP$60,0))","v":""},{"$f":"IF(OR('Set UP'!K38<>1,'Set UP'!C38=0,'Set UP'!D38=0,'Set UP'!E38=0,'Set UP'!F38=0),\"\",$JP52)","v":""},{"$f":"IF(OR('Set UP'!K38<>1,'Set UP'!C38=0,'Set UP'!D38=0,'Set UP'!E38=0,'Set UP'!F38=0),\"\",RANK(JR52,$JR$21:$JR$60,0))","v":""},{"$f":"IF(OR('Set UP'!K38<>2,'Set UP'!C38=0,'Set UP'!D38=0,'Set UP'!E38=0,'Set UP'!F38=0),\"\",$JP52)","v":""},{"$f":"IF(OR('Set UP'!K38<>2,'Set UP'!C38=0,'Set UP'!D38=0,'Set UP'!E38=0,'Set UP'!F38=0),\"\",RANK(JT52,$JT$21:$JT$60,0))","v":""},{"$f":"IF(OR('Set UP'!F38<>\"F\",'Set UP'!C38=0,'Set UP'!D38=0,'Set UP'!E38=0),\"\",$JP52)","v":""},{"$f":"IF(OR('Set UP'!F38<>\"F\",'Set UP'!C38=0,'Set UP'!D38=0,'Set UP'!E38=0),\"\",RANK(JV52,$JV$21:$JV$60,0))","v":""},{"$f":"IF(OR('Set UP'!F38<>\"NS\",'Set UP'!C38=0,'Set UP'!D38=0,'Set UP'!E38=0),\"\",$JP52)","v":""},{"$f":"IF(OR('Set UP'!F38<>\"NS\",'Set UP'!C38=0,'Set UP'!D38=0,'Set UP'!E38=0),\"\",RANK(JX52,$JX$21:$JX$60,0))","v":""},{"$f":"IF(OR('Set UP'!$C38=0,'Set UP'!$D38=0,'Set UP'!$E38=0,JP52=0),\"\",JP52/MAX(JP$21:JP$60)*1000)","v":""}]
[null,33,{"$f":"IF(OR('Set UP'!$C39=0,'Set UP'!$D39=0,'Set UP'!$E39=0,'Set UP'!F39=0),\"  --\",'Set UP'!C39)","v":"  --"},{"$f":"IF(OR('Set UP'!$C39=0,'Set UP'!$D39=0,'Set UP'!$E39=0,'Set UP'!F39=0),\"  --\",'Set UP'!D39&\" \"&'Set UP'!E39)","v":"  --"},{"$f":"IF(OR('Set UP'!$C39=0,'Set UP'!$D39=0,'Set UP'!$E39=0,'Set UP'!F39=0),\"  --\",'Set UP'!F39)","v":"  --"},null,null,null,null,null,null,null,null,null,null,null,null,null,null,null,null,null,null,null,null,null,null,null,null,null,null,{"$f":"IF(OR('Set UP'!$C39=0,'Set UP'!$D39=0,'Set UP'!$E39=0),\"\",(F$19*F53)+(G$19*G53)+(H$19*H53)+(I$19*I53)+(J$19*J53)+(K$19*K53)+(L$19*L53)+(M$19*M53)+(N$19*N53)+(O$19*O53)+(P$19*P53)+(Q$19*Q53)+(R$19*R53)+(S$19*S53)+(T$19*T53)+(U$19*U53)+(V$19*V53)+(W$19*W53)+(X$19*X53)+(Y$19*Y53)+(Z$19*Z53)+(AA$19*AA53)+(AB$19*AB53)+(AC$19*AC53)+(AD$19*AD53))","v":""},null,null,null,null,null,null,null,null,null,null,null,null,null,null,null,null,null,null,null,null,null,null,null,null,null,null,{"$f":"IF(OR('Set UP'!$C39=0,'Set UP'!$D39=0,'Set UP'!$E39=0),\"\",(AG$19*AG53)+(AH$19*AH53)+(AI$19*AI53)+(AJ$19*AJ53)+(AK$19*AK53)+(AL$19*AL53)+(AM$19*AM53)+(AN$19*AN53)+(AO$19*AO53)+(AP$19*AP53)+(AQ$19*AQ53)+(AR$19*AR53)+(AS$19*AS53)+(AT$19*AT53)+(AU$19*AU53)+(AV$19*AV53)+(AW$19*AW53)+(AX$19*AX53)+(AY$19*AY53)+(AZ$19*AZ53)+(BA$19*BA53)+(BB$19*BB53)+(BC$19*BC53)+(BD$19*BD53)+(BE$19*BE53))","v":""},null,null,null,null,null,null,null,null,null,null,null,null,null,null,null,null,null,null,null,null,null,null,null,null,null,null,{"$f":"IF(OR('Set UP'!$C39=0,'Set UP'!$D39=0,'Set UP'!$E39=0),\"\",(BH$19*BH53)+(BI$19*BI53)+(BJ$19*BJ53)+(BK$19*BK53)+(BL$19*BL53)+(BM$19*BM53)+(BN$19*BN53)+(BO$19*BO53)+(BP$19*BP53)+(BQ$19*BQ53)+(BR$19*BR53)+(BS$19*BS53)+(BT$19*BT53)+(BU$19*BU53)+(BV$19*BV53)+(BW$19*BW53)+(BX$19*BX53)+(BY$19*BY53)+(BZ$19*BZ53)+(CA$19*CA53)+(CB$19*CB53)+(CC$19*CC53)+(CD$19*CD53)+(CE$19*CE53)+(CF$19*CF53))","v":""},null,null,null,null,null,null,null,null,null,null,null,null,null,null,null,null,null,null,null,null,null,null,null,null,null,null,{"$f":"IF(OR('Set UP'!$C39=0,'Set UP'!$D39=0,'Set UP'!$E39=0),\"\",(CI$19*CI53)+(CJ$19*CJ53)+(CK$19*CK53)+(CL$19*CL53)+(CM$19*CM53)+(CN$19*CN53)+(CO$19*CO53)+(CP$19*CP53)+(CQ$19*CQ53)+(CR$19*CR53)+(CS$19*CS53)+(CT$19*CT53)+(CU$19*CU53)+(CV$19*CV53)+(CW$19*CW53)+(CX$19*CX53)+(CY$19*CY53)+(CZ$19*CZ53)+(DA$19*DA53)+(DB$19*DB53)+(DC$19*DC53)+(DD$19*DD53)+(DE$19*DE53)+(DF$19*DF53)+(DG$19*DG53))","v":""},null,null,null,null,null,null,null,null,null,null,null,null,null,null,null,null,null,null,null,null,null,null,null,null,null,null,{"$f":"IF(OR('Set UP'!$C39=0,'Set UP'!$D39=0,'Set UP'!$E39=0),\"\",(DJ$19*DJ53)+(DK$19*DK53)+(DL$19*DL53)+(DM$19*DM53)+(DN$19*DN53)+(DO$19*DO53)+(DP$19*DP53)+(DQ$19*DQ53)+(DR$19*DR53)+(DS$19*DS53)+(DT$19*DT53)+(DU$19*DU53)+(DV$19*DV53)+(DW$19*DW53)+(DX$19*DX53)+(DY$19*DY53)+(DZ$19*DZ53)+(EA$19*EA53)+(EB$19*EB53)+(EC$19*EC53)+(ED$19*ED53)+(EE$19*EE53)+(EF$19*EF53)+(EG$19*EG53)+(EH$19*EH53))","v":""},null,null,null,null,null,null,null,null,null,null,null,null,null,null,null,null,null,null,null,null,null,null,null,null,null,null,{"$f":"IF(OR('Set UP'!$C39=0,'Set UP'!$D39=0,'Set UP'!$E39=0),\"\",(EK$19*EK53)+(EL$19*EL53)+(EM$19*EM53)+(EN$19*EN53)+(EO$19*EO53)+(EP$19*EP53)+(EQ$19*EQ53)+(ER$19*ER53)+(ES$19*ES53)+(ET$19*ET53)+(EU$19*EU53)+(EV$19*EV53)+(EW$19*EW53)+(EX$19*EX53)+(EY$19*EY53)+(EZ$19*EZ53)+(FA$19*FA53)+(FB$19*FB53)+(FC$19*FC53)+(FD$19*FD53)+(FE$19*FE53)+(FF$19*FF53)+(FG$19*FG53)+(FH$19*FH53)+(FI$19*FI53))","v":""},null,null,null,null,null,null,null,null,null,null,null,null,null,null,null,null,null,null,null,null,null,null,null,null,null,null,{"$f":"IF(OR('Set UP'!$C39=0,'Set UP'!$D39=0,'Set UP'!$E39=0),\"\",(FL$19*FL53)+(FM$19*FM53)+(FN$19*FN53)+(FO$19*FO53)+(FP$19*FP53)+(FQ$19*FQ53)+(FR$19*FR53)+(FS$19*FS53)+(FT$19*FT53)+(FU$19*FU53)+(FV$19*FV53)+(FW$19*FW53)+(FX$19*FX53)+(FY$19*FY53)+(FZ$19*FZ53)+(GA$19*GA53)+(GB$19*GB53)+(GC$19*GC53)+(GD$19*GD53)+(GE$19*GE53)+(GF$19*GF53)+(GG$19*GG53)+(GH$19*GH53)+(GI$19*GI53)+(GJ$19*GJ53))","v":""},null,null,null,null,null,null,null,null,null,null,null,null,null,null,null,null,null,null,null,null,null,null,null,null,null,null,{"$f":"IF(OR('Set UP'!$C39=0,'Set UP'!$D39=0,'Set UP'!$E39=0),\"\",(GM$19*GM53)+(GN$19*GN53)+(GO$19*GO53)+(GP$19*GP53)+(GQ$19*GQ53)+(GR$19*GR53)+(GS$19*GS53)+(GT$19*GT53)+(GU$19*GU53)+(GV$19*GV53)+(GW$19*GW53)+(GX$19*GX53)+(GY$19*GY53)+(GZ$19*GZ53)+(HA$19*HA53)+(HB$19*HB53)+(HC$19*HC53)+(HD$19*HD53)+(HE$19*HE53)+(HF$19*HF53)+(HG$19*HG53)+(HH$19*HH53)+(HI$19*HI53)+(HJ$19*HJ53)+(HK$19*HK53))","v":""},null,null,null,null,null,null,null,null,null,null,null,null,null,null,null,null,null,null,null,null,null,null,null,null,null,null,{"$f":"IF(OR('Set UP'!$C39=0,'Set UP'!$D39=0,'Set UP'!$E39=0),\"\",(HN$19*HN53)+(HO$19*HO53)+(HP$19*HP53)+(HQ$19*HQ53)+(HR$19*HR53)+(HS$19*HS53)+(HT$19*HT53)+(HU$19*HU53)+(HV$19*HV53)+(HW$19*HW53)+(HX$19*HX53)+(HY$19*HY53)+(HZ$19*HZ53)+(IA$19*IA53)+(IB$19*IB53)+(IC$19*IC53)+(ID$19*ID53)+(IE$19*IE53)+(IF$19*IF53)+(IG$19*IG53)+(IH$19*IH53)+(II$19*II53)+(IJ$19*IJ53)+(IK$19*IK53)+(IL$19*IL53))","v":""},null,null,null,null,null,null,null,null,null,null,null,null,null,null,null,null,null,null,null,null,null,null,null,null,null,null,{"$f":"IF(OR('Set UP'!$C39=0,'Set UP'!$D39=0,'Set UP'!$E39=0),\"\",(IO$19*IO53)+(IP$19*IP53)+(IQ$19*IQ53)+(IR$19*IR53)+(IS$19*IS53)+(IT$19*IT53)+(IU$19*IU53)+(IV$19*IV53)+(IW$19*IW53)+(IX$19*IX53)+(IY$19*IY53)+(IZ$19*IZ53)+(JA$19*JA53)+(JB$19*JB53)+(JC$19*JC53)+(JD$19*JD53)+(JE$19*JE53)+(JF$19*JF53)+(JG$19*JG53)+(JH$19*JH53)+(JI$19*JI53)+(JJ$19*JJ53)+(JK$19*JK53)+(JL$19*JL53)+(JM$19*JM53))","v":""},{"$f":"IF(OR('Set UP'!$C39=0,'Set UP'!$D39=0,'Set UP'!$E39=0),\"\",(AF53+BG53+CH53+DI53+EJ53+FK53+GL53+HM53+JO53+IN53))","v":""},{"$f":"IF(OR('Set UP'!$C39=0,'Set UP'!$D39=0,'Set UP'!$E39=0),\"\",RANK(JP53,$JP$21:$JP$60,0))","v":""},{"$f":"IF(OR('Set UP'!K39<>1,'Set UP'!C39=0,'Set UP'!D39=0,'Set UP'!E39=0,'Set UP'!F39=0),\"\",$JP53)","v":""},{"$f":"IF(OR('Set UP'!K39<>1,'Set UP'!C39=0,'Set UP'!D39=0,'Set UP'!E39=0,'Set UP'!F39=0),\"\",RANK(JR53,$JR$21:$JR$60,0))","v":""},{"$f":"IF(OR('Set UP'!K39<>2,'Set UP'!C39=0,'Set UP'!D39=0,'Set UP'!E39=0,'Set UP'!F39=0),\"\",$JP53)","v":""},{"$f":"IF(OR('Set UP'!K39<>2,'Set UP'!C39=0,'Set UP'!D39=0,'Set UP'!E39=0,'Set UP'!F39=0),\"\",RANK(JT53,$JT$21:$JT$60,0))","v":""},{"$f":"IF(OR('Set UP'!F39<>\"F\",'Set UP'!C39=0,'Set UP'!D39=0,'Set UP'!E39=0),\"\",$JP53)","v":""},{"$f":"IF(OR('Set UP'!F39<>\"F\",'Set UP'!C39=0,'Set UP'!D39=0,'Set UP'!E39=0),\"\",RANK(JV53,$JV$21:$JV$60,0))","v":""},{"$f":"IF(OR('Set UP'!F39<>\"NS\",'Set UP'!C39=0,'Set UP'!D39=0,'Set UP'!E39=0),\"\",$JP53)","v":""},{"$f":"IF(OR('Set UP'!F39<>\"NS\",'Set UP'!C39=0,'Set UP'!D39=0,'Set UP'!E39=0),\"\",RANK(JX53,$JX$21:$JX$60,0))","v":""},{"$f":"IF(OR('Set UP'!$C39=0,'Set UP'!$D39=0,'Set UP'!$E39=0,JP53=0),\"\",JP53/MAX(JP$21:JP$60)*1000)","v":""}]
[null,34,{"$f":"IF(OR('Set UP'!$C40=0,'Set UP'!$D40=0,'Set UP'!$E40=0,'Set UP'!F40=0),\"  --\",'Set UP'!C40)","v":"  --"},{"$f":"IF(OR('Set UP'!$C40=0,'Set UP'!$D40=0,'Set UP'!$E40=0,'Set UP'!F40=0),\"  --\",'Set UP'!D40&\" \"&'Set UP'!E40)","v":"  --"},{"$f":"IF(OR('Set UP'!$C40=0,'Set UP'!$D40=0,'Set UP'!$E40=0,'Set UP'!F40=0),\"  --\",'Set UP'!F40)","v":"  --"},null,null,null,null,null,null,null,null,null,null,null,null,null,null,null,null,null,null,null,null,null,null,null,null,null,null,{"$f":"IF(OR('Set UP'!$C40=0,'Set UP'!$D40=0,'Set UP'!$E40=0),\"\",(F$19*F54)+(G$19*G54)+(H$19*H54)+(I$19*I54)+(J$19*J54)+(K$19*K54)+(L$19*L54)+(M$19*M54)+(N$19*N54)+(O$19*O54)+(P$19*P54)+(Q$19*Q54)+(R$19*R54)+(S$19*S54)+(T$19*T54)+(U$19*U54)+(V$19*V54)+(W$19*W54)+(X$19*X54)+(Y$19*Y54)+(Z$19*Z54)+(AA$19*AA54)+(AB$19*AB54)+(AC$19*AC54)+(AD$19*AD54))","v":""},null,null,null,null,null,null,null,null,null,null,null,null,null,null,null,null,null,null,null,null,null,null,null,null,null,null,{"$f":"IF(OR('Set UP'!$C40=0,'Set UP'!$D40=0,'Set UP'!$E40=0),\"\",(AG$19*AG54)+(AH$19*AH54)+(AI$19*AI54)+(AJ$19*AJ54)+(AK$19*AK54)+(AL$19*AL54)+(AM$19*AM54)+(AN$19*AN54)+(AO$19*AO54)+(AP$19*AP54)+(AQ$19*AQ54)+(AR$19*AR54)+(AS$19*AS54)+(AT$19*AT54)+(AU$19*AU54)+(AV$19*AV54)+(AW$19*AW54)+(AX$19*AX54)+(AY$19*AY54)+(AZ$19*AZ54)+(BA$19*BA54)+(BB$19*BB54)+(BC$19*BC54)+(BD$19*BD54)+(BE$19*BE54))","v":""},null,null,null,null,null,null,null,null,null,null,null,null,null,null,null,null,null,null,null,null,null,null,null,null,null,null,{"$f":"IF(OR('Set UP'!$C40=0,'Set UP'!$D40=0,'Set UP'!$E40=0),\"\",(BH$19*BH54)+(BI$19*BI54)+(BJ$19*BJ54)+(BK$19*BK54)+(BL$19*BL54)+(BM$19*BM54)+(BN$19*BN54)+(BO$19*BO54)+(BP$19*BP54)+(BQ$19*BQ54)+(BR$19*BR54)+(BS$19*BS54)+(BT$19*BT54)+(BU$19*BU54)+(BV$19*BV54)+(BW$19*BW54)+(BX$19*BX54)+(BY$19*BY54)+(BZ$19*BZ54)+(CA$19*CA54)+(CB$19*CB54)+(CC$19*CC54)+(CD$19*CD54)+(CE$19*CE54)+(CF$19*CF54))","v":""},null,null,null,null,null,null,null,null,null,null,null,null,null,null,null,null,null,null,null,null,null,null,null,null,null,null,{"$f":"IF(OR('Set UP'!$C40=0,'Set UP'!$D40=0,'Set UP'!$E40=0),\"\",(CI$19*CI54)+(CJ$19*CJ54)+(CK$19*CK54)+(CL$19*CL54)+(CM$19*CM54)+(CN$19*CN54)+(CO$19*CO54)+(CP$19*CP54)+(CQ$19*CQ54)+(CR$19*CR54)+(CS$19*CS54)+(CT$19*CT54)+(CU$19*CU54)+(CV$19*CV54)+(CW$19*CW54)+(CX$19*CX54)+(CY$19*CY54)+(CZ$19*CZ54)+(DA$19*DA54)+(DB$19*DB54)+(DC$19*DC54)+(DD$19*DD54)+(DE$19*DE54)+(DF$19*DF54)+(DG$19*DG54))","v":""},null,null,null,null,null,null,null,null,null,null,null,null,null,null,null,null,null,null,null,null,null,null,null,null,null,null,{"$f":"IF(OR('Set UP'!$C40=0,'Set UP'!$D40=0,'Set UP'!$E40=0),\"\",(DJ$19*DJ54)+(DK$19*DK54)+(DL$19*DL54)+(DM$19*DM54)+(DN$19*DN54)+(DO$19*DO54)+(DP$19*DP54)+(DQ$19*DQ54)+(DR$19*DR54)+(DS$19*DS54)+(DT$19*DT54)+(DU$19*DU54)+(DV$19*DV54)+(DW$19*DW54)+(DX$19*DX54)+(DY$19*DY54)+(DZ$19*DZ54)+(EA$19*EA54)+(EB$19*EB54)+(EC$19*EC54)+(ED$19*ED54)+(EE$19*EE54)+(EF$19*EF54)+(EG$19*EG54)+(EH$19*EH54))","v":""},null,null,null,null,null,null,null,null,null,null,null,null,null,null,null,null,null,null,null,null,null,null,null,null,null,null,{"$f":"IF(OR('Set UP'!$C40=0,'Set UP'!$D40=0,'Set UP'!$E40=0),\"\",(EK$19*EK54)+(EL$19*EL54)+(EM$19*EM54)+(EN$19*EN54)+(EO$19*EO54)+(EP$19*EP54)+(EQ$19*EQ54)+(ER$19*ER54)+(ES$19*ES54)+(ET$19*ET54)+(EU$19*EU54)+(EV$19*EV54)+(EW$19*EW54)+(EX$19*EX54)+(EY$19*EY54)+(EZ$19*EZ54)+(FA$19*FA54)+(FB$19*FB54)+(FC$19*FC54)+(FD$19*FD54)+(FE$19*FE54)+(FF$19*FF54)+(FG$19*FG54)+(FH$19*FH54)+(FI$19*FI54))","v":""},null,null,null,null,null,null,null,null,null,null,null,null,null,null,null,null,null,null,null,null,null,null,null,null,null,null,{"$f":"IF(OR('Set UP'!$C40=0,'Set UP'!$D40=0,'Set UP'!$E40=0),\"\",(FL$19*FL54)+(FM$19*FM54)+(FN$19*FN54)+(FO$19*FO54)+(FP$19*FP54)+(FQ$19*FQ54)+(FR$19*FR54)+(FS$19*FS54)+(FT$19*FT54)+(FU$19*FU54)+(FV$19*FV54)+(FW$19*FW54)+(FX$19*FX54)+(FY$19*FY54)+(FZ$19*FZ54)+(GA$19*GA54)+(GB$19*GB54)+(GC$19*GC54)+(GD$19*GD54)+(GE$19*GE54)+(GF$19*GF54)+(GG$19*GG54)+(GH$19*GH54)+(GI$19*GI54)+(GJ$19*GJ54))","v":""},null,null,null,null,null,null,null,null,null,null,null,null,null,null,null,null,null,null,null,null,null,null,null,null,null,null,{"$f":"IF(OR('Set UP'!$C40=0,'Set UP'!$D40=0,'Set UP'!$E40=0),\"\",(GM$19*GM54)+(GN$19*GN54)+(GO$19*GO54)+(GP$19*GP54)+(GQ$19*GQ54)+(GR$19*GR54)+(GS$19*GS54)+(GT$19*GT54)+(GU$19*GU54)+(GV$19*GV54)+(GW$19*GW54)+(GX$19*GX54)+(GY$19*GY54)+(GZ$19*GZ54)+(HA$19*HA54)+(HB$19*HB54)+(HC$19*HC54)+(HD$19*HD54)+(HE$19*HE54)+(HF$19*HF54)+(HG$19*HG54)+(HH$19*HH54)+(HI$19*HI54)+(HJ$19*HJ54)+(HK$19*HK54))","v":""},null,null,null,null,null,null,null,null,null,null,null,null,null,null,null,null,null,null,null,null,null,null,null,null,null,null,{"$f":"IF(OR('Set UP'!$C40=0,'Set UP'!$D40=0,'Set UP'!$E40=0),\"\",(HN$19*HN54)+(HO$19*HO54)+(HP$19*HP54)+(HQ$19*HQ54)+(HR$19*HR54)+(HS$19*HS54)+(HT$19*HT54)+(HU$19*HU54)+(HV$19*HV54)+(HW$19*HW54)+(HX$19*HX54)+(HY$19*HY54)+(HZ$19*HZ54)+(IA$19*IA54)+(IB$19*IB54)+(IC$19*IC54)+(ID$19*ID54)+(IE$19*IE54)+(IF$19*IF54)+(IG$19*IG54)+(IH$19*IH54)+(II$19*II54)+(IJ$19*IJ54)+(IK$19*IK54)+(IL$19*IL54))","v":""},null,null,null,null,null,null,null,null,null,null,null,null,null,null,null,null,null,null,null,null,null,null,null,null,null,null,{"$f":"IF(OR('Set UP'!$C40=0,'Set UP'!$D40=0,'Set UP'!$E40=0),\"\",(IO$19*IO54)+(IP$19*IP54)+(IQ$19*IQ54)+(IR$19*IR54)+(IS$19*IS54)+(IT$19*IT54)+(IU$19*IU54)+(IV$19*IV54)+(IW$19*IW54)+(IX$19*IX54)+(IY$19*IY54)+(IZ$19*IZ54)+(JA$19*JA54)+(JB$19*JB54)+(JC$19*JC54)+(JD$19*JD54)+(JE$19*JE54)+(JF$19*JF54)+(JG$19*JG54)+(JH$19*JH54)+(JI$19*JI54)+(JJ$19*JJ54)+(JK$19*JK54)+(JL$19*JL54)+(JM$19*JM54))","v":""},{"$f":"IF(OR('Set UP'!$C40=0,'Set UP'!$D40=0,'Set UP'!$E40=0),\"\",(AF54+BG54+CH54+DI54+EJ54+FK54+GL54+HM54+JO54+IN54))","v":""},{"$f":"IF(OR('Set UP'!$C40=0,'Set UP'!$D40=0,'Set UP'!$E40=0),\"\",RANK(JP54,$JP$21:$JP$60,0))","v":""},{"$f":"IF(OR('Set UP'!K40<>1,'Set UP'!C40=0,'Set UP'!D40=0,'Set UP'!E40=0,'Set UP'!F40=0),\"\",$JP54)","v":""},{"$f":"IF(OR('Set UP'!K40<>1,'Set UP'!C40=0,'Set UP'!D40=0,'Set UP'!E40=0,'Set UP'!F40=0),\"\",RANK(JR54,$JR$21:$JR$60,0))","v":""},{"$f":"IF(OR('Set UP'!K40<>2,'Set UP'!C40=0,'Set UP'!D40=0,'Set UP'!E40=0,'Set UP'!F40=0),\"\",$JP54)","v":""},{"$f":"IF(OR('Set UP'!K40<>2,'Set UP'!C40=0,'Set UP'!D40=0,'Set UP'!E40=0,'Set UP'!F40=0),\"\",RANK(JT54,$JT$21:$JT$60,0))","v":""},{"$f":"IF(OR('Set UP'!F40<>\"F\",'Set UP'!C40=0,'Set UP'!D40=0,'Set UP'!E40=0),\"\",$JP54)","v":""},{"$f":"IF(OR('Set UP'!F40<>\"F\",'Set UP'!C40=0,'Set UP'!D40=0,'Set UP'!E40=0),\"\",RANK(JV54,$JV$21:$JV$60,0))","v":""},{"$f":"IF(OR('Set UP'!F40<>\"NS\",'Set UP'!C40=0,'Set UP'!D40=0,'Set UP'!E40=0),\"\",$JP54)","v":""},{"$f":"IF(OR('Set UP'!F40<>\"NS\",'Set UP'!C40=0,'Set UP'!D40=0,'Set UP'!E40=0),\"\",RANK(JX54,$JX$21:$JX$60,0))","v":""},{"$f":"IF(OR('Set UP'!$C40=0,'Set UP'!$D40=0,'Set UP'!$E40=0,JP54=0),\"\",JP54/MAX(JP$21:JP$60)*1000)","v":""}]
[null,35,{"$f":"IF(OR('Set UP'!$C41=0,'Set UP'!$D41=0,'Set UP'!$E41=0,'Set UP'!F41=0),\"  --\",'Set UP'!C41)","v":"  --"},{"$f":"IF(OR('Set UP'!$C41=0,'Set UP'!$D41=0,'Set UP'!$E41=0,'Set UP'!F41=0),\"  --\",'Set UP'!D41&\" \"&'Set UP'!E41)","v":"  --"},{"$f":"IF(OR('Set UP'!$C41=0,'Set UP'!$D41=0,'Set UP'!$E41=0,'Set UP'!F41=0),\"  --\",'Set UP'!F41)","v":"  --"},null,null,null,null,null,null,null,null,null,null,null,null,null,null,null,null,null,null,null,null,null,null,null,null,null,null,{"$f":"IF(OR('Set UP'!$C41=0,'Set UP'!$D41=0,'Set UP'!$E41=0),\"\",(F$19*F55)+(G$19*G55)+(H$19*H55)+(I$19*I55)+(J$19*J55)+(K$19*K55)+(L$19*L55)+(M$19*M55)+(N$19*N55)+(O$19*O55)+(P$19*P55)+(Q$19*Q55)+(R$19*R55)+(S$19*S55)+(T$19*T55)+(U$19*U55)+(V$19*V55)+(W$19*W55)+(X$19*X55)+(Y$19*Y55)+(Z$19*Z55)+(AA$19*AA55)+(AB$19*AB55)+(AC$19*AC55)+(AD$19*AD55))","v":""},null,null,null,null,null,null,null,null,null,null,null,null,null,null,null,null,null,null,null,null,null,null,null,null,null,null,{"$f":"IF(OR('Set UP'!$C41=0,'Set UP'!$D41=0,'Set UP'!$E41=0),\"\",(AG$19*AG55)+(AH$19*AH55)+(AI$19*AI55)+(AJ$19*AJ55)+(AK$19*AK55)+(AL$19*AL55)+(AM$19*AM55)+(AN$19*AN55)+(AO$19*AO55)+(AP$19*AP55)+(AQ$19*AQ55)+(AR$19*AR55)+(AS$19*AS55)+(AT$19*AT55)+(AU$19*AU55)+(AV$19*AV55)+(AW$19*AW55)+(AX$19*AX55)+(AY$19*AY55)+(AZ$19*AZ55)+(BA$19*BA55)+(BB$19*BB55)+(BC$19*BC55)+(BD$19*BD55)+(BE$19*BE55))","v":""},null,null,null,null,null,null,null,null,null,null,null,null,null,null,null,null,null,null,null,null,null,null,null,null,null,null,{"$f":"IF(OR('Set UP'!$C41=0,'Set UP'!$D41=0,'Set UP'!$E41=0),\"\",(BH$19*BH55)+(BI$19*BI55)+(BJ$19*BJ55)+(BK$19*BK55)+(BL$19*BL55)+(BM$19*BM55)+(BN$19*BN55)+(BO$19*BO55)+(BP$19*BP55)+(BQ$19*BQ55)+(BR$19*BR55)+(BS$19*BS55)+(BT$19*BT55)+(BU$19*BU55)+(BV$19*BV55)+(BW$19*BW55)+(BX$19*BX55)+(BY$19*BY55)+(BZ$19*BZ55)+(CA$19*CA55)+(CB$19*CB55)+(CC$19*CC55)+(CD$19*CD55)+(CE$19*CE55)+(CF$19*CF55))","v":""},null,null,null,null,null,null,null,null,null,null,null,null,null,null,null,null,null,null,null,null,null,null,null,null,null,null,{"$f":"IF(OR('Set UP'!$C41=0,'Set UP'!$D41=0,'Set UP'!$E41=0),\"\",(CI$19*CI55)+(CJ$19*CJ55)+(CK$19*CK55)+(CL$19*CL55)+(CM$19*CM55)+(CN$19*CN55)+(CO$19*CO55)+(CP$19*CP55)+(CQ$19*CQ55)+(CR$19*CR55)+(CS$19*CS55)+(CT$19*CT55)+(CU$19*CU55)+(CV$19*CV55)+(CW$19*CW55)+(CX$19*CX55)+(CY$19*CY55)+(CZ$19*CZ55)+(DA$19*DA55)+(DB$19*DB55)+(DC$19*DC55)+(DD$19*DD55)+(DE$19*DE55)+(DF$19*DF55)+(DG$19*DG55))","v":""},null,null,null,null,null,null,null,null,null,null,null,null,null,null,null,null,null,null,null,null,null,null,null,null,null,null,{"$f":"IF(OR('Set UP'!$C41=0,'Set UP'!$D41=0,'Set UP'!$E41=0),\"\",(DJ$19*DJ55)+(DK$19*DK55)+(DL$19*DL55)+(DM$19*DM55)+(DN$19*DN55)+(DO$19*DO55)+(DP$19*DP55)+(DQ$19*DQ55)+(DR$19*DR55)+(DS$19*DS55)+(DT$19*DT55)+(DU$19*DU55)+(DV$19*DV55)+(DW$19*DW55)+(DX$19*DX55)+(DY$19*DY55)+(DZ$19*DZ55)+(EA$19*EA55)+(EB$19*EB55)+(EC$19*EC55)+(ED$19*ED55)+(EE$19*EE55)+(EF$19*EF55)+(EG$19*EG55)+(EH$19*EH55))","v":""},null,null,null,null,null,null,null,null,null,null,null,null,null,null,null,null,null,null,null,null,null,null,null,null,null,null,{"$f":"IF(OR('Set UP'!$C41=0,'Set UP'!$D41=0,'Set UP'!$E41=0),\"\",(EK$19*EK55)+(EL$19*EL55)+(EM$19*EM55)+(EN$19*EN55)+(EO$19*EO55)+(EP$19*EP55)+(EQ$19*EQ55)+(ER$19*ER55)+(ES$19*ES55)+(ET$19*ET55)+(EU$19*EU55)+(EV$19*EV55)+(EW$19*EW55)+(EX$19*EX55)+(EY$19*EY55)+(EZ$19*EZ55)+(FA$19*FA55)+(FB$19*FB55)+(FC$19*FC55)+(FD$19*FD55)+(FE$19*FE55)+(FF$19*FF55)+(FG$19*FG55)+(FH$19*FH55)+(FI$19*FI55))","v":""},null,null,null,null,null,null,null,null,null,null,null,null,null,null,null,null,null,null,null,null,null,null,null,null,null,null,{"$f":"IF(OR('Set UP'!$C41=0,'Set UP'!$D41=0,'Set UP'!$E41=0),\"\",(FL$19*FL55)+(FM$19*FM55)+(FN$19*FN55)+(FO$19*FO55)+(FP$19*FP55)+(FQ$19*FQ55)+(FR$19*FR55)+(FS$19*FS55)+(FT$19*FT55)+(FU$19*FU55)+(FV$19*FV55)+(FW$19*FW55)+(FX$19*FX55)+(FY$19*FY55)+(FZ$19*FZ55)+(GA$19*GA55)+(GB$19*GB55)+(GC$19*GC55)+(GD$19*GD55)+(GE$19*GE55)+(GF$19*GF55)+(GG$19*GG55)+(GH$19*GH55)+(GI$19*GI55)+(GJ$19*GJ55))","v":""},null,null,null,null,null,null,null,null,null,null,null,null,null,null,null,null,null,null,null,null,null,null,null,null,null,null,{"$f":"IF(OR('Set UP'!$C41=0,'Set UP'!$D41=0,'Set UP'!$E41=0),\"\",(GM$19*GM55)+(GN$19*GN55)+(GO$19*GO55)+(GP$19*GP55)+(GQ$19*GQ55)+(GR$19*GR55)+(GS$19*GS55)+(GT$19*GT55)+(GU$19*GU55)+(GV$19*GV55)+(GW$19*GW55)+(GX$19*GX55)+(GY$19*GY55)+(GZ$19*GZ55)+(HA$19*HA55)+(HB$19*HB55)+(HC$19*HC55)+(HD$19*HD55)+(HE$19*HE55)+(HF$19*HF55)+(HG$19*HG55)+(HH$19*HH55)+(HI$19*HI55)+(HJ$19*HJ55)+(HK$19*HK55))","v":""},null,null,null,null,null,null,null,null,null,null,null,null,null,null,null,null,null,null,null,null,null,null,null,null,null,null,{"$f":"IF(OR('Set UP'!$C41=0,'Set UP'!$D41=0,'Set UP'!$E41=0),\"\",(HN$19*HN55)+(HO$19*HO55)+(HP$19*HP55)+(HQ$19*HQ55)+(HR$19*HR55)+(HS$19*HS55)+(HT$19*HT55)+(HU$19*HU55)+(HV$19*HV55)+(HW$19*HW55)+(HX$19*HX55)+(HY$19*HY55)+(HZ$19*HZ55)+(IA$19*IA55)+(IB$19*IB55)+(IC$19*IC55)+(ID$19*ID55)+(IE$19*IE55)+(IF$19*IF55)+(IG$19*IG55)+(IH$19*IH55)+(II$19*II55)+(IJ$19*IJ55)+(IK$19*IK55)+(IL$19*IL55))","v":""},null,null,null,null,null,null,null,null,null,null,null,null,null,null,null,null,null,null,null,null,null,null,null,null,null,null,{"$f":"IF(OR('Set UP'!$C41=0,'Set UP'!$D41=0,'Set UP'!$E41=0),\"\",(IO$19*IO55)+(IP$19*IP55)+(IQ$19*IQ55)+(IR$19*IR55)+(IS$19*IS55)+(IT$19*IT55)+(IU$19*IU55)+(IV$19*IV55)+(IW$19*IW55)+(IX$19*IX55)+(IY$19*IY55)+(IZ$19*IZ55)+(JA$19*JA55)+(JB$19*JB55)+(JC$19*JC55)+(JD$19*JD55)+(JE$19*JE55)+(JF$19*JF55)+(JG$19*JG55)+(JH$19*JH55)+(JI$19*JI55)+(JJ$19*JJ55)+(JK$19*JK55)+(JL$19*JL55)+(JM$19*JM55))","v":""},{"$f":"IF(OR('Set UP'!$C41=0,'Set UP'!$D41=0,'Set UP'!$E41=0),\"\",(AF55+BG55+CH55+DI55+EJ55+FK55+GL55+HM55+JO55+IN55))","v":""},{"$f":"IF(OR('Set UP'!$C41=0,'Set UP'!$D41=0,'Set UP'!$E41=0),\"\",RANK(JP55,$JP$21:$JP$60,0))","v":""},{"$f":"IF(OR('Set UP'!K41<>1,'Set UP'!C41=0,'Set UP'!D41=0,'Set UP'!E41=0,'Set UP'!F41=0),\"\",$JP55)","v":""},{"$f":"IF(OR('Set UP'!K41<>1,'Set UP'!C41=0,'Set UP'!D41=0,'Set UP'!E41=0,'Set UP'!F41=0),\"\",RANK(JR55,$JR$21:$JR$60,0))","v":""},{"$f":"IF(OR('Set UP'!K41<>2,'Set UP'!C41=0,'Set UP'!D41=0,'Set UP'!E41=0,'Set UP'!F41=0),\"\",$JP55)","v":""},{"$f":"IF(OR('Set UP'!K41<>2,'Set UP'!C41=0,'Set UP'!D41=0,'Set UP'!E41=0,'Set UP'!F41=0),\"\",RANK(JT55,$JT$21:$JT$60,0))","v":""},{"$f":"IF(OR('Set UP'!F41<>\"F\",'Set UP'!C41=0,'Set UP'!D41=0,'Set UP'!E41=0),\"\",$JP55)","v":""},{"$f":"IF(OR('Set UP'!F41<>\"F\",'Set UP'!C41=0,'Set UP'!D41=0,'Set UP'!E41=0),\"\",RANK(JV55,$JV$21:$JV$60,0))","v":""},{"$f":"IF(OR('Set UP'!F41<>\"NS\",'Set UP'!C41=0,'Set UP'!D41=0,'Set UP'!E41=0),\"\",$JP55)","v":""},{"$f":"IF(OR('Set UP'!F41<>\"NS\",'Set UP'!C41=0,'Set UP'!D41=0,'Set UP'!E41=0),\"\",RANK(JX55,$JX$21:$JX$60,0))","v":""},{"$f":"IF(OR('Set UP'!$C41=0,'Set UP'!$D41=0,'Set UP'!$E41=0,JP55=0),\"\",JP55/MAX(JP$21:JP$60)*1000)","v":""}]
[null,36,{"$f":"IF(OR('Set UP'!$C42=0,'Set UP'!$D42=0,'Set UP'!$E42=0,'Set UP'!F42=0),\"  --\",'Set UP'!C42)","v":"  --"},{"$f":"IF(OR('Set UP'!$C42=0,'Set UP'!$D42=0,'Set UP'!$E42=0,'Set UP'!F42=0),\"  --\",'Set UP'!D42&\" \"&'Set UP'!E42)","v":"  --"},{"$f":"IF(OR('Set UP'!$C42=0,'Set UP'!$D42=0,'Set UP'!$E42=0,'Set UP'!F42=0),\"  --\",'Set UP'!F42)","v":"  --"},null,null,null,null,null,null,null,null,null,null,null,null,null,null,null,null,null,null,null,null,null,null,null,null,null,null,{"$f":"IF(OR('Set UP'!$C42=0,'Set UP'!$D42=0,'Set UP'!$E42=0),\"\",(F$19*F56)+(G$19*G56)+(H$19*H56)+(I$19*I56)+(J$19*J56)+(K$19*K56)+(L$19*L56)+(M$19*M56)+(N$19*N56)+(O$19*O56)+(P$19*P56)+(Q$19*Q56)+(R$19*R56)+(S$19*S56)+(T$19*T56)+(U$19*U56)+(V$19*V56)+(W$19*W56)+(X$19*X56)+(Y$19*Y56)+(Z$19*Z56)+(AA$19*AA56)+(AB$19*AB56)+(AC$19*AC56)+(AD$19*AD56))","v":""},null,null,null,null,null,null,null,null,null,null,null,null,null,null,null,null,null,null,null,null,null,null,null,null,null,null,{"$f":"IF(OR('Set UP'!$C42=0,'Set UP'!$D42=0,'Set UP'!$E42=0),\"\",(AG$19*AG56)+(AH$19*AH56)+(AI$19*AI56)+(AJ$19*AJ56)+(AK$19*AK56)+(AL$19*AL56)+(AM$19*AM56)+(AN$19*AN56)+(AO$19*AO56)+(AP$19*AP56)+(AQ$19*AQ56)+(AR$19*AR56)+(AS$19*AS56)+(AT$19*AT56)+(AU$19*AU56)+(AV$19*AV56)+(AW$19*AW56)+(AX$19*AX56)+(AY$19*AY56)+(AZ$19*AZ56)+(BA$19*BA56)+(BB$19*BB56)+(BC$19*BC56)+(BD$19*BD56)+(BE$19*BE56))","v":""},null,null,null,null,null,null,null,null,null,null,null,null,null,null,null,null,null,null,null,null,null,null,null,null,null,null,{"$f":"IF(OR('Set UP'!$C42=0,'Set UP'!$D42=0,'Set UP'!$E42=0),\"\",(BH$19*BH56)+(BI$19*BI56)+(BJ$19*BJ56)+(BK$19*BK56)+(BL$19*BL56)+(BM$19*BM56)+(BN$19*BN56)+(BO$19*BO56)+(BP$19*BP56)+(BQ$19*BQ56)+(BR$19*BR56)+(BS$19*BS56)+(BT$19*BT56)+(BU$19*BU56)+(BV$19*BV56)+(BW$19*BW56)+(BX$19*BX56)+(BY$19*BY56)+(BZ$19*BZ56)+(CA$19*CA56)+(CB$19*CB56)+(CC$19*CC56)+(CD$19*CD56)+(CE$19*CE56)+(CF$19*CF56))","v":""},null,null,null,null,null,null,null,null,null,null,null,null,null,null,null,null,null,null,null,null,null,null,null,null,null,null,{"$f":"IF(OR('Set UP'!$C42=0,'Set UP'!$D42=0,'Set UP'!$E42=0),\"\",(CI$19*CI56)+(CJ$19*CJ56)+(CK$19*CK56)+(CL$19*CL56)+(CM$19*CM56)+(CN$19*CN56)+(CO$19*CO56)+(CP$19*CP56)+(CQ$19*CQ56)+(CR$19*CR56)+(CS$19*CS56)+(CT$19*CT56)+(CU$19*CU56)+(CV$19*CV56)+(CW$19*CW56)+(CX$19*CX56)+(CY$19*CY56)+(CZ$19*CZ56)+(DA$19*DA56)+(DB$19*DB56)+(DC$19*DC56)+(DD$19*DD56)+(DE$19*DE56)+(DF$19*DF56)+(DG$19*DG56))","v":""},null,null,null,null,null,null,null,null,null,null,null,null,null,null,null,null,null,null,null,null,null,null,null,null,null,null,{"$f":"IF(OR('Set UP'!$C42=0,'Set UP'!$D42=0,'Set UP'!$E42=0),\"\",(DJ$19*DJ56)+(DK$19*DK56)+(DL$19*DL56)+(DM$19*DM56)+(DN$19*DN56)+(DO$19*DO56)+(DP$19*DP56)+(DQ$19*DQ56)+(DR$19*DR56)+(DS$19*DS56)+(DT$19*DT56)+(DU$19*DU56)+(DV$19*DV56)+(DW$19*DW56)+(DX$19*DX56)+(DY$19*DY56)+(DZ$19*DZ56)+(EA$19*EA56)+(EB$19*EB56)+(EC$19*EC56)+(ED$19*ED56)+(EE$19*EE56)+(EF$19*EF56)+(EG$19*EG56)+(EH$19*EH56))","v":""},null,null,null,null,null,null,null,null,null,null,null,null,null,null,null,null,null,null,null,null,null,null,null,null,null,null,{"$f":"IF(OR('Set UP'!$C42=0,'Set UP'!$D42=0,'Set UP'!$E42=0),\"\",(EK$19*EK56)+(EL$19*EL56)+(EM$19*EM56)+(EN$19*EN56)+(EO$19*EO56)+(EP$19*EP56)+(EQ$19*EQ56)+(ER$19*ER56)+(ES$19*ES56)+(ET$19*ET56)+(EU$19*EU56)+(EV$19*EV56)+(EW$19*EW56)+(EX$19*EX56)+(EY$19*EY56)+(EZ$19*EZ56)+(FA$19*FA56)+(FB$19*FB56)+(FC$19*FC56)+(FD$19*FD56)+(FE$19*FE56)+(FF$19*FF56)+(FG$19*FG56)+(FH$19*FH56)+(FI$19*FI56))","v":""},null,null,null,null,null,null,null,null,null,null,null,null,null,null,null,null,null,null,null,null,null,null,null,null,null,null,{"$f":"IF(OR('Set UP'!$C42=0,'Set UP'!$D42=0,'Set UP'!$E42=0),\"\",(FL$19*FL56)+(FM$19*FM56)+(FN$19*FN56)+(FO$19*FO56)+(FP$19*FP56)+(FQ$19*FQ56)+(FR$19*FR56)+(FS$19*FS56)+(FT$19*FT56)+(FU$19*FU56)+(FV$19*FV56)+(FW$19*FW56)+(FX$19*FX56)+(FY$19*FY56)+(FZ$19*FZ56)+(GA$19*GA56)+(GB$19*GB56)+(GC$19*GC56)+(GD$19*GD56)+(GE$19*GE56)+(GF$19*GF56)+(GG$19*GG56)+(GH$19*GH56)+(GI$19*GI56)+(GJ$19*GJ56))","v":""},null,null,null,null,null,null,null,null,null,null,null,null,null,null,null,null,null,null,null,null,null,null,null,null,null,null,{"$f":"IF(OR('Set UP'!$C42=0,'Set UP'!$D42=0,'Set UP'!$E42=0),\"\",(GM$19*GM56)+(GN$19*GN56)+(GO$19*GO56)+(GP$19*GP56)+(GQ$19*GQ56)+(GR$19*GR56)+(GS$19*GS56)+(GT$19*GT56)+(GU$19*GU56)+(GV$19*GV56)+(GW$19*GW56)+(GX$19*GX56)+(GY$19*GY56)+(GZ$19*GZ56)+(HA$19*HA56)+(HB$19*HB56)+(HC$19*HC56)+(HD$19*HD56)+(HE$19*HE56)+(HF$19*HF56)+(HG$19*HG56)+(HH$19*HH56)+(HI$19*HI56)+(HJ$19*HJ56)+(HK$19*HK56))","v":""},null,null,null,null,null,null,null,null,null,null,null,null,null,null,null,null,null,null,null,null,null,null,null,null,null,null,{"$f":"IF(OR('Set UP'!$C42=0,'Set UP'!$D42=0,'Set UP'!$E42=0),\"\",(HN$19*HN56)+(HO$19*HO56)+(HP$19*HP56)+(HQ$19*HQ56)+(HR$19*HR56)+(HS$19*HS56)+(HT$19*HT56)+(HU$19*HU56)+(HV$19*HV56)+(HW$19*HW56)+(HX$19*HX56)+(HY$19*HY56)+(HZ$19*HZ56)+(IA$19*IA56)+(IB$19*IB56)+(IC$19*IC56)+(ID$19*ID56)+(IE$19*IE56)+(IF$19*IF56)+(IG$19*IG56)+(IH$19*IH56)+(II$19*II56)+(IJ$19*IJ56)+(IK$19*IK56)+(IL$19*IL56))","v":""},null,null,null,null,null,null,null,null,null,null,null,null,null,null,null,null,null,null,null,null,null,null,null,null,null,null,{"$f":"IF(OR('Set UP'!$C42=0,'Set UP'!$D42=0,'Set UP'!$E42=0),\"\",(IO$19*IO56)+(IP$19*IP56)+(IQ$19*IQ56)+(IR$19*IR56)+(IS$19*IS56)+(IT$19*IT56)+(IU$19*IU56)+(IV$19*IV56)+(IW$19*IW56)+(IX$19*IX56)+(IY$19*IY56)+(IZ$19*IZ56)+(JA$19*JA56)+(JB$19*JB56)+(JC$19*JC56)+(JD$19*JD56)+(JE$19*JE56)+(JF$19*JF56)+(JG$19*JG56)+(JH$19*JH56)+(JI$19*JI56)+(JJ$19*JJ56)+(JK$19*JK56)+(JL$19*JL56)+(JM$19*JM56))","v":""},{"$f":"IF(OR('Set UP'!$C42=0,'Set UP'!$D42=0,'Set UP'!$E42=0),\"\",(AF56+BG56+CH56+DI56+EJ56+FK56+GL56+HM56+JO56+IN56))","v":""},{"$f":"IF(OR('Set UP'!$C42=0,'Set UP'!$D42=0,'Set UP'!$E42=0),\"\",RANK(JP56,$JP$21:$JP$60,0))","v":""},{"$f":"IF(OR('Set UP'!K42<>1,'Set UP'!C42=0,'Set UP'!D42=0,'Set UP'!E42=0,'Set UP'!F42=0),\"\",$JP56)","v":""},{"$f":"IF(OR('Set UP'!K42<>1,'Set UP'!C42=0,'Set UP'!D42=0,'Set UP'!E42=0,'Set UP'!F42=0),\"\",RANK(JR56,$JR$21:$JR$60,0))","v":""},{"$f":"IF(OR('Set UP'!K42<>2,'Set UP'!C42=0,'Set UP'!D42=0,'Set UP'!E42=0,'Set UP'!F42=0),\"\",$JP56)","v":""},{"$f":"IF(OR('Set UP'!K42<>2,'Set UP'!C42=0,'Set UP'!D42=0,'Set UP'!E42=0,'Set UP'!F42=0),\"\",RANK(JT56,$JT$21:$JT$60,0))","v":""},{"$f":"IF(OR('Set UP'!F42<>\"F\",'Set UP'!C42=0,'Set UP'!D42=0,'Set UP'!E42=0),\"\",$JP56)","v":""},{"$f":"IF(OR('Set UP'!F42<>\"F\",'Set UP'!C42=0,'Set UP'!D42=0,'Set UP'!E42=0),\"\",RANK(JV56,$JV$21:$JV$60,0))","v":""},{"$f":"IF(OR('Set UP'!F42<>\"NS\",'Set UP'!C42=0,'Set UP'!D42=0,'Set UP'!E42=0),\"\",$JP56)","v":""},{"$f":"IF(OR('Set UP'!F42<>\"NS\",'Set UP'!C42=0,'Set UP'!D42=0,'Set UP'!E42=0),\"\",RANK(JX56,$JX$21:$JX$60,0))","v":""},{"$f":"IF(OR('Set UP'!$C42=0,'Set UP'!$D42=0,'Set UP'!$E42=0,JP56=0),\"\",JP56/MAX(JP$21:JP$60)*1000)","v":""}]
[null,37,{"$f":"IF(OR('Set UP'!$C43=0,'Set UP'!$D43=0,'Set UP'!$E43=0,'Set UP'!F43=0),\"  --\",'Set UP'!C43)","v":"  --"},{"$f":"IF(OR('Set UP'!$C43=0,'Set UP'!$D43=0,'Set UP'!$E43=0,'Set UP'!F43=0),\"  --\",'Set UP'!D43&\" \"&'Set UP'!E43)","v":"  --"},{"$f":"IF(OR('Set UP'!$C43=0,'Set UP'!$D43=0,'Set UP'!$E43=0,'Set UP'!F43=0),\"  --\",'Set UP'!F43)","v":"  --"},null,null,null,null,null,null,null,null,null,null,null,null,null,null,null,null,null,null,null,null,null,null,null,null,null,null,{"$f":"IF(OR('Set UP'!$C43=0,'Set UP'!$D43=0,'Set UP'!$E43=0),\"\",(F$19*F57)+(G$19*G57)+(H$19*H57)+(I$19*I57)+(J$19*J57)+(K$19*K57)+(L$19*L57)+(M$19*M57)+(N$19*N57)+(O$19*O57)+(P$19*P57)+(Q$19*Q57)+(R$19*R57)+(S$19*S57)+(T$19*T57)+(U$19*U57)+(V$19*V57)+(W$19*W57)+(X$19*X57)+(Y$19*Y57)+(Z$19*Z57)+(AA$19*AA57)+(AB$19*AB57)+(AC$19*AC57)+(AD$19*AD57))","v":""},null,null,null,null,null,null,null,null,null,null,null,null,null,null,null,null,null,null,null,null,null,null,null,null,null,null,{"$f":"IF(OR('Set UP'!$C43=0,'Set UP'!$D43=0,'Set UP'!$E43=0),\"\",(AG$19*AG57)+(AH$19*AH57)+(AI$19*AI57)+(AJ$19*AJ57)+(AK$19*AK57)+(AL$19*AL57)+(AM$19*AM57)+(AN$19*AN57)+(AO$19*AO57)+(AP$19*AP57)+(AQ$19*AQ57)+(AR$19*AR57)+(AS$19*AS57)+(AT$19*AT57)+(AU$19*AU57)+(AV$19*AV57)+(AW$19*AW57)+(AX$19*AX57)+(AY$19*AY57)+(AZ$19*AZ57)+(BA$19*BA57)+(BB$19*BB57)+(BC$19*BC57)+(BD$19*BD57)+(BE$19*BE57))","v":""},null,null,null,null,null,null,null,null,null,null,null,null,null,null,null,null,null,null,null,null,null,null,null,null,null,null,{"$f":"IF(OR('Set UP'!$C43=0,'Set UP'!$D43=0,'Set UP'!$E43=0),\"\",(BH$19*BH57)+(BI$19*BI57)+(BJ$19*BJ57)+(BK$19*BK57)+(BL$19*BL57)+(BM$19*BM57)+(BN$19*BN57)+(BO$19*BO57)+(BP$19*BP57)+(BQ$19*BQ57)+(BR$19*BR57)+(BS$19*BS57)+(BT$19*BT57)+(BU$19*BU57)+(BV$19*BV57)+(BW$19*BW57)+(BX$19*BX57)+(BY$19*BY57)+(BZ$19*BZ57)+(CA$19*CA57)+(CB$19*CB57)+(CC$19*CC57)+(CD$19*CD57)+(CE$19*CE57)+(CF$19*CF57))","v":""},null,null,null,null,null,null,null,null,null,null,null,null,null,null,null,null,null,null,null,null,null,null,null,null,null,null,{"$f":"IF(OR('Set UP'!$C43=0,'Set UP'!$D43=0,'Set UP'!$E43=0),\"\",(CI$19*CI57)+(CJ$19*CJ57)+(CK$19*CK57)+(CL$19*CL57)+(CM$19*CM57)+(CN$19*CN57)+(CO$19*CO57)+(CP$19*CP57)+(CQ$19*CQ57)+(CR$19*CR57)+(CS$19*CS57)+(CT$19*CT57)+(CU$19*CU57)+(CV$19*CV57)+(CW$19*CW57)+(CX$19*CX57)+(CY$19*CY57)+(CZ$19*CZ57)+(DA$19*DA57)+(DB$19*DB57)+(DC$19*DC57)+(DD$19*DD57)+(DE$19*DE57)+(DF$19*DF57)+(DG$19*DG57))","v":""},null,null,null,null,null,null,null,null,null,null,null,null,null,null,null,null,null,null,null,null,null,null,null,null,null,null,{"$f":"IF(OR('Set UP'!$C43=0,'Set UP'!$D43=0,'Set UP'!$E43=0),\"\",(DJ$19*DJ57)+(DK$19*DK57)+(DL$19*DL57)+(DM$19*DM57)+(DN$19*DN57)+(DO$19*DO57)+(DP$19*DP57)+(DQ$19*DQ57)+(DR$19*DR57)+(DS$19*DS57)+(DT$19*DT57)+(DU$19*DU57)+(DV$19*DV57)+(DW$19*DW57)+(DX$19*DX57)+(DY$19*DY57)+(DZ$19*DZ57)+(EA$19*EA57)+(EB$19*EB57)+(EC$19*EC57)+(ED$19*ED57)+(EE$19*EE57)+(EF$19*EF57)+(EG$19*EG57)+(EH$19*EH57))","v":""},null,null,null,null,null,null,null,null,null,null,null,null,null,null,null,null,null,null,null,null,null,null,null,null,null,null,{"$f":"IF(OR('Set UP'!$C43=0,'Set UP'!$D43=0,'Set UP'!$E43=0),\"\",(EK$19*EK57)+(EL$19*EL57)+(EM$19*EM57)+(EN$19*EN57)+(EO$19*EO57)+(EP$19*EP57)+(EQ$19*EQ57)+(ER$19*ER57)+(ES$19*ES57)+(ET$19*ET57)+(EU$19*EU57)+(EV$19*EV57)+(EW$19*EW57)+(EX$19*EX57)+(EY$19*EY57)+(EZ$19*EZ57)+(FA$19*FA57)+(FB$19*FB57)+(FC$19*FC57)+(FD$19*FD57)+(FE$19*FE57)+(FF$19*FF57)+(FG$19*FG57)+(FH$19*FH57)+(FI$19*FI57))","v":""},null,null,null,null,null,null,null,null,null,null,null,null,null,null,null,null,null,null,null,null,null,null,null,null,null,null,{"$f":"IF(OR('Set UP'!$C43=0,'Set UP'!$D43=0,'Set UP'!$E43=0),\"\",(FL$19*FL57)+(FM$19*FM57)+(FN$19*FN57)+(FO$19*FO57)+(FP$19*FP57)+(FQ$19*FQ57)+(FR$19*FR57)+(FS$19*FS57)+(FT$19*FT57)+(FU$19*FU57)+(FV$19*FV57)+(FW$19*FW57)+(FX$19*FX57)+(FY$19*FY57)+(FZ$19*FZ57)+(GA$19*GA57)+(GB$19*GB57)+(GC$19*GC57)+(GD$19*GD57)+(GE$19*GE57)+(GF$19*GF57)+(GG$19*GG57)+(GH$19*GH57)+(GI$19*GI57)+(GJ$19*GJ57))","v":""},null,null,null,null,null,null,null,null,null,null,null,null,null,null,null,null,null,null,null,null,null,null,null,null,null,null,{"$f":"IF(OR('Set UP'!$C43=0,'Set UP'!$D43=0,'Set UP'!$E43=0),\"\",(GM$19*GM57)+(GN$19*GN57)+(GO$19*GO57)+(GP$19*GP57)+(GQ$19*GQ57)+(GR$19*GR57)+(GS$19*GS57)+(GT$19*GT57)+(GU$19*GU57)+(GV$19*GV57)+(GW$19*GW57)+(GX$19*GX57)+(GY$19*GY57)+(GZ$19*GZ57)+(HA$19*HA57)+(HB$19*HB57)+(HC$19*HC57)+(HD$19*HD57)+(HE$19*HE57)+(HF$19*HF57)+(HG$19*HG57)+(HH$19*HH57)+(HI$19*HI57)+(HJ$19*HJ57)+(HK$19*HK57))","v":""},null,null,null,null,null,null,null,null,null,null,null,null,null,null,null,null,null,null,null,null,null,null,null,null,null,null,{"$f":"IF(OR('Set UP'!$C43=0,'Set UP'!$D43=0,'Set UP'!$E43=0),\"\",(HN$19*HN57)+(HO$19*HO57)+(HP$19*HP57)+(HQ$19*HQ57)+(HR$19*HR57)+(HS$19*HS57)+(HT$19*HT57)+(HU$19*HU57)+(HV$19*HV57)+(HW$19*HW57)+(HX$19*HX57)+(HY$19*HY57)+(HZ$19*HZ57)+(IA$19*IA57)+(IB$19*IB57)+(IC$19*IC57)+(ID$19*ID57)+(IE$19*IE57)+(IF$19*IF57)+(IG$19*IG57)+(IH$19*IH57)+(II$19*II57)+(IJ$19*IJ57)+(IK$19*IK57)+(IL$19*IL57))","v":""},null,null,null,null,null,null,null,null,null,null,null,null,null,null,null,null,null,null,null,null,null,null,null,null,null,null,{"$f":"IF(OR('Set UP'!$C43=0,'Set UP'!$D43=0,'Set UP'!$E43=0),\"\",(IO$19*IO57)+(IP$19*IP57)+(IQ$19*IQ57)+(IR$19*IR57)+(IS$19*IS57)+(IT$19*IT57)+(IU$19*IU57)+(IV$19*IV57)+(IW$19*IW57)+(IX$19*IX57)+(IY$19*IY57)+(IZ$19*IZ57)+(JA$19*JA57)+(JB$19*JB57)+(JC$19*JC57)+(JD$19*JD57)+(JE$19*JE57)+(JF$19*JF57)+(JG$19*JG57)+(JH$19*JH57)+(JI$19*JI57)+(JJ$19*JJ57)+(JK$19*JK57)+(JL$19*JL57)+(JM$19*JM57))","v":""},{"$f":"IF(OR('Set UP'!$C43=0,'Set UP'!$D43=0,'Set UP'!$E43=0),\"\",(AF57+BG57+CH57+DI57+EJ57+FK57+GL57+HM57+JO57+IN57))","v":""},{"$f":"IF(OR('Set UP'!$C43=0,'Set UP'!$D43=0,'Set UP'!$E43=0),\"\",RANK(JP57,$JP$21:$JP$60,0))","v":""},{"$f":"IF(OR('Set UP'!K43<>1,'Set UP'!C43=0,'Set UP'!D43=0,'Set UP'!E43=0,'Set UP'!F43=0),\"\",$JP57)","v":""},{"$f":"IF(OR('Set UP'!K43<>1,'Set UP'!C43=0,'Set UP'!D43=0,'Set UP'!E43=0,'Set UP'!F43=0),\"\",RANK(JR57,$JR$21:$JR$60,0))","v":""},{"$f":"IF(OR('Set UP'!K43<>2,'Set UP'!C43=0,'Set UP'!D43=0,'Set UP'!E43=0,'Set UP'!F43=0),\"\",$JP57)","v":""},{"$f":"IF(OR('Set UP'!K43<>2,'Set UP'!C43=0,'Set UP'!D43=0,'Set UP'!E43=0,'Set UP'!F43=0),\"\",RANK(JT57,$JT$21:$JT$60,0))","v":""},{"$f":"IF(OR('Set UP'!F43<>\"F\",'Set UP'!C43=0,'Set UP'!D43=0,'Set UP'!E43=0),\"\",$JP57)","v":""},{"$f":"IF(OR('Set UP'!F43<>\"F\",'Set UP'!C43=0,'Set UP'!D43=0,'Set UP'!E43=0),\"\",RANK(JV57,$JV$21:$JV$60,0))","v":""},{"$f":"IF(OR('Set UP'!F43<>\"NS\",'Set UP'!C43=0,'Set UP'!D43=0,'Set UP'!E43=0),\"\",$JP57)","v":""},{"$f":"IF(OR('Set UP'!F43<>\"NS\",'Set UP'!C43=0,'Set UP'!D43=0,'Set UP'!E43=0),\"\",RANK(JX57,$JX$21:$JX$60,0))","v":""},{"$f":"IF(OR('Set UP'!$C43=0,'Set UP'!$D43=0,'Set UP'!$E43=0,JP57=0),\"\",JP57/MAX(JP$21:JP$60)*1000)","v":""}]
[null,38,{"$f":"IF(OR('Set UP'!$C44=0,'Set UP'!$D44=0,'Set UP'!$E44=0,'Set UP'!F44=0),\"  --\",'Set UP'!C44)","v":"  --"},{"$f":"IF(OR('Set UP'!$C44=0,'Set UP'!$D44=0,'Set UP'!$E44=0,'Set UP'!F44=0),\"  --\",'Set UP'!D44&\" \"&'Set UP'!E44)","v":"  --"},{"$f":"IF(OR('Set UP'!$C44=0,'Set UP'!$D44=0,'Set UP'!$E44=0,'Set UP'!F44=0),\"  --\",'Set UP'!F44)","v":"  --"},null,null,null,null,null,null,null,null,null,null,null,null,null,null,null,null,null,null,null,null,null,null,null,null,null,null,{"$f":"IF(OR('Set UP'!$C44=0,'Set UP'!$D44=0,'Set UP'!$E44=0),\"\",(F$19*F58)+(G$19*G58)+(H$19*H58)+(I$19*I58)+(J$19*J58)+(K$19*K58)+(L$19*L58)+(M$19*M58)+(N$19*N58)+(O$19*O58)+(P$19*P58)+(Q$19*Q58)+(R$19*R58)+(S$19*S58)+(T$19*T58)+(U$19*U58)+(V$19*V58)+(W$19*W58)+(X$19*X58)+(Y$19*Y58)+(Z$19*Z58)+(AA$19*AA58)+(AB$19*AB58)+(AC$19*AC58)+(AD$19*AD58))","v":""},null,null,null,null,null,null,null,null,null,null,null,null,null,null,null,null,null,null,null,null,null,null,null,null,null,null,{"$f":"IF(OR('Set UP'!$C44=0,'Set UP'!$D44=0,'Set UP'!$E44=0),\"\",(AG$19*AG58)+(AH$19*AH58)+(AI$19*AI58)+(AJ$19*AJ58)+(AK$19*AK58)+(AL$19*AL58)+(AM$19*AM58)+(AN$19*AN58)+(AO$19*AO58)+(AP$19*AP58)+(AQ$19*AQ58)+(AR$19*AR58)+(AS$19*AS58)+(AT$19*AT58)+(AU$19*AU58)+(AV$19*AV58)+(AW$19*AW58)+(AX$19*AX58)+(AY$19*AY58)+(AZ$19*AZ58)+(BA$19*BA58)+(BB$19*BB58)+(BC$19*BC58)+(BD$19*BD58)+(BE$19*BE58))","v":""},null,null,null,null,null,null,null,null,null,null,null,null,null,null,null,null,null,null,null,null,null,null,null,null,null,null,{"$f":"IF(OR('Set UP'!$C44=0,'Set UP'!$D44=0,'Set UP'!$E44=0),\"\",(BH$19*BH58)+(BI$19*BI58)+(BJ$19*BJ58)+(BK$19*BK58)+(BL$19*BL58)+(BM$19*BM58)+(BN$19*BN58)+(BO$19*BO58)+(BP$19*BP58)+(BQ$19*BQ58)+(BR$19*BR58)+(BS$19*BS58)+(BT$19*BT58)+(BU$19*BU58)+(BV$19*BV58)+(BW$19*BW58)+(BX$19*BX58)+(BY$19*BY58)+(BZ$19*BZ58)+(CA$19*CA58)+(CB$19*CB58)+(CC$19*CC58)+(CD$19*CD58)+(CE$19*CE58)+(CF$19*CF58))","v":""},null,null,null,null,null,null,null,null,null,null,null,null,null,null,null,null,null,null,null,null,null,null,null,null,null,null,{"$f":"IF(OR('Set UP'!$C44=0,'Set UP'!$D44=0,'Set UP'!$E44=0),\"\",(CI$19*CI58)+(CJ$19*CJ58)+(CK$19*CK58)+(CL$19*CL58)+(CM$19*CM58)+(CN$19*CN58)+(CO$19*CO58)+(CP$19*CP58)+(CQ$19*CQ58)+(CR$19*CR58)+(CS$19*CS58)+(CT$19*CT58)+(CU$19*CU58)+(CV$19*CV58)+(CW$19*CW58)+(CX$19*CX58)+(CY$19*CY58)+(CZ$19*CZ58)+(DA$19*DA58)+(DB$19*DB58)+(DC$19*DC58)+(DD$19*DD58)+(DE$19*DE58)+(DF$19*DF58)+(DG$19*DG58))","v":""},null,null,null,null,null,null,null,null,null,null,null,null,null,null,null,null,null,null,null,null,null,null,null,null,null,null,{"$f":"IF(OR('Set UP'!$C44=0,'Set UP'!$D44=0,'Set UP'!$E44=0),\"\",(DJ$19*DJ58)+(DK$19*DK58)+(DL$19*DL58)+(DM$19*DM58)+(DN$19*DN58)+(DO$19*DO58)+(DP$19*DP58)+(DQ$19*DQ58)+(DR$19*DR58)+(DS$19*DS58)+(DT$19*DT58)+(DU$19*DU58)+(DV$19*DV58)+(DW$19*DW58)+(DX$19*DX58)+(DY$19*DY58)+(DZ$19*DZ58)+(EA$19*EA58)+(EB$19*EB58)+(EC$19*EC58)+(ED$19*ED58)+(EE$19*EE58)+(EF$19*EF58)+(EG$19*EG58)+(EH$19*EH58))","v":""},null,null,null,null,null,null,null,null,null,null,null,null,null,null,null,null,null,null,null,null,null,null,null,null,null,null,{"$f":"IF(OR('Set UP'!$C44=0,'Set UP'!$D44=0,'Set UP'!$E44=0),\"\",(EK$19*EK58)+(EL$19*EL58)+(EM$19*EM58)+(EN$19*EN58)+(EO$19*EO58)+(EP$19*EP58)+(EQ$19*EQ58)+(ER$19*ER58)+(ES$19*ES58)+(ET$19*ET58)+(EU$19*EU58)+(EV$19*EV58)+(EW$19*EW58)+(EX$19*EX58)+(EY$19*EY58)+(EZ$19*EZ58)+(FA$19*FA58)+(FB$19*FB58)+(FC$19*FC58)+(FD$19*FD58)+(FE$19*FE58)+(FF$19*FF58)+(FG$19*FG58)+(FH$19*FH58)+(FI$19*FI58))","v":""},null,null,null,null,null,null,null,null,null,null,null,null,null,null,null,null,null,null,null,null,null,null,null,null,null,null,{"$f":"IF(OR('Set UP'!$C44=0,'Set UP'!$D44=0,'Set UP'!$E44=0),\"\",(FL$19*FL58)+(FM$19*FM58)+(FN$19*FN58)+(FO$19*FO58)+(FP$19*FP58)+(FQ$19*FQ58)+(FR$19*FR58)+(FS$19*FS58)+(FT$19*FT58)+(FU$19*FU58)+(FV$19*FV58)+(FW$19*FW58)+(FX$19*FX58)+(FY$19*FY58)+(FZ$19*FZ58)+(GA$19*GA58)+(GB$19*GB58)+(GC$19*GC58)+(GD$19*GD58)+(GE$19*GE58)+(GF$19*GF58)+(GG$19*GG58)+(GH$19*GH58)+(GI$19*GI58)+(GJ$19*GJ58))","v":""},null,null,null,null,null,null,null,null,null,null,null,null,null,null,null,null,null,null,null,null,null,null,null,null,null,null,{"$f":"IF(OR('Set UP'!$C44=0,'Set UP'!$D44=0,'Set UP'!$E44=0),\"\",(GM$19*GM58)+(GN$19*GN58)+(GO$19*GO58)+(GP$19*GP58)+(GQ$19*GQ58)+(GR$19*GR58)+(GS$19*GS58)+(GT$19*GT58)+(GU$19*GU58)+(GV$19*GV58)+(GW$19*GW58)+(GX$19*GX58)+(GY$19*GY58)+(GZ$19*GZ58)+(HA$19*HA58)+(HB$19*HB58)+(HC$19*HC58)+(HD$19*HD58)+(HE$19*HE58)+(HF$19*HF58)+(HG$19*HG58)+(HH$19*HH58)+(HI$19*HI58)+(HJ$19*HJ58)+(HK$19*HK58))","v":""},null,null,null,null,null,null,null,null,null,null,null,null,null,null,null,null,null,null,null,null,null,null,null,null,null,null,{"$f":"IF(OR('Set UP'!$C44=0,'Set UP'!$D44=0,'Set UP'!$E44=0),\"\",(HN$19*HN58)+(HO$19*HO58)+(HP$19*HP58)+(HQ$19*HQ58)+(HR$19*HR58)+(HS$19*HS58)+(HT$19*HT58)+(HU$19*HU58)+(HV$19*HV58)+(HW$19*HW58)+(HX$19*HX58)+(HY$19*HY58)+(HZ$19*HZ58)+(IA$19*IA58)+(IB$19*IB58)+(IC$19*IC58)+(ID$19*ID58)+(IE$19*IE58)+(IF$19*IF58)+(IG$19*IG58)+(IH$19*IH58)+(II$19*II58)+(IJ$19*IJ58)+(IK$19*IK58)+(IL$19*IL58))","v":""},null,null,null,null,null,null,null,null,null,null,null,null,null,null,null,null,null,null,null,null,null,null,null,null,null,null,{"$f":"IF(OR('Set UP'!$C44=0,'Set UP'!$D44=0,'Set UP'!$E44=0),\"\",(IO$19*IO58)+(IP$19*IP58)+(IQ$19*IQ58)+(IR$19*IR58)+(IS$19*IS58)+(IT$19*IT58)+(IU$19*IU58)+(IV$19*IV58)+(IW$19*IW58)+(IX$19*IX58)+(IY$19*IY58)+(IZ$19*IZ58)+(JA$19*JA58)+(JB$19*JB58)+(JC$19*JC58)+(JD$19*JD58)+(JE$19*JE58)+(JF$19*JF58)+(JG$19*JG58)+(JH$19*JH58)+(JI$19*JI58)+(JJ$19*JJ58)+(JK$19*JK58)+(JL$19*JL58)+(JM$19*JM58))","v":""},{"$f":"IF(OR('Set UP'!$C44=0,'Set UP'!$D44=0,'Set UP'!$E44=0),\"\",(AF58+BG58+CH58+DI58+EJ58+FK58+GL58+HM58+JO58+IN58))","v":""},{"$f":"IF(OR('Set UP'!$C44=0,'Set UP'!$D44=0,'Set UP'!$E44=0),\"\",RANK(JP58,$JP$21:$JP$60,0))","v":""},{"$f":"IF(OR('Set UP'!K44<>1,'Set UP'!C44=0,'Set UP'!D44=0,'Set UP'!E44=0,'Set UP'!F44=0),\"\",$JP58)","v":""},{"$f":"IF(OR('Set UP'!K44<>1,'Set UP'!C44=0,'Set UP'!D44=0,'Set UP'!E44=0,'Set UP'!F44=0),\"\",RANK(JR58,$JR$21:$JR$60,0))","v":""},{"$f":"IF(OR('Set UP'!K44<>2,'Set UP'!C44=0,'Set UP'!D44=0,'Set UP'!E44=0,'Set UP'!F44=0),\"\",$JP58)","v":""},{"$f":"IF(OR('Set UP'!K44<>2,'Set UP'!C44=0,'Set UP'!D44=0,'Set UP'!E44=0,'Set UP'!F44=0),\"\",RANK(JT58,$JT$21:$JT$60,0))","v":""},{"$f":"IF(OR('Set UP'!F44<>\"F\",'Set UP'!C44=0,'Set UP'!D44=0,'Set UP'!E44=0),\"\",$JP58)","v":""},{"$f":"IF(OR('Set UP'!F44<>\"F\",'Set UP'!C44=0,'Set UP'!D44=0,'Set UP'!E44=0),\"\",RANK(JV58,$JV$21:$JV$60,0))","v":""},{"$f":"IF(OR('Set UP'!F44<>\"NS\",'Set UP'!C44=0,'Set UP'!D44=0,'Set UP'!E44=0),\"\",$JP58)","v":""},{"$f":"IF(OR('Set UP'!F44<>\"NS\",'Set UP'!C44=0,'Set UP'!D44=0,'Set UP'!E44=0),\"\",RANK(JX58,$JX$21:$JX$60,0))","v":""},{"$f":"IF(OR('Set UP'!$C44=0,'Set UP'!$D44=0,'Set UP'!$E44=0,JP58=0),\"\",JP58/MAX(JP$21:JP$60)*1000)","v":""}]
[null,39,{"$f":"IF(OR('Set UP'!$C45=0,'Set UP'!$D45=0,'Set UP'!$E45=0,'Set UP'!F45=0),\"  --\",'Set UP'!C45)","v":"  --"},{"$f":"IF(OR('Set UP'!$C45=0,'Set UP'!$D45=0,'Set UP'!$E45=0,'Set UP'!F45=0),\"  --\",'Set UP'!D45&\" \"&'Set UP'!E45)","v":"  --"},{"$f":"IF(OR('Set UP'!$C45=0,'Set UP'!$D45=0,'Set UP'!$E45=0,'Set UP'!F45=0),\"  --\",'Set UP'!F45)","v":"  --"},null,null,null,null,null,null,null,null,null,null,null,null,null,null,null,null,null,null,null,null,null,null,null,null,null,null,{"$f":"IF(OR('Set UP'!$C45=0,'Set UP'!$D45=0,'Set UP'!$E45=0),\"\",(F$19*F59)+(G$19*G59)+(H$19*H59)+(I$19*I59)+(J$19*J59)+(K$19*K59)+(L$19*L59)+(M$19*M59)+(N$19*N59)+(O$19*O59)+(P$19*P59)+(Q$19*Q59)+(R$19*R59)+(S$19*S59)+(T$19*T59)+(U$19*U59)+(V$19*V59)+(W$19*W59)+(X$19*X59)+(Y$19*Y59)+(Z$19*Z59)+(AA$19*AA59)+(AB$19*AB59)+(AC$19*AC59)+(AD$19*AD59))","v":""},null,null,null,null,null,null,null,null,null,null,null,null,null,null,null,null,null,null,null,null,null,null,null,null,null,null,{"$f":"IF(OR('Set UP'!$C45=0,'Set UP'!$D45=0,'Set UP'!$E45=0),\"\",(AG$19*AG59)+(AH$19*AH59)+(AI$19*AI59)+(AJ$19*AJ59)+(AK$19*AK59)+(AL$19*AL59)+(AM$19*AM59)+(AN$19*AN59)+(AO$19*AO59)+(AP$19*AP59)+(AQ$19*AQ59)+(AR$19*AR59)+(AS$19*AS59)+(AT$19*AT59)+(AU$19*AU59)+(AV$19*AV59)+(AW$19*AW59)+(AX$19*AX59)+(AY$19*AY59)+(AZ$19*AZ59)+(BA$19*BA59)+(BB$19*BB59)+(BC$19*BC59)+(BD$19*BD59)+(BE$19*BE59))","v":""},null,null,null,null,null,null,null,null,null,null,null,null,null,null,null,null,null,null,null,null,null,null,null,null,null,null,{"$f":"IF(OR('Set UP'!$C45=0,'Set UP'!$D45=0,'Set UP'!$E45=0),\"\",(BH$19*BH59)+(BI$19*BI59)+(BJ$19*BJ59)+(BK$19*BK59)+(BL$19*BL59)+(BM$19*BM59)+(BN$19*BN59)+(BO$19*BO59)+(BP$19*BP59)+(BQ$19*BQ59)+(BR$19*BR59)+(BS$19*BS59)+(BT$19*BT59)+(BU$19*BU59)+(BV$19*BV59)+(BW$19*BW59)+(BX$19*BX59)+(BY$19*BY59)+(BZ$19*BZ59)+(CA$19*CA59)+(CB$19*CB59)+(CC$19*CC59)+(CD$19*CD59)+(CE$19*CE59)+(CF$19*CF59))","v":""},null,null,null,null,null,null,null,null,null,null,null,null,null,null,null,null,null,null,null,null,null,null,null,null,null,null,{"$f":"IF(OR('Set UP'!$C45=0,'Set UP'!$D45=0,'Set UP'!$E45=0),\"\",(CI$19*CI59)+(CJ$19*CJ59)+(CK$19*CK59)+(CL$19*CL59)+(CM$19*CM59)+(CN$19*CN59)+(CO$19*CO59)+(CP$19*CP59)+(CQ$19*CQ59)+(CR$19*CR59)+(CS$19*CS59)+(CT$19*CT59)+(CU$19*CU59)+(CV$19*CV59)+(CW$19*CW59)+(CX$19*CX59)+(CY$19*CY59)+(CZ$19*CZ59)+(DA$19*DA59)+(DB$19*DB59)+(DC$19*DC59)+(DD$19*DD59)+(DE$19*DE59)+(DF$19*DF59)+(DG$19*DG59))","v":""},null,null,null,null,null,null,null,null,null,null,null,null,null,null,null,null,null,null,null,null,null,null,null,null,null,null,{"$f":"IF(OR('Set UP'!$C45=0,'Set UP'!$D45=0,'Set UP'!$E45=0),\"\",(DJ$19*DJ59)+(DK$19*DK59)+(DL$19*DL59)+(DM$19*DM59)+(DN$19*DN59)+(DO$19*DO59)+(DP$19*DP59)+(DQ$19*DQ59)+(DR$19*DR59)+(DS$19*DS59)+(DT$19*DT59)+(DU$19*DU59)+(DV$19*DV59)+(DW$19*DW59)+(DX$19*DX59)+(DY$19*DY59)+(DZ$19*DZ59)+(EA$19*EA59)+(EB$19*EB59)+(EC$19*EC59)+(ED$19*ED59)+(EE$19*EE59)+(EF$19*EF59)+(EG$19*EG59)+(EH$19*EH59))","v":""},null,null,null,null,null,null,null,null,null,null,null,null,null,null,null,null,null,null,null,null,null,null,null,null,null,null,{"$f":"IF(OR('Set UP'!$C45=0,'Set UP'!$D45=0,'Set UP'!$E45=0),\"\",(EK$19*EK59)+(EL$19*EL59)+(EM$19*EM59)+(EN$19*EN59)+(EO$19*EO59)+(EP$19*EP59)+(EQ$19*EQ59)+(ER$19*ER59)+(ES$19*ES59)+(ET$19*ET59)+(EU$19*EU59)+(EV$19*EV59)+(EW$19*EW59)+(EX$19*EX59)+(EY$19*EY59)+(EZ$19*EZ59)+(FA$19*FA59)+(FB$19*FB59)+(FC$19*FC59)+(FD$19*FD59)+(FE$19*FE59)+(FF$19*FF59)+(FG$19*FG59)+(FH$19*FH59)+(FI$19*FI59))","v":""},null,null,null,null,null,null,null,null,null,null,null,null,null,null,null,null,null,null,null,null,null,null,null,null,null,null,{"$f":"IF(OR('Set UP'!$C45=0,'Set UP'!$D45=0,'Set UP'!$E45=0),\"\",(FL$19*FL59)+(FM$19*FM59)+(FN$19*FN59)+(FO$19*FO59)+(FP$19*FP59)+(FQ$19*FQ59)+(FR$19*FR59)+(FS$19*FS59)+(FT$19*FT59)+(FU$19*FU59)+(FV$19*FV59)+(FW$19*FW59)+(FX$19*FX59)+(FY$19*FY59)+(FZ$19*FZ59)+(GA$19*GA59)+(GB$19*GB59)+(GC$19*GC59)+(GD$19*GD59)+(GE$19*GE59)+(GF$19*GF59)+(GG$19*GG59)+(GH$19*GH59)+(GI$19*GI59)+(GJ$19*GJ59))","v":""},null,null,null,null,null,null,null,null,null,null,null,null,null,null,null,null,null,null,null,null,null,null,null,null,null,null,{"$f":"IF(OR('Set UP'!$C45=0,'Set UP'!$D45=0,'Set UP'!$E45=0),\"\",(GM$19*GM59)+(GN$19*GN59)+(GO$19*GO59)+(GP$19*GP59)+(GQ$19*GQ59)+(GR$19*GR59)+(GS$19*GS59)+(GT$19*GT59)+(GU$19*GU59)+(GV$19*GV59)+(GW$19*GW59)+(GX$19*GX59)+(GY$19*GY59)+(GZ$19*GZ59)+(HA$19*HA59)+(HB$19*HB59)+(HC$19*HC59)+(HD$19*HD59)+(HE$19*HE59)+(HF$19*HF59)+(HG$19*HG59)+(HH$19*HH59)+(HI$19*HI59)+(HJ$19*HJ59)+(HK$19*HK59))","v":""},null,null,null,null,null,null,null,null,null,null,null,null,null,null,null,null,null,null,null,null,null,null,null,null,null,null,{"$f":"IF(OR('Set UP'!$C45=0,'Set UP'!$D45=0,'Set UP'!$E45=0),\"\",(HN$19*HN59)+(HO$19*HO59)+(HP$19*HP59)+(HQ$19*HQ59)+(HR$19*HR59)+(HS$19*HS59)+(HT$19*HT59)+(HU$19*HU59)+(HV$19*HV59)+(HW$19*HW59)+(HX$19*HX59)+(HY$19*HY59)+(HZ$19*HZ59)+(IA$19*IA59)+(IB$19*IB59)+(IC$19*IC59)+(ID$19*ID59)+(IE$19*IE59)+(IF$19*IF59)+(IG$19*IG59)+(IH$19*IH59)+(II$19*II59)+(IJ$19*IJ59)+(IK$19*IK59)+(IL$19*IL59))","v":""},null,null,null,null,null,null,null,null,null,null,null,null,null,null,null,null,null,null,null,null,null,null,null,null,null,null,{"$f":"IF(OR('Set UP'!$C45=0,'Set UP'!$D45=0,'Set UP'!$E45=0),\"\",(IO$19*IO59)+(IP$19*IP59)+(IQ$19*IQ59)+(IR$19*IR59)+(IS$19*IS59)+(IT$19*IT59)+(IU$19*IU59)+(IV$19*IV59)+(IW$19*IW59)+(IX$19*IX59)+(IY$19*IY59)+(IZ$19*IZ59)+(JA$19*JA59)+(JB$19*JB59)+(JC$19*JC59)+(JD$19*JD59)+(JE$19*JE59)+(JF$19*JF59)+(JG$19*JG59)+(JH$19*JH59)+(JI$19*JI59)+(JJ$19*JJ59)+(JK$19*JK59)+(JL$19*JL59)+(JM$19*JM59))","v":""},{"$f":"IF(OR('Set UP'!$C45=0,'Set UP'!$D45=0,'Set UP'!$E45=0),\"\",(AF59+BG59+CH59+DI59+EJ59+FK59+GL59+HM59+JO59+IN59))","v":""},{"$f":"IF(OR('Set UP'!$C45=0,'Set UP'!$D45=0,'Set UP'!$E45=0),\"\",RANK(JP59,$JP$21:$JP$60,0))","v":""},{"$f":"IF(OR('Set UP'!K45<>1,'Set UP'!C45=0,'Set UP'!D45=0,'Set UP'!E45=0,'Set UP'!F45=0),\"\",$JP59)","v":""},{"$f":"IF(OR('Set UP'!K45<>1,'Set UP'!C45=0,'Set UP'!D45=0,'Set UP'!E45=0,'Set UP'!F45=0),\"\",RANK(JR59,$JR$21:$JR$60,0))","v":""},{"$f":"IF(OR('Set UP'!K45<>2,'Set UP'!C45=0,'Set UP'!D45=0,'Set UP'!E45=0,'Set UP'!F45=0),\"\",$JP59)","v":""},{"$f":"IF(OR('Set UP'!K45<>2,'Set UP'!C45=0,'Set UP'!D45=0,'Set UP'!E45=0,'Set UP'!F45=0),\"\",RANK(JT59,$JT$21:$JT$60,0))","v":""},{"$f":"IF(OR('Set UP'!F45<>\"F\",'Set UP'!C45=0,'Set UP'!D45=0,'Set UP'!E45=0),\"\",$JP59)","v":""},{"$f":"IF(OR('Set UP'!F45<>\"F\",'Set UP'!C45=0,'Set UP'!D45=0,'Set UP'!E45=0),\"\",RANK(JV59,$JV$21:$JV$60,0))","v":""},{"$f":"IF(OR('Set UP'!F45<>\"NS\",'Set UP'!C45=0,'Set UP'!D45=0,'Set UP'!E45=0),\"\",$JP59)","v":""},{"$f":"IF(OR('Set UP'!F45<>\"NS\",'Set UP'!C45=0,'Set UP'!D45=0,'Set UP'!E45=0),\"\",RANK(JX59,$JX$21:$JX$60,0))","v":""},{"$f":"IF(OR('Set UP'!$C45=0,'Set UP'!$D45=0,'Set UP'!$E45=0,JP59=0),\"\",JP59/MAX(JP$21:JP$60)*1000)","v":""}]
[null,40,{"$f":"IF(OR('Set UP'!$C46=0,'Set UP'!$D46=0,'Set UP'!$E46=0,'Set UP'!F46=0),\"  --\",'Set UP'!C46)","v":"  --"},{"$f":"IF(OR('Set UP'!$C46=0,'Set UP'!$D46=0,'Set UP'!$E46=0,'Set UP'!F46=0),\"  --\",'Set UP'!D46&\" \"&'Set UP'!E46)","v":"  --"},{"$f":"IF(OR('Set UP'!$C46=0,'Set UP'!$D46=0,'Set UP'!$E46=0,'Set UP'!F46=0),\"  --\",'Set UP'!F46)","v":"  --"},null,null,null,null,null,null,null,null,null,null,null,null,null,null,null,null,null,null,null,null,null,null,null,null,null,null,{"$f":"IF(OR('Set UP'!$C46=0,'Set UP'!$D46=0,'Set UP'!$E46=0),\"\",(F$19*F60)+(G$19*G60)+(H$19*H60)+(I$19*I60)+(J$19*J60)+(K$19*K60)+(L$19*L60)+(M$19*M60)+(N$19*N60)+(O$19*O60)+(P$19*P60)+(Q$19*Q60)+(R$19*R60)+(S$19*S60)+(T$19*T60)+(U$19*U60)+(V$19*V60)+(W$19*W60)+(X$19*X60)+(Y$19*Y60)+(Z$19*Z60)+(AA$19*AA60)+(AB$19*AB60)+(AC$19*AC60)+(AD$19*AD60))","v":""},null,null,null,null,null,null,null,null,null,null,null,null,null,null,null,null,null,null,null,null,null,null,null,null,null,null,{"$f":"IF(OR('Set UP'!$C46=0,'Set UP'!$D46=0,'Set UP'!$E46=0),\"\",(AG$19*AG60)+(AH$19*AH60)+(AI$19*AI60)+(AJ$19*AJ60)+(AK$19*AK60)+(AL$19*AL60)+(AM$19*AM60)+(AN$19*AN60)+(AO$19*AO60)+(AP$19*AP60)+(AQ$19*AQ60)+(AR$19*AR60)+(AS$19*AS60)+(AT$19*AT60)+(AU$19*AU60)+(AV$19*AV60)+(AW$19*AW60)+(AX$19*AX60)+(AY$19*AY60)+(AZ$19*AZ60)+(BA$19*BA60)+(BB$19*BB60)+(BC$19*BC60)+(BD$19*BD60)+(BE$19*BE60))","v":""},null,null,null,null,null,null,null,null,null,null,null,null,null,null,null,null,null,null,null,null,null,null,null,null,null,null,{"$f":"IF(OR('Set UP'!$C46=0,'Set UP'!$D46=0,'Set UP'!$E46=0),\"\",(BH$19*BH60)+(BI$19*BI60)+(BJ$19*BJ60)+(BK$19*BK60)+(BL$19*BL60)+(BM$19*BM60)+(BN$19*BN60)+(BO$19*BO60)+(BP$19*BP60)+(BQ$19*BQ60)+(BR$19*BR60)+(BS$19*BS60)+(BT$19*BT60)+(BU$19*BU60)+(BV$19*BV60)+(BW$19*BW60)+(BX$19*BX60)+(BY$19*BY60)+(BZ$19*BZ60)+(CA$19*CA60)+(CB$19*CB60)+(CC$19*CC60)+(CD$19*CD60)+(CE$19*CE60)+(CF$19*CF60))","v":""},null,null,null,null,null,null,null,null,null,null,null,null,null,null,null,null,null,null,null,null,null,null,null,null,null,null,{"$f":"IF(OR('Set UP'!$C46=0,'Set UP'!$D46=0,'Set UP'!$E46=0),\"\",(CI$19*CI60)+(CJ$19*CJ60)+(CK$19*CK60)+(CL$19*CL60)+(CM$19*CM60)+(CN$19*CN60)+(CO$19*CO60)+(CP$19*CP60)+(CQ$19*CQ60)+(CR$19*CR60)+(CS$19*CS60)+(CT$19*CT60)+(CU$19*CU60)+(CV$19*CV60)+(CW$19*CW60)+(CX$19*CX60)+(CY$19*CY60)+(CZ$19*CZ60)+(DA$19*DA60)+(DB$19*DB60)+(DC$19*DC60)+(DD$19*DD60)+(DE$19*DE60)+(DF$19*DF60)+(DG$19*DG60))","v":""},null,null,null,null,null,null,null,null,null,null,null,null,null,null,null,null,null,null,null,null,null,null,null,null,null,null,{"$f":"IF(OR('Set UP'!$C46=0,'Set UP'!$D46=0,'Set UP'!$E46=0),\"\",(DJ$19*DJ60)+(DK$19*DK60)+(DL$19*DL60)+(DM$19*DM60)+(DN$19*DN60)+(DO$19*DO60)+(DP$19*DP60)+(DQ$19*DQ60)+(DR$19*DR60)+(DS$19*DS60)+(DT$19*DT60)+(DU$19*DU60)+(DV$19*DV60)+(DW$19*DW60)+(DX$19*DX60)+(DY$19*DY60)+(DZ$19*DZ60)+(EA$19*EA60)+(EB$19*EB60)+(EC$19*EC60)+(ED$19*ED60)+(EE$19*EE60)+(EF$19*EF60)+(EG$19*EG60)+(EH$19*EH60))","v":""},null,null,null,null,null,null,null,null,null,null,null,null,null,null,null,null,null,null,null,null,null,null,null,null,null,null,{"$f":"IF(OR('Set UP'!$C46=0,'Set UP'!$D46=0,'Set UP'!$E46=0),\"\",(EK$19*EK60)+(EL$19*EL60)+(EM$19*EM60)+(EN$19*EN60)+(EO$19*EO60)+(EP$19*EP60)+(EQ$19*EQ60)+(ER$19*ER60)+(ES$19*ES60)+(ET$19*ET60)+(EU$19*EU60)+(EV$19*EV60)+(EW$19*EW60)+(EX$19*EX60)+(EY$19*EY60)+(EZ$19*EZ60)+(FA$19*FA60)+(FB$19*FB60)+(FC$19*FC60)+(FD$19*FD60)+(FE$19*FE60)+(FF$19*FF60)+(FG$19*FG60)+(FH$19*FH60)+(FI$19*FI60))","v":""},null,null,null,null,null,null,null,null,null,null,null,null,null,null,null,null,null,null,null,null,null,null,null,null,null,null,{"$f":"IF(OR('Set UP'!$C46=0,'Set UP'!$D46=0,'Set UP'!$E46=0),\"\",(FL$19*FL60)+(FM$19*FM60)+(FN$19*FN60)+(FO$19*FO60)+(FP$19*FP60)+(FQ$19*FQ60)+(FR$19*FR60)+(FS$19*FS60)+(FT$19*FT60)+(FU$19*FU60)+(FV$19*FV60)+(FW$19*FW60)+(FX$19*FX60)+(FY$19*FY60)+(FZ$19*FZ60)+(GA$19*GA60)+(GB$19*GB60)+(GC$19*GC60)+(GD$19*GD60)+(GE$19*GE60)+(GF$19*GF60)+(GG$19*GG60)+(GH$19*GH60)+(GI$19*GI60)+(GJ$19*GJ60))","v":""},null,null,null,null,null,null,null,null,null,null,null,null,null,null,null,null,null,null,null,null,null,null,null,null,null,null,{"$f":"IF(OR('Set UP'!$C46=0,'Set UP'!$D46=0,'Set UP'!$E46=0),\"\",(GM$19*GM60)+(GN$19*GN60)+(GO$19*GO60)+(GP$19*GP60)+(GQ$19*GQ60)+(GR$19*GR60)+(GS$19*GS60)+(GT$19*GT60)+(GU$19*GU60)+(GV$19*GV60)+(GW$19*GW60)+(GX$19*GX60)+(GY$19*GY60)+(GZ$19*GZ60)+(HA$19*HA60)+(HB$19*HB60)+(HC$19*HC60)+(HD$19*HD60)+(HE$19*HE60)+(HF$19*HF60)+(HG$19*HG60)+(HH$19*HH60)+(HI$19*HI60)+(HJ$19*HJ60)+(HK$19*HK60))","v":""},null,null,null,null,null,null,null,null,null,null,null,null,null,null,null,null,null,null,null,null,null,null,null,null,null,null,{"$f":"IF(OR('Set UP'!$C46=0,'Set UP'!$D46=0,'Set UP'!$E46=0),\"\",(HN$19*HN60)+(HO$19*HO60)+(HP$19*HP60)+(HQ$19*HQ60)+(HR$19*HR60)+(HS$19*HS60)+(HT$19*HT60)+(HU$19*HU60)+(HV$19*HV60)+(HW$19*HW60)+(HX$19*HX60)+(HY$19*HY60)+(HZ$19*HZ60)+(IA$19*IA60)+(IB$19*IB60)+(IC$19*IC60)+(ID$19*ID60)+(IE$19*IE60)+(IF$19*IF60)+(IG$19*IG60)+(IH$19*IH60)+(II$19*II60)+(IJ$19*IJ60)+(IK$19*IK60)+(IL$19*IL60))","v":""},null,null,null,null,null,null,null,null,null,null,null,null,null,null,null,null,null,null,null,null,null,null,null,null,null,null,{"$f":"IF(OR('Set UP'!$C46=0,'Set UP'!$D46=0,'Set UP'!$E46=0),\"\",(IO$19*IO60)+(IP$19*IP60)+(IQ$19*IQ60)+(IR$19*IR60)+(IS$19*IS60)+(IT$19*IT60)+(IU$19*IU60)+(IV$19*IV60)+(IW$19*IW60)+(IX$19*IX60)+(IY$19*IY60)+(IZ$19*IZ60)+(JA$19*JA60)+(JB$19*JB60)+(JC$19*JC60)+(JD$19*JD60)+(JE$19*JE60)+(JF$19*JF60)+(JG$19*JG60)+(JH$19*JH60)+(JI$19*JI60)+(JJ$19*JJ60)+(JK$19*JK60)+(JL$19*JL60)+(JM$19*JM60))","v":""},{"$f":"IF(OR('Set UP'!$C46=0,'Set UP'!$D46=0,'Set UP'!$E46=0),\"\",(AF60+BG60+CH60+DI60+EJ60+FK60+GL60+HM60+JO60+IN60))","v":""},{"$f":"IF(OR('Set UP'!$C46=0,'Set UP'!$D46=0,'Set UP'!$E46=0),\"\",RANK(JP60,$JP$21:$JP$60,0))","v":""},{"$f":"IF(OR('Set UP'!K46<>1,'Set UP'!C46=0,'Set UP'!D46=0,'Set UP'!E46=0,'Set UP'!F46=0),\"\",$JP60)","v":""},{"$f":"IF(OR('Set UP'!K46<>1,'Set UP'!C46=0,'Set UP'!D46=0,'Set UP'!E46=0,'Set UP'!F46=0),\"\",RANK(JR60,$JR$21:$JR$60,0))","v":""},{"$f":"IF(OR('Set UP'!K46<>2,'Set UP'!C46=0,'Set UP'!D46=0,'Set UP'!E46=0,'Set UP'!F46=0),\"\",$JP60)","v":""},{"$f":"IF(OR('Set UP'!K46<>2,'Set UP'!C46=0,'Set UP'!D46=0,'Set UP'!E46=0,'Set UP'!F46=0),\"\",RANK(JT60,$JT$21:$JT$60,0))","v":""},{"$f":"IF(OR('Set UP'!F46<>\"F\",'Set UP'!C46=0,'Set UP'!D46=0,'Set UP'!E46=0),\"\",$JP60)","v":""},{"$f":"IF(OR('Set UP'!F46<>\"F\",'Set UP'!C46=0,'Set UP'!D46=0,'Set UP'!E46=0),\"\",RANK(JV60,$JV$21:$JV$60,0))","v":""},{"$f":"IF(OR('Set UP'!F46<>\"NS\",'Set UP'!C46=0,'Set UP'!D46=0,'Set UP'!E46=0),\"\",$JP60)","v":""},{"$f":"IF(OR('Set UP'!F46<>\"NS\",'Set UP'!C46=0,'Set UP'!D46=0,'Set UP'!E46=0),\"\",RANK(JX60,$JX$21:$JX$60,0))","v":""},{"$f":"IF(OR('Set UP'!$C46=0,'Set UP'!$D46=0,'Set UP'!$E46=0,JP60=0),\"\",JP60/MAX(JP$21:JP$60)*1000)","v":""}]
[null,null,null,null,null,null,null,null,null,null,null,null,null,null,null,null,null,null,null,null,null,null,null,null,null,null,null,null,null,null,null,null,null,null,null,null,null,null,null,null,null,null,null,null,null,null,null,null,null,null,null,null,null,null,null,null,null,null,null,null,null,null,null,null,null,null,null,null,null,null,null,null,null,null,null,null,null,null,null,null,null,null,null,null,null,null,null,null,null,null,null,null,null,null,null,null,null,null,null,null,null,null,null,null,null,null,null,null,null,null,null,null,null,null,null,null,null,null,null,null,null,null,null,null,null,null,null,null,null,null,null,null,null,null,null,null,null,null,null,null,null,null,null,null,null,null,null,null,null,null,null,null,null,null,null,null,null,null,null,null,null,null,null,null,null,null,null,null,null,null,null,null,null,null,null,null,null,null,null,null,null,null,null,null,null,null,null,null,null,null,null,null,null,null,null,null,null,null,null,null,null,null,null,null,null,null,null,null,null,null,null,null,null,null,null,null,null,null,null,null,null,null,null,null,null,null,null,null,null,null,null,null,null,null,null,null,null,null,null,null,null,null,null,null,null,null,null,null,null,null,null,null,null,null,null,null,null,null,null,null,null,null,null,null,null,null,null,null,null,null,null,null,null,null,null,null,null,null,null,null,null,{"$f":"IF(OR('Set UP'!F47<>\"F\",'Set UP'!E47=0,'Set UP'!G47=0,'Set UP'!H47=0),\"\",$JP61)","v":""},{"$f":"IF(OR('Set UP'!F47<>2,'Set UP'!E47=0,'Set UP'!G47=0,'Set UP'!H47=0),\"\",RANK(JV61,$JV$21:$JV$60,0))","v":""},{"$f":"IF(OR('Set UP'!F47<>\"NS\",'Set UP'!C47=0,'Set UP'!D47=0,'Set UP'!E47=0),\"\",$JP61)","v":""},{"$f":"IF(OR('Set UP'!F47<>\"NS\",'Set UP'!C47=0,'Set UP'!D47=0,'Set UP'!E47=0),\"\",RANK(JX61,$JX$21:$JX$60,0))","v":""},{"$f":"IF(OR('Set UP'!$C47=0,'Set UP'!$D47=0,'Set UP'!$E47=0),\"\",JP61/MAX(JP$21:JP$60)*1000)","v":""}]

{"sheet":"RopeThrow","index":6,"n_rows":66,"n_cols":53,"rows_kept":66,"cut":false,"hidden":false,"merged":[[2,4,2,5],[3,4,3,5],[4,29,5,29],[4,31,5,31],[4,32,5,32],[4,14,5,14],[4,19,4,21],[4,23,5,23],[4,25,5,25],[4,27,5,27],[4,15,5,15],[4,16,5,16],[4,17,5,17],[4,18,5,18],[4,22,5,22],[4,24,5,24],[4,26,5,26],[4,1,5,1],[4,2,5,2],[4,3,5,3],[4,4,5,4],[4,5,4,7],[4,8,5,8],[4,9,5,9],[4,11,5,11],[3,39,3,41],[1,39,1,41],[31,39,31,42],[4,28,5,28],[40,39,40,42],[4,30,5,30],[13,39,13,42],[22,39,22,42],[0,42,4,42],[4,33,5,33],[4,34,5,34],[4,35,5,35],[4,36,5,36]]}
[null,null,null,null,null,null,null,null,null,null,null,null,null,null,null,null,null,null,null,null,null,null,null,null,null,null,null,null,null,null,null,null,null,null,null,null,null,null,null,null,null,null,"Score (Min+max div 2 for each postion. Find the median result"]
[null,null,null,null,null,null,null,null,null,null,null,null,null,null,null,null,null,null,null,null,null,null,null,null,null,null,null,null,null,null,null,null,null,null,null,null,null,null,null,"Calculation by posiotn",null,null,null,null,null,"Liofesavign point Calculation"]
[null,null,null,{"$f":"'Set UP'!Q9","v":"Rope Throw"},"Club to Highlight",null,null,null,null,null,null,null,null,null,null,null,null,null,null,null,null,null,null,null,null,null,null,null,null,null,null,null,null,null,null,null,null,null,null,null,null,null,null,null,null,"One teams value",{"$f":"1000/(AP11-AO11)","v":37.037037037037038},null,null,null,null,"Min time","Max Time"]
[null,null,null,null,null,null,null,null,null,null,null,null,null,null,null,null,null,null,null,null,null,null,null,null,null,null,null,null,null,null,null,null,null,null,null,null,null,null,null,"Table of  numbers that got in  Whole Comp",null,null,null,null,null,null,null,null,null,null,null,{"$f":"MIN(O$7:O$46)","v":112.6},{"$f":"MAX(O$7:O$46)","v":148.44}]
[null,null,"Web","Team","Class","Stopwatch Time",null,null,null,"Finish Status",null,"No. \nPenalties",null,null,"Competition\nScore Column","A League\nScore Column","B League\nScore Column","FRESHERS League\nScore Column","Non-StudentScore Column","Total Time",null,null,"Rank Those That finished","Position\n(Competition)","Rank those That finished A League","Position\n(A League)","Rank those That finished B League","Position\n(B League)","Rank those That finished Freshers League","Position\n(FRESHERS League)","Rank those That finished Non-Student League","Position\n(Non-Student)","Lifesaving Points\n(Comp)","Lifesaving Points\n(A)","Lifesaving Points\n(B)","Lifesaving Points\n(Freshers)","Lifesaving Points\n(Non-Student)",null,null,"In","Count","Cumlative TOTAL",null,null,null,"Number in","Size of Section","MidPoint of section","Point to be awared"]
[null,null,null,null,null,"mins","secs","1/100\nsec",null,null,null,null,null,null,null,null,null,null,null,"mins","secs","1/100 sec",null,null,null,null,null,null,null,null,null,null,null,null,null,null,null,null,null,4,{"$f":"COUNTIF(M$7:M$46,AN6)","v":3},{"$f":"AO6","v":3},null,null,null,"4 in bottom",{"$f":"AU3*(AP11-AP6-AO11)","v":888.88888888888891}]
[null,1,{"$f":"IF(OR('Set UP'!$C7=0,'Set UP'!$D7=0,'Set UP'!$E7=0,'Set UP'!F7=0),\"  --\",'Set UP'!C7)","v":1418},{"$f":"IF(OR('Set UP'!$C7=0,'Set UP'!$D7=0,'Set UP'!$E7=0,'Set UP'!F7=0),\"  --\",'Set UP'!D7&\" \"&'Set UP'!E7)","v":"Bradford On Avon Lifesaving Club  B"},{"$f":"IF(OR('Set UP'!$C7=0,'Set UP'!$D7=0,'Set UP'!$E7=0,'Set UP'!F7=0),\" --\",'Set UP'!F7)","v":"NS"},null,null,null,{"$f":"IF(AND(ISBLANK(F7),ISBLANK(G7),ISBLANK(H7)),\"\",(F7*60)+G7+(H7/100))","v":""},"DNF - 3 Persons In",{"$f":"IF(J7=\"Finished\",\"4\",IF(J7=\"DNF - 3 Persons In\",\"3\",IF(J7=\"DNF - 2 Persons In\",\"2\",IF(J7=\"DNF - 1 Persons In\",\"1\",IF(J7=\"DNF - 0 Persons In\",\"0\",IF(J7=\"Disqualified\",\"Disqualified\",\"\"))))))","v":"3"},1,{"$f":"IF(OR(K7=\"\",D7=\"  --\"),\"\",IF(K7=\"Disqualified\",\"Disqualified\",IF((K7-L7)<0,0,K7-L7)))","v":2},{"$f":"IF(M7=4,\"Finished\",IF(M7=3,\"DNF - 3 Persons In\",IF(M7=2,\"DNF - 2 Persons In\",IF(M7=1,\"DNF - 1 Persons In\",IF(M7<=0,\"DNF - 0 Persons In\",IF(M7=\"Disqualified\",\"Disqualified\",\"\"))))))","v":"DNF - 2 Persons In"},{"$f":"IF(OR(D7=\"  --\",N7<>\"Finished\"),\"\",I7)","v":""},{"$f":"IF('Set UP'!K7<>1,\"\",$O7)","v":""},{"$f":"IF('Set UP'!K7<>2,\"\",$O7)","v":""},{"$f":"IF('Set UP'!F7<>\"F\",\"\",$O7)","v":""},{"$f":"IF('Set UP'!F7<>\"NS\",\"\",$O7)","v":""},{"$f":"IF(D7=\"  --\",\"\",IF(N7=\"Disqualified\",\"DQ\",IF(OR(N7=\"DNF - 0 Persons In\",N7=\"DNF - 1 Persons In\",N7=\"DNF - 2 Persons In\",N7=\"DNF - 3 Persons In\"),\"DNF\",IF(N7=\"Finished\",INT(O7/60),\"\"))))","v":"DNF"},{"$f":"IF(D7=\"  --\",\"\",IF(ISNUMBER(O7),INT(O7-(T7*60)),IF(N7=\"DNF - 3 Persons In\",\"3 In\",IF(N7=\"DNF - 2 Persons In\",\"2 In\",IF(N7=\"DNF - 1 Persons In\",\"1 In\",IF(N7=\"DNF - 0 Persons In\",\"0 In\",\"\"))))))","v":"2 In"},{"$f":"IF(D7=\"  --\",\"\", IF(NOT(ISNUMBER(O7)),\"\",100*(O7-((T7*60)+U7))))","v":""},{"$f":"IF(O7=\"\",\"\",RANK(O7,O$7:O$47,1))","v":""},{"$f":"IF(OR(D7=\"  --\",M7=\"\"),\"\",IF(W7<>\"\",W7,VLOOKUP(M7,AN$6:AQ$11,4,0)))","v":15},{"$f":"IF(P7=\"\",\"\",RANK(P7,P$7:P$47,1))","v":""},{"$f":"IF(OR(D7=\"  --\",M7=\"\",'Set UP'!K7<>1),\"\",IF(Y7<>\"\",Y7,VLOOKUP(M7,AN$16:AQ$21,4,0)))","v":""},{"$f":"IF(Q7=\"\",\"\",RANK(Q7,Q$7:Q$47,1))","v":""},{"$f":"IF(OR(D7=\"  --\",M7=\"\",'Set UP'!K7<>2),\"\",IF(AA7<>\"\",AA7,VLOOKUP(M7,AN$25:AQ$30,4,0)))","v":""},{"$f":"IF(R7=\"\",\"\",RANK(R7,R$7:R$47,1))","v":""},{"$f":"IF(OR(D7=\"  --\",M7=\"\",'Set UP'!F7<>\"F\"),\"\",IF(AC7<>\"\",AC7,VLOOKUP(M7,AN$34:AQ$39,4,0)))","v":""},{"$f":"IF(S7=\"\",\"\",RANK(S7,S$7:S$47,1))","v":""},{"$f":"IF(OR(D7=\"  --\",M7=\"\",'Set UP'!F7<>\"NS\"),\"\",IF(AE7<>\"\",AE7,VLOOKUP(M7,AN$43:AQ$48,4,0)))","v":2},{"$f":"IF(OR(N7<>\"Finished\",X7=\"\"),IF(OR(M7=\"\",M7=\"Disqualified\"),\"\",VLOOKUP(M7,AN$7:AW$10,10,0)),IF(BA$4-AZ$4=0,1000,(1-((O7-AZ$4)/(BA$4-AZ$4)))*(1000-AU$6)+AU$6))","v":462.96296296296299},{"$f":"IF(OR(N7<>\"Finished\",Z7=\"\"),IF(OR(M7=\"\",M7=\"Disqualified\",Z7=\"\"),\"\",VLOOKUP(M7,AN$17:AW$20,10,0)),(1-((O7-AZ$14)/(BA$14-AZ$14)))*(1000-AU$16)+AU$16)","v":""},{"$f":"IF(OR(N7<>\"Finished\",AB7=\"\"),IF(OR(M7=\"\",M7=\"Disqualified\",AB7=\"\"),\"\",VLOOKUP(M7,AN$26:AW$29,10,0)),IF(BA$23-AZ$23=0,1000,(1-((O7-AZ$23)/(BA$23-AZ$23)))*(1000-AU$25)+AU$25))","v":""},{"$f":"IF(OR(N7<>\"Finished\",AD7=\"\"),IF(OR(M7=\"\",M7=\"Disqualified\",AD7=\"\"),\"\",VLOOKUP(M7,AN$35:AW$38,10,0)),IF(BA$32-AZ$32=0,1000,(1-((O7-AZ$32)/(BA$32-AZ$32)))*(1000-AU$34)+AU$34))","v":""},{"$f":"IF(OR(N7<>\"Finished\",AF7=\"\"),IF(OR(M7=\"\",M7=\"Disqualified\",AF7=\"\"),\"\",VLOOKUP(M7,AN$44:AW$47,10,0)),IF(BA$41-AZ$41=0,1000,(1-((O7-AZ$41)/(BA$41-AZ$41)))*(1000-AU$43)+AU$43))","v":700},null,null,3,7,{"$f":"AP6+AO7","v":10},{"$f":"((AP6+1)+AP7)/2","v":7},null,null,"3 in",{"$f":"(AO7*AU$3)","v":259.25925925925924},{"$f":"AU7/2","v":129.62962962962962},{"$f":"AU10+AU9+AU8+AV7","v":759.25925925925935}]
[null,2,{"$f":"IF(OR('Set UP'!$C8=0,'Set UP'!$D8=0,'Set UP'!$E8=0,'Set UP'!F8=0),\"  --\",'Set UP'!C8)","v":1419},{"$f":"IF(OR('Set UP'!$C8=0,'Set UP'!$D8=0,'Set UP'!$E8=0,'Set UP'!F8=0),\"  --\",'Set UP'!D8&\" \"&'Set UP'!E8)","v":"Bradford On Avon Lifesaving Club  A"},{"$f":"IF(OR('Set UP'!$C8=0,'Set UP'!$D8=0,'Set UP'!$E8=0,'Set UP'!F8=0),\" --\",'Set UP'!F8)","v":"NS"},null,null,null,"","DNF - 1 Persons In",{"$f":"IF(J8=\"Finished\",\"4\",IF(J8=\"DNF - 3 Persons In\",\"3\",IF(J8=\"DNF - 2 Persons In\",\"2\",IF(J8=\"DNF - 1 Persons In\",\"1\",IF(J8=\"DNF - 0 Persons In\",\"0\",IF(J8=\"Disqualified\",\"Disqualified\",\"\"))))))","v":"1"},null,1,{"$f":"IF(M8=4,\"Finished\",IF(M8=3,\"DNF - 3 Persons In\",IF(M8=2,\"DNF - 2 Persons In\",IF(M8=1,\"DNF - 1 Persons In\",IF(M8<=0,\"DNF - 0 Persons In\",IF(M8=\"Disqualified\",\"Disqualified\",\"\"))))))","v":"DNF - 1 Persons In"},{"$f":"IF(OR(D8=\"  --\",N8<>\"Finished\"),\"\",I8)","v":""},{"$f":"IF('Set UP'!K8<>1,\"\",$O8)","v":""},{"$f":"IF('Set UP'!K8<>2,\"\",$O8)","v":""},{"$f":"IF('Set UP'!F8<>\"F\",\"\",$O8)","v":""},{"$f":"IF('Set UP'!F8<>\"NS\",\"\",$O8)","v":""},{"$f":"IF(D8=\"  --\",\"\",IF(N8=\"Disqualified\",\"DQ\",IF(OR(N8=\"DNF - 0 Persons In\",N8=\"DNF - 1 Persons In\",N8=\"DNF - 2 Persons In\",N8=\"DNF - 3 Persons In\"),\"DNF\",IF(N8=\"Finished\",INT(O8/60),\"\"))))","v":"DNF"},"1 In","",{"$f":"IF(O8=\"\",\"\",RANK(O8,O$7:O$47,1))","v":""},23.5,{"$f":"IF(P8=\"\",\"\",RANK(P8,P$7:P$47,1))","v":""},{"$f":"IF(OR(D8=\"  --\",M8=\"\",'Set UP'!K8<>1),\"\",IF(Y8<>\"\",Y8,VLOOKUP(M8,AN$16:AQ$21,4,0)))","v":""},{"$f":"IF(Q8=\"\",\"\",RANK(Q8,Q$7:Q$47,1))","v":""},{"$f":"IF(OR(D8=\"  --\",M8=\"\",'Set UP'!K8<>2),\"\",IF(AA8<>\"\",AA8,VLOOKUP(M8,AN$25:AQ$30,4,0)))","v":""},{"$f":"IF(R8=\"\",\"\",RANK(R8,R$7:R$47,1))","v":""},{"$f":"IF(OR(D8=\"  --\",M8=\"\",'Set UP'!F8<>\"F\"),\"\",IF(AC8<>\"\",AC8,VLOOKUP(M8,AN$34:AQ$39,4,0)))","v":""},{"$f":"IF(S8=\"\",\"\",RANK(S8,S$7:S$47,1))","v":""},{"$f":"IF(OR(D8=\"  --\",M8=\"\",'Set UP'!F8<>\"NS\"),\"\",IF(AE8<>\"\",AE8,VLOOKUP(M8,AN$43:AQ$48,4,0)))","v":4},{"$f":"IF(OR(N8<>\"Finished\",X8=\"\"),IF(OR(M8=\"\",M8=\"Disqualified\"),\"\",VLOOKUP(M8,AN$7:AW$10,10,0)),IF(BA$4-AZ$4=0,1000,(1-((O8-AZ$4)/(BA$4-AZ$4)))*(1000-AU$6)+AU$6))","v":148.14814814814815},{"$f":"IF(OR(N8<>\"Finished\",Z8=\"\"),IF(OR(M8=\"\",M8=\"Disqualified\",Z8=\"\"),\"\",VLOOKUP(M8,AN$17:AW$20,10,0)),(1-((O8-AZ$14)/(BA$14-AZ$14)))*(1000-AU$16)+AU$16)","v":""},{"$f":"IF(OR(N8<>\"Finished\",AB8=\"\"),IF(OR(M8=\"\",M8=\"Disqualified\",AB8=\"\"),\"\",VLOOKUP(M8,AN$26:AW$29,10,0)),IF(BA$23-AZ$23=0,1000,(1-((O8-AZ$23)/(BA$23-AZ$23)))*(1000-AU$25)+AU$25))","v":""},{"$f":"IF(OR(N8<>\"Finished\",AD8=\"\"),IF(OR(M8=\"\",M8=\"Disqualified\",AD8=\"\"),\"\",VLOOKUP(M8,AN$35:AW$38,10,0)),IF(BA$32-AZ$32=0,1000,(1-((O8-AZ$32)/(BA$32-AZ$32)))*(1000-AU$34)+AU$34))","v":""},{"$f":"IF(OR(N8<>\"Finished\",AF8=\"\"),IF(OR(M8=\"\",M8=\"Disqualified\",AF8=\"\"),\"\",VLOOKUP(M8,AN$44:AW$47,10,0)),IF(BA$41-AZ$41=0,1000,(1-((O8-AZ$41)/(BA$41-AZ$41)))*(1000-AU$43)+AU$43))","v":300},null,null,2,9,{"$f":"AP7+AO8","v":19},{"$f":"((AP7+1)+AP8)/2","v":15},null,null,"2 in",{"$f":"(AO8*AU$3)","v":333.33333333333337},{"$f":"AU8/2","v":166.66666666666669},{"$f":"AU10+AU9+AV8","v":462.96296296296299}]
[null,3,{"$f":"IF(OR('Set UP'!$C9=0,'Set UP'!$D9=0,'Set UP'!$E9=0,'Set UP'!F9=0),\"  --\",'Set UP'!C9)","v":1417},{"$f":"IF(OR('Set UP'!$C9=0,'Set UP'!$D9=0,'Set UP'!$E9=0,'Set UP'!F9=0),\"  --\",'Set UP'!D9&\" \"&'Set UP'!E9)","v":"Bradford On Avon Lifesaving Club  C"},{"$f":"IF(OR('Set UP'!$C9=0,'Set UP'!$D9=0,'Set UP'!$E9=0,'Set UP'!F9=0),\" --\",'Set UP'!F9)","v":"NS"},null,null,null,"","DNF - 1 Persons In","1",null,1,"DNF - 1 Persons In","",{"$f":"IF('Set UP'!K9<>1,\"\",$O9)","v":""},{"$f":"IF('Set UP'!K9<>2,\"\",$O9)","v":""},{"$f":"IF('Set UP'!F9<>\"F\",\"\",$O9)","v":""},{"$f":"IF('Set UP'!F9<>\"NS\",\"\",$O9)","v":""},"DNF","1 In","","",23.5,"",{"$f":"IF(OR(D9=\"  --\",M9=\"\",'Set UP'!K9<>1),\"\",IF(Y9<>\"\",Y9,VLOOKUP(M9,AN$16:AQ$21,4,0)))","v":""},"",{"$f":"IF(OR(D9=\"  --\",M9=\"\",'Set UP'!K9<>2),\"\",IF(AA9<>\"\",AA9,VLOOKUP(M9,AN$25:AQ$30,4,0)))","v":""},"",{"$f":"IF(OR(D9=\"  --\",M9=\"\",'Set UP'!F9<>\"F\"),\"\",IF(AC9<>\"\",AC9,VLOOKUP(M9,AN$34:AQ$39,4,0)))","v":""},"",{"$f":"IF(OR(D9=\"  --\",M9=\"\",'Set UP'!F9<>\"NS\"),\"\",IF(AE9<>\"\",AE9,VLOOKUP(M9,AN$43:AQ$48,4,0)))","v":4},148.14814814814815,"","","",300,null,null,1,8,27,23.5,null,null,"1 in",{"$f":"(AO9*AU$3)","v":296.2962962962963},{"$f":"AU9/2","v":148.14814814814815},{"$f":"AU10+AV9","v":148.14814814814815}]
[null,4,{"$f":"IF(OR('Set UP'!$C10=0,'Set UP'!$D10=0,'Set UP'!$E10=0,'Set UP'!F10=0),\"  --\",'Set UP'!C10)","v":"  --"},{"$f":"IF(OR('Set UP'!$C10=0,'Set UP'!$D10=0,'Set UP'!$E10=0,'Set UP'!F10=0),\"  --\",'Set UP'!D10&\" \"&'Set UP'!E10)","v":"  --"},{"$f":"IF(OR('Set UP'!$C10=0,'Set UP'!$D10=0,'Set UP'!$E10=0,'Set UP'!F10=0),\" --\",'Set UP'!F10)","v":" --"},null,null,null,"",null,"",null,"","","",{"$f":"IF('Set UP'!K10<>1,\"\",$O10)","v":""},{"$f":"IF('Set UP'!K10<>2,\"\",$O10)","v":""},{"$f":"IF('Set UP'!F10<>\"F\",\"\",$O10)","v":""},{"$f":"IF('Set UP'!F10<>\"NS\",\"\",$O10)","v":""},"","","","","","",{"$f":"IF(OR(D10=\"  --\",M10=\"\",'Set UP'!K10<>1),\"\",IF(Y10<>\"\",Y10,VLOOKUP(M10,AN$16:AQ$21,4,0)))","v":""},"",{"$f":"IF(OR(D10=\"  --\",M10=\"\",'Set UP'!K10<>2),\"\",IF(AA10<>\"\",AA10,VLOOKUP(M10,AN$25:AQ$30,4,0)))","v":""},"",{"$f":"IF(OR(D10=\"  --\",M10=\"\",'Set UP'!F10<>\"F\"),\"\",IF(AC10<>\"\",AC10,VLOOKUP(M10,AN$34:AQ$39,4,0)))","v":""},"",{"$f":"IF(OR(D10=\"  --\",M10=\"\",'Set UP'!F10<>\"NS\"),\"\",IF(AE10<>\"\",AE10,VLOOKUP(M10,AN$43:AQ$48,4,0)))","v":""},"","","","","",null,null,0,0,27,27.5,null,null,"O in",{"$f":"(AO10*AU$3)","v":0},{"$f":"AU10/2","v":0},{"$f":"AV10","v":0}]
[null,5,{"$f":"IF(OR('Set UP'!$C11=0,'Set UP'!$D11=0,'Set UP'!$E11=0,'Set UP'!F11=0),\"  --\",'Set UP'!C11)","v":1424},{"$f":"IF(OR('Set UP'!$C11=0,'Set UP'!$D11=0,'Set UP'!$E11=0,'Set UP'!F11=0),\"  --\",'Set UP'!D11&\" \"&'Set UP'!E11)","v":"Keynsham B"},{"$f":"IF(OR('Set UP'!$C11=0,'Set UP'!$D11=0,'Set UP'!$E11=0,'Set UP'!F11=0),\" --\",'Set UP'!F11)","v":"NS"},1,52,19,112.19,"Finished","4",1,3,"DNF - 3 Persons In","",{"$f":"IF('Set UP'!K11<>1,\"\",$O11)","v":""},{"$f":"IF('Set UP'!K11<>2,\"\",$O11)","v":""},{"$f":"IF('Set UP'!F11<>\"F\",\"\",$O11)","v":""},{"$f":"IF('Set UP'!F11<>\"NS\",\"\",$O11)","v":""},"DNF","3 In","","",7,"",{"$f":"IF(OR(D11=\"  --\",M11=\"\",'Set UP'!K11<>1),\"\",IF(Y11<>\"\",Y11,VLOOKUP(M11,AN$16:AQ$21,4,0)))","v":""},"",{"$f":"IF(OR(D11=\"  --\",M11=\"\",'Set UP'!K11<>2),\"\",IF(AA11<>\"\",AA11,VLOOKUP(M11,AN$25:AQ$30,4,0)))","v":""},"",{"$f":"IF(OR(D11=\"  --\",M11=\"\",'Set UP'!F11<>\"F\"),\"\",IF(AC11<>\"\",AC11,VLOOKUP(M11,AN$34:AQ$39,4,0)))","v":""},"",{"$f":"IF(OR(D11=\"  --\",M11=\"\",'Set UP'!F11<>\"NS\"),\"\",IF(AE11<>\"\",AE11,VLOOKUP(M11,AN$43:AQ$48,4,0)))","v":1},759.25925925925935,"","","",900,null,null,"Disqualified",0,{"$f":"AP10+AO11","v":27},27.5]
[null,6,{"$f":"IF(OR('Set UP'!$C12=0,'Set UP'!$D12=0,'Set UP'!$E12=0,'Set UP'!F12=0),\"  --\",'Set UP'!C12)","v":1423},{"$f":"IF(OR('Set UP'!$C12=0,'Set UP'!$D12=0,'Set UP'!$E12=0,'Set UP'!F12=0),\"  --\",'Set UP'!D12&\" \"&'Set UP'!E12)","v":"Keynsham A"},{"$f":"IF(OR('Set UP'!$C12=0,'Set UP'!$D12=0,'Set UP'!$E12=0,'Set UP'!F12=0),\" --\",'Set UP'!F12)","v":"NS"},null,null,null,"","DNF - 1 Persons In","1",null,1,"DNF - 1 Persons In","",{"$f":"IF('Set UP'!K12<>1,\"\",$O12)","v":""},{"$f":"IF('Set UP'!K12<>2,\"\",$O12)","v":""},{"$f":"IF('Set UP'!F12<>\"F\",\"\",$O12)","v":""},{"$f":"IF('Set UP'!F12<>\"NS\",\"\",$O12)","v":""},"DNF","1 In","","",23.5,"",{"$f":"IF(OR(D12=\"  --\",M12=\"\",'Set UP'!K12<>1),\"\",IF(Y12<>\"\",Y12,VLOOKUP(M12,AN$16:AQ$21,4,0)))","v":""},"",{"$f":"IF(OR(D12=\"  --\",M12=\"\",'Set UP'!K12<>2),\"\",IF(AA12<>\"\",AA12,VLOOKUP(M12,AN$25:AQ$30,4,0)))","v":""},"",{"$f":"IF(OR(D12=\"  --\",M12=\"\",'Set UP'!F12<>\"F\"),\"\",IF(AC12<>\"\",AC12,VLOOKUP(M12,AN$34:AQ$39,4,0)))","v":""},"",{"$f":"IF(OR(D12=\"  --\",M12=\"\",'Set UP'!F12<>\"NS\"),\"\",IF(AE12<>\"\",AE12,VLOOKUP(M12,AN$43:AQ$48,4,0)))","v":4},148.14814814814815,"","","",300]
[null,7,{"$f":"IF(OR('Set UP'!$C13=0,'Set UP'!$D13=0,'Set UP'!$E13=0,'Set UP'!F13=0),\"  --\",'Set UP'!C13)","v":1433},{"$f":"IF(OR('Set UP'!$C13=0,'Set UP'!$D13=0,'Set UP'!$E13=0,'Set UP'!F13=0),\"  --\",'Set UP'!D13&\" \"&'Set UP'!E13)","v":"University of Nottingham B"},{"$f":"IF(OR('Set UP'!$C13=0,'Set UP'!$D13=0,'Set UP'!$E13=0,'Set UP'!F13=0),\" --\",'Set UP'!F13)","v":"S"},null,null,null,"","DNF - 2 Persons In","2",null,2,"DNF - 2 Persons In","",{"$f":"IF('Set UP'!K13<>1,\"\",$O13)","v":""},{"$f":"IF('Set UP'!K13<>2,\"\",$O13)","v":""},{"$f":"IF('Set UP'!F13<>\"F\",\"\",$O13)","v":""},{"$f":"IF('Set UP'!F13<>\"NS\",\"\",$O13)","v":""},"DNF","2 In","","",15,"",{"$f":"IF(OR(D13=\"  --\",M13=\"\",'Set UP'!K13<>1),\"\",IF(Y13<>\"\",Y13,VLOOKUP(M13,AN$16:AQ$21,4,0)))","v":""},"",{"$f":"IF(OR(D13=\"  --\",M13=\"\",'Set UP'!K13<>2),\"\",IF(AA13<>\"\",AA13,VLOOKUP(M13,AN$25:AQ$30,4,0)))","v":6.5},"",{"$f":"IF(OR(D13=\"  --\",M13=\"\",'Set UP'!F13<>\"F\"),\"\",IF(AC13<>\"\",AC13,VLOOKUP(M13,AN$34:AQ$39,4,0)))","v":""},"",{"$f":"IF(OR(D13=\"  --\",M13=\"\",'Set UP'!F13<>\"NS\"),\"\",IF(AE13<>\"\",AE13,VLOOKUP(M13,AN$43:AQ$48,4,0)))","v":""},462.96296296296299,"",454.54545454545456,"","",null,null,null,null,null,null,null,null,"One teams value",{"$f":"1000/(AP21-AO21)","v":111.11111111111111},null,null,null,null,"Min time","Max Time"]
[null,8,{"$f":"IF(OR('Set UP'!$C14=0,'Set UP'!$D14=0,'Set UP'!$E14=0,'Set UP'!F14=0),\"  --\",'Set UP'!C14)","v":1441},{"$f":"IF(OR('Set UP'!$C14=0,'Set UP'!$D14=0,'Set UP'!$E14=0,'Set UP'!F14=0),\"  --\",'Set UP'!D14&\" \"&'Set UP'!E14)","v":"University of Plymouth C"},{"$f":"IF(OR('Set UP'!$C14=0,'Set UP'!$D14=0,'Set UP'!$E14=0,'Set UP'!F14=0),\" --\",'Set UP'!F14)","v":"NC"},null,null,null,"","DNF - 1 Persons In","1",null,1,"DNF - 1 Persons In","",{"$f":"IF('Set UP'!K14<>1,\"\",$O14)","v":""},{"$f":"IF('Set UP'!K14<>2,\"\",$O14)","v":""},{"$f":"IF('Set UP'!F14<>\"F\",\"\",$O14)","v":""},{"$f":"IF('Set UP'!F14<>\"NS\",\"\",$O14)","v":""},"DNF","1 In","","",23.5,"",{"$f":"IF(OR(D14=\"  --\",M14=\"\",'Set UP'!K14<>1),\"\",IF(Y14<>\"\",Y14,VLOOKUP(M14,AN$16:AQ$21,4,0)))","v":""},"",{"$f":"IF(OR(D14=\"  --\",M14=\"\",'Set UP'!K14<>2),\"\",IF(AA14<>\"\",AA14,VLOOKUP(M14,AN$25:AQ$30,4,0)))","v":""},"",{"$f":"IF(OR(D14=\"  --\",M14=\"\",'Set UP'!F14<>\"F\"),\"\",IF(AC14<>\"\",AC14,VLOOKUP(M14,AN$34:AQ$39,4,0)))","v":""},"",{"$f":"IF(OR(D14=\"  --\",M14=\"\",'Set UP'!F14<>\"NS\"),\"\",IF(AE14<>\"\",AE14,VLOOKUP(M14,AN$43:AQ$48,4,0)))","v":""},148.14814814814815,"","","","",null,null,"Table of  numbers that got in  A League",null,null,null,null,null,null,null,null,null,null,null,{"$f":"MIN(IF(Z$7:Z$46<>\"\",O$7:O$46))","v":139.03},{"$f":"MAX(IF(Z$7:Z$46<>\"\",O$7:O$46))","v":148.44}]
[null,9,{"$f":"IF(OR('Set UP'!$C15=0,'Set UP'!$D15=0,'Set UP'!$E15=0,'Set UP'!F15=0),\"  --\",'Set UP'!C15)","v":1440},{"$f":"IF(OR('Set UP'!$C15=0,'Set UP'!$D15=0,'Set UP'!$E15=0,'Set UP'!F15=0),\"  --\",'Set UP'!D15&\" \"&'Set UP'!E15)","v":"University of Plymouth B"},{"$f":"IF(OR('Set UP'!$C15=0,'Set UP'!$D15=0,'Set UP'!$E15=0,'Set UP'!F15=0),\" --\",'Set UP'!F15)","v":"S"},null,null,null,"","DNF - 2 Persons In","2",null,2,"DNF - 2 Persons In","",{"$f":"IF('Set UP'!K15<>1,\"\",$O15)","v":""},{"$f":"IF('Set UP'!K15<>2,\"\",$O15)","v":""},{"$f":"IF('Set UP'!F15<>\"F\",\"\",$O15)","v":""},{"$f":"IF('Set UP'!F15<>\"NS\",\"\",$O15)","v":""},"DNF","2 In","","",15,"",{"$f":"IF(OR(D15=\"  --\",M15=\"\",'Set UP'!K15<>1),\"\",IF(Y15<>\"\",Y15,VLOOKUP(M15,AN$16:AQ$21,4,0)))","v":""},"",{"$f":"IF(OR(D15=\"  --\",M15=\"\",'Set UP'!K15<>2),\"\",IF(AA15<>\"\",AA15,VLOOKUP(M15,AN$25:AQ$30,4,0)))","v":6.5},"",{"$f":"IF(OR(D15=\"  --\",M15=\"\",'Set UP'!F15<>\"F\"),\"\",IF(AC15<>\"\",AC15,VLOOKUP(M15,AN$34:AQ$39,4,0)))","v":""},"",{"$f":"IF(OR(D15=\"  --\",M15=\"\",'Set UP'!F15<>\"NS\"),\"\",IF(AE15<>\"\",AE15,VLOOKUP(M15,AN$43:AQ$48,4,0)))","v":""},462.96296296296299,"",454.54545454545456,"","",null,null,"In","Count","Cumlative TOTAL","Score in rope",null,null,"Number in","Size of Section","MidPoint of section","Point to be awared"]
[null,10,{"$f":"IF(OR('Set UP'!$C16=0,'Set UP'!$D16=0,'Set UP'!$E16=0,'Set UP'!F16=0),\"  --\",'Set UP'!C16)","v":1431},{"$f":"IF(OR('Set UP'!$C16=0,'Set UP'!$D16=0,'Set UP'!$E16=0,'Set UP'!F16=0),\"  --\",'Set UP'!D16&\" \"&'Set UP'!E16)","v":"University of Nottingham C"},{"$f":"IF(OR('Set UP'!$C16=0,'Set UP'!$D16=0,'Set UP'!$E16=0,'Set UP'!F16=0),\" --\",'Set UP'!F16)","v":"S"},null,null,null,"","DNF - 2 Persons In","2",null,2,"DNF - 2 Persons In","",{"$f":"IF('Set UP'!K16<>1,\"\",$O16)","v":""},{"$f":"IF('Set UP'!K16<>2,\"\",$O16)","v":""},{"$f":"IF('Set UP'!F16<>\"F\",\"\",$O16)","v":""},{"$f":"IF('Set UP'!F16<>\"NS\",\"\",$O16)","v":""},"DNF","2 In","","",15,"",{"$f":"IF(OR(D16=\"  --\",M16=\"\",'Set UP'!K16<>1),\"\",IF(Y16<>\"\",Y16,VLOOKUP(M16,AN$16:AQ$21,4,0)))","v":""},"",{"$f":"IF(OR(D16=\"  --\",M16=\"\",'Set UP'!K16<>2),\"\",IF(AA16<>\"\",AA16,VLOOKUP(M16,AN$25:AQ$30,4,0)))","v":6.5},"",{"$f":"IF(OR(D16=\"  --\",M16=\"\",'Set UP'!F16<>\"F\"),\"\",IF(AC16<>\"\",AC16,VLOOKUP(M16,AN$34:AQ$39,4,0)))","v":""},"",{"$f":"IF(OR(D16=\"  --\",M16=\"\",'Set UP'!F16<>\"NS\"),\"\",IF(AE16<>\"\",AE16,VLOOKUP(M16,AN$43:AQ$48,4,0)))","v":""},462.96296296296299,"",454.54545454545456,"","",null,null,4,{"$f":"COUNTIFS(M$7:M$46,AN16,'Set UP'!K$7:K$46,1)","v":2},{"$f":"AO16","v":2},null,null,null,"4 in bottom",{"$f":"AU13*(AP21-AP16-AO21)","v":777.77777777777783}]
[null,11,{"$f":"IF(OR('Set UP'!$C17=0,'Set UP'!$D17=0,'Set UP'!$E17=0,'Set UP'!F17=0),\"  --\",'Set UP'!C17)","v":1445},{"$f":"IF(OR('Set UP'!$C17=0,'Set UP'!$D17=0,'Set UP'!$E17=0,'Set UP'!F17=0),\"  --\",'Set UP'!D17&\" \"&'Set UP'!E17)","v":"University of Birmingham D"},{"$f":"IF(OR('Set UP'!$C17=0,'Set UP'!$D17=0,'Set UP'!$E17=0,'Set UP'!F17=0),\" --\",'Set UP'!F17)","v":"NC"},null,null,null,"","DNF - 2 Persons In","2",1,1,"DNF - 1 Persons In","",{"$f":"IF('Set UP'!K17<>1,\"\",$O17)","v":""},{"$f":"IF('Set UP'!K17<>2,\"\",$O17)","v":""},{"$f":"IF('Set UP'!F17<>\"F\",\"\",$O17)","v":""},{"$f":"IF('Set UP'!F17<>\"NS\",\"\",$O17)","v":""},"DNF","1 In","","",23.5,"",{"$f":"IF(OR(D17=\"  --\",M17=\"\",'Set UP'!K17<>1),\"\",IF(Y17<>\"\",Y17,VLOOKUP(M17,AN$16:AQ$21,4,0)))","v":""},"",{"$f":"IF(OR(D17=\"  --\",M17=\"\",'Set UP'!K17<>2),\"\",IF(AA17<>\"\",AA17,VLOOKUP(M17,AN$25:AQ$30,4,0)))","v":""},"",{"$f":"IF(OR(D17=\"  --\",M17=\"\",'Set UP'!F17<>\"F\"),\"\",IF(AC17<>\"\",AC17,VLOOKUP(M17,AN$34:AQ$39,4,0)))","v":""},"",{"$f":"IF(OR(D17=\"  --\",M17=\"\",'Set UP'!F17<>\"NS\"),\"\",IF(AE17<>\"\",AE17,VLOOKUP(M17,AN$43:AQ$48,4,0)))","v":""},148.14814814814815,"","","","",null,null,3,{"$f":"COUNTIFS(M$7:M$46,AN17,'Set UP'!K$7:K$46,1)","v":4},{"$f":"AP16+AO17","v":6},{"$f":"((AP16+1)+AP17)/2","v":4.5},null,null,"3 in",{"$f":"(AO17*AU$13)","v":444.44444444444446},{"$f":"AU17/2","v":222.22222222222223},{"$f":"AU20+AU19+AU18+AV17","v":555.55555555555566}]
[null,12,{"$f":"IF(OR('Set UP'!$C18=0,'Set UP'!$D18=0,'Set UP'!$E18=0,'Set UP'!F18=0),\"  --\",'Set UP'!C18)","v":"  --"},{"$f":"IF(OR('Set UP'!$C18=0,'Set UP'!$D18=0,'Set UP'!$E18=0,'Set UP'!F18=0),\"  --\",'Set UP'!D18&\" \"&'Set UP'!E18)","v":"  --"},{"$f":"IF(OR('Set UP'!$C18=0,'Set UP'!$D18=0,'Set UP'!$E18=0,'Set UP'!F18=0),\" --\",'Set UP'!F18)","v":" --"},null,null,null,"",null,"",null,"","","",{"$f":"IF('Set UP'!K18<>1,\"\",$O18)","v":""},{"$f":"IF('Set UP'!K18<>2,\"\",$O18)","v":""},{"$f":"IF('Set UP'!F18<>\"F\",\"\",$O18)","v":""},{"$f":"IF('Set UP'!F18<>\"NS\",\"\",$O18)","v":""},"","","","","","",{"$f":"IF(OR(D18=\"  --\",M18=\"\",'Set UP'!K18<>1),\"\",IF(Y18<>\"\",Y18,VLOOKUP(M18,AN$16:AQ$21,4,0)))","v":""},"",{"$f":"IF(OR(D18=\"  --\",M18=\"\",'Set UP'!K18<>2),\"\",IF(AA18<>\"\",AA18,VLOOKUP(M18,AN$25:AQ$30,4,0)))","v":""},"",{"$f":"IF(OR(D18=\"  --\",M18=\"\",'Set UP'!F18<>\"F\"),\"\",IF(AC18<>\"\",AC18,VLOOKUP(M18,AN$34:AQ$39,4,0)))","v":""},"",{"$f":"IF(OR(D18=\"  --\",M18=\"\",'Set UP'!F18<>\"NS\"),\"\",IF(AE18<>\"\",AE18,VLOOKUP(M18,AN$43:AQ$48,4,0)))","v":""},"","","","","",null,null,2,{"$f":"COUNTIFS(M$7:M$46,AN18,'Set UP'!K$7:K$46,1)","v":2},{"$f":"AP17+AO18","v":8},{"$f":"((AP17+1)+AP18)/2","v":7.5},null,null,"2 in",{"$f":"(AO18*AU$13)","v":222.22222222222223},{"$f":"AU18/2","v":111.11111111111111},{"$f":"AU20+AU19+AV18","v":222.22222222222223}]
[null,13,{"$f":"IF(OR('Set UP'!$C19=0,'Set UP'!$D19=0,'Set UP'!$E19=0,'Set UP'!F19=0),\"  --\",'Set UP'!C19)","v":1426},{"$f":"IF(OR('Set UP'!$C19=0,'Set UP'!$D19=0,'Set UP'!$E19=0,'Set UP'!F19=0),\"  --\",'Set UP'!D19&\" \"&'Set UP'!E19)","v":"London Universities B"},{"$f":"IF(OR('Set UP'!$C19=0,'Set UP'!$D19=0,'Set UP'!$E19=0,'Set UP'!F19=0),\" --\",'Set UP'!F19)","v":"S"},null,null,null,"","DNF - 2 Persons In","2",null,2,"DNF - 2 Persons In","",{"$f":"IF('Set UP'!K19<>1,\"\",$O19)","v":""},{"$f":"IF('Set UP'!K19<>2,\"\",$O19)","v":""},{"$f":"IF('Set UP'!F19<>\"F\",\"\",$O19)","v":""},{"$f":"IF('Set UP'!F19<>\"NS\",\"\",$O19)","v":""},"DNF","2 In","","",15,"",{"$f":"IF(OR(D19=\"  --\",M19=\"\",'Set UP'!K19<>1),\"\",IF(Y19<>\"\",Y19,VLOOKUP(M19,AN$16:AQ$21,4,0)))","v":""},"",{"$f":"IF(OR(D19=\"  --\",M19=\"\",'Set UP'!K19<>2),\"\",IF(AA19<>\"\",AA19,VLOOKUP(M19,AN$25:AQ$30,4,0)))","v":6.5},"",{"$f":"IF(OR(D19=\"  --\",M19=\"\",'Set UP'!F19<>\"F\"),\"\",IF(AC19<>\"\",AC19,VLOOKUP(M19,AN$34:AQ$39,4,0)))","v":""},"",{"$f":"IF(OR(D19=\"  --\",M19=\"\",'Set UP'!F19<>\"NS\"),\"\",IF(AE19<>\"\",AE19,VLOOKUP(M19,AN$43:AQ$48,4,0)))","v":""},462.96296296296299,"",454.54545454545456,"","",null,null,1,{"$f":"COUNTIFS(M$7:M$46,AN19,'Set UP'!K$7:K$46,1)","v":1},9,9,null,null,"1 in",111.11111111111111,{"$f":"AU19/2","v":55.555555555555557},{"$f":"AU20+AV19","v":55.555555555555557}]
[null,14,{"$f":"IF(OR('Set UP'!$C20=0,'Set UP'!$D20=0,'Set UP'!$E20=0,'Set UP'!F20=0),\"  --\",'Set UP'!C20)","v":"  --"},{"$f":"IF(OR('Set UP'!$C20=0,'Set UP'!$D20=0,'Set UP'!$E20=0,'Set UP'!F20=0),\"  --\",'Set UP'!D20&\" \"&'Set UP'!E20)","v":"  --"},{"$f":"IF(OR('Set UP'!$C20=0,'Set UP'!$D20=0,'Set UP'!$E20=0,'Set UP'!F20=0),\" --\",'Set UP'!F20)","v":" --"},null,null,null,"",null,"",null,"","","",{"$f":"IF('Set UP'!K20<>1,\"\",$O20)","v":""},{"$f":"IF('Set UP'!K20<>2,\"\",$O20)","v":""},{"$f":"IF('Set UP'!F20<>\"F\",\"\",$O20)","v":""},{"$f":"IF('Set UP'!F20<>\"NS\",\"\",$O20)","v":""},"","","","","","",{"$f":"IF(OR(D20=\"  --\",M20=\"\",'Set UP'!K20<>1),\"\",IF(Y20<>\"\",Y20,VLOOKUP(M20,AN$16:AQ$21,4,0)))","v":""},"",{"$f":"IF(OR(D20=\"  --\",M20=\"\",'Set UP'!K20<>2),\"\",IF(AA20<>\"\",AA20,VLOOKUP(M20,AN$25:AQ$30,4,0)))","v":""},"",{"$f":"IF(OR(D20=\"  --\",M20=\"\",'Set UP'!F20<>\"F\"),\"\",IF(AC20<>\"\",AC20,VLOOKUP(M20,AN$34:AQ$39,4,0)))","v":""},"",{"$f":"IF(OR(D20=\"  --\",M20=\"\",'Set UP'!F20<>\"NS\"),\"\",IF(AE20<>\"\",AE20,VLOOKUP(M20,AN$43:AQ$48,4,0)))","v":""},"","","","","",null,null,0,{"$f":"COUNTIFS(M$7:M$46,AN20,'Set UP'!K$7:K$46,1)","v":0},9,9.5,null,null,"O in",0,{"$f":"AU20/2","v":0},{"$f":"AV20","v":0}]
[null,15,{"$f":"IF(OR('Set UP'!$C21=0,'Set UP'!$D21=0,'Set UP'!$E21=0,'Set UP'!F21=0),\"  --\",'Set UP'!C21)","v":1427},{"$f":"IF(OR('Set UP'!$C21=0,'Set UP'!$D21=0,'Set UP'!$E21=0,'Set UP'!F21=0),\"  --\",'Set UP'!D21&\" \"&'Set UP'!E21)","v":"University of Southampton A"},{"$f":"IF(OR('Set UP'!$C21=0,'Set UP'!$D21=0,'Set UP'!$E21=0,'Set UP'!F21=0),\" --\",'Set UP'!F21)","v":"S"},null,null,null,"","DNF - 2 Persons In","2",1,1,"DNF - 1 Persons In","",{"$f":"IF('Set UP'!K21<>1,\"\",$O21)","v":""},{"$f":"IF('Set UP'!K21<>2,\"\",$O21)","v":""},{"$f":"IF('Set UP'!F21<>\"F\",\"\",$O21)","v":""},{"$f":"IF('Set UP'!F21<>\"NS\",\"\",$O21)","v":""},"DNF","1 In","","",23.5,"",{"$f":"IF(OR(D21=\"  --\",M21=\"\",'Set UP'!K21<>1),\"\",IF(Y21<>\"\",Y21,VLOOKUP(M21,AN$16:AQ$21,4,0)))","v":9},"",{"$f":"IF(OR(D21=\"  --\",M21=\"\",'Set UP'!K21<>2),\"\",IF(AA21<>\"\",AA21,VLOOKUP(M21,AN$25:AQ$30,4,0)))","v":""},"",{"$f":"IF(OR(D21=\"  --\",M21=\"\",'Set UP'!F21<>\"F\"),\"\",IF(AC21<>\"\",AC21,VLOOKUP(M21,AN$34:AQ$39,4,0)))","v":""},"",{"$f":"IF(OR(D21=\"  --\",M21=\"\",'Set UP'!F21<>\"NS\"),\"\",IF(AE21<>\"\",AE21,VLOOKUP(M21,AN$43:AQ$48,4,0)))","v":""},148.14814814814815,55.555555555555557,"","","",null,null,"Disqualified",{"$f":"COUNTIFS(M$7:M$46,AN21,'Set UP'!K$7:K$46,1)","v":0},9,9.5]
[null,16,{"$f":"IF(OR('Set UP'!$C22=0,'Set UP'!$D22=0,'Set UP'!$E22=0,'Set UP'!F22=0),\"  --\",'Set UP'!C22)","v":1444},{"$f":"IF(OR('Set UP'!$C22=0,'Set UP'!$D22=0,'Set UP'!$E22=0,'Set UP'!F22=0),\"  --\",'Set UP'!D22&\" \"&'Set UP'!E22)","v":"University of Birmingham C"},{"$f":"IF(OR('Set UP'!$C22=0,'Set UP'!$D22=0,'Set UP'!$E22=0,'Set UP'!F22=0),\" --\",'Set UP'!F22)","v":"S"},null,null,null,"","DNF - 2 Persons In","2",null,2,"DNF - 2 Persons In","",{"$f":"IF('Set UP'!K22<>1,\"\",$O22)","v":""},{"$f":"IF('Set UP'!K22<>2,\"\",$O22)","v":""},{"$f":"IF('Set UP'!F22<>\"F\",\"\",$O22)","v":""},{"$f":"IF('Set UP'!F22<>\"NS\",\"\",$O22)","v":""},"DNF","2 In","","",15,"",{"$f":"IF(OR(D22=\"  --\",M22=\"\",'Set UP'!K22<>1),\"\",IF(Y22<>\"\",Y22,VLOOKUP(M22,AN$16:AQ$21,4,0)))","v":""},"",{"$f":"IF(OR(D22=\"  --\",M22=\"\",'Set UP'!K22<>2),\"\",IF(AA22<>\"\",AA22,VLOOKUP(M22,AN$25:AQ$30,4,0)))","v":6.5},"",{"$f":"IF(OR(D22=\"  --\",M22=\"\",'Set UP'!F22<>\"F\"),\"\",IF(AC22<>\"\",AC22,VLOOKUP(M22,AN$34:AQ$39,4,0)))","v":""},"",{"$f":"IF(OR(D22=\"  --\",M22=\"\",'Set UP'!F22<>\"NS\"),\"\",IF(AE22<>\"\",AE22,VLOOKUP(M22,AN$43:AQ$48,4,0)))","v":""},462.96296296296299,"",454.54545454545456,"","",null,null,null,null,null,null,null,null,"One teams value",{"$f":"1000/(AP30-AO30)","v":90.909090909090907},null,null,null,null,"Min time","Max Time"]
[null,17,{"$f":"IF(OR('Set UP'!$C23=0,'Set UP'!$D23=0,'Set UP'!$E23=0,'Set UP'!F23=0),\"  --\",'Set UP'!C23)","v":1439},{"$f":"IF(OR('Set UP'!$C23=0,'Set UP'!$D23=0,'Set UP'!$E23=0,'Set UP'!F23=0),\"  --\",'Set UP'!D23&\" \"&'Set UP'!E23)","v":"University of Plymouth A"},{"$f":"IF(OR('Set UP'!$C23=0,'Set UP'!$D23=0,'Set UP'!$E23=0,'Set UP'!F23=0),\" --\",'Set UP'!F23)","v":"S"},null,null,null,"","DNF - 2 Persons In","2",null,2,"DNF - 2 Persons In","",{"$f":"IF('Set UP'!K23<>1,\"\",$O23)","v":""},{"$f":"IF('Set UP'!K23<>2,\"\",$O23)","v":""},{"$f":"IF('Set UP'!F23<>\"F\",\"\",$O23)","v":""},{"$f":"IF('Set UP'!F23<>\"NS\",\"\",$O23)","v":""},"DNF","2 In","","",15,"",{"$f":"IF(OR(D23=\"  --\",M23=\"\",'Set UP'!K23<>1),\"\",IF(Y23<>\"\",Y23,VLOOKUP(M23,AN$16:AQ$21,4,0)))","v":7.5},"",{"$f":"IF(OR(D23=\"  --\",M23=\"\",'Set UP'!K23<>2),\"\",IF(AA23<>\"\",AA23,VLOOKUP(M23,AN$25:AQ$30,4,0)))","v":""},"",{"$f":"IF(OR(D23=\"  --\",M23=\"\",'Set UP'!F23<>\"F\"),\"\",IF(AC23<>\"\",AC23,VLOOKUP(M23,AN$34:AQ$39,4,0)))","v":""},"",{"$f":"IF(OR(D23=\"  --\",M23=\"\",'Set UP'!F23<>\"NS\"),\"\",IF(AE23<>\"\",AE23,VLOOKUP(M23,AN$43:AQ$48,4,0)))","v":""},462.96296296296299,222.22222222222223,"","","",null,null,"Table of  numbers that got in  B League",null,null,null,null,null,null,null,null,null,null,null,{"$f":"MIN(IF(AB$7:AB$46<>\"\",O$7:O$46))","v":112.6},{"$f":"MAX(IF(AB$7:AB$46<>\"\",O$7:O$46))","v":112.6}]
[null,18,{"$f":"IF(OR('Set UP'!$C24=0,'Set UP'!$D24=0,'Set UP'!$E24=0,'Set UP'!F24=0),\"  --\",'Set UP'!C24)","v":1461},{"$f":"IF(OR('Set UP'!$C24=0,'Set UP'!$D24=0,'Set UP'!$E24=0,'Set UP'!F24=0),\"  --\",'Set UP'!D24&\" \"&'Set UP'!E24)","v":"Bristol University B"},{"$f":"IF(OR('Set UP'!$C24=0,'Set UP'!$D24=0,'Set UP'!$E24=0,'Set UP'!F24=0),\" --\",'Set UP'!F24)","v":"S"},null,null,null,"","DNF - 3 Persons In","3",null,3,"DNF - 3 Persons In","",{"$f":"IF('Set UP'!K24<>1,\"\",$O24)","v":""},{"$f":"IF('Set UP'!K24<>2,\"\",$O24)","v":""},{"$f":"IF('Set UP'!F24<>\"F\",\"\",$O24)","v":""},{"$f":"IF('Set UP'!F24<>\"NS\",\"\",$O24)","v":""},"DNF","3 In","","",7,"",{"$f":"IF(OR(D24=\"  --\",M24=\"\",'Set UP'!K24<>1),\"\",IF(Y24<>\"\",Y24,VLOOKUP(M24,AN$16:AQ$21,4,0)))","v":""},"",{"$f":"IF(OR(D24=\"  --\",M24=\"\",'Set UP'!K24<>2),\"\",IF(AA24<>\"\",AA24,VLOOKUP(M24,AN$25:AQ$30,4,0)))","v":2.5},"",{"$f":"IF(OR(D24=\"  --\",M24=\"\",'Set UP'!F24<>\"F\"),\"\",IF(AC24<>\"\",AC24,VLOOKUP(M24,AN$34:AQ$39,4,0)))","v":""},"",{"$f":"IF(OR(D24=\"  --\",M24=\"\",'Set UP'!F24<>\"NS\"),\"\",IF(AE24<>\"\",AE24,VLOOKUP(M24,AN$43:AQ$48,4,0)))","v":""},759.25925925925935,"",818.18181818181813,"","",null,null,"In","Count","Cumlative TOTAL","Score in rope",null,null,"Number in","Size of Section","MidPoint of section","Point to be awared"]
[null,19,{"$f":"IF(OR('Set UP'!$C25=0,'Set UP'!$D25=0,'Set UP'!$E25=0,'Set UP'!F25=0),\"  --\",'Set UP'!C25)","v":1436},{"$f":"IF(OR('Set UP'!$C25=0,'Set UP'!$D25=0,'Set UP'!$E25=0,'Set UP'!F25=0),\"  --\",'Set UP'!D25&\" \"&'Set UP'!E25)","v":"Loughborough University C"},{"$f":"IF(OR('Set UP'!$C25=0,'Set UP'!$D25=0,'Set UP'!$E25=0,'Set UP'!F25=0),\" --\",'Set UP'!F25)","v":"S"},null,null,null,"","DNF - 3 Persons In","3",2,1,"DNF - 1 Persons In","",{"$f":"IF('Set UP'!K25<>1,\"\",$O25)","v":""},{"$f":"IF('Set UP'!K25<>2,\"\",$O25)","v":""},{"$f":"IF('Set UP'!F25<>\"F\",\"\",$O25)","v":""},{"$f":"IF('Set UP'!F25<>\"NS\",\"\",$O25)","v":""},"DNF","1 In","","",23.5,"",{"$f":"IF(OR(D25=\"  --\",M25=\"\",'Set UP'!K25<>1),\"\",IF(Y25<>\"\",Y25,VLOOKUP(M25,AN$16:AQ$21,4,0)))","v":""},"",{"$f":"IF(OR(D25=\"  --\",M25=\"\",'Set UP'!K25<>2),\"\",IF(AA25<>\"\",AA25,VLOOKUP(M25,AN$25:AQ$30,4,0)))","v":10.5},"",{"$f":"IF(OR(D25=\"  --\",M25=\"\",'Set UP'!F25<>\"F\"),\"\",IF(AC25<>\"\",AC25,VLOOKUP(M25,AN$34:AQ$39,4,0)))","v":""},"",{"$f":"IF(OR(D25=\"  --\",M25=\"\",'Set UP'!F25<>\"NS\"),\"\",IF(AE25<>\"\",AE25,VLOOKUP(M25,AN$43:AQ$48,4,0)))","v":""},148.14814814814815,"",90.909090909090907,"","",null,null,4,{"$f":"COUNTIFS(M$7:M$46,AN25,'Set UP'!K$7:K$46,2)","v":1},{"$f":"AO25","v":1},null,null,null,"4 in bottom",{"$f":"AU22*(AP30-AP25-AO30)","v":909.09090909090901}]
[null,20,{"$f":"IF(OR('Set UP'!$C26=0,'Set UP'!$D26=0,'Set UP'!$E26=0,'Set UP'!F26=0),\"  --\",'Set UP'!C26)","v":1443},{"$f":"IF(OR('Set UP'!$C26=0,'Set UP'!$D26=0,'Set UP'!$E26=0,'Set UP'!F26=0),\"  --\",'Set UP'!D26&\" \"&'Set UP'!E26)","v":"University of Birmingham B"},{"$f":"IF(OR('Set UP'!$C26=0,'Set UP'!$D26=0,'Set UP'!$E26=0,'Set UP'!F26=0),\" --\",'Set UP'!F26)","v":"S"},null,null,null,"","DNF - 2 Persons In","2",1,1,"DNF - 1 Persons In","",{"$f":"IF('Set UP'!K26<>1,\"\",$O26)","v":""},{"$f":"IF('Set UP'!K26<>2,\"\",$O26)","v":""},{"$f":"IF('Set UP'!F26<>\"F\",\"\",$O26)","v":""},{"$f":"IF('Set UP'!F26<>\"NS\",\"\",$O26)","v":""},"DNF","1 In","","",23.5,"",{"$f":"IF(OR(D26=\"  --\",M26=\"\",'Set UP'!K26<>1),\"\",IF(Y26<>\"\",Y26,VLOOKUP(M26,AN$16:AQ$21,4,0)))","v":""},"",{"$f":"IF(OR(D26=\"  --\",M26=\"\",'Set UP'!K26<>2),\"\",IF(AA26<>\"\",AA26,VLOOKUP(M26,AN$25:AQ$30,4,0)))","v":10.5},"",{"$f":"IF(OR(D26=\"  --\",M26=\"\",'Set UP'!F26<>\"F\"),\"\",IF(AC26<>\"\",AC26,VLOOKUP(M26,AN$34:AQ$39,4,0)))","v":""},"",{"$f":"IF(OR(D26=\"  --\",M26=\"\",'Set UP'!F26<>\"NS\"),\"\",IF(AE26<>\"\",AE26,VLOOKUP(M26,AN$43:AQ$48,4,0)))","v":""},148.14814814814815,"",90.909090909090907,"","",null,null,3,{"$f":"COUNTIFS(M$7:M$46,AN26,'Set UP'!K$7:K$46,2)","v":2},{"$f":"AP25+AO26","v":3},{"$f":"((AP25+1)+AP26)/2","v":2.5},null,null,"3 in",{"$f":"(AO26*AU$22)","v":181.81818181818181},{"$f":"AU26/2","v":90.909090909090907},{"$f":"AU29+AU28+AU27+AV26","v":818.18181818181813}]
[null,21,{"$f":"IF(OR('Set UP'!$C27=0,'Set UP'!$D27=0,'Set UP'!$E27=0,'Set UP'!F27=0),\"  --\",'Set UP'!C27)","v":1434},{"$f":"IF(OR('Set UP'!$C27=0,'Set UP'!$D27=0,'Set UP'!$E27=0,'Set UP'!F27=0),\"  --\",'Set UP'!D27&\" \"&'Set UP'!E27)","v":"Loughborough University A"},{"$f":"IF(OR('Set UP'!$C27=0,'Set UP'!$D27=0,'Set UP'!$E27=0,'Set UP'!F27=0),\" --\",'Set UP'!F27)","v":"S"},null,null,null,"","DNF - 3 Persons In","3",null,3,"DNF - 3 Persons In","",{"$f":"IF('Set UP'!K27<>1,\"\",$O27)","v":""},{"$f":"IF('Set UP'!K27<>2,\"\",$O27)","v":""},{"$f":"IF('Set UP'!F27<>\"F\",\"\",$O27)","v":""},{"$f":"IF('Set UP'!F27<>\"NS\",\"\",$O27)","v":""},"DNF","3 In","","",7,"",{"$f":"IF(OR(D27=\"  --\",M27=\"\",'Set UP'!K27<>1),\"\",IF(Y27<>\"\",Y27,VLOOKUP(M27,AN$16:AQ$21,4,0)))","v":4.5},"",{"$f":"IF(OR(D27=\"  --\",M27=\"\",'Set UP'!K27<>2),\"\",IF(AA27<>\"\",AA27,VLOOKUP(M27,AN$25:AQ$30,4,0)))","v":""},"",{"$f":"IF(OR(D27=\"  --\",M27=\"\",'Set UP'!F27<>\"F\"),\"\",IF(AC27<>\"\",AC27,VLOOKUP(M27,AN$34:AQ$39,4,0)))","v":""},"",{"$f":"IF(OR(D27=\"  --\",M27=\"\",'Set UP'!F27<>\"NS\"),\"\",IF(AE27<>\"\",AE27,VLOOKUP(M27,AN$43:AQ$48,4,0)))","v":""},759.25925925925935,555.55555555555566,"","","",null,null,2,{"$f":"COUNTIFS(M$7:M$46,AN27,'Set UP'!K$7:K$46,2)","v":6},{"$f":"AP26+AO27","v":9},{"$f":"((AP26+1)+AP27)/2","v":6.5},null,null,"2 in",{"$f":"(AO27*AU$22)","v":545.4545454545455},{"$f":"AU27/2","v":272.72727272727275},{"$f":"AU29+AU28+AV27","v":454.54545454545456}]
[null,22,{"$f":"IF(OR('Set UP'!$C28=0,'Set UP'!$D28=0,'Set UP'!$E28=0,'Set UP'!F28=0),\"  --\",'Set UP'!C28)","v":1435},{"$f":"IF(OR('Set UP'!$C28=0,'Set UP'!$D28=0,'Set UP'!$E28=0,'Set UP'!F28=0),\"  --\",'Set UP'!D28&\" \"&'Set UP'!E28)","v":"Loughborough University B"},{"$f":"IF(OR('Set UP'!$C28=0,'Set UP'!$D28=0,'Set UP'!$E28=0,'Set UP'!F28=0),\" --\",'Set UP'!F28)","v":"S"},1,52,60,112.6,"Finished","4",null,4,"Finished",112.6,{"$f":"IF('Set UP'!K28<>1,\"\",$O28)","v":""},{"$f":"IF('Set UP'!K28<>2,\"\",$O28)","v":112.6},{"$f":"IF('Set UP'!F28<>\"F\",\"\",$O28)","v":""},{"$f":"IF('Set UP'!F28<>\"NS\",\"\",$O28)","v":""},1,52,59.999999999999432,1,1,"",{"$f":"IF(OR(D28=\"  --\",M28=\"\",'Set UP'!K28<>1),\"\",IF(Y28<>\"\",Y28,VLOOKUP(M28,AN$16:AQ$21,4,0)))","v":""},1,{"$f":"IF(OR(D28=\"  --\",M28=\"\",'Set UP'!K28<>2),\"\",IF(AA28<>\"\",AA28,VLOOKUP(M28,AN$25:AQ$30,4,0)))","v":1},"",{"$f":"IF(OR(D28=\"  --\",M28=\"\",'Set UP'!F28<>\"F\"),\"\",IF(AC28<>\"\",AC28,VLOOKUP(M28,AN$34:AQ$39,4,0)))","v":""},"",{"$f":"IF(OR(D28=\"  --\",M28=\"\",'Set UP'!F28<>\"NS\"),\"\",IF(AE28<>\"\",AE28,VLOOKUP(M28,AN$43:AQ$48,4,0)))","v":""},1000,"",1000,"","",null,null,1,{"$f":"COUNTIFS(M$7:M$46,AN28,'Set UP'!K$7:K$46,2)","v":2},11,10.5,null,null,"1 in",181.81818181818181,{"$f":"AU28/2","v":90.909090909090907},{"$f":"AU29+AV28","v":90.909090909090907}]
[null,23,{"$f":"IF(OR('Set UP'!$C29=0,'Set UP'!$D29=0,'Set UP'!$E29=0,'Set UP'!F29=0),\"  --\",'Set UP'!C29)","v":1457},{"$f":"IF(OR('Set UP'!$C29=0,'Set UP'!$D29=0,'Set UP'!$E29=0,'Set UP'!F29=0),\"  --\",'Set UP'!D29&\" \"&'Set UP'!E29)","v":"University of Warwick B"},{"$f":"IF(OR('Set UP'!$C29=0,'Set UP'!$D29=0,'Set UP'!$E29=0,'Set UP'!F29=0),\" --\",'Set UP'!F29)","v":"S"},null,null,null,"","DNF - 3 Persons In","3",null,3,"DNF - 3 Persons In","",{"$f":"IF('Set UP'!K29<>1,\"\",$O29)","v":""},{"$f":"IF('Set UP'!K29<>2,\"\",$O29)","v":""},{"$f":"IF('Set UP'!F29<>\"F\",\"\",$O29)","v":""},{"$f":"IF('Set UP'!F29<>\"NS\",\"\",$O29)","v":""},"DNF","3 In","","",7,"",{"$f":"IF(OR(D29=\"  --\",M29=\"\",'Set UP'!K29<>1),\"\",IF(Y29<>\"\",Y29,VLOOKUP(M29,AN$16:AQ$21,4,0)))","v":""},"",{"$f":"IF(OR(D29=\"  --\",M29=\"\",'Set UP'!K29<>2),\"\",IF(AA29<>\"\",AA29,VLOOKUP(M29,AN$25:AQ$30,4,0)))","v":2.5},"",{"$f":"IF(OR(D29=\"  --\",M29=\"\",'Set UP'!F29<>\"F\"),\"\",IF(AC29<>\"\",AC29,VLOOKUP(M29,AN$34:AQ$39,4,0)))","v":""},"",{"$f":"IF(OR(D29=\"  --\",M29=\"\",'Set UP'!F29<>\"NS\"),\"\",IF(AE29<>\"\",AE29,VLOOKUP(M29,AN$43:AQ$48,4,0)))","v":""},759.25925925925935,"",818.18181818181813,"","",null,null,0,{"$f":"COUNTIFS(M$7:M$46,AN29,'Set UP'!K$7:K$46,2)","v":0},11,11.5,null,null,"O in",0,{"$f":"AU29/2","v":0},{"$f":"AV29","v":0}]
[null,24,{"$f":"IF(OR('Set UP'!$C30=0,'Set UP'!$D30=0,'Set UP'!$E30=0,'Set UP'!F30=0),\"  --\",'Set UP'!C30)","v":1429},{"$f":"IF(OR('Set UP'!$C30=0,'Set UP'!$D30=0,'Set UP'!$E30=0,'Set UP'!F30=0),\"  --\",'Set UP'!D30&\" \"&'Set UP'!E30)","v":"University of Nottingham A"},{"$f":"IF(OR('Set UP'!$C30=0,'Set UP'!$D30=0,'Set UP'!$E30=0,'Set UP'!F30=0),\" --\",'Set UP'!F30)","v":"S"},2,19,3,139.03,"Finished","4",null,4,"Finished",139.03,{"$f":"IF('Set UP'!K30<>1,\"\",$O30)","v":139.03},{"$f":"IF('Set UP'!K30<>2,\"\",$O30)","v":""},{"$f":"IF('Set UP'!F30<>\"F\",\"\",$O30)","v":""},{"$f":"IF('Set UP'!F30<>\"NS\",\"\",$O30)","v":""},2,19,3.0000000000001137,2,2,1,{"$f":"IF(OR(D30=\"  --\",M30=\"\",'Set UP'!K30<>1),\"\",IF(Y30<>\"\",Y30,VLOOKUP(M30,AN$16:AQ$21,4,0)))","v":1},"",{"$f":"IF(OR(D30=\"  --\",M30=\"\",'Set UP'!K30<>2),\"\",IF(AA30<>\"\",AA30,VLOOKUP(M30,AN$25:AQ$30,4,0)))","v":""},"",{"$f":"IF(OR(D30=\"  --\",M30=\"\",'Set UP'!F30<>\"F\"),\"\",IF(AC30<>\"\",AC30,VLOOKUP(M30,AN$34:AQ$39,4,0)))","v":""},"",{"$f":"IF(OR(D30=\"  --\",M30=\"\",'Set UP'!F30<>\"NS\"),\"\",IF(AE30<>\"\",AE30,VLOOKUP(M30,AN$43:AQ$48,4,0)))","v":""},918.06175595238096,1000,"","","",null,null,"Disqualified",{"$f":"COUNTIFS(M$7:M$46,AN30,'Set UP'!K$7:K$46,2)","v":0},11,11.5]
[null,25,{"$f":"IF(OR('Set UP'!$C31=0,'Set UP'!$D31=0,'Set UP'!$E31=0,'Set UP'!F31=0),\"  --\",'Set UP'!C31)","v":1438},{"$f":"IF(OR('Set UP'!$C31=0,'Set UP'!$D31=0,'Set UP'!$E31=0,'Set UP'!F31=0),\"  --\",'Set UP'!D31&\" \"&'Set UP'!E31)","v":"Swansea Universities Lifesaving B"},{"$f":"IF(OR('Set UP'!$C31=0,'Set UP'!$D31=0,'Set UP'!$E31=0,'Set UP'!F31=0),\" --\",'Set UP'!F31)","v":"S"},null,null,null,"","DNF - 2 Persons In","2",null,2,"DNF - 2 Persons In","",{"$f":"IF('Set UP'!K31<>1,\"\",$O31)","v":""},{"$f":"IF('Set UP'!K31<>2,\"\",$O31)","v":""},{"$f":"IF('Set UP'!F31<>\"F\",\"\",$O31)","v":""},{"$f":"IF('Set UP'!F31<>\"NS\",\"\",$O31)","v":""},"DNF","2 In","","",15,"",{"$f":"IF(OR(D31=\"  --\",M31=\"\",'Set UP'!K31<>1),\"\",IF(Y31<>\"\",Y31,VLOOKUP(M31,AN$16:AQ$21,4,0)))","v":""},"",{"$f":"IF(OR(D31=\"  --\",M31=\"\",'Set UP'!K31<>2),\"\",IF(AA31<>\"\",AA31,VLOOKUP(M31,AN$25:AQ$30,4,0)))","v":6.5},"",{"$f":"IF(OR(D31=\"  --\",M31=\"\",'Set UP'!F31<>\"F\"),\"\",IF(AC31<>\"\",AC31,VLOOKUP(M31,AN$34:AQ$39,4,0)))","v":""},"",{"$f":"IF(OR(D31=\"  --\",M31=\"\",'Set UP'!F31<>\"NS\"),\"\",IF(AE31<>\"\",AE31,VLOOKUP(M31,AN$43:AQ$48,4,0)))","v":""},462.96296296296299,"",454.54545454545456,"","",null,null,null,null,null,null,null,null,"One teams value",{"$f":"1000/(AP39-AO39)","v":{"$error":"#DIV/0!"}},null,null,null,null,"Min time","Max Time"]
[null,26,{"$f":"IF(OR('Set UP'!$C32=0,'Set UP'!$D32=0,'Set UP'!$E32=0,'Set UP'!F32=0),\"  --\",'Set UP'!C32)","v":1442},{"$f":"IF(OR('Set UP'!$C32=0,'Set UP'!$D32=0,'Set UP'!$E32=0,'Set UP'!F32=0),\"  --\",'Set UP'!D32&\" \"&'Set UP'!E32)","v":"University of Birmingham A"},{"$f":"IF(OR('Set UP'!$C32=0,'Set UP'!$D32=0,'Set UP'!$E32=0,'Set UP'!F32=0),\" --\",'Set UP'!F32)","v":"S"},1,56,41,116.41,"Finished","4",1,3,"DNF - 3 Persons In","",{"$f":"IF('Set UP'!K32<>1,\"\",$O32)","v":""},{"$f":"IF('Set UP'!K32<>2,\"\",$O32)","v":""},{"$f":"IF('Set UP'!F32<>\"F\",\"\",$O32)","v":""},{"$f":"IF('Set UP'!F32<>\"NS\",\"\",$O32)","v":""},"DNF","3 In","","",7,"",{"$f":"IF(OR(D32=\"  --\",M32=\"\",'Set UP'!K32<>1),\"\",IF(Y32<>\"\",Y32,VLOOKUP(M32,AN$16:AQ$21,4,0)))","v":4.5},"",{"$f":"IF(OR(D32=\"  --\",M32=\"\",'Set UP'!K32<>2),\"\",IF(AA32<>\"\",AA32,VLOOKUP(M32,AN$25:AQ$30,4,0)))","v":""},"",{"$f":"IF(OR(D32=\"  --\",M32=\"\",'Set UP'!F32<>\"F\"),\"\",IF(AC32<>\"\",AC32,VLOOKUP(M32,AN$34:AQ$39,4,0)))","v":""},"",{"$f":"IF(OR(D32=\"  --\",M32=\"\",'Set UP'!F32<>\"NS\"),\"\",IF(AE32<>\"\",AE32,VLOOKUP(M32,AN$43:AQ$48,4,0)))","v":""},759.25925925925935,555.55555555555566,"","","",null,null,"Table of  numbers that got in  Freshers League",null,null,null,null,null,null,null,null,null,null,null,{"$f":"MIN(IF(AD$7:AD$46<>\"\",O$7:O$46))","v":0},{"$f":"MAX(IF(AD$7:AD$46<>\"\",O$7:O$46))","v":0}]
[null,27,{"$f":"IF(OR('Set UP'!$C33=0,'Set UP'!$D33=0,'Set UP'!$E33=0,'Set UP'!F33=0),\"  --\",'Set UP'!C33)","v":1456},{"$f":"IF(OR('Set UP'!$C33=0,'Set UP'!$D33=0,'Set UP'!$E33=0,'Set UP'!F33=0),\"  --\",'Set UP'!D33&\" \"&'Set UP'!E33)","v":"University of Warwick A"},{"$f":"IF(OR('Set UP'!$C33=0,'Set UP'!$D33=0,'Set UP'!$E33=0,'Set UP'!F33=0),\" --\",'Set UP'!F33)","v":"S"},null,null,null,"","DNF - 3 Persons In","3",null,3,"DNF - 3 Persons In","",{"$f":"IF('Set UP'!K33<>1,\"\",$O33)","v":""},{"$f":"IF('Set UP'!K33<>2,\"\",$O33)","v":""},{"$f":"IF('Set UP'!F33<>\"F\",\"\",$O33)","v":""},{"$f":"IF('Set UP'!F33<>\"NS\",\"\",$O33)","v":""},"DNF","3 In","","",7,"",{"$f":"IF(OR(D33=\"  --\",M33=\"\",'Set UP'!K33<>1),\"\",IF(Y33<>\"\",Y33,VLOOKUP(M33,AN$16:AQ$21,4,0)))","v":4.5},"",{"$f":"IF(OR(D33=\"  --\",M33=\"\",'Set UP'!K33<>2),\"\",IF(AA33<>\"\",AA33,VLOOKUP(M33,AN$25:AQ$30,4,0)))","v":""},"",{"$f":"IF(OR(D33=\"  --\",M33=\"\",'Set UP'!F33<>\"F\"),\"\",IF(AC33<>\"\",AC33,VLOOKUP(M33,AN$34:AQ$39,4,0)))","v":""},"",{"$f":"IF(OR(D33=\"  --\",M33=\"\",'Set UP'!F33<>\"NS\"),\"\",IF(AE33<>\"\",AE33,VLOOKUP(M33,AN$43:AQ$48,4,0)))","v":""},759.25925925925935,555.55555555555566,"","","",null,null,"In","Count","Cumlative TOTAL","Score in rope",null,null,"Number in","Size of Section","MidPoint of section","Point to be awared"]
[null,28,{"$f":"IF(OR('Set UP'!$C34=0,'Set UP'!$D34=0,'Set UP'!$E34=0,'Set UP'!F34=0),\"  --\",'Set UP'!C34)","v":1460},{"$f":"IF(OR('Set UP'!$C34=0,'Set UP'!$D34=0,'Set UP'!$E34=0,'Set UP'!F34=0),\"  --\",'Set UP'!D34&\" \"&'Set UP'!E34)","v":"Bristol University A"},{"$f":"IF(OR('Set UP'!$C34=0,'Set UP'!$D34=0,'Set UP'!$E34=0,'Set UP'!F34=0),\" --\",'Set UP'!F34)","v":"S"},null,null,null,"","DNF - 2 Persons In","2",null,2,"DNF - 2 Persons In","",{"$f":"IF('Set UP'!K34<>1,\"\",$O34)","v":""},{"$f":"IF('Set UP'!K34<>2,\"\",$O34)","v":""},{"$f":"IF('Set UP'!F34<>\"F\",\"\",$O34)","v":""},{"$f":"IF('Set UP'!F34<>\"NS\",\"\",$O34)","v":""},"DNF","2 In","","",15,"",{"$f":"IF(OR(D34=\"  --\",M34=\"\",'Set UP'!K34<>1),\"\",IF(Y34<>\"\",Y34,VLOOKUP(M34,AN$16:AQ$21,4,0)))","v":7.5},"",{"$f":"IF(OR(D34=\"  --\",M34=\"\",'Set UP'!K34<>2),\"\",IF(AA34<>\"\",AA34,VLOOKUP(M34,AN$25:AQ$30,4,0)))","v":""},"",{"$f":"IF(OR(D34=\"  --\",M34=\"\",'Set UP'!F34<>\"F\"),\"\",IF(AC34<>\"\",AC34,VLOOKUP(M34,AN$34:AQ$39,4,0)))","v":""},"",{"$f":"IF(OR(D34=\"  --\",M34=\"\",'Set UP'!F34<>\"NS\"),\"\",IF(AE34<>\"\",AE34,VLOOKUP(M34,AN$43:AQ$48,4,0)))","v":""},462.96296296296299,222.22222222222223,"","","",null,null,4,{"$f":"COUNTIFS(M$7:M$46,AN34,'Set UP'!F$7:F$46,\"F\")","v":0},{"$f":"AO34","v":0},null,null,null,"4 in bottom",{"$f":"AU31*(AP39-AP34-AO39)","v":{"$error":"#DIV/0!"}}]
[null,29,{"$f":"IF(OR('Set UP'!$C35=0,'Set UP'!$D35=0,'Set UP'!$E35=0,'Set UP'!F35=0),\"  --\",'Set UP'!C35)","v":1437},{"$f":"IF(OR('Set UP'!$C35=0,'Set UP'!$D35=0,'Set UP'!$E35=0,'Set UP'!F35=0),\"  --\",'Set UP'!D35&\" \"&'Set UP'!E35)","v":"Swansea Universities Lifesaving A"},{"$f":"IF(OR('Set UP'!$C35=0,'Set UP'!$D35=0,'Set UP'!$E35=0,'Set UP'!F35=0),\" --\",'Set UP'!F35)","v":"S"},null,null,null,"","DNF - 3 Persons In","3",null,3,"DNF - 3 Persons In","",{"$f":"IF('Set UP'!K35<>1,\"\",$O35)","v":""},{"$f":"IF('Set UP'!K35<>2,\"\",$O35)","v":""},{"$f":"IF('Set UP'!F35<>\"F\",\"\",$O35)","v":""},{"$f":"IF('Set UP'!F35<>\"NS\",\"\",$O35)","v":""},"DNF","3 In","","",7,"",{"$f":"IF(OR(D35=\"  --\",M35=\"\",'Set UP'!K35<>1),\"\",IF(Y35<>\"\",Y35,VLOOKUP(M35,AN$16:AQ$21,4,0)))","v":4.5},"",{"$f":"IF(OR(D35=\"  --\",M35=\"\",'Set UP'!K35<>2),\"\",IF(AA35<>\"\",AA35,VLOOKUP(M35,AN$25:AQ$30,4,0)))","v":""},"",{"$f":"IF(OR(D35=\"  --\",M35=\"\",'Set UP'!F35<>\"F\"),\"\",IF(AC35<>\"\",AC35,VLOOKUP(M35,AN$34:AQ$39,4,0)))","v":""},"",{"$f":"IF(OR(D35=\"  --\",M35=\"\",'Set UP'!F35<>\"NS\"),\"\",IF(AE35<>\"\",AE35,VLOOKUP(M35,AN$43:AQ$48,4,0)))","v":""},759.25925925925935,555.55555555555566,"","","",null,null,3,{"$f":"COUNTIFS(M$7:M$46,AN35,'Set UP'!F$7:F$46,\"F\")","v":0},{"$f":"AP34+AO35","v":0},{"$f":"((AP34+1)+AP35)/2","v":0.5},null,null,"3 in",{"$f":"(AO35*AU$31)","v":{"$error":"#DIV/0!"}},{"$f":"AU35/2","v":{"$error":"#DIV/0!"}},{"$f":"AU38+AU37+AU36+AV35","v":{"$error":"#DIV/0!"}}]
[null,30,{"$f":"IF(OR('Set UP'!$C36=0,'Set UP'!$D36=0,'Set UP'!$E36=0,'Set UP'!F36=0),\"  --\",'Set UP'!C36)","v":1425},{"$f":"IF(OR('Set UP'!$C36=0,'Set UP'!$D36=0,'Set UP'!$E36=0,'Set UP'!F36=0),\"  --\",'Set UP'!D36&\" \"&'Set UP'!E36)","v":"London Universities A"},{"$f":"IF(OR('Set UP'!$C36=0,'Set UP'!$D36=0,'Set UP'!$E36=0,'Set UP'!F36=0),\" --\",'Set UP'!F36)","v":"S"},2,28,44,148.44,"Finished","4",null,4,"Finished",148.44,{"$f":"IF('Set UP'!K36<>1,\"\",$O36)","v":148.44},{"$f":"IF('Set UP'!K36<>2,\"\",$O36)","v":""},{"$f":"IF('Set UP'!F36<>\"F\",\"\",$O36)","v":""},{"$f":"IF('Set UP'!F36<>\"NS\",\"\",$O36)","v":""},2,28,43.999999999999773,3,3,2,{"$f":"IF(OR(D36=\"  --\",M36=\"\",'Set UP'!K36<>1),\"\",IF(Y36<>\"\",Y36,VLOOKUP(M36,AN$16:AQ$21,4,0)))","v":2},"",{"$f":"IF(OR(D36=\"  --\",M36=\"\",'Set UP'!K36<>2),\"\",IF(AA36<>\"\",AA36,VLOOKUP(M36,AN$25:AQ$30,4,0)))","v":""},"",{"$f":"IF(OR(D36=\"  --\",M36=\"\",'Set UP'!F36<>\"F\"),\"\",IF(AC36<>\"\",AC36,VLOOKUP(M36,AN$34:AQ$39,4,0)))","v":""},"",{"$f":"IF(OR(D36=\"  --\",M36=\"\",'Set UP'!F36<>\"NS\"),\"\",IF(AE36<>\"\",AE36,VLOOKUP(M36,AN$43:AQ$48,4,0)))","v":""},888.88888888888891,777.77777777777783,"","","",null,null,2,{"$f":"COUNTIFS(M$7:M$46,AN36,'Set UP'!F$7:F$46,\"F\")","v":0},{"$f":"AP35+AO36","v":0},{"$f":"((AP35+1)+AP36)/2","v":0.5},null,null,"2 in",{"$f":"(AO36*AU$31)","v":{"$error":"#DIV/0!"}},{"$f":"AU36/2","v":{"$error":"#DIV/0!"}},{"$f":"AU38+AU37+AV36","v":{"$error":"#DIV/0!"}}]
[null,31,{"$f":"IF(OR('Set UP'!$C37=0,'Set UP'!$D37=0,'Set UP'!$E37=0,'Set UP'!F37=0),\"  --\",'Set UP'!C37)","v":"  --"},{"$f":"IF(OR('Set UP'!$C37=0,'Set UP'!$D37=0,'Set UP'!$E37=0,'Set UP'!F37=0),\"  --\",'Set UP'!D37&\" \"&'Set UP'!E37)","v":"  --"},{"$f":"IF(OR('Set UP'!$C37=0,'Set UP'!$D37=0,'Set UP'!$E37=0,'Set UP'!F37=0),\" --\",'Set UP'!F37)","v":" --"},null,null,null,"",null,"",null,"","","",{"$f":"IF('Set UP'!K37<>1,\"\",$O37)","v":""},{"$f":"IF('Set UP'!K37<>2,\"\",$O37)","v":""},{"$f":"IF('Set UP'!F37<>\"F\",\"\",$O37)","v":""},{"$f":"IF('Set UP'!F37<>\"NS\",\"\",$O37)","v":""},"","","","","","",{"$f":"IF(OR(D37=\"  --\",M37=\"\",'Set UP'!K37<>1),\"\",IF(Y37<>\"\",Y37,VLOOKUP(M37,AN$16:AQ$21,4,0)))","v":""},"",{"$f":"IF(OR(D37=\"  --\",M37=\"\",'Set UP'!K37<>2),\"\",IF(AA37<>\"\",AA37,VLOOKUP(M37,AN$25:AQ$30,4,0)))","v":""},"",{"$f":"IF(OR(D37=\"  --\",M37=\"\",'Set UP'!F37<>\"F\"),\"\",IF(AC37<>\"\",AC37,VLOOKUP(M37,AN$34:AQ$39,4,0)))","v":""},"",{"$f":"IF(OR(D37=\"  --\",M37=\"\",'Set UP'!F37<>\"NS\"),\"\",IF(AE37<>\"\",AE37,VLOOKUP(M37,AN$43:AQ$48,4,0)))","v":""},"","","","","",null,null,1,{"$f":"COUNTIFS(M$7:M$46,AN37,'Set UP'!F$7:F$46,\"F\")","v":0},0,0.5,null,null,"1 in",{"$error":"#DIV/0!"},{"$f":"AU37/2","v":{"$error":"#DIV/0!"}},{"$f":"AU38+AV37","v":{"$error":"#DIV/0!"}}]
[null,32,{"$f":"IF(OR('Set UP'!$C38=0,'Set UP'!$D38=0,'Set UP'!$E38=0,'Set UP'!F38=0),\"  --\",'Set UP'!C38)","v":"  --"},{"$f":"IF(OR('Set UP'!$C38=0,'Set UP'!$D38=0,'Set UP'!$E38=0,'Set UP'!F38=0),\"  --\",'Set UP'!D38&\" \"&'Set UP'!E38)","v":"  --"},{"$f":"IF(OR('Set UP'!$C38=0,'Set UP'!$D38=0,'Set UP'!$E38=0,'Set UP'!F38=0),\" --\",'Set UP'!F38)","v":" --"},null,null,null,"",null,"",null,"","","",{"$f":"IF('Set UP'!K38<>1,\"\",$O38)","v":""},{"$f":"IF('Set UP'!K38<>2,\"\",$O38)","v":""},{"$f":"IF('Set UP'!F38<>\"F\",\"\",$O38)","v":""},{"$f":"IF('Set UP'!F38<>\"NS\",\"\",$O38)","v":""},"","","","","","",{"$f":"IF(OR(D38=\"  --\",M38=\"\",'Set UP'!K38<>1),\"\",IF(Y38<>\"\",Y38,VLOOKUP(M38,AN$16:AQ$21,4,0)))","v":""},"",{"$f":"IF(OR(D38=\"  --\",M38=\"\",'Set UP'!K38<>2),\"\",IF(AA38<>\"\",AA38,VLOOKUP(M38,AN$25:AQ$30,4,0)))","v":""},"",{"$f":"IF(OR(D38=\"  --\",M38=\"\",'Set UP'!F38<>\"F\"),\"\",IF(AC38<>\"\",AC38,VLOOKUP(M38,AN$34:AQ$39,4,0)))","v":""},"",{"$f":"IF(OR(D38=\"  --\",M38=\"\",'Set UP'!F38<>\"NS\"),\"\",IF(AE38<>\"\",AE38,VLOOKUP(M38,AN$43:AQ$48,4,0)))","v":""},"","","","","",null,null,0,{"$f":"COUNTIFS(M$7:M$46,AN38,'Set UP'!F$7:F$46,\"F\")","v":0},0,0.5,null,null,"O in",{"$error":"#DIV/0!"},{"$f":"AU38/2","v":{"$error":"#DIV/0!"}},{"$f":"AV38","v":{"$error":"#DIV/0!"}}]
[null,33,{"$f":"IF(OR('Set UP'!$C39=0,'Set UP'!$D39=0,'Set UP'!$E39=0,'Set UP'!F39=0),\"  --\",'Set UP'!C39)","v":"  --"},{"$f":"IF(OR('Set UP'!$C39=0,'Set UP'!$D39=0,'Set UP'!$E39=0,'Set UP'!F39=0),\"  --\",'Set UP'!D39&\" \"&'Set UP'!E39)","v":"  --"},{"$f":"IF(OR('Set UP'!$C39=0,'Set UP'!$D39=0,'Set UP'!$E39=0,'Set UP'!F39=0),\" --\",'Set UP'!F39)","v":" --"},null,null,null,"",null,"",null,"","","",{"$f":"IF('Set UP'!K39<>1,\"\",$O39)","v":""},{"$f":"IF('Set UP'!K39<>2,\"\",$O39)","v":""},{"$f":"IF('Set UP'!F39<>\"F\",\"\",$O39)","v":""},{"$f":"IF('Set UP'!F39<>\"NS\",\"\",$O39)","v":""},"","","","","","",{"$f":"IF(OR(D39=\"  --\",M39=\"\",'Set UP'!K39<>1),\"\",IF(Y39<>\"\",Y39,VLOOKUP(M39,AN$16:AQ$21,4,0)))","v":""},"",{"$f":"IF(OR(D39=\"  --\",M39=\"\",'Set UP'!K39<>2),\"\",IF(AA39<>\"\",AA39,VLOOKUP(M39,AN$25:AQ$30,4,0)))","v":""},"",{"$f":"IF(OR(D39=\"  --\",M39=\"\",'Set UP'!F39<>\"F\"),\"\",IF(AC39<>\"\",AC39,VLOOKUP(M39,AN$34:AQ$39,4,0)))","v":""},"",{"$f":"IF(OR(D39=\"  --\",M39=\"\",'Set UP'!F39<>\"NS\"),\"\",IF(AE39<>\"\",AE39,VLOOKUP(M39,AN$43:AQ$48,4,0)))","v":""},"","","","","",null,null,"Disqualified",{"$f":"COUNTIFS(M$7:M$46,AN39,'Set UP'!F$7:F$46,\"F\")","v":0},0,0.5]
[null,34,{"$f":"IF(OR('Set UP'!$C40=0,'Set UP'!$D40=0,'Set UP'!$E40=0,'Set UP'!F40=0),\"  --\",'Set UP'!C40)","v":"  --"},{"$f":"IF(OR('Set UP'!$C40=0,'Set UP'!$D40=0,'Set UP'!$E40=0,'Set UP'!F40=0),\"  --\",'Set UP'!D40&\" \"&'Set UP'!E40)","v":"  --"},{"$f":"IF(OR('Set UP'!$C40=0,'Set UP'!$D40=0,'Set UP'!$E40=0,'Set UP'!F40=0),\" --\",'Set UP'!F40)","v":" --"},null,null,null,"",null,"",null,"","","",{"$f":"IF('Set UP'!K40<>1,\"\",$O40)","v":""},{"$f":"IF('Set UP'!K40<>2,\"\",$O40)","v":""},{"$f":"IF('Set UP'!F40<>\"F\",\"\",$O40)","v":""},{"$f":"IF('Set UP'!F40<>\"NS\",\"\",$O40)","v":""},"","","","","","",{"$f":"IF(OR(D40=\"  --\",M40=\"\",'Set UP'!K40<>1),\"\",IF(Y40<>\"\",Y40,VLOOKUP(M40,AN$16:AQ$21,4,0)))","v":""},"",{"$f":"IF(OR(D40=\"  --\",M40=\"\",'Set UP'!K40<>2),\"\",IF(AA40<>\"\",AA40,VLOOKUP(M40,AN$25:AQ$30,4,0)))","v":""},"",{"$f":"IF(OR(D40=\"  --\",M40=\"\",'Set UP'!F40<>\"F\"),\"\",IF(AC40<>\"\",AC40,VLOOKUP(M40,AN$34:AQ$39,4,0)))","v":""},"",{"$f":"IF(OR(D40=\"  --\",M40=\"\",'Set UP'!F40<>\"NS\"),\"\",IF(AE40<>\"\",AE40,VLOOKUP(M40,AN$43:AQ$48,4,0)))","v":""},"","","","","",null,null,null,null,null,null,null,null,"One teams value",{"$f":"1000/(AP48-AO48)","v":200},null,null,null,null,"Min time","Max Time"]
[null,35,{"$f":"IF(OR('Set UP'!$C41=0,'Set UP'!$D41=0,'Set UP'!$E41=0,'Set UP'!F41=0),\"  --\",'Set UP'!C41)","v":"  --"},{"$f":"IF(OR('Set UP'!$C41=0,'Set UP'!$D41=0,'Set UP'!$E41=0,'Set UP'!F41=0),\"  --\",'Set UP'!D41&\" \"&'Set UP'!E41)","v":"  --"},{"$f":"IF(OR('Set UP'!$C41=0,'Set UP'!$D41=0,'Set UP'!$E41=0,'Set UP'!F41=0),\" --\",'Set UP'!F41)","v":" --"},null,null,null,"",null,"",null,"","","",{"$f":"IF('Set UP'!K41<>1,\"\",$O41)","v":""},{"$f":"IF('Set UP'!K41<>2,\"\",$O41)","v":""},{"$f":"IF('Set UP'!F41<>\"F\",\"\",$O41)","v":""},{"$f":"IF('Set UP'!F41<>\"NS\",\"\",$O41)","v":""},"","","","","","",{"$f":"IF(OR(D41=\"  --\",M41=\"\",'Set UP'!K41<>1),\"\",IF(Y41<>\"\",Y41,VLOOKUP(M41,AN$16:AQ$21,4,0)))","v":""},"",{"$f":"IF(OR(D41=\"  --\",M41=\"\",'Set UP'!K41<>2),\"\",IF(AA41<>\"\",AA41,VLOOKUP(M41,AN$25:AQ$30,4,0)))","v":""},"",{"$f":"IF(OR(D41=\"  --\",M41=\"\",'Set UP'!F41<>\"F\"),\"\",IF(AC41<>\"\",AC41,VLOOKUP(M41,AN$34:AQ$39,4,0)))","v":""},"",{"$f":"IF(OR(D41=\"  --\",M41=\"\",'Set UP'!F41<>\"NS\"),\"\",IF(AE41<>\"\",AE41,VLOOKUP(M41,AN$43:AQ$48,4,0)))","v":""},"","","","","",null,null,"Table of  numbers that got in  Non- Student League",null,null,null,null,null,null,null,null,null,null,null,{"$f":"MIN(IF(AF$7:AF$46<>\"\",O$7:O$46))","v":0},{"$f":"MAX(IF(AF$7:AF$46<>\"\",O$7:O$46))","v":0}]
[null,36,{"$f":"IF(OR('Set UP'!$C42=0,'Set UP'!$D42=0,'Set UP'!$E42=0,'Set UP'!F42=0),\"  --\",'Set UP'!C42)","v":"  --"},{"$f":"IF(OR('Set UP'!$C42=0,'Set UP'!$D42=0,'Set UP'!$E42=0,'Set UP'!F42=0),\"  --\",'Set UP'!D42&\" \"&'Set UP'!E42)","v":"  --"},{"$f":"IF(OR('Set UP'!$C42=0,'Set UP'!$D42=0,'Set UP'!$E42=0,'Set UP'!F42=0),\" --\",'Set UP'!F42)","v":" --"},null,null,null,"",null,"",null,"","","",{"$f":"IF('Set UP'!K42<>1,\"\",$O42)","v":""},{"$f":"IF('Set UP'!K42<>2,\"\",$O42)","v":""},{"$f":"IF('Set UP'!F42<>\"F\",\"\",$O42)","v":""},{"$f":"IF('Set UP'!F42<>\"NS\",\"\",$O42)","v":""},"","","","","","",{"$f":"IF(OR(D42=\"  --\",M42=\"\",'Set UP'!K42<>1),\"\",IF(Y42<>\"\",Y42,VLOOKUP(M42,AN$16:AQ$21,4,0)))","v":""},"",{"$f":"IF(OR(D42=\"  --\",M42=\"\",'Set UP'!K42<>2),\"\",IF(AA42<>\"\",AA42,VLOOKUP(M42,AN$25:AQ$30,4,0)))","v":""},"",{"$f":"IF(OR(D42=\"  --\",M42=\"\",'Set UP'!F42<>\"F\"),\"\",IF(AC42<>\"\",AC42,VLOOKUP(M42,AN$34:AQ$39,4,0)))","v":""},"",{"$f":"IF(OR(D42=\"  --\",M42=\"\",'Set UP'!F42<>\"NS\"),\"\",IF(AE42<>\"\",AE42,VLOOKUP(M42,AN$43:AQ$48,4,0)))","v":""},"","","","","",null,null,"In","Count","Cumlative TOTAL","Score in rope",null,null,"Number in","Size of Section","MidPoint of section","Point to be awared"]
[null,37,{"$f":"IF(OR('Set UP'!$C43=0,'Set UP'!$D43=0,'Set UP'!$E43=0,'Set UP'!F43=0),\"  --\",'Set UP'!C43)","v":"  --"},{"$f":"IF(OR('Set UP'!$C43=0,'Set UP'!$D43=0,'Set UP'!$E43=0,'Set UP'!F43=0),\"  --\",'Set UP'!D43&\" \"&'Set UP'!E43)","v":"  --"},{"$f":"IF(OR('Set UP'!$C43=0,'Set UP'!$D43=0,'Set UP'!$E43=0,'Set UP'!F43=0),\" --\",'Set UP'!F43)","v":" --"},null,null,null,"",null,"",null,"","","",{"$f":"IF('Set UP'!K43<>1,\"\",$O43)","v":""},{"$f":"IF('Set UP'!K43<>2,\"\",$O43)","v":""},{"$f":"IF('Set UP'!F43<>\"F\",\"\",$O43)","v":""},{"$f":"IF('Set UP'!F43<>\"NS\",\"\",$O43)","v":""},"","","","","","",{"$f":"IF(OR(D43=\"  --\",M43=\"\",'Set UP'!K43<>1),\"\",IF(Y43<>\"\",Y43,VLOOKUP(M43,AN$16:AQ$21,4,0)))","v":""},"",{"$f":"IF(OR(D43=\"  --\",M43=\"\",'Set UP'!K43<>2),\"\",IF(AA43<>\"\",AA43,VLOOKUP(M43,AN$25:AQ$30,4,0)))","v":""},"",{"$f":"IF(OR(D43=\"  --\",M43=\"\",'Set UP'!F43<>\"F\"),\"\",IF(AC43<>\"\",AC43,VLOOKUP(M43,AN$34:AQ$39,4,0)))","v":""},"",{"$f":"IF(OR(D43=\"  --\",M43=\"\",'Set UP'!F43<>\"NS\"),\"\",IF(AE43<>\"\",AE43,VLOOKUP(M43,AN$43:AQ$48,4,0)))","v":""},"","","","","",null,null,4,{"$f":"COUNTIFS(M$7:M$46,AN43,'Set UP'!F$7:F$46,\"NS\")","v":0},{"$f":"AO43","v":0},null,null,null,"4 in bottom",{"$f":"AU40*(AP48-AP43-AO48)","v":1000}]
[null,38,{"$f":"IF(OR('Set UP'!$C44=0,'Set UP'!$D44=0,'Set UP'!$E44=0,'Set UP'!F44=0),\"  --\",'Set UP'!C44)","v":"  --"},{"$f":"IF(OR('Set UP'!$C44=0,'Set UP'!$D44=0,'Set UP'!$E44=0,'Set UP'!F44=0),\"  --\",'Set UP'!D44&\" \"&'Set UP'!E44)","v":"  --"},{"$f":"IF(OR('Set UP'!$C44=0,'Set UP'!$D44=0,'Set UP'!$E44=0,'Set UP'!F44=0),\" --\",'Set UP'!F44)","v":" --"},null,null,null,"",null,"",null,"","","",{"$f":"IF('Set UP'!K44<>1,\"\",$O44)","v":""},{"$f":"IF('Set UP'!K44<>2,\"\",$O44)","v":""},{"$f":"IF('Set UP'!F44<>\"F\",\"\",$O44)","v":""},{"$f":"IF('Set UP'!F44<>\"NS\",\"\",$O44)","v":""},"","","","","","",{"$f":"IF(OR(D44=\"  --\",M44=\"\",'Set UP'!K44<>1),\"\",IF(Y44<>\"\",Y44,VLOOKUP(M44,AN$16:AQ$21,4,0)))","v":""},"",{"$f":"IF(OR(D44=\"  --\",M44=\"\",'Set UP'!K44<>2),\"\",IF(AA44<>\"\",AA44,VLOOKUP(M44,AN$25:AQ$30,4,0)))","v":""},"",{"$f":"IF(OR(D44=\"  --\",M44=\"\",'Set UP'!F44<>\"F\"),\"\",IF(AC44<>\"\",AC44,VLOOKUP(M44,AN$34:AQ$39,4,0)))","v":""},"",{"$f":"IF(OR(D44=\"  --\",M44=\"\",'Set UP'!F44<>\"NS\"),\"\",IF(AE44<>\"\",AE44,VLOOKUP(M44,AN$43:AQ$48,4,0)))","v":""},"","","","","",null,null,3,{"$f":"COUNTIFS(M$7:M$46,AN44,'Set UP'!F$7:F$46,\"NS\")","v":1},{"$f":"AP43+AO44","v":1},{"$f":"((AP43+1)+AP44)/2","v":1},null,null,"3 in",{"$f":"(AO44*AU$40)","v":200},{"$f":"AU44/2","v":100},{"$f":"AU47+AU46+AU45+AV44","v":900}]
[null,39,{"$f":"IF(OR('Set UP'!$C45=0,'Set UP'!$D45=0,'Set UP'!$E45=0,'Set UP'!F45=0),\"  --\",'Set UP'!C45)","v":"  --"},{"$f":"IF(OR('Set UP'!$C45=0,'Set UP'!$D45=0,'Set UP'!$E45=0,'Set UP'!F45=0),\"  --\",'Set UP'!D45&\" \"&'Set UP'!E45)","v":"  --"},{"$f":"IF(OR('Set UP'!$C45=0,'Set UP'!$D45=0,'Set UP'!$E45=0,'Set UP'!F45=0),\" --\",'Set UP'!F45)","v":" --"},null,null,null,"",null,"",null,"","","",{"$f":"IF('Set UP'!K45<>1,\"\",$O45)","v":""},{"$f":"IF('Set UP'!K45<>2,\"\",$O45)","v":""},{"$f":"IF('Set UP'!F45<>\"F\",\"\",$O45)","v":""},{"$f":"IF('Set UP'!F45<>\"NS\",\"\",$O45)","v":""},"","","","","","",{"$f":"IF(OR(D45=\"  --\",M45=\"\",'Set UP'!K45<>1),\"\",IF(Y45<>\"\",Y45,VLOOKUP(M45,AN$16:AQ$21,4,0)))","v":""},"",{"$f":"IF(OR(D45=\"  --\",M45=\"\",'Set UP'!K45<>2),\"\",IF(AA45<>\"\",AA45,VLOOKUP(M45,AN$25:AQ$30,4,0)))","v":""},"",{"$f":"IF(OR(D45=\"  --\",M45=\"\",'Set UP'!F45<>\"F\"),\"\",IF(AC45<>\"\",AC45,VLOOKUP(M45,AN$34:AQ$39,4,0)))","v":""},"",{"$f":"IF(OR(D45=\"  --\",M45=\"\",'Set UP'!F45<>\"NS\"),\"\",IF(AE45<>\"\",AE45,VLOOKUP(M45,AN$43:AQ$48,4,0)))","v":""},"","","","","",null,null,2,{"$f":"COUNTIFS(M$7:M$46,AN45,'Set UP'!F$7:F$46,\"NS\")","v":1},{"$f":"AP44+AO45","v":2},{"$f":"((AP44+1)+AP45)/2","v":2},null,null,"2 in",{"$f":"(AO45*AU$40)","v":200},{"$f":"AU45/2","v":100},{"$f":"AU47+AU46+AV45","v":700}]
[null,40,{"$f":"IF(OR('Set UP'!$C46=0,'Set UP'!$D46=0,'Set UP'!$E46=0,'Set UP'!F46=0),\"  --\",'Set UP'!C46)","v":"  --"},{"$f":"IF(OR('Set UP'!$C46=0,'Set UP'!$D46=0,'Set UP'!$E46=0,'Set UP'!F46=0),\"  --\",'Set UP'!D46&\" \"&'Set UP'!E46)","v":"  --"},{"$f":"IF(OR('Set UP'!$C46=0,'Set UP'!$D46=0,'Set UP'!$E46=0,'Set UP'!F46=0),\" --\",'Set UP'!F46)","v":" --"},null,null,null,"",null,"",null,"","","",{"$f":"IF('Set UP'!K46<>1,\"\",$O46)","v":""},{"$f":"IF('Set UP'!K46<>2,\"\",$O46)","v":""},{"$f":"IF('Set UP'!F46<>\"F\",\"\",$O46)","v":""},{"$f":"IF('Set UP'!F46<>\"NS\",\"\",$O46)","v":""},"","","","","","",{"$f":"IF(OR(D46=\"  --\",M46=\"\",'Set UP'!K46<>1),\"\",IF(Y46<>\"\",Y46,VLOOKUP(M46,AN$16:AQ$21,4,0)))","v":""},"",{"$f":"IF(OR(D46=\"  --\",M46=\"\",'Set UP'!K46<>2),\"\",IF(AA46<>\"\",AA46,VLOOKUP(M46,AN$25:AQ$30,4,0)))","v":""},"",{"$f":"IF(OR(D46=\"  --\",M46=\"\",'Set UP'!F46<>\"F\"),\"\",IF(AC46<>\"\",AC46,VLOOKUP(M46,AN$34:AQ$39,4,0)))","v":""},"",{"$f":"IF(OR(D46=\"  --\",M46=\"\",'Set UP'!F46<>\"NS\"),\"\",IF(AE46<>\"\",AE46,VLOOKUP(M46,AN$43:AQ$48,4,0)))","v":""},"","","","","",null,null,1,{"$f":"COUNTIFS(M$7:M$46,AN46,'Set UP'!F$7:F$46,\"NS\")","v":3},5,4,null,null,"1 in",600,{"$f":"AU46/2","v":300},{"$f":"AU47+AV46","v":300}]
[null,null,null,null,null,null,null,null,null,null,null,null,null,null,null,null,null,{"$f":"IF('Set UP'!F47<>\"F\",\"\",$O47)","v":""},{"$f":"IF('Set UP'!F47<>\"NS\",\"\",$O47)","v":""},null,null,null,null,null,null,null,null,null,null,null,null,null,{"$f":"IF(OR(N47<>\"Finished\",AF47=\"\"),\"\",(1-(I47-'Set UP'!$Z$9)/('Set UP'!$Z$9))*1000)","v":""},null,{"$f":"IF(OR(N47<>\"Finished\",AB47=\"\"),IF(OR(M47=\"\",M47=\"Disqualified\",AB47=\"\"),\"\",VLOOKUP(M47,AN$26:AW$29,10,0)),(1-((O47-AZ$23)/(BA$23-AZ$23)))*(1000-AU$25)+AU$25)","v":""},null,null,null,null,0,{"$f":"COUNTIFS(M$7:M$46,AN47,'Set UP'!F$7:F$46,\"NS\")","v":0},5,5.5,null,null,"O in",0,{"$f":"AU47/2","v":0},{"$f":"AV47","v":0}]
[null,null,null,null,null,null,null,null,null,null,null,null,null,null,null,null,null,null,null,null,null,null,null,null,null,null,null,null,null,null,null,null,null,null,null,null,null,null,null,"Disqualified",{"$f":"COUNTIFS(M$7:M$46,AN48,'Set UP'!F$7:F$46,\"NS\")","v":0},5,5.5]
[]
[]
[]
[]
[]
[]
[]
[]
[]
[]
[]
[]
[null,null,null,null,null,null,null,null,null,"Finished"]
[null,null,null,null,null,null,null,null,null,"DNF - 3 Persons In"]
[null,null,null,null,null,null,null,null,null,"DNF - 2 Persons In"]
[null,null,null,null,null,null,null,null,null,"DNF - 1 Persons In"]
[null,null,null,null,null,null,null,null,null,"DNF - 0 Persons In"]
[null,null,null,null,null,null,null,null,null,"Disqualified"]

{"sheet":"Swim&Tow","index":7,"n_rows":62,"n_cols":32,"rows_kept":62,"cut":false,"hidden":false,"merged":[[2,4,2,5],[3,4,3,5],[4,22,5,22],[4,23,5,23],[4,27,5,27],[4,9,5,9],[4,14,5,14],[4,10,5,10],[4,13,5,13],[4,15,5,15],[4,11,5,11],[4,12,5,12],[4,8,5,8],[4,5,4,7],[4,31,5,31],[4,1,5,1],[4,2,5,2],[4,3,5,3],[4,4,5,4],[4,28,5,28],[4,16,5,16],[4,25,5,25],[4,26,5,26],[4,24,5,24],[4,21,5,21],[4,18,4,20],[4,17,5,17],[4,29,5,29],[4,30,5,30]]}
[]
[null,null,null,null,null,null,null,null,null,null,"Penalty Time (seconds)","Percentage From Entry Time before Penalty"]
[null,null,null,{"$f":"'Set UP'!Q10","v":"Swim and Tow"},"Club to Highlight",null,null,null,null,null,15,10]
[]
[null,null,"Web","Team","Class","Stopwatch Time",null,null,null,"Finish Status","No. \nPenalties","No. \nPenalties","Total\nPenalties","Total\n(Competition)","Total\n(A)","Total\n(B)","Total\n(FRESHERS)","Total\n(Non-S)","Total Time",null,null,"Competition Position\nExcluding DQ's","Position\n(Competition)","A League Position\nExcluding DQ's","Position\n(A League)","B League Position\nExcluding DQ's","Position\n(B League)","FRESHERS League Position\nExcluding DQ's","Position\n(FRESHERS League)","Non-leagueLeague Position\nExcluding DQ's","Position\n(Non-Students League)","Lifesaving Points"]
[null,null,null,null,null,"mins","secs","1/100\nsec",null,null,null,null,null,null,null,null,null,null,"mins","secs","1/100 sec"]
[null,1,{"$f":"IF(OR('Set UP'!$C7=0,'Set UP'!$D7=0,'Set UP'!$E7=0,'Set UP'!F7=0),\"  --\",'Set UP'!C7)","v":1418},{"$f":"IF(OR('Set UP'!$C7=0,'Set UP'!$D7=0,'Set UP'!$E7=0,'Set UP'!F7=0),\"  --\",'Set UP'!D7&\" \"&'Set UP'!E7)","v":"Bradford On Avon Lifesaving Club  B"},{"$f":"IF(OR('Set UP'!$C7=0,'Set UP'!$D7=0,'Set UP'!$E7=0,'Set UP'!F7=0,),\" --\",'Set UP'!F7)","v":"NS"},9,56,25,{"$f":"IF(AND(ISBLANK(F7),ISBLANK(G7),ISBLANK(H7)),\"\",(F7*60)+G7+(H7/100))","v":596.25},"Finished",1,{"$f":"IF(OR(D7=\"  --\",I7=\"\"),\"\",IF(AND('Set UP'!G7=0,'Set UP'!H7=0),0,IF(I7-'Set UP'!I7*(1+$L$3/100)<=0,0,TRUNC((I7-'Set UP'!I7*(1+$L$3/100))/$K$3)+1)))","v":0},{"$f":"IF(OR(D7=\"  --\",I7=\"\"),\"\",K7+L7)","v":1},{"$f":"IF(D7=\"  --\",\"\",IF(J7=\"Disqualified\",J7,IF(J7=\"Finished\",IF(OR(G7=\"\",H7=\"\"),\"\",I7+(M7*$K$3)),\"\")))","v":611.25},{"$f":"IF('Set UP'!K7<>1,\"\",$N7)","v":""},{"$f":"IF('Set UP'!K7<>2,\"\",$N7)","v":""},{"$f":"IF('Set UP'!F7<>\"F\",\"\",$N7)","v":""},{"$f":"IF('Set UP'!F7<>\"NS\",\"\",$N7)","v":611.25},{"$f":"IF(D7=\"  --\",\"\",IF(N7=\"Disqualified\",\"DQ\",IF(N7=\"\",\"\",INT(N7/60))))","v":10},{"$f":"IF(D7=\"  --\",\"\", IF(N7=\"Disqualified\",\"\",IF(N7=\"\",\"\",INT(N7-(S7*60)))))","v":11},{"$f":"IF(D7=\"  --\",\"\", IF(N7=\"Disqualified\",\"\",IF(N7=\"\",\"\",100*(N7-((S7*60)+T7)))))","v":25},{"$f":"IF(OR(N7=\"Disqualified\",N7=\"\"),\"\",RANK(N7,$N$7:$N$46,1))","v":27},{"$f":"IF(N7=\"Disqualified\",MAX($V$7:$V$46)+1,V7)","v":27},{"$f":"IF(OR($O7=\"Disqualified\",$O7=\"\"),\"\",RANK($O7,$O$7:$O$46,1))","v":""},{"$f":"IF($O7=\"Disqualified\",MAX($X$7:$X$46)+1,X7)","v":""},{"$f":"IF(OR($P7=\"Disqualified\",$P7=\"\"),\"\",RANK($P7,$P$7:$P$46,1))","v":""},{"$f":"IF($P7=\"Disqualified\",MAX($Z$7:$Z$46)+1,Z7)","v":""},{"$f":"IF(OR($Q7=\"Disqualified\",$Q7=\"\"),\"\",RANK($Q7,$Q$7:$Q$46,1))","v":""},{"$f":"IF($Q7=\"Disqualified\",MAX($AB$7:$AB$46)+1,AB7)","v":""},{"$f":"IF(OR($R7=\"Disqualified\",$R7=\"\"),\"\",RANK($R7,$R$7:$R$46,1))","v":5},{"$f":"IF($R7=\"Disqualified\",MAX($AD$7:$AD$46)+1,AD7)","v":5},{"$f":"IF(OR(J7<>\"Finished\",W7=\"\"),\"\",(1-(N7-'Set UP'!$Z$10)/('Set UP'!$Z$10))*1000)","v":451.94377611751304}]
[null,2,{"$f":"IF(OR('Set UP'!$C8=0,'Set UP'!$D8=0,'Set UP'!$E8=0,'Set UP'!F8=0),\"  --\",'Set UP'!C8)","v":1419},{"$f":"IF(OR('Set UP'!$C8=0,'Set UP'!$D8=0,'Set UP'!$E8=0,'Set UP'!F8=0),\"  --\",'Set UP'!D8&\" \"&'Set UP'!E8)","v":"Bradford On Avon Lifesaving Club  A"},{"$f":"IF(OR('Set UP'!$C8=0,'Set UP'!$D8=0,'Set UP'!$E8=0,'Set UP'!F8=0,),\" --\",'Set UP'!F8)","v":"NS"},9,16,56,556.55999999999995,"Finished",1,{"$f":"IF(OR(D8=\"  --\",I8=\"\"),\"\",IF(AND('Set UP'!G8=0,'Set UP'!H8=0),0,IF(I8-'Set UP'!I8*(1+$L$3/100)<=0,0,TRUNC((I8-'Set UP'!I8*(1+$L$3/100))/$K$3)+1)))","v":0},{"$f":"IF(OR(D8=\"  --\",I8=\"\"),\"\",K8+L8)","v":1},{"$f":"IF(D8=\"  --\",\"\",IF(J8=\"Disqualified\",J8,IF(J8=\"Finished\",IF(OR(G8=\"\",H8=\"\"),\"\",I8+(M8*$K$3)),\"\")))","v":571.55999999999995},{"$f":"IF('Set UP'!K8<>1,\"\",$N8)","v":""},{"$f":"IF('Set UP'!K8<>2,\"\",$N8)","v":""},{"$f":"IF('Set UP'!F8<>\"F\",\"\",$N8)","v":""},{"$f":"IF('Set UP'!F8<>\"NS\",\"\",$N8)","v":571.55999999999995},9,31,55.999999999994543,{"$f":"IF(OR(N8=\"Disqualified\",N8=\"\"),\"\",RANK(N8,$N$7:$N$46,1))","v":25},{"$f":"IF(N8=\"Disqualified\",MAX($V$7:$V$46)+1,V8)","v":25},{"$f":"IF(OR($O8=\"Disqualified\",$O8=\"\"),\"\",RANK($O8,$O$7:$O$46,1))","v":""},{"$f":"IF($O8=\"Disqualified\",MAX($X$7:$X$46)+1,X8)","v":""},{"$f":"IF(OR($P8=\"Disqualified\",$P8=\"\"),\"\",RANK($P8,$P$7:$P$46,1))","v":""},{"$f":"IF($P8=\"Disqualified\",MAX($Z$7:$Z$46)+1,Z8)","v":""},{"$f":"IF(OR($Q8=\"Disqualified\",$Q8=\"\"),\"\",RANK($Q8,$Q$7:$Q$46,1))","v":""},{"$f":"IF($Q8=\"Disqualified\",MAX($AB$7:$AB$46)+1,AB8)","v":""},{"$f":"IF(OR($R8=\"Disqualified\",$R8=\"\"),\"\",RANK($R8,$R$7:$R$46,1))","v":3},{"$f":"IF($R8=\"Disqualified\",MAX($AD$7:$AD$46)+1,AD8)","v":3},{"$f":"IF(OR(J8<>\"Finished\",W8=\"\"),\"\",(1-(N8-'Set UP'!$Z$10)/('Set UP'!$Z$10))*1000)","v":552.46296061795636}]
[null,3,{"$f":"IF(OR('Set UP'!$C9=0,'Set UP'!$D9=0,'Set UP'!$E9=0,'Set UP'!F9=0),\"  --\",'Set UP'!C9)","v":1417},{"$f":"IF(OR('Set UP'!$C9=0,'Set UP'!$D9=0,'Set UP'!$E9=0,'Set UP'!F9=0),\"  --\",'Set UP'!D9&\" \"&'Set UP'!E9)","v":"Bradford On Avon Lifesaving Club  C"},{"$f":"IF(OR('Set UP'!$C9=0,'Set UP'!$D9=0,'Set UP'!$E9=0,'Set UP'!F9=0,),\" --\",'Set UP'!F9)","v":"NS"},9,45,22,585.22,"Finished",null,{"$f":"IF(OR(D9=\"  --\",I9=\"\"),\"\",IF(AND('Set UP'!G9=0,'Set UP'!H9=0),0,IF(I9-'Set UP'!I9*(1+$L$3/100)<=0,0,TRUNC((I9-'Set UP'!I9*(1+$L$3/100))/$K$3)+1)))","v":0},0,585.22,{"$f":"IF('Set UP'!K9<>1,\"\",$N9)","v":""},{"$f":"IF('Set UP'!K9<>2,\"\",$N9)","v":""},{"$f":"IF('Set UP'!F9<>\"F\",\"\",$N9)","v":""},{"$f":"IF('Set UP'!F9<>\"NS\",\"\",$N9)","v":585.22},9,45,22.000000000002728,26,26,"","","","","","",4,4,{"$f":"IF(OR(J9<>\"Finished\",W9=\"\"),\"\",(1-(N9-'Set UP'!$Z$10)/('Set UP'!$Z$10))*1000)","v":517.86754463720411}]
[null,4,{"$f":"IF(OR('Set UP'!$C10=0,'Set UP'!$D10=0,'Set UP'!$E10=0,'Set UP'!F10=0),\"  --\",'Set UP'!C10)","v":"  --"},{"$f":"IF(OR('Set UP'!$C10=0,'Set UP'!$D10=0,'Set UP'!$E10=0,'Set UP'!F10=0),\"  --\",'Set UP'!D10&\" \"&'Set UP'!E10)","v":"  --"},{"$f":"IF(OR('Set UP'!$C10=0,'Set UP'!$D10=0,'Set UP'!$E10=0,'Set UP'!F10=0,),\" --\",'Set UP'!F10)","v":" --"},null,null,null,{"$f":"IF(AND(ISBLANK(F10),ISBLANK(G10),ISBLANK(H10)),\"\",(F10*60)+G10+(H10/100))","v":""},null,null,{"$f":"IF(OR(D10=\"  --\",I10=\"\"),\"\",IF(AND('Set UP'!G10=0,'Set UP'!H10=0),0,IF(I10-'Set UP'!I10*(1+$L$3/100)<=0,0,TRUNC((I10-'Set UP'!I10*(1+$L$3/100))/$K$3)+1)))","v":""},"","",{"$f":"IF('Set UP'!K10<>1,\"\",$N10)","v":""},{"$f":"IF('Set UP'!K10<>2,\"\",$N10)","v":""},{"$f":"IF('Set UP'!F10<>\"F\",\"\",$N10)","v":""},{"$f":"IF('Set UP'!F10<>\"NS\",\"\",$N10)","v":""},"","","","","","","","","","","","","",{"$f":"IF(OR(J10<>\"Finished\",W10=\"\"),\"\",(1-(N10-'Set UP'!$Z$10)/('Set UP'!$Z$10))*1000)","v":""}]
[null,5,{"$f":"IF(OR('Set UP'!$C11=0,'Set UP'!$D11=0,'Set UP'!$E11=0,'Set UP'!F11=0),\"  --\",'Set UP'!C11)","v":1424},{"$f":"IF(OR('Set UP'!$C11=0,'Set UP'!$D11=0,'Set UP'!$E11=0,'Set UP'!F11=0),\"  --\",'Set UP'!D11&\" \"&'Set UP'!E11)","v":"Keynsham B"},{"$f":"IF(OR('Set UP'!$C11=0,'Set UP'!$D11=0,'Set UP'!$E11=0,'Set UP'!F11=0,),\" --\",'Set UP'!F11)","v":"NS"},7,40,53,460.53,"Finished",1,{"$f":"IF(OR(D11=\"  --\",I11=\"\"),\"\",IF(AND('Set UP'!G11=0,'Set UP'!H11=0),0,IF(I11-'Set UP'!I11*(1+$L$3/100)<=0,0,TRUNC((I11-'Set UP'!I11*(1+$L$3/100))/$K$3)+1)))","v":0},1,475.53,{"$f":"IF('Set UP'!K11<>1,\"\",$N11)","v":""},{"$f":"IF('Set UP'!K11<>2,\"\",$N11)","v":""},{"$f":"IF('Set UP'!F11<>\"F\",\"\",$N11)","v":""},{"$f":"IF('Set UP'!F11<>\"NS\",\"\",$N11)","v":475.53},7,55,52.999999999997272,11,11,"","","","","","",1,1,{"$f":"IF(OR(J11<>\"Finished\",W11=\"\"),\"\",(1-(N11-'Set UP'!$Z$10)/('Set UP'!$Z$10))*1000)","v":795.66924148410806}]
[null,6,{"$f":"IF(OR('Set UP'!$C12=0,'Set UP'!$D12=0,'Set UP'!$E12=0,'Set UP'!F12=0),\"  --\",'Set UP'!C12)","v":1423},{"$f":"IF(OR('Set UP'!$C12=0,'Set UP'!$D12=0,'Set UP'!$E12=0,'Set UP'!F12=0),\"  --\",'Set UP'!D12&\" \"&'Set UP'!E12)","v":"Keynsham A"},{"$f":"IF(OR('Set UP'!$C12=0,'Set UP'!$D12=0,'Set UP'!$E12=0,'Set UP'!F12=0,),\" --\",'Set UP'!F12)","v":"NS"},9,25,46,565.46,"Finished",null,{"$f":"IF(OR(D12=\"  --\",I12=\"\"),\"\",IF(AND('Set UP'!G12=0,'Set UP'!H12=0),0,IF(I12-'Set UP'!I12*(1+$L$3/100)<=0,0,TRUNC((I12-'Set UP'!I12*(1+$L$3/100))/$K$3)+1)))","v":0},0,565.46,{"$f":"IF('Set UP'!K12<>1,\"\",$N12)","v":""},{"$f":"IF('Set UP'!K12<>2,\"\",$N12)","v":""},{"$f":"IF('Set UP'!F12<>\"F\",\"\",$N12)","v":""},{"$f":"IF('Set UP'!F12<>\"NS\",\"\",$N12)","v":565.46},9,25,46.000000000003638,24,24,"","","","","","",2,2,{"$f":"IF(OR(J12<>\"Finished\",W12=\"\"),\"\",(1-(N12-'Set UP'!$Z$10)/('Set UP'!$Z$10))*1000)","v":567.91186526529054}]
[null,7,{"$f":"IF(OR('Set UP'!$C13=0,'Set UP'!$D13=0,'Set UP'!$E13=0,'Set UP'!F13=0),\"  --\",'Set UP'!C13)","v":1433},{"$f":"IF(OR('Set UP'!$C13=0,'Set UP'!$D13=0,'Set UP'!$E13=0,'Set UP'!F13=0),\"  --\",'Set UP'!D13&\" \"&'Set UP'!E13)","v":"University of Nottingham B"},{"$f":"IF(OR('Set UP'!$C13=0,'Set UP'!$D13=0,'Set UP'!$E13=0,'Set UP'!F13=0,),\" --\",'Set UP'!F13)","v":"S"},9,5,91,545.91,"Finished",null,{"$f":"IF(OR(D13=\"  --\",I13=\"\"),\"\",IF(AND('Set UP'!G13=0,'Set UP'!H13=0),0,IF(I13-'Set UP'!I13*(1+$L$3/100)<=0,0,TRUNC((I13-'Set UP'!I13*(1+$L$3/100))/$K$3)+1)))","v":0},0,545.91,{"$f":"IF('Set UP'!K13<>1,\"\",$N13)","v":""},{"$f":"IF('Set UP'!K13<>2,\"\",$N13)","v":545.91},{"$f":"IF('Set UP'!F13<>\"F\",\"\",$N13)","v":""},{"$f":"IF('Set UP'!F13<>\"NS\",\"\",$N13)","v":""},9,5,90.999999999996817,22,22,"","",11,11,"","","","",{"$f":"IF(OR(J13<>\"Finished\",W13=\"\"),\"\",(1-(N13-'Set UP'!$Z$10)/('Set UP'!$Z$10))*1000)","v":617.42433835633801}]
[null,8,{"$f":"IF(OR('Set UP'!$C14=0,'Set UP'!$D14=0,'Set UP'!$E14=0,'Set UP'!F14=0),\"  --\",'Set UP'!C14)","v":1441},{"$f":"IF(OR('Set UP'!$C14=0,'Set UP'!$D14=0,'Set UP'!$E14=0,'Set UP'!F14=0),\"  --\",'Set UP'!D14&\" \"&'Set UP'!E14)","v":"University of Plymouth C"},{"$f":"IF(OR('Set UP'!$C14=0,'Set UP'!$D14=0,'Set UP'!$E14=0,'Set UP'!F14=0,),\" --\",'Set UP'!F14)","v":"NC"},8,37,69,517.69000000000005,"Finished",2,{"$f":"IF(OR(D14=\"  --\",I14=\"\"),\"\",IF(AND('Set UP'!G14=0,'Set UP'!H14=0),0,IF(I14-'Set UP'!I14*(1+$L$3/100)<=0,0,TRUNC((I14-'Set UP'!I14*(1+$L$3/100))/$K$3)+1)))","v":0},2,547.69000000000005,{"$f":"IF('Set UP'!K14<>1,\"\",$N14)","v":""},{"$f":"IF('Set UP'!K14<>2,\"\",$N14)","v":""},{"$f":"IF('Set UP'!F14<>\"F\",\"\",$N14)","v":""},{"$f":"IF('Set UP'!F14<>\"NS\",\"\",$N14)","v":""},9,7,69.000000000005457,23,23,"","","","","","","","",{"$f":"IF(OR(J14<>\"Finished\",W14=\"\"),\"\",(1-(N14-'Set UP'!$Z$10)/('Set UP'!$Z$10))*1000)","v":612.91629732809929}]
[null,9,{"$f":"IF(OR('Set UP'!$C15=0,'Set UP'!$D15=0,'Set UP'!$E15=0,'Set UP'!F15=0),\"  --\",'Set UP'!C15)","v":1440},{"$f":"IF(OR('Set UP'!$C15=0,'Set UP'!$D15=0,'Set UP'!$E15=0,'Set UP'!F15=0),\"  --\",'Set UP'!D15&\" \"&'Set UP'!E15)","v":"University of Plymouth B"},{"$f":"IF(OR('Set UP'!$C15=0,'Set UP'!$D15=0,'Set UP'!$E15=0,'Set UP'!F15=0,),\" --\",'Set UP'!F15)","v":"S"},7,52,6,472.06,"Finished",1,{"$f":"IF(OR(D15=\"  --\",I15=\"\"),\"\",IF(AND('Set UP'!G15=0,'Set UP'!H15=0),0,IF(I15-'Set UP'!I15*(1+$L$3/100)<=0,0,TRUNC((I15-'Set UP'!I15*(1+$L$3/100))/$K$3)+1)))","v":0},1,487.06,{"$f":"IF('Set UP'!K15<>1,\"\",$N15)","v":""},{"$f":"IF('Set UP'!K15<>2,\"\",$N15)","v":487.06},{"$f":"IF('Set UP'!F15<>\"F\",\"\",$N15)","v":""},{"$f":"IF('Set UP'!F15<>\"NS\",\"\",$N15)","v":""},8,7,6.0000000000002274,13,13,"","",5,5,"","","","",{"$f":"IF(OR(J15<>\"Finished\",W15=\"\"),\"\",(1-(N15-'Set UP'!$Z$10)/('Set UP'!$Z$10))*1000)","v":766.4682790933266}]
[null,10,{"$f":"IF(OR('Set UP'!$C16=0,'Set UP'!$D16=0,'Set UP'!$E16=0,'Set UP'!F16=0),\"  --\",'Set UP'!C16)","v":1431},{"$f":"IF(OR('Set UP'!$C16=0,'Set UP'!$D16=0,'Set UP'!$E16=0,'Set UP'!F16=0),\"  --\",'Set UP'!D16&\" \"&'Set UP'!E16)","v":"University of Nottingham C"},{"$f":"IF(OR('Set UP'!$C16=0,'Set UP'!$D16=0,'Set UP'!$E16=0,'Set UP'!F16=0,),\" --\",'Set UP'!F16)","v":"S"},8,53,79,533.79,"Finished",null,{"$f":"IF(OR(D16=\"  --\",I16=\"\"),\"\",IF(AND('Set UP'!G16=0,'Set UP'!H16=0),0,IF(I16-'Set UP'!I16*(1+$L$3/100)<=0,0,TRUNC((I16-'Set UP'!I16*(1+$L$3/100))/$K$3)+1)))","v":0},0,533.79,{"$f":"IF('Set UP'!K16<>1,\"\",$N16)","v":""},{"$f":"IF('Set UP'!K16<>2,\"\",$N16)","v":533.79},{"$f":"IF('Set UP'!F16<>\"F\",\"\",$N16)","v":""},{"$f":"IF('Set UP'!F16<>\"NS\",\"\",$N16)","v":""},8,53,78.999999999996362,20,20,"","",9,9,"","","","",{"$f":"IF(OR(J16<>\"Finished\",W16=\"\"),\"\",(1-(N16-'Set UP'!$Z$10)/('Set UP'!$Z$10))*1000)","v":648.11953906546808}]
[null,11,{"$f":"IF(OR('Set UP'!$C17=0,'Set UP'!$D17=0,'Set UP'!$E17=0,'Set UP'!F17=0),\"  --\",'Set UP'!C17)","v":1445},{"$f":"IF(OR('Set UP'!$C17=0,'Set UP'!$D17=0,'Set UP'!$E17=0,'Set UP'!F17=0),\"  --\",'Set UP'!D17&\" \"&'Set UP'!E17)","v":"University of Birmingham D"},{"$f":"IF(OR('Set UP'!$C17=0,'Set UP'!$D17=0,'Set UP'!$E17=0,'Set UP'!F17=0,),\" --\",'Set UP'!F17)","v":"NC"},8,38,66,518.66,"Finished",null,{"$f":"IF(OR(D17=\"  --\",I17=\"\"),\"\",IF(AND('Set UP'!G17=0,'Set UP'!H17=0),0,IF(I17-'Set UP'!I17*(1+$L$3/100)<=0,0,TRUNC((I17-'Set UP'!I17*(1+$L$3/100))/$K$3)+1)))","v":0},0,518.66,{"$f":"IF('Set UP'!K17<>1,\"\",$N17)","v":""},{"$f":"IF('Set UP'!K17<>2,\"\",$N17)","v":""},{"$f":"IF('Set UP'!F17<>\"F\",\"\",$N17)","v":""},{"$f":"IF('Set UP'!F17<>\"NS\",\"\",$N17)","v":""},8,38,65.999999999996817,19,19,"","","","","","","","",{"$f":"IF(OR(J17<>\"Finished\",W17=\"\"),\"\",(1-(N17-'Set UP'!$Z$10)/('Set UP'!$Z$10))*1000)","v":686.43788780549596}]
[null,12,{"$f":"IF(OR('Set UP'!$C18=0,'Set UP'!$D18=0,'Set UP'!$E18=0,'Set UP'!F18=0),\"  --\",'Set UP'!C18)","v":"  --"},{"$f":"IF(OR('Set UP'!$C18=0,'Set UP'!$D18=0,'Set UP'!$E18=0,'Set UP'!F18=0),\"  --\",'Set UP'!D18&\" \"&'Set UP'!E18)","v":"  --"},{"$f":"IF(OR('Set UP'!$C18=0,'Set UP'!$D18=0,'Set UP'!$E18=0,'Set UP'!F18=0,),\" --\",'Set UP'!F18)","v":" --"},null,null,null,"",null,null,{"$f":"IF(OR(D18=\"  --\",I18=\"\"),\"\",IF(AND('Set UP'!G18=0,'Set UP'!H18=0),0,IF(I18-'Set UP'!I18*(1+$L$3/100)<=0,0,TRUNC((I18-'Set UP'!I18*(1+$L$3/100))/$K$3)+1)))","v":""},"","",{"$f":"IF('Set UP'!K18<>1,\"\",$N18)","v":""},{"$f":"IF('Set UP'!K18<>2,\"\",$N18)","v":""},{"$f":"IF('Set UP'!F18<>\"F\",\"\",$N18)","v":""},{"$f":"IF('Set UP'!F18<>\"NS\",\"\",$N18)","v":""},"","","","","","","","","","","","","",{"$f":"IF(OR(J18<>\"Finished\",W18=\"\"),\"\",(1-(N18-'Set UP'!$Z$10)/('Set UP'!$Z$10))*1000)","v":""}]
[null,13,{"$f":"IF(OR('Set UP'!$C19=0,'Set UP'!$D19=0,'Set UP'!$E19=0,'Set UP'!F19=0),\"  --\",'Set UP'!C19)","v":1426},{"$f":"IF(OR('Set UP'!$C19=0,'Set UP'!$D19=0,'Set UP'!$E19=0,'Set UP'!F19=0),\"  --\",'Set UP'!D19&\" \"&'Set UP'!E19)","v":"London Universities B"},{"$f":"IF(OR('Set UP'!$C19=0,'Set UP'!$D19=0,'Set UP'!$E19=0,'Set UP'!F19=0,),\" --\",'Set UP'!F19)","v":"S"},8,7,71,487.71,"Finished",null,{"$f":"IF(OR(D19=\"  --\",I19=\"\"),\"\",IF(AND('Set UP'!G19=0,'Set UP'!H19=0),0,IF(I19-'Set UP'!I19*(1+$L$3/100)<=0,0,TRUNC((I19-'Set UP'!I19*(1+$L$3/100))/$K$3)+1)))","v":0},0,487.71,{"$f":"IF('Set UP'!K19<>1,\"\",$N19)","v":""},{"$f":"IF('Set UP'!K19<>2,\"\",$N19)","v":487.71},{"$f":"IF('Set UP'!F19<>\"F\",\"\",$N19)","v":""},{"$f":"IF('Set UP'!F19<>\"NS\",\"\",$N19)","v":""},8,7,70.999999999997954,14,14,"","",6,6,"","","","",{"$f":"IF(OR(J19<>\"Finished\",W19=\"\"),\"\",(1-(N19-'Set UP'!$Z$10)/('Set UP'!$Z$10))*1000)","v":764.82208433582389}]
[null,14,{"$f":"IF(OR('Set UP'!$C20=0,'Set UP'!$D20=0,'Set UP'!$E20=0,'Set UP'!F20=0),\"  --\",'Set UP'!C20)","v":"  --"},{"$f":"IF(OR('Set UP'!$C20=0,'Set UP'!$D20=0,'Set UP'!$E20=0,'Set UP'!F20=0),\"  --\",'Set UP'!D20&\" \"&'Set UP'!E20)","v":"  --"},{"$f":"IF(OR('Set UP'!$C20=0,'Set UP'!$D20=0,'Set UP'!$E20=0,'Set UP'!F20=0,),\" --\",'Set UP'!F20)","v":" --"},null,null,null,"",null,null,{"$f":"IF(OR(D20=\"  --\",I20=\"\"),\"\",IF(AND('Set UP'!G20=0,'Set UP'!H20=0),0,IF(I20-'Set UP'!I20*(1+$L$3/100)<=0,0,TRUNC((I20-'Set UP'!I20*(1+$L$3/100))/$K$3)+1)))","v":""},"","",{"$f":"IF('Set UP'!K20<>1,\"\",$N20)","v":""},{"$f":"IF('Set UP'!K20<>2,\"\",$N20)","v":""},{"$f":"IF('Set UP'!F20<>\"F\",\"\",$N20)","v":""},{"$f":"IF('Set UP'!F20<>\"NS\",\"\",$N20)","v":""},"","","","","","","","","","","","","",{"$f":"IF(OR(J20<>\"Finished\",W20=\"\"),\"\",(1-(N20-'Set UP'!$Z$10)/('Set UP'!$Z$10))*1000)","v":""}]
[null,15,{"$f":"IF(OR('Set UP'!$C21=0,'Set UP'!$D21=0,'Set UP'!$E21=0,'Set UP'!F21=0),\"  --\",'Set UP'!C21)","v":1427},{"$f":"IF(OR('Set UP'!$C21=0,'Set UP'!$D21=0,'Set UP'!$E21=0,'Set UP'!F21=0),\"  --\",'Set UP'!D21&\" \"&'Set UP'!E21)","v":"University of Southampton A"},{"$f":"IF(OR('Set UP'!$C21=0,'Set UP'!$D21=0,'Set UP'!$E21=0,'Set UP'!F21=0,),\" --\",'Set UP'!F21)","v":"S"},8,24,81,504.81,"Finished",null,{"$f":"IF(OR(D21=\"  --\",I21=\"\"),\"\",IF(AND('Set UP'!G21=0,'Set UP'!H21=0),0,IF(I21-'Set UP'!I21*(1+$L$3/100)<=0,0,TRUNC((I21-'Set UP'!I21*(1+$L$3/100))/$K$3)+1)))","v":0},0,504.81,{"$f":"IF('Set UP'!K21<>1,\"\",$N21)","v":504.81},{"$f":"IF('Set UP'!K21<>2,\"\",$N21)","v":""},{"$f":"IF('Set UP'!F21<>\"F\",\"\",$N21)","v":""},{"$f":"IF('Set UP'!F21<>\"NS\",\"\",$N21)","v":""},8,24,81.000000000000227,18,18,9,9,"","","","","","",{"$f":"IF(OR(J21<>\"Finished\",W21=\"\"),\"\",(1-(N21-'Set UP'!$Z$10)/('Set UP'!$Z$10))*1000)","v":721.51449917690275}]
[null,16,{"$f":"IF(OR('Set UP'!$C22=0,'Set UP'!$D22=0,'Set UP'!$E22=0,'Set UP'!F22=0),\"  --\",'Set UP'!C22)","v":1444},{"$f":"IF(OR('Set UP'!$C22=0,'Set UP'!$D22=0,'Set UP'!$E22=0,'Set UP'!F22=0),\"  --\",'Set UP'!D22&\" \"&'Set UP'!E22)","v":"University of Birmingham C"},{"$f":"IF(OR('Set UP'!$C22=0,'Set UP'!$D22=0,'Set UP'!$E22=0,'Set UP'!F22=0,),\" --\",'Set UP'!F22)","v":"S"},7,51,25,471.25,"Finished",null,{"$f":"IF(OR(D22=\"  --\",I22=\"\"),\"\",IF(AND('Set UP'!G22=0,'Set UP'!H22=0),0,IF(I22-'Set UP'!I22*(1+$L$3/100)<=0,0,TRUNC((I22-'Set UP'!I22*(1+$L$3/100))/$K$3)+1)))","v":0},0,471.25,{"$f":"IF('Set UP'!K22<>1,\"\",$N22)","v":""},{"$f":"IF('Set UP'!K22<>2,\"\",$N22)","v":471.25},{"$f":"IF('Set UP'!F22<>\"F\",\"\",$N22)","v":""},{"$f":"IF('Set UP'!F22<>\"NS\",\"\",$N22)","v":""},7,51,25,10,10,"","",4,4,"","","","",{"$f":"IF(OR(J22<>\"Finished\",W22=\"\"),\"\",(1-(N22-'Set UP'!$Z$10)/('Set UP'!$Z$10))*1000)","v":806.50880081043442}]
[null,17,{"$f":"IF(OR('Set UP'!$C23=0,'Set UP'!$D23=0,'Set UP'!$E23=0,'Set UP'!F23=0),\"  --\",'Set UP'!C23)","v":1439},{"$f":"IF(OR('Set UP'!$C23=0,'Set UP'!$D23=0,'Set UP'!$E23=0,'Set UP'!F23=0),\"  --\",'Set UP'!D23&\" \"&'Set UP'!E23)","v":"University of Plymouth A"},{"$f":"IF(OR('Set UP'!$C23=0,'Set UP'!$D23=0,'Set UP'!$E23=0,'Set UP'!F23=0,),\" --\",'Set UP'!F23)","v":"S"},7,53,97,473.97,"Finished",1,{"$f":"IF(OR(D23=\"  --\",I23=\"\"),\"\",IF(AND('Set UP'!G23=0,'Set UP'!H23=0),0,IF(I23-'Set UP'!I23*(1+$L$3/100)<=0,0,TRUNC((I23-'Set UP'!I23*(1+$L$3/100))/$K$3)+1)))","v":0},1,488.97,{"$f":"IF('Set UP'!K23<>1,\"\",$N23)","v":488.97},{"$f":"IF('Set UP'!K23<>2,\"\",$N23)","v":""},{"$f":"IF('Set UP'!F23<>\"F\",\"\",$N23)","v":""},{"$f":"IF('Set UP'!F23<>\"NS\",\"\",$N23)","v":""},8,8,97.000000000002728,15,15,8,8,"","","","","","",{"$f":"IF(OR(J23<>\"Finished\",W23=\"\"),\"\",(1-(N23-'Set UP'!$Z$10)/('Set UP'!$Z$10))*1000)","v":761.63099911358745}]
[null,18,{"$f":"IF(OR('Set UP'!$C24=0,'Set UP'!$D24=0,'Set UP'!$E24=0,'Set UP'!F24=0),\"  --\",'Set UP'!C24)","v":1461},{"$f":"IF(OR('Set UP'!$C24=0,'Set UP'!$D24=0,'Set UP'!$E24=0,'Set UP'!F24=0),\"  --\",'Set UP'!D24&\" \"&'Set UP'!E24)","v":"Bristol University B"},{"$f":"IF(OR('Set UP'!$C24=0,'Set UP'!$D24=0,'Set UP'!$E24=0,'Set UP'!F24=0,),\" --\",'Set UP'!F24)","v":"S"},9,0,25,540.25,"Finished",null,{"$f":"IF(OR(D24=\"  --\",I24=\"\"),\"\",IF(AND('Set UP'!G24=0,'Set UP'!H24=0),0,IF(I24-'Set UP'!I24*(1+$L$3/100)<=0,0,TRUNC((I24-'Set UP'!I24*(1+$L$3/100))/$K$3)+1)))","v":0},0,540.25,{"$f":"IF('Set UP'!K24<>1,\"\",$N24)","v":""},{"$f":"IF('Set UP'!K24<>2,\"\",$N24)","v":540.25},{"$f":"IF('Set UP'!F24<>\"F\",\"\",$N24)","v":""},{"$f":"IF('Set UP'!F24<>\"NS\",\"\",$N24)","v":""},9,0,25,21,21,"","",10,10,"","","","",{"$f":"IF(OR(J24<>\"Finished\",W24=\"\"),\"\",(1-(N24-'Set UP'!$Z$10)/('Set UP'!$Z$10))*1000)","v":631.75889578320891}]
[null,19,{"$f":"IF(OR('Set UP'!$C25=0,'Set UP'!$D25=0,'Set UP'!$E25=0,'Set UP'!F25=0),\"  --\",'Set UP'!C25)","v":1436},{"$f":"IF(OR('Set UP'!$C25=0,'Set UP'!$D25=0,'Set UP'!$E25=0,'Set UP'!F25=0),\"  --\",'Set UP'!D25&\" \"&'Set UP'!E25)","v":"Loughborough University C"},{"$f":"IF(OR('Set UP'!$C25=0,'Set UP'!$D25=0,'Set UP'!$E25=0,'Set UP'!F25=0,),\" --\",'Set UP'!F25)","v":"S"},7,26,40,446.4,"Finished",null,{"$f":"IF(OR(D25=\"  --\",I25=\"\"),\"\",IF(AND('Set UP'!G25=0,'Set UP'!H25=0),0,IF(I25-'Set UP'!I25*(1+$L$3/100)<=0,0,TRUNC((I25-'Set UP'!I25*(1+$L$3/100))/$K$3)+1)))","v":0},0,446.4,{"$f":"IF('Set UP'!K25<>1,\"\",$N25)","v":""},{"$f":"IF('Set UP'!K25<>2,\"\",$N25)","v":446.4},{"$f":"IF('Set UP'!F25<>\"F\",\"\",$N25)","v":""},{"$f":"IF('Set UP'!F25<>\"NS\",\"\",$N25)","v":""},7,26,39.999999999997726,6,6,"","",2,2,"","","","",{"$f":"IF(OR(J25<>\"Finished\",W25=\"\"),\"\",(1-(N25-'Set UP'!$Z$10)/('Set UP'!$Z$10))*1000)","v":869.44409269342805}]
[null,20,{"$f":"IF(OR('Set UP'!$C26=0,'Set UP'!$D26=0,'Set UP'!$E26=0,'Set UP'!F26=0),\"  --\",'Set UP'!C26)","v":1443},{"$f":"IF(OR('Set UP'!$C26=0,'Set UP'!$D26=0,'Set UP'!$E26=0,'Set UP'!F26=0),\"  --\",'Set UP'!D26&\" \"&'Set UP'!E26)","v":"University of Birmingham B"},{"$f":"IF(OR('Set UP'!$C26=0,'Set UP'!$D26=0,'Set UP'!$E26=0,'Set UP'!F26=0,),\" --\",'Set UP'!F26)","v":"S"},7,31,16,451.16,"Finished",null,{"$f":"IF(OR(D26=\"  --\",I26=\"\"),\"\",IF(AND('Set UP'!G26=0,'Set UP'!H26=0),0,IF(I26-'Set UP'!I26*(1+$L$3/100)<=0,0,TRUNC((I26-'Set UP'!I26*(1+$L$3/100))/$K$3)+1)))","v":0},0,451.16,{"$f":"IF('Set UP'!K26<>1,\"\",$N26)","v":""},{"$f":"IF('Set UP'!K26<>2,\"\",$N26)","v":451.16},{"$f":"IF('Set UP'!F26<>\"F\",\"\",$N26)","v":""},{"$f":"IF('Set UP'!F26<>\"NS\",\"\",$N26)","v":""},7,31,16.000000000002501,8,8,"","",3,3,"","","","",{"$f":"IF(OR(J26<>\"Finished\",W26=\"\"),\"\",(1-(N26-'Set UP'!$Z$10)/('Set UP'!$Z$10))*1000)","v":857.3888818538685}]
[null,21,{"$f":"IF(OR('Set UP'!$C27=0,'Set UP'!$D27=0,'Set UP'!$E27=0,'Set UP'!F27=0),\"  --\",'Set UP'!C27)","v":1434},{"$f":"IF(OR('Set UP'!$C27=0,'Set UP'!$D27=0,'Set UP'!$E27=0,'Set UP'!F27=0),\"  --\",'Set UP'!D27&\" \"&'Set UP'!E27)","v":"Loughborough University A"},{"$f":"IF(OR('Set UP'!$C27=0,'Set UP'!$D27=0,'Set UP'!$E27=0,'Set UP'!F27=0,),\" --\",'Set UP'!F27)","v":"S"},7,44,13,464.13,"Finished",null,{"$f":"IF(OR(D27=\"  --\",I27=\"\"),\"\",IF(AND('Set UP'!G27=0,'Set UP'!H27=0),0,IF(I27-'Set UP'!I27*(1+$L$3/100)<=0,0,TRUNC((I27-'Set UP'!I27*(1+$L$3/100))/$K$3)+1)))","v":0},0,464.13,{"$f":"IF('Set UP'!K27<>1,\"\",$N27)","v":464.13},{"$f":"IF('Set UP'!K27<>2,\"\",$N27)","v":""},{"$f":"IF('Set UP'!F27<>\"F\",\"\",$N27)","v":""},{"$f":"IF('Set UP'!F27<>\"NS\",\"\",$N27)","v":""},7,44,12.999999999999545,9,9,6,6,"","","","","","",{"$f":"IF(OR(J27<>\"Finished\",W27=\"\"),\"\",(1-(N27-'Set UP'!$Z$10)/('Set UP'!$Z$10))*1000)","v":824.54096492338874}]
[null,22,{"$f":"IF(OR('Set UP'!$C28=0,'Set UP'!$D28=0,'Set UP'!$E28=0,'Set UP'!F28=0),\"  --\",'Set UP'!C28)","v":1435},{"$f":"IF(OR('Set UP'!$C28=0,'Set UP'!$D28=0,'Set UP'!$E28=0,'Set UP'!F28=0),\"  --\",'Set UP'!D28&\" \"&'Set UP'!E28)","v":"Loughborough University B"},{"$f":"IF(OR('Set UP'!$C28=0,'Set UP'!$D28=0,'Set UP'!$E28=0,'Set UP'!F28=0,),\" --\",'Set UP'!F28)","v":"S"},7,9,25,429.25,"Finished",null,{"$f":"IF(OR(D28=\"  --\",I28=\"\"),\"\",IF(AND('Set UP'!G28=0,'Set UP'!H28=0),0,IF(I28-'Set UP'!I28*(1+$L$3/100)<=0,0,TRUNC((I28-'Set UP'!I28*(1+$L$3/100))/$K$3)+1)))","v":0},0,429.25,{"$f":"IF('Set UP'!K28<>1,\"\",$N28)","v":""},{"$f":"IF('Set UP'!K28<>2,\"\",$N28)","v":429.25},{"$f":"IF('Set UP'!F28<>\"F\",\"\",$N28)","v":""},{"$f":"IF('Set UP'!F28<>\"NS\",\"\",$N28)","v":""},7,9,25,3,3,"","",1,1,"","","","",{"$f":"IF(OR(J28<>\"Finished\",W28=\"\"),\"\",(1-(N28-'Set UP'!$Z$10)/('Set UP'!$Z$10))*1000)","v":912.87830821831085}]
[null,23,{"$f":"IF(OR('Set UP'!$C29=0,'Set UP'!$D29=0,'Set UP'!$E29=0,'Set UP'!F29=0),\"  --\",'Set UP'!C29)","v":1457},{"$f":"IF(OR('Set UP'!$C29=0,'Set UP'!$D29=0,'Set UP'!$E29=0,'Set UP'!F29=0),\"  --\",'Set UP'!D29&\" \"&'Set UP'!E29)","v":"University of Warwick B"},{"$f":"IF(OR('Set UP'!$C29=0,'Set UP'!$D29=0,'Set UP'!$E29=0,'Set UP'!F29=0,),\" --\",'Set UP'!F29)","v":"S"},8,13,31,493.31,"Finished",null,{"$f":"IF(OR(D29=\"  --\",I29=\"\"),\"\",IF(AND('Set UP'!G29=0,'Set UP'!H29=0),0,IF(I29-'Set UP'!I29*(1+$L$3/100)<=0,0,TRUNC((I29-'Set UP'!I29*(1+$L$3/100))/$K$3)+1)))","v":0},0,493.31,{"$f":"IF('Set UP'!K29<>1,\"\",$N29)","v":""},{"$f":"IF('Set UP'!K29<>2,\"\",$N29)","v":493.31},{"$f":"IF('Set UP'!F29<>\"F\",\"\",$N29)","v":""},{"$f":"IF('Set UP'!F29<>\"NS\",\"\",$N29)","v":""},8,13,31.000000000000227,16,16,"","",7,7,"","","","",{"$f":"IF(OR(J29<>\"Finished\",W29=\"\"),\"\",(1-(N29-'Set UP'!$Z$10)/('Set UP'!$Z$10))*1000)","v":750.63948334810698}]
[null,24,{"$f":"IF(OR('Set UP'!$C30=0,'Set UP'!$D30=0,'Set UP'!$E30=0,'Set UP'!F30=0),\"  --\",'Set UP'!C30)","v":1429},{"$f":"IF(OR('Set UP'!$C30=0,'Set UP'!$D30=0,'Set UP'!$E30=0,'Set UP'!F30=0),\"  --\",'Set UP'!D30&\" \"&'Set UP'!E30)","v":"University of Nottingham A"},{"$f":"IF(OR('Set UP'!$C30=0,'Set UP'!$D30=0,'Set UP'!$E30=0,'Set UP'!F30=0,),\" --\",'Set UP'!F30)","v":"S"},8,3,60,483.6,"Finished",null,{"$f":"IF(OR(D30=\"  --\",I30=\"\"),\"\",IF(AND('Set UP'!G30=0,'Set UP'!H30=0),0,IF(I30-'Set UP'!I30*(1+$L$3/100)<=0,0,TRUNC((I30-'Set UP'!I30*(1+$L$3/100))/$K$3)+1)))","v":0},0,483.6,{"$f":"IF('Set UP'!K30<>1,\"\",$N30)","v":483.6},{"$f":"IF('Set UP'!K30<>2,\"\",$N30)","v":""},{"$f":"IF('Set UP'!F30<>\"F\",\"\",$N30)","v":""},{"$f":"IF('Set UP'!F30<>\"NS\",\"\",$N30)","v":""},8,3,60.000000000002274,12,12,7,7,"","","","","","",{"$f":"IF(OR(J30<>\"Finished\",W30=\"\"),\"\",(1-(N30-'Set UP'!$Z$10)/('Set UP'!$Z$10))*1000)","v":775.23110041788027}]
[null,25,{"$f":"IF(OR('Set UP'!$C31=0,'Set UP'!$D31=0,'Set UP'!$E31=0,'Set UP'!F31=0),\"  --\",'Set UP'!C31)","v":1438},{"$f":"IF(OR('Set UP'!$C31=0,'Set UP'!$D31=0,'Set UP'!$E31=0,'Set UP'!F31=0),\"  --\",'Set UP'!D31&\" \"&'Set UP'!E31)","v":"Swansea Universities Lifesaving B"},{"$f":"IF(OR('Set UP'!$C31=0,'Set UP'!$D31=0,'Set UP'!$E31=0,'Set UP'!F31=0,),\" --\",'Set UP'!F31)","v":"S"},8,5,75,485.75,"Finished",1,{"$f":"IF(OR(D31=\"  --\",I31=\"\"),\"\",IF(AND('Set UP'!G31=0,'Set UP'!H31=0),0,IF(I31-'Set UP'!I31*(1+$L$3/100)<=0,0,TRUNC((I31-'Set UP'!I31*(1+$L$3/100))/$K$3)+1)))","v":0},1,500.75,{"$f":"IF('Set UP'!K31<>1,\"\",$N31)","v":""},{"$f":"IF('Set UP'!K31<>2,\"\",$N31)","v":500.75},{"$f":"IF('Set UP'!F31<>\"F\",\"\",$N31)","v":""},{"$f":"IF('Set UP'!F31<>\"NS\",\"\",$N31)","v":""},8,20,75,17,17,"","",8,8,"","","","",{"$f":"IF(OR(J31<>\"Finished\",W31=\"\"),\"\",(1-(N31-'Set UP'!$Z$10)/('Set UP'!$Z$10))*1000)","v":731.79688489299747}]
[null,26,{"$f":"IF(OR('Set UP'!$C32=0,'Set UP'!$D32=0,'Set UP'!$E32=0,'Set UP'!F32=0),\"  --\",'Set UP'!C32)","v":1442},{"$f":"IF(OR('Set UP'!$C32=0,'Set UP'!$D32=0,'Set UP'!$E32=0,'Set UP'!F32=0),\"  --\",'Set UP'!D32&\" \"&'Set UP'!E32)","v":"University of Birmingham A"},{"$f":"IF(OR('Set UP'!$C32=0,'Set UP'!$D32=0,'Set UP'!$E32=0,'Set UP'!F32=0,),\" --\",'Set UP'!F32)","v":"S"},7,27,25,447.25,"Finished",null,{"$f":"IF(OR(D32=\"  --\",I32=\"\"),\"\",IF(AND('Set UP'!G32=0,'Set UP'!H32=0),0,IF(I32-'Set UP'!I32*(1+$L$3/100)<=0,0,TRUNC((I32-'Set UP'!I32*(1+$L$3/100))/$K$3)+1)))","v":0},0,447.25,{"$f":"IF('Set UP'!K32<>1,\"\",$N32)","v":447.25},{"$f":"IF('Set UP'!K32<>2,\"\",$N32)","v":""},{"$f":"IF('Set UP'!F32<>\"F\",\"\",$N32)","v":""},{"$f":"IF('Set UP'!F32<>\"NS\",\"\",$N32)","v":""},7,27,25,7,7,5,5,"","","","","","",{"$f":"IF(OR(J32<>\"Finished\",W32=\"\"),\"\",(1-(N32-'Set UP'!$Z$10)/('Set UP'!$Z$10))*1000)","v":867.29137647207813}]
[null,27,{"$f":"IF(OR('Set UP'!$C33=0,'Set UP'!$D33=0,'Set UP'!$E33=0,'Set UP'!F33=0),\"  --\",'Set UP'!C33)","v":1456},{"$f":"IF(OR('Set UP'!$C33=0,'Set UP'!$D33=0,'Set UP'!$E33=0,'Set UP'!F33=0),\"  --\",'Set UP'!D33&\" \"&'Set UP'!E33)","v":"University of Warwick A"},{"$f":"IF(OR('Set UP'!$C33=0,'Set UP'!$D33=0,'Set UP'!$E33=0,'Set UP'!F33=0,),\" --\",'Set UP'!F33)","v":"S"},7,2,47,422.47,"Finished",null,{"$f":"IF(OR(D33=\"  --\",I33=\"\"),\"\",IF(AND('Set UP'!G33=0,'Set UP'!H33=0),0,IF(I33-'Set UP'!I33*(1+$L$3/100)<=0,0,TRUNC((I33-'Set UP'!I33*(1+$L$3/100))/$K$3)+1)))","v":0},0,422.47,{"$f":"IF('Set UP'!K33<>1,\"\",$N33)","v":422.47},{"$f":"IF('Set UP'!K33<>2,\"\",$N33)","v":""},{"$f":"IF('Set UP'!F33<>\"F\",\"\",$N33)","v":""},{"$f":"IF('Set UP'!F33<>\"NS\",\"\",$N33)","v":""},7,2,47.000000000002728,1,1,1,1,"","","","","","",{"$f":"IF(OR(J33<>\"Finished\",W33=\"\"),\"\",(1-(N33-'Set UP'!$Z$10)/('Set UP'!$Z$10))*1000)","v":930.04938584272509}]
[null,28,{"$f":"IF(OR('Set UP'!$C34=0,'Set UP'!$D34=0,'Set UP'!$E34=0,'Set UP'!F34=0),\"  --\",'Set UP'!C34)","v":1460},{"$f":"IF(OR('Set UP'!$C34=0,'Set UP'!$D34=0,'Set UP'!$E34=0,'Set UP'!F34=0),\"  --\",'Set UP'!D34&\" \"&'Set UP'!E34)","v":"Bristol University A"},{"$f":"IF(OR('Set UP'!$C34=0,'Set UP'!$D34=0,'Set UP'!$E34=0,'Set UP'!F34=0,),\" --\",'Set UP'!F34)","v":"S"},7,14,3,434.03,"Finished",null,{"$f":"IF(OR(D34=\"  --\",I34=\"\"),\"\",IF(AND('Set UP'!G34=0,'Set UP'!H34=0),0,IF(I34-'Set UP'!I34*(1+$L$3/100)<=0,0,TRUNC((I34-'Set UP'!I34*(1+$L$3/100))/$K$3)+1)))","v":0},0,434.03,{"$f":"IF('Set UP'!K34<>1,\"\",$N34)","v":434.03},{"$f":"IF('Set UP'!K34<>2,\"\",$N34)","v":""},{"$f":"IF('Set UP'!F34<>\"F\",\"\",$N34)","v":""},{"$f":"IF('Set UP'!F34<>\"NS\",\"\",$N34)","v":""},7,14,2.9999999999972715,4,4,3,3,"","","","","","",{"$f":"IF(OR(J34<>\"Finished\",W34=\"\"),\"\",(1-(N34-'Set UP'!$Z$10)/('Set UP'!$Z$10))*1000)","v":900.77244523236686}]
[null,29,{"$f":"IF(OR('Set UP'!$C35=0,'Set UP'!$D35=0,'Set UP'!$E35=0,'Set UP'!F35=0),\"  --\",'Set UP'!C35)","v":1437},{"$f":"IF(OR('Set UP'!$C35=0,'Set UP'!$D35=0,'Set UP'!$E35=0,'Set UP'!F35=0),\"  --\",'Set UP'!D35&\" \"&'Set UP'!E35)","v":"Swansea Universities Lifesaving A"},{"$f":"IF(OR('Set UP'!$C35=0,'Set UP'!$D35=0,'Set UP'!$E35=0,'Set UP'!F35=0,),\" --\",'Set UP'!F35)","v":"S"},7,2,84,422.84,"Finished",1,{"$f":"IF(OR(D35=\"  --\",I35=\"\"),\"\",IF(AND('Set UP'!G35=0,'Set UP'!H35=0),0,IF(I35-'Set UP'!I35*(1+$L$3/100)<=0,0,TRUNC((I35-'Set UP'!I35*(1+$L$3/100))/$K$3)+1)))","v":0},1,437.84,{"$f":"IF('Set UP'!K35<>1,\"\",$N35)","v":437.84},{"$f":"IF('Set UP'!K35<>2,\"\",$N35)","v":""},{"$f":"IF('Set UP'!F35<>\"F\",\"\",$N35)","v":""},{"$f":"IF('Set UP'!F35<>\"NS\",\"\",$N35)","v":""},7,17,83.999999999997499,5,5,4,4,"","","","","","",{"$f":"IF(OR(J35<>\"Finished\",W35=\"\"),\"\",(1-(N35-'Set UP'!$Z$10)/('Set UP'!$Z$10))*1000)","v":891.12321134608101}]
[null,30,{"$f":"IF(OR('Set UP'!$C36=0,'Set UP'!$D36=0,'Set UP'!$E36=0,'Set UP'!F36=0),\"  --\",'Set UP'!C36)","v":1425},{"$f":"IF(OR('Set UP'!$C36=0,'Set UP'!$D36=0,'Set UP'!$E36=0,'Set UP'!F36=0),\"  --\",'Set UP'!D36&\" \"&'Set UP'!E36)","v":"London Universities A"},{"$f":"IF(OR('Set UP'!$C36=0,'Set UP'!$D36=0,'Set UP'!$E36=0,'Set UP'!F36=0,),\" --\",'Set UP'!F36)","v":"S"},7,6,0,426,"Finished",null,{"$f":"IF(OR(D36=\"  --\",I36=\"\"),\"\",IF(AND('Set UP'!G36=0,'Set UP'!H36=0),0,IF(I36-'Set UP'!I36*(1+$L$3/100)<=0,0,TRUNC((I36-'Set UP'!I36*(1+$L$3/100))/$K$3)+1)))","v":0},0,426,{"$f":"IF('Set UP'!K36<>1,\"\",$N36)","v":426},{"$f":"IF('Set UP'!K36<>2,\"\",$N36)","v":""},{"$f":"IF('Set UP'!F36<>\"F\",\"\",$N36)","v":""},{"$f":"IF('Set UP'!F36<>\"NS\",\"\",$N36)","v":""},7,6,0,2,2,2,2,"","","","","","",{"$f":"IF(OR(J36<>\"Finished\",W36=\"\"),\"\",(1-(N36-'Set UP'!$Z$10)/('Set UP'!$Z$10))*1000)","v":921.10928200582509}]
[null,31,{"$f":"IF(OR('Set UP'!$C37=0,'Set UP'!$D37=0,'Set UP'!$E37=0,'Set UP'!F37=0),\"  --\",'Set UP'!C37)","v":"  --"},{"$f":"IF(OR('Set UP'!$C37=0,'Set UP'!$D37=0,'Set UP'!$E37=0,'Set UP'!F37=0),\"  --\",'Set UP'!D37&\" \"&'Set UP'!E37)","v":"  --"},{"$f":"IF(OR('Set UP'!$C37=0,'Set UP'!$D37=0,'Set UP'!$E37=0,'Set UP'!F37=0,),\" --\",'Set UP'!F37)","v":" --"},null,null,null,"",null,null,{"$f":"IF(OR(D37=\"  --\",I37=\"\"),\"\",IF(AND('Set UP'!G37=0,'Set UP'!H37=0),0,IF(I37-'Set UP'!I37*(1+$L$3/100)<=0,0,TRUNC((I37-'Set UP'!I37*(1+$L$3/100))/$K$3)+1)))","v":""},"","",{"$f":"IF('Set UP'!K37<>1,\"\",$N37)","v":""},{"$f":"IF('Set UP'!K37<>2,\"\",$N37)","v":""},{"$f":"IF('Set UP'!F37<>\"F\",\"\",$N37)","v":""},{"$f":"IF('Set UP'!F37<>\"NS\",\"\",$N37)","v":""},"","","","","","","","","","","","","",{"$f":"IF(OR(J37<>\"Finished\",W37=\"\"),\"\",(1-(N37-'Set UP'!$Z$10)/('Set UP'!$Z$10))*1000)","v":""}]
[null,32,{"$f":"IF(OR('Set UP'!$C38=0,'Set UP'!$D38=0,'Set UP'!$E38=0,'Set UP'!F38=0),\"  --\",'Set UP'!C38)","v":"  --"},{"$f":"IF(OR('Set UP'!$C38=0,'Set UP'!$D38=0,'Set UP'!$E38=0,'Set UP'!F38=0),\"  --\",'Set UP'!D38&\" \"&'Set UP'!E38)","v":"  --"},{"$f":"IF(OR('Set UP'!$C38=0,'Set UP'!$D38=0,'Set UP'!$E38=0,'Set UP'!F38=0,),\" --\",'Set UP'!F38)","v":" --"},null,null,null,"",null,null,{"$f":"IF(OR(D38=\"  --\",I38=\"\"),\"\",IF(AND('Set UP'!G38=0,'Set UP'!H38=0),0,IF(I38-'Set UP'!I38*(1+$L$3/100)<=0,0,TRUNC((I38-'Set UP'!I38*(1+$L$3/100))/$K$3)+1)))","v":""},"","",{"$f":"IF('Set UP'!K38<>1,\"\",$N38)","v":""},{"$f":"IF('Set UP'!K38<>2,\"\",$N38)","v":""},{"$f":"IF('Set UP'!F38<>\"F\",\"\",$N38)","v":""},{"$f":"IF('Set UP'!F38<>\"NS\",\"\",$N38)","v":""},"","","","","","","","","","","","","",{"$f":"IF(OR(J38<>\"Finished\",W38=\"\"),\"\",(1-(N38-'Set UP'!$Z$10)/('Set UP'!$Z$10))*1000)","v":""}]
[null,33,{"$f":"IF(OR('Set UP'!$C39=0,'Set UP'!$D39=0,'Set UP'!$E39=0,'Set UP'!F39=0),\"  --\",'Set UP'!C39)","v":"  --"},{"$f":"IF(OR('Set UP'!$C39=0,'Set UP'!$D39=0,'Set UP'!$E39=0,'Set UP'!F39=0),\"  --\",'Set UP'!D39&\" \"&'Set UP'!E39)","v":"  --"},{"$f":"IF(OR('Set UP'!$C39=0,'Set UP'!$D39=0,'Set UP'!$E39=0,'Set UP'!F39=0,),\" --\",'Set UP'!F39)","v":" --"},null,null,null,"",null,null,{"$f":"IF(OR(D39=\"  --\",I39=\"\"),\"\",IF(AND('Set UP'!G39=0,'Set UP'!H39=0),0,IF(I39-'Set UP'!I39*(1+$L$3/100)<=0,0,TRUNC((I39-'Set UP'!I39*(1+$L$3/100))/$K$3)+1)))","v":""},"","",{"$f":"IF('Set UP'!K39<>1,\"\",$N39)","v":""},{"$f":"IF('Set UP'!K39<>2,\"\",$N39)","v":""},{"$f":"IF('Set UP'!F39<>\"F\",\"\",$N39)","v":""},{"$f":"IF('Set UP'!F39<>\"NS\",\"\",$N39)","v":""},"","","","","","","","","","","","","",{"$f":"IF(OR(J39<>\"Finished\",W39=\"\"),\"\",(1-(N39-'Set UP'!$Z$10)/('Set UP'!$Z$10))*1000)","v":""}]
[null,34,{"$f":"IF(OR('Set UP'!$C40=0,'Set UP'!$D40=0,'Set UP'!$E40=0,'Set UP'!F40=0),\"  --\",'Set UP'!C40)","v":"  --"},{"$f":"IF(OR('Set UP'!$C40=0,'Set UP'!$D40=0,'Set UP'!$E40=0,'Set UP'!F40=0),\"  --\",'Set UP'!D40&\" \"&'Set UP'!E40)","v":"  --"},{"$f":"IF(OR('Set UP'!$C40=0,'Set UP'!$D40=0,'Set UP'!$E40=0,'Set UP'!F40=0,),\" --\",'Set UP'!F40)","v":" --"},null,null,null,"",null,null,{"$f":"IF(OR(D40=\"  --\",I40=\"\"),\"\",IF(AND('Set UP'!G40=0,'Set UP'!H40=0),0,IF(I40-'Set UP'!I40*(1+$L$3/100)<=0,0,TRUNC((I40-'Set UP'!I40*(1+$L$3/100))/$K$3)+1)))","v":""},"","",{"$f":"IF('Set UP'!K40<>1,\"\",$N40)","v":""},{"$f":"IF('Set UP'!K40<>2,\"\",$N40)","v":""},{"$f":"IF('Set UP'!F40<>\"F\",\"\",$N40)","v":""},{"$f":"IF('Set UP'!F40<>\"NS\",\"\",$N40)","v":""},"","","","","","","","","","","","","",{"$f":"IF(OR(J40<>\"Finished\",W40=\"\"),\"\",(1-(N40-'Set UP'!$Z$10)/('Set UP'!$Z$10))*1000)","v":""}]
[null,35,{"$f":"IF(OR('Set UP'!$C41=0,'Set UP'!$D41=0,'Set UP'!$E41=0,'Set UP'!F41=0),\"  --\",'Set UP'!C41)","v":"  --"},{"$f":"IF(OR('Set UP'!$C41=0,'Set UP'!$D41=0,'Set UP'!$E41=0,'Set UP'!F41=0),\"  --\",'Set UP'!D41&\" \"&'Set UP'!E41)","v":"  --"},{"$f":"IF(OR('Set UP'!$C41=0,'Set UP'!$D41=0,'Set UP'!$E41=0,'Set UP'!F41=0,),\" --\",'Set UP'!F41)","v":" --"},null,null,null,"",null,null,{"$f":"IF(OR(D41=\"  --\",I41=\"\"),\"\",IF(AND('Set UP'!G41=0,'Set UP'!H41=0),0,IF(I41-'Set UP'!I41*(1+$L$3/100)<=0,0,TRUNC((I41-'Set UP'!I41*(1+$L$3/100))/$K$3)+1)))","v":""},"","",{"$f":"IF('Set UP'!K41<>1,\"\",$N41)","v":""},{"$f":"IF('Set UP'!K41<>2,\"\",$N41)","v":""},{"$f":"IF('Set UP'!F41<>\"F\",\"\",$N41)","v":""},{"$f":"IF('Set UP'!F41<>\"NS\",\"\",$N41)","v":""},"","","","","","","","","","","","","",{"$f":"IF(OR(J41<>\"Finished\",W41=\"\"),\"\",(1-(N41-'Set UP'!$Z$10)/('Set UP'!$Z$10))*1000)","v":""}]
[null,36,{"$f":"IF(OR('Set UP'!$C42=0,'Set UP'!$D42=0,'Set UP'!$E42=0,'Set UP'!F42=0),\"  --\",'Set UP'!C42)","v":"  --"},{"$f":"IF(OR('Set UP'!$C42=0,'Set UP'!$D42=0,'Set UP'!$E42=0,'Set UP'!F42=0),\"  --\",'Set UP'!D42&\" \"&'Set UP'!E42)","v":"  --"},{"$f":"IF(OR('Set UP'!$C42=0,'Set UP'!$D42=0,'Set UP'!$E42=0,'Set UP'!F42=0,),\" --\",'Set UP'!F42)","v":" --"},null,null,null,"",null,null,{"$f":"IF(OR(D42=\"  --\",I42=\"\"),\"\",IF(AND('Set UP'!G42=0,'Set UP'!H42=0),0,IF(I42-'Set UP'!I42*(1+$L$3/100)<=0,0,TRUNC((I42-'Set UP'!I42*(1+$L$3/100))/$K$3)+1)))","v":""},"","",{"$f":"IF('Set UP'!K42<>1,\"\",$N42)","v":""},{"$f":"IF('Set UP'!K42<>2,\"\",$N42)","v":""},{"$f":"IF('Set UP'!F42<>\"F\",\"\",$N42)","v":""},{"$f":"IF('Set UP'!F42<>\"NS\",\"\",$N42)","v":""},"","","","","","","","","","","","","",{"$f":"IF(OR(J42<>\"Finished\",W42=\"\"),\"\",(1-(N42-'Set UP'!$Z$10)/('Set UP'!$Z$10))*1000)","v":""}]
[null,37,{"$f":"IF(OR('Set UP'!$C43=0,'Set UP'!$D43=0,'Set UP'!$E43=0,'Set UP'!F43=0),\"  --\",'Set UP'!C43)","v":"  --"},{"$f":"IF(OR('Set UP'!$C43=0,'Set UP'!$D43=0,'Set UP'!$E43=0,'Set UP'!F43=0),\"  --\",'Set UP'!D43&\" \"&'Set UP'!E43)","v":"  --"},{"$f":"IF(OR('Set UP'!$C43=0,'Set UP'!$D43=0,'Set UP'!$E43=0,'Set UP'!F43=0,),\" --\",'Set UP'!F43)","v":" --"},null,null,null,"",null,null,{"$f":"IF(OR(D43=\"  --\",I43=\"\"),\"\",IF(AND('Set UP'!G43=0,'Set UP'!H43=0),0,IF(I43-'Set UP'!I43*(1+$L$3/100)<=0,0,TRUNC((I43-'Set UP'!I43*(1+$L$3/100))/$K$3)+1)))","v":""},"","",{"$f":"IF('Set UP'!K43<>1,\"\",$N43)","v":""},{"$f":"IF('Set UP'!K43<>2,\"\",$N43)","v":""},{"$f":"IF('Set UP'!F43<>\"F\",\"\",$N43)","v":""},{"$f":"IF('Set UP'!F43<>\"NS\",\"\",$N43)","v":""},"","","","","","","","","","","","","",{"$f":"IF(OR(J43<>\"Finished\",W43=\"\"),\"\",(1-(N43-'Set UP'!$Z$10)/('Set UP'!$Z$10))*1000)","v":""}]
[null,38,{"$f":"IF(OR('Set UP'!$C44=0,'Set UP'!$D44=0,'Set UP'!$E44=0,'Set UP'!F44=0),\"  --\",'Set UP'!C44)","v":"  --"},{"$f":"IF(OR('Set UP'!$C44=0,'Set UP'!$D44=0,'Set UP'!$E44=0,'Set UP'!F44=0),\"  --\",'Set UP'!D44&\" \"&'Set UP'!E44)","v":"  --"},{"$f":"IF(OR('Set UP'!$C44=0,'Set UP'!$D44=0,'Set UP'!$E44=0,'Set UP'!F44=0,),\" --\",'Set UP'!F44)","v":" --"},null,null,null,"",null,null,{"$f":"IF(OR(D44=\"  --\",I44=\"\"),\"\",IF(AND('Set UP'!G44=0,'Set UP'!H44=0),0,IF(I44-'Set UP'!I44*(1+$L$3/100)<=0,0,TRUNC((I44-'Set UP'!I44*(1+$L$3/100))/$K$3)+1)))","v":""},"","",{"$f":"IF('Set UP'!K44<>1,\"\",$N44)","v":""},{"$f":"IF('Set UP'!K44<>2,\"\",$N44)","v":""},{"$f":"IF('Set UP'!F44<>\"F\",\"\",$N44)","v":""},{"$f":"IF('Set UP'!F44<>\"NS\",\"\",$N44)","v":""},"","","","","","","","","","","","","",{"$f":"IF(OR(J44<>\"Finished\",W44=\"\"),\"\",(1-(N44-'Set UP'!$Z$10)/('Set UP'!$Z$10))*1000)","v":""}]
[null,39,{"$f":"IF(OR('Set UP'!$C45=0,'Set UP'!$D45=0,'Set UP'!$E45=0,'Set UP'!F45=0),\"  --\",'Set UP'!C45)","v":"  --"},{"$f":"IF(OR('Set UP'!$C45=0,'Set UP'!$D45=0,'Set UP'!$E45=0,'Set UP'!F45=0),\"  --\",'Set UP'!D45&\" \"&'Set UP'!E45)","v":"  --"},{"$f":"IF(OR('Set UP'!$C45=0,'Set UP'!$D45=0,'Set UP'!$E45=0,'Set UP'!F45=0,),\" --\",'Set UP'!F45)","v":" --"},null,null,null,"",null,null,{"$f":"IF(OR(D45=\"  --\",I45=\"\"),\"\",IF(AND('Set UP'!G45=0,'Set UP'!H45=0),0,IF(I45-'Set UP'!I45*(1+$L$3/100)<=0,0,TRUNC((I45-'Set UP'!I45*(1+$L$3/100))/$K$3)+1)))","v":""},"","",{"$f":"IF('Set UP'!K45<>1,\"\",$N45)","v":""},{"$f":"IF('Set UP'!K45<>2,\"\",$N45)","v":""},{"$f":"IF('Set UP'!F45<>\"F\",\"\",$N45)","v":""},{"$f":"IF('Set UP'!F45<>\"NS\",\"\",$N45)","v":""},"","","","",{"$f":"IF(N45=\"Disqualified\",MAX($T$7:$T$46)+1,V45)","v":""},"","","","","","","","",{"$f":"IF(OR(J45<>\"Finished\",W45=\"\"),\"\",(1-(N45-'Set UP'!$Z$10)/('Set UP'!$Z$10))*1000)","v":""}]
[null,40,{"$f":"IF(OR('Set UP'!$C46=0,'Set UP'!$D46=0,'Set UP'!$E46=0,'Set UP'!F46=0),\"  --\",'Set UP'!C46)","v":"  --"},{"$f":"IF(OR('Set UP'!$C46=0,'Set UP'!$D46=0,'Set UP'!$E46=0,'Set UP'!F46=0),\"  --\",'Set UP'!D46&\" \"&'Set UP'!E46)","v":"  --"},{"$f":"IF(OR('Set UP'!$C46=0,'Set UP'!$D46=0,'Set UP'!$E46=0,'Set UP'!F46=0,),\" --\",'Set UP'!F46)","v":" --"},null,null,null,"",null,null,{"$f":"IF(OR(D46=\"  --\",I46=\"\"),\"\",IF(AND('Set UP'!G46=0,'Set UP'!H46=0),0,IF(I46-'Set UP'!I46*(1+$L$3/100)<=0,0,TRUNC((I46-'Set UP'!I46*(1+$L$3/100))/$K$3)+1)))","v":""},"","",{"$f":"IF('Set UP'!K46<>1,\"\",$N46)","v":""},{"$f":"IF('Set UP'!K46<>2,\"\",$N46)","v":""},{"$f":"IF('Set UP'!F46<>\"F\",\"\",$N46)","v":""},{"$f":"IF('Set UP'!F46<>\"NS\",\"\",$N46)","v":""},"","","","",{"$f":"IF(N46=\"Disqualified\",MAX($T$7:$T$46)+1,V46)","v":""},"","","","","","","","",{"$f":"IF(OR(J46<>\"Finished\",W46=\"\"),\"\",(1-(N46-'Set UP'!$Z$10)/('Set UP'!$Z$10))*1000)","v":""}]
[null,null,null,null,null,null,null,null,null,null,null,null,null,null,null,null,{"$f":"IF('Set UP'!F47<>\"F\",\"\",$N47)","v":""},{"$f":"IF('Set UP'!F47<>\"NS\",\"\",$N47)","v":""},null,null,null,null,null,null,null,null,null,"","","","",{"$f":"IF(OR(J47<>\"Finished\",W47=\"\"),\"\",(1-(N47-'Set UP'!$Z$10)/('Set UP'!$Z$10))*1000)","v":""}]
[]
[]
[]
[]
[]
[]
[]
[]
[]
[]
[]
[]
[]
[null,null,null,null,null,null,null,null,null,"Finished"]
[null,null,null,null,null,null,null,null,null,"Disqualified"]

{"sheet":"Medley","index":8,"n_rows":62,"n_cols":30,"rows_kept":62,"cut":false,"hidden":false,"merged":[[2,4,2,5],[3,4,3,5],[4,25,5,25],[4,26,5,26],[4,9,5,9],[4,13,5,13],[4,23,5,23],[4,12,5,12],[4,11,5,11],[4,16,4,18],[4,10,5,10],[4,14,5,14],[4,24,5,24],[4,21,5,21],[4,22,5,22],[4,19,5,19],[4,29,5,29],[4,20,5,20],[4,1,5,1],[4,3,5,3],[4,5,4,7],[4,8,5,8],[4,4,5,4],[4,2,5,2],[4,15,5,15],[4,27,5,27],[4,28,5,28]]}
[]
[null,null,null,null,null,null,null,null,null,null,"Penalty Time (seconds)"]
[null,null,null,{"$f":"'Set UP'!Q11","v":"Medley"},"Club to Highlight",null,null,null,null,null,15]
[]
[null,null,"Web","Team","Class","Stopwatch Time",null,null,null,"Finish Status","No. \nPenalties","Total\n(Competition)","Total\n(A)","Total\n(B)","Total\n(FRESHERS)","Total\n(Non-Student)","Total Time",null,null,"Competition Position\nExcluding DQ's","Position\n(Competition)","A League Position\nExcluding DQ's","Position\n(A League)","B League Position\nExcluding DQ's","Position\n(B League)","FRESHERS League Position\nExcluding DQ's","Position\n(FRESHERS League)","Non- StudentPosition\nExcluding DQ's","Position\n(Non-Student League)","Lifesaving Points"]
[null,null,null,null,null,"mins","secs","1/100\nsec",null,null,null,null,null,null,null,null,"mins","secs","1/100 sec"]
[null,1,{"$f":"IF(OR('Set UP'!$C7=0,'Set UP'!$D7=0,'Set UP'!$E7=0,'Set UP'!F7=0),\"  --\",'Set UP'!C7)","v":1418},{"$f":"IF(OR('Set UP'!$C7=0,'Set UP'!$D7=0,'Set UP'!$E7=0,'Set UP'!F7=0),\"  --\",'Set UP'!D7&\" \"&'Set UP'!E7)","v":"Bradford On Avon Lifesaving Club  B"},{"$f":"IF(OR('Set UP'!$C7=0,'Set UP'!$D7=0,'Set UP'!$E7=0,'Set UP'!F7=0),\" --\",'Set UP'!F7)","v":"NS"},3,2,22,{"$f":"IF(AND(ISBLANK(F7),ISBLANK(G7),ISBLANK(H7)),\"\",(F7*60)+G7+(H7/100))","v":182.22},"Finished",null,{"$f":"IF(D7=\"  --\",\"\",IF(J7=\"Disqualified\",J7,IF(J7=\"Finished\",IF(OR(G7=\"\",H7=\"\"),\"\",I7+(K7*$K$3)),\"\")))","v":182.22},{"$f":"IF('Set UP'!K7<>1,\"\",$L7)","v":""},{"$f":"IF('Set UP'!K7<>2,\"\",$L7)","v":""},{"$f":"IF('Set UP'!F7<>\"F\",\"\",$L7)","v":""},{"$f":"IF('Set UP'!F7<>\"NS\",\"\",$L7)","v":182.22},{"$f":"IF(D7=\"  --\",\"\",IF(L7=\"Disqualified\",\"DQ\",IF(L7=\"\",\"\",INT(L7/60))))","v":3},{"$f":"IF(D7=\"  --\",\"\", IF(L7=\"Disqualified\",\"\",IF(L7=\"\",\"\",INT(L7-(Q7*60)))))","v":2},{"$f":"IF(D7=\"  --\",\"\", IF(L7=\"Disqualified\",\"\",IF(L7=\"\",\"\",100*(L7-((Q7*60)+R7)))))","v":21.999999999999886},{"$f":"IF(OR(L7=\"Disqualified\",L7=\"\"),\"\",RANK(L7,$L$7:$L$46,1))","v":23},{"$f":"IF(L7=\"Disqualified\",MAX($T$7:$T$46)+1,T7)","v":23},{"$f":"IF(OR($M7=\"Disqualified\",$M7=\"\"),\"\",RANK($M7,$M$7:$M$46,1))","v":""},{"$f":"IF($M7=\"Disqualified\",MAX($V$7:$V$46)+1,V7)","v":""},{"$f":"IF(OR($N7=\"Disqualified\",$N7=\"\"),\"\",RANK($N7,$N$7:$N$46,1))","v":""},{"$f":"IF($N7=\"Disqualified\",MAX($X$7:$X$46)+1,X7)","v":""},{"$f":"IF(OR($O7=\"Disqualified\",$O7=\"\"),\"\",RANK($O7,$O$7:$O$46,1))","v":""},{"$f":"IF($O7=\"Disqualified\",MAX($Z$7:$Z$46)+1,Z7)","v":""},{"$f":"IF(OR($P7=\"Disqualified\",$P7=\"\"),\"\",RANK($P7,$P$7:$P$46,1))","v":4},{"$f":"IF($P7=\"Disqualified\",MAX($AB$7:$AB$46)+1,AB7)","v":4},{"$f":"IF(OR(J7<>\"Finished\",U7=\"\"),\"\",(1-(L7-'Set UP'!$Z$11)/('Set UP'!$Z$11))*1000)","v":387.43362831858406}]
[null,2,{"$f":"IF(OR('Set UP'!$C8=0,'Set UP'!$D8=0,'Set UP'!$E8=0,'Set UP'!F8=0),\"  --\",'Set UP'!C8)","v":1419},{"$f":"IF(OR('Set UP'!$C8=0,'Set UP'!$D8=0,'Set UP'!$E8=0,'Set UP'!F8=0),\"  --\",'Set UP'!D8&\" \"&'Set UP'!E8)","v":"Bradford On Avon Lifesaving Club  A"},{"$f":"IF(OR('Set UP'!$C8=0,'Set UP'!$D8=0,'Set UP'!$E8=0,'Set UP'!F8=0),\" --\",'Set UP'!F8)","v":"NS"},2,58,28,178.28,"Finished",null,{"$f":"IF(D8=\"  --\",\"\",IF(J8=\"Disqualified\",J8,IF(J8=\"Finished\",IF(OR(G8=\"\",H8=\"\"),\"\",I8+(K8*$K$3)),\"\")))","v":178.28},{"$f":"IF('Set UP'!K8<>1,\"\",$L8)","v":""},{"$f":"IF('Set UP'!K8<>2,\"\",$L8)","v":""},{"$f":"IF('Set UP'!F8<>\"F\",\"\",$L8)","v":""},{"$f":"IF('Set UP'!F8<>\"NS\",\"\",$L8)","v":178.28},2,58,28.000000000000114,22,22,"",{"$f":"IF($M8=\"Disqualified\",MAX($V$7:$V$46)+1,V8)","v":""},{"$f":"IF(OR($N8=\"Disqualified\",$N8=\"\"),\"\",RANK($N8,$N$7:$N$46,1))","v":""},{"$f":"IF($N8=\"Disqualified\",MAX($X$7:$X$46)+1,X8)","v":""},{"$f":"IF(OR($O8=\"Disqualified\",$O8=\"\"),\"\",RANK($O8,$O$7:$O$46,1))","v":""},{"$f":"IF($O8=\"Disqualified\",MAX($Z$7:$Z$46)+1,Z8)","v":""},{"$f":"IF(OR($P8=\"Disqualified\",$P8=\"\"),\"\",RANK($P8,$P$7:$P$46,1))","v":3},{"$f":"IF($P8=\"Disqualified\",MAX($AB$7:$AB$46)+1,AB8)","v":3},{"$f":"IF(OR(J8<>\"Finished\",U8=\"\"),\"\",(1-(L8-'Set UP'!$Z$11)/('Set UP'!$Z$11))*1000)","v":422.30088495575222}]
[null,3,{"$f":"IF(OR('Set UP'!$C9=0,'Set UP'!$D9=0,'Set UP'!$E9=0,'Set UP'!F9=0),\"  --\",'Set UP'!C9)","v":1417},{"$f":"IF(OR('Set UP'!$C9=0,'Set UP'!$D9=0,'Set UP'!$E9=0,'Set UP'!F9=0),\"  --\",'Set UP'!D9&\" \"&'Set UP'!E9)","v":"Bradford On Avon Lifesaving Club  C"},{"$f":"IF(OR('Set UP'!$C9=0,'Set UP'!$D9=0,'Set UP'!$E9=0,'Set UP'!F9=0),\" --\",'Set UP'!F9)","v":"NS"},2,57,69,177.69,"Finished",null,177.69,{"$f":"IF('Set UP'!K9<>1,\"\",$L9)","v":""},{"$f":"IF('Set UP'!K9<>2,\"\",$L9)","v":""},{"$f":"IF('Set UP'!F9<>\"F\",\"\",$L9)","v":""},{"$f":"IF('Set UP'!F9<>\"NS\",\"\",$L9)","v":177.69},2,57,68.999999999999773,21,21,"","",{"$f":"IF(OR($N9=\"Disqualified\",$N9=\"\"),\"\",RANK($N9,$N$7:$N$46,1))","v":""},"","",{"$f":"IF($O9=\"Disqualified\",MAX($Z$7:$Z$46)+1,Z9)","v":""},2,2,{"$f":"IF(OR(J9<>\"Finished\",U9=\"\"),\"\",(1-(L9-'Set UP'!$Z$11)/('Set UP'!$Z$11))*1000)","v":427.52212389380526}]
[null,4,{"$f":"IF(OR('Set UP'!$C10=0,'Set UP'!$D10=0,'Set UP'!$E10=0,'Set UP'!F10=0),\"  --\",'Set UP'!C10)","v":"  --"},{"$f":"IF(OR('Set UP'!$C10=0,'Set UP'!$D10=0,'Set UP'!$E10=0,'Set UP'!F10=0),\"  --\",'Set UP'!D10&\" \"&'Set UP'!E10)","v":"  --"},{"$f":"IF(OR('Set UP'!$C10=0,'Set UP'!$D10=0,'Set UP'!$E10=0,'Set UP'!F10=0),\" --\",'Set UP'!F10)","v":" --"},null,null,null,"",null,null,"",{"$f":"IF('Set UP'!K10<>1,\"\",$L10)","v":""},{"$f":"IF('Set UP'!K10<>2,\"\",$L10)","v":""},{"$f":"IF('Set UP'!F10<>\"F\",\"\",$L10)","v":""},{"$f":"IF('Set UP'!F10<>\"NS\",\"\",$L10)","v":""},"","","","","","","","","","","","","",{"$f":"IF(OR(J10<>\"Finished\",U10=\"\"),\"\",(1-(L10-'Set UP'!$Z$11)/('Set UP'!$Z$11))*1000)","v":""}]
[null,5,{"$f":"IF(OR('Set UP'!$C11=0,'Set UP'!$D11=0,'Set UP'!$E11=0,'Set UP'!F11=0),\"  --\",'Set UP'!C11)","v":1424},{"$f":"IF(OR('Set UP'!$C11=0,'Set UP'!$D11=0,'Set UP'!$E11=0,'Set UP'!F11=0),\"  --\",'Set UP'!D11&\" \"&'Set UP'!E11)","v":"Keynsham B"},{"$f":"IF(OR('Set UP'!$C11=0,'Set UP'!$D11=0,'Set UP'!$E11=0,'Set UP'!F11=0),\" --\",'Set UP'!F11)","v":"NS"},2,34,28,154.28,"Finished",null,154.28,{"$f":"IF('Set UP'!K11<>1,\"\",$L11)","v":""},{"$f":"IF('Set UP'!K11<>2,\"\",$L11)","v":""},{"$f":"IF('Set UP'!F11<>\"F\",\"\",$L11)","v":""},{"$f":"IF('Set UP'!F11<>\"NS\",\"\",$L11)","v":154.28},2,34,28.000000000000114,17,17,"","","","","","",1,1,{"$f":"IF(OR(J11<>\"Finished\",U11=\"\"),\"\",(1-(L11-'Set UP'!$Z$11)/('Set UP'!$Z$11))*1000)","v":634.69026548672571}]
[null,6,{"$f":"IF(OR('Set UP'!$C12=0,'Set UP'!$D12=0,'Set UP'!$E12=0,'Set UP'!F12=0),\"  --\",'Set UP'!C12)","v":1423},{"$f":"IF(OR('Set UP'!$C12=0,'Set UP'!$D12=0,'Set UP'!$E12=0,'Set UP'!F12=0),\"  --\",'Set UP'!D12&\" \"&'Set UP'!E12)","v":"Keynsham A"},{"$f":"IF(OR('Set UP'!$C12=0,'Set UP'!$D12=0,'Set UP'!$E12=0,'Set UP'!F12=0),\" --\",'Set UP'!F12)","v":"NS"},2,56,15,176.15,"Disqualified",null,"Disqualified",{"$f":"IF('Set UP'!K12<>1,\"\",$L12)","v":""},{"$f":"IF('Set UP'!K12<>2,\"\",$L12)","v":""},{"$f":"IF('Set UP'!F12<>\"F\",\"\",$L12)","v":""},{"$f":"IF('Set UP'!F12<>\"NS\",\"\",$L12)","v":"Disqualified"},"DQ","","","",24,"","","","","","","",5,{"$f":"IF(OR(J12<>\"Finished\",U12=\"\"),\"\",(1-(L12-'Set UP'!$Z$11)/('Set UP'!$Z$11))*1000)","v":""}]
[null,7,{"$f":"IF(OR('Set UP'!$C13=0,'Set UP'!$D13=0,'Set UP'!$E13=0,'Set UP'!F13=0),\"  --\",'Set UP'!C13)","v":1433},{"$f":"IF(OR('Set UP'!$C13=0,'Set UP'!$D13=0,'Set UP'!$E13=0,'Set UP'!F13=0),\"  --\",'Set UP'!D13&\" \"&'Set UP'!E13)","v":"University of Nottingham B"},{"$f":"IF(OR('Set UP'!$C13=0,'Set UP'!$D13=0,'Set UP'!$E13=0,'Set UP'!F13=0),\" --\",'Set UP'!F13)","v":"S"},2,49,85,169.85,"Finished",null,169.85,{"$f":"IF('Set UP'!K13<>1,\"\",$L13)","v":""},{"$f":"IF('Set UP'!K13<>2,\"\",$L13)","v":169.85},{"$f":"IF('Set UP'!F13<>\"F\",\"\",$L13)","v":""},{"$f":"IF('Set UP'!F13<>\"NS\",\"\",$L13)","v":""},2,49,84.999999999999432,20,20,"","",10,10,"","","","",{"$f":"IF(OR(J13<>\"Finished\",U13=\"\"),\"\",(1-(L13-'Set UP'!$Z$11)/('Set UP'!$Z$11))*1000)","v":496.90265486725673}]
[null,8,{"$f":"IF(OR('Set UP'!$C14=0,'Set UP'!$D14=0,'Set UP'!$E14=0,'Set UP'!F14=0),\"  --\",'Set UP'!C14)","v":1441},{"$f":"IF(OR('Set UP'!$C14=0,'Set UP'!$D14=0,'Set UP'!$E14=0,'Set UP'!F14=0),\"  --\",'Set UP'!D14&\" \"&'Set UP'!E14)","v":"University of Plymouth C"},{"$f":"IF(OR('Set UP'!$C14=0,'Set UP'!$D14=0,'Set UP'!$E14=0,'Set UP'!F14=0),\" --\",'Set UP'!F14)","v":"NC"},2,45,3,165.03,"Finished",null,165.03,{"$f":"IF('Set UP'!K14<>1,\"\",$L14)","v":""},{"$f":"IF('Set UP'!K14<>2,\"\",$L14)","v":""},{"$f":"IF('Set UP'!F14<>\"F\",\"\",$L14)","v":""},{"$f":"IF('Set UP'!F14<>\"NS\",\"\",$L14)","v":""},2,45,3.0000000000001137,18,18,"","","","","","","","",{"$f":"IF(OR(J14<>\"Finished\",U14=\"\"),\"\",(1-(L14-'Set UP'!$Z$11)/('Set UP'!$Z$11))*1000)","v":539.5575221238937}]
[null,9,{"$f":"IF(OR('Set UP'!$C15=0,'Set UP'!$D15=0,'Set UP'!$E15=0,'Set UP'!F15=0),\"  --\",'Set UP'!C15)","v":1440},{"$f":"IF(OR('Set UP'!$C15=0,'Set UP'!$D15=0,'Set UP'!$E15=0,'Set UP'!F15=0),\"  --\",'Set UP'!D15&\" \"&'Set UP'!E15)","v":"University of Plymouth B"},{"$f":"IF(OR('Set UP'!$C15=0,'Set UP'!$D15=0,'Set UP'!$E15=0,'Set UP'!F15=0),\" --\",'Set UP'!F15)","v":"S"},2,18,78,138.78,"Finished",null,138.78,{"$f":"IF('Set UP'!K15<>1,\"\",$L15)","v":""},{"$f":"IF('Set UP'!K15<>2,\"\",$L15)","v":138.78},{"$f":"IF('Set UP'!F15<>\"F\",\"\",$L15)","v":""},{"$f":"IF('Set UP'!F15<>\"NS\",\"\",$L15)","v":""},2,18,78.000000000000114,9,9,"","",5,5,"","","","",{"$f":"IF(OR(J15<>\"Finished\",U15=\"\"),\"\",(1-(L15-'Set UP'!$Z$11)/('Set UP'!$Z$11))*1000)","v":771.85840707964599}]
[null,10,{"$f":"IF(OR('Set UP'!$C16=0,'Set UP'!$D16=0,'Set UP'!$E16=0,'Set UP'!F16=0),\"  --\",'Set UP'!C16)","v":1431},{"$f":"IF(OR('Set UP'!$C16=0,'Set UP'!$D16=0,'Set UP'!$E16=0,'Set UP'!F16=0),\"  --\",'Set UP'!D16&\" \"&'Set UP'!E16)","v":"University of Nottingham C"},{"$f":"IF(OR('Set UP'!$C16=0,'Set UP'!$D16=0,'Set UP'!$E16=0,'Set UP'!F16=0),\" --\",'Set UP'!F16)","v":"S"},2,53,97,173.97,"Disqualified",null,"Disqualified",{"$f":"IF('Set UP'!K16<>1,\"\",$L16)","v":""},{"$f":"IF('Set UP'!K16<>2,\"\",$L16)","v":"Disqualified"},{"$f":"IF('Set UP'!F16<>\"F\",\"\",$L16)","v":""},{"$f":"IF('Set UP'!F16<>\"NS\",\"\",$L16)","v":""},"DQ","","","",24,"","","",11,"","","","",{"$f":"IF(OR(J16<>\"Finished\",U16=\"\"),\"\",(1-(L16-'Set UP'!$Z$11)/('Set UP'!$Z$11))*1000)","v":""}]
[null,11,{"$f":"IF(OR('Set UP'!$C17=0,'Set UP'!$D17=0,'Set UP'!$E17=0,'Set UP'!F17=0),\"  --\",'Set UP'!C17)","v":1445},{"$f":"IF(OR('Set UP'!$C17=0,'Set UP'!$D17=0,'Set UP'!$E17=0,'Set UP'!F17=0),\"  --\",'Set UP'!D17&\" \"&'Set UP'!E17)","v":"University of Birmingham D"},{"$f":"IF(OR('Set UP'!$C17=0,'Set UP'!$D17=0,'Set UP'!$E17=0,'Set UP'!F17=0),\" --\",'Set UP'!F17)","v":"NC"},2,27,87,147.87,"Disqualified",null,"Disqualified",{"$f":"IF('Set UP'!K17<>1,\"\",$L17)","v":""},{"$f":"IF('Set UP'!K17<>2,\"\",$L17)","v":""},{"$f":"IF('Set UP'!F17<>\"F\",\"\",$L17)","v":""},{"$f":"IF('Set UP'!F17<>\"NS\",\"\",$L17)","v":""},"DQ","","","",24,"","","","","","","","",{"$f":"IF(OR(J17<>\"Finished\",U17=\"\"),\"\",(1-(L17-'Set UP'!$Z$11)/('Set UP'!$Z$11))*1000)","v":""}]
[null,12,{"$f":"IF(OR('Set UP'!$C18=0,'Set UP'!$D18=0,'Set UP'!$E18=0,'Set UP'!F18=0),\"  --\",'Set UP'!C18)","v":"  --"},{"$f":"IF(OR('Set UP'!$C18=0,'Set UP'!$D18=0,'Set UP'!$E18=0,'Set UP'!F18=0),\"  --\",'Set UP'!D18&\" \"&'Set UP'!E18)","v":"  --"},{"$f":"IF(OR('Set UP'!$C18=0,'Set UP'!$D18=0,'Set UP'!$E18=0,'Set UP'!F18=0),\" --\",'Set UP'!F18)","v":" --"},null,null,null,"",null,null,"",{"$f":"IF('Set UP'!K18<>1,\"\",$L18)","v":""},{"$f":"IF('Set UP'!K18<>2,\"\",$L18)","v":""},{"$f":"IF('Set UP'!F18<>\"F\",\"\",$L18)","v":""},{"$f":"IF('Set UP'!F18<>\"NS\",\"\",$L18)","v":""},"","","","","","","","","","","","","",{"$f":"IF(OR(J18<>\"Finished\",U18=\"\"),\"\",(1-(L18-'Set UP'!$Z$11)/('Set UP'!$Z$11))*1000)","v":""}]
[null,13,{"$f":"IF(OR('Set UP'!$C19=0,'Set UP'!$D19=0,'Set UP'!$E19=0,'Set UP'!F19=0),\"  --\",'Set UP'!C19)","v":1426},{"$f":"IF(OR('Set UP'!$C19=0,'Set UP'!$D19=0,'Set UP'!$E19=0,'Set UP'!F19=0),\"  --\",'Set UP'!D19&\" \"&'Set UP'!E19)","v":"London Universities B"},{"$f":"IF(OR('Set UP'!$C19=0,'Set UP'!$D19=0,'Set UP'!$E19=0,'Set UP'!F19=0),\" --\",'Set UP'!F19)","v":"S"},2,20,79,140.79,"Finished",null,140.79,{"$f":"IF('Set UP'!K19<>1,\"\",$L19)","v":""},{"$f":"IF('Set UP'!K19<>2,\"\",$L19)","v":140.79},{"$f":"IF('Set UP'!F19<>\"F\",\"\",$L19)","v":""},{"$f":"IF('Set UP'!F19<>\"NS\",\"\",$L19)","v":""},2,20,78.999999999999204,13,13,"","",6,6,"","","","",{"$f":"IF(OR(J19<>\"Finished\",U19=\"\"),\"\",(1-(L19-'Set UP'!$Z$11)/('Set UP'!$Z$11))*1000)","v":754.07079646017701}]
[null,14,{"$f":"IF(OR('Set UP'!$C20=0,'Set UP'!$D20=0,'Set UP'!$E20=0,'Set UP'!F20=0),\"  --\",'Set UP'!C20)","v":"  --"},{"$f":"IF(OR('Set UP'!$C20=0,'Set UP'!$D20=0,'Set UP'!$E20=0,'Set UP'!F20=0),\"  --\",'Set UP'!D20&\" \"&'Set UP'!E20)","v":"  --"},{"$f":"IF(OR('Set UP'!$C20=0,'Set UP'!$D20=0,'Set UP'!$E20=0,'Set UP'!F20=0),\" --\",'Set UP'!F20)","v":" --"},null,null,null,"",null,null,"",{"$f":"IF('Set UP'!K20<>1,\"\",$L20)","v":""},{"$f":"IF('Set UP'!K20<>2,\"\",$L20)","v":""},{"$f":"IF('Set UP'!F20<>\"F\",\"\",$L20)","v":""},{"$f":"IF('Set UP'!F20<>\"NS\",\"\",$L20)","v":""},"","","","","","","","","","","","","",{"$f":"IF(OR(J20<>\"Finished\",U20=\"\"),\"\",(1-(L20-'Set UP'!$Z$11)/('Set UP'!$Z$11))*1000)","v":""}]
[null,15,{"$f":"IF(OR('Set UP'!$C21=0,'Set UP'!$D21=0,'Set UP'!$E21=0,'Set UP'!F21=0),\"  --\",'Set UP'!C21)","v":1427},{"$f":"IF(OR('Set UP'!$C21=0,'Set UP'!$D21=0,'Set UP'!$E21=0,'Set UP'!F21=0),\"  --\",'Set UP'!D21&\" \"&'Set UP'!E21)","v":"University of Southampton A"},{"$f":"IF(OR('Set UP'!$C21=0,'Set UP'!$D21=0,'Set UP'!$E21=0,'Set UP'!F21=0),\" --\",'Set UP'!F21)","v":"S"},2,33,60,153.6,"Finished",null,153.6,{"$f":"IF('Set UP'!K21<>1,\"\",$L21)","v":153.6},{"$f":"IF('Set UP'!K21<>2,\"\",$L21)","v":""},{"$f":"IF('Set UP'!F21<>\"F\",\"\",$L21)","v":""},{"$f":"IF('Set UP'!F21<>\"NS\",\"\",$L21)","v":""},2,33,59.999999999999432,16,16,8,8,"","","","","","",{"$f":"IF(OR(J21<>\"Finished\",U21=\"\"),\"\",(1-(L21-'Set UP'!$Z$11)/('Set UP'!$Z$11))*1000)","v":640.70796460176996}]
[null,16,{"$f":"IF(OR('Set UP'!$C22=0,'Set UP'!$D22=0,'Set UP'!$E22=0,'Set UP'!F22=0),\"  --\",'Set UP'!C22)","v":1444},{"$f":"IF(OR('Set UP'!$C22=0,'Set UP'!$D22=0,'Set UP'!$E22=0,'Set UP'!F22=0),\"  --\",'Set UP'!D22&\" \"&'Set UP'!E22)","v":"University of Birmingham C"},{"$f":"IF(OR('Set UP'!$C22=0,'Set UP'!$D22=0,'Set UP'!$E22=0,'Set UP'!F22=0),\" --\",'Set UP'!F22)","v":"S"},2,27,28,147.28,"Finished",null,147.28,{"$f":"IF('Set UP'!K22<>1,\"\",$L22)","v":""},{"$f":"IF('Set UP'!K22<>2,\"\",$L22)","v":147.28},{"$f":"IF('Set UP'!F22<>\"F\",\"\",$L22)","v":""},{"$f":"IF('Set UP'!F22<>\"NS\",\"\",$L22)","v":""},2,27,28.000000000000114,14,14,"","",7,7,"","","","",{"$f":"IF(OR(J22<>\"Finished\",U22=\"\"),\"\",(1-(L22-'Set UP'!$Z$11)/('Set UP'!$Z$11))*1000)","v":696.63716814159295}]
[null,17,{"$f":"IF(OR('Set UP'!$C23=0,'Set UP'!$D23=0,'Set UP'!$E23=0,'Set UP'!F23=0),\"  --\",'Set UP'!C23)","v":1439},{"$f":"IF(OR('Set UP'!$C23=0,'Set UP'!$D23=0,'Set UP'!$E23=0,'Set UP'!F23=0),\"  --\",'Set UP'!D23&\" \"&'Set UP'!E23)","v":"University of Plymouth A"},{"$f":"IF(OR('Set UP'!$C23=0,'Set UP'!$D23=0,'Set UP'!$E23=0,'Set UP'!F23=0),\" --\",'Set UP'!F23)","v":"S"},2,20,78,140.78,"Finished",null,140.78,{"$f":"IF('Set UP'!K23<>1,\"\",$L23)","v":140.78},{"$f":"IF('Set UP'!K23<>2,\"\",$L23)","v":""},{"$f":"IF('Set UP'!F23<>\"F\",\"\",$L23)","v":""},{"$f":"IF('Set UP'!F23<>\"NS\",\"\",$L23)","v":""},2,20,78.000000000000114,12,12,7,7,"","","","","","",{"$f":"IF(OR(J23<>\"Finished\",U23=\"\"),\"\",(1-(L23-'Set UP'!$Z$11)/('Set UP'!$Z$11))*1000)","v":754.15929203539827}]
[null,18,{"$f":"IF(OR('Set UP'!$C24=0,'Set UP'!$D24=0,'Set UP'!$E24=0,'Set UP'!F24=0),\"  --\",'Set UP'!C24)","v":1461},{"$f":"IF(OR('Set UP'!$C24=0,'Set UP'!$D24=0,'Set UP'!$E24=0,'Set UP'!F24=0),\"  --\",'Set UP'!D24&\" \"&'Set UP'!E24)","v":"Bristol University B"},{"$f":"IF(OR('Set UP'!$C24=0,'Set UP'!$D24=0,'Set UP'!$E24=0,'Set UP'!F24=0),\" --\",'Set UP'!F24)","v":"S"},2,45,9,165.09,"Finished",null,165.09,{"$f":"IF('Set UP'!K24<>1,\"\",$L24)","v":""},{"$f":"IF('Set UP'!K24<>2,\"\",$L24)","v":165.09},{"$f":"IF('Set UP'!F24<>\"F\",\"\",$L24)","v":""},{"$f":"IF('Set UP'!F24<>\"NS\",\"\",$L24)","v":""},2,45,9.0000000000003411,19,19,"","",9,9,"","","","",{"$f":"IF(OR(J24<>\"Finished\",U24=\"\"),\"\",(1-(L24-'Set UP'!$Z$11)/('Set UP'!$Z$11))*1000)","v":539.02654867256626}]
[null,19,{"$f":"IF(OR('Set UP'!$C25=0,'Set UP'!$D25=0,'Set UP'!$E25=0,'Set UP'!F25=0),\"  --\",'Set UP'!C25)","v":1436},{"$f":"IF(OR('Set UP'!$C25=0,'Set UP'!$D25=0,'Set UP'!$E25=0,'Set UP'!F25=0),\"  --\",'Set UP'!D25&\" \"&'Set UP'!E25)","v":"Loughborough University C"},{"$f":"IF(OR('Set UP'!$C25=0,'Set UP'!$D25=0,'Set UP'!$E25=0,'Set UP'!F25=0),\" --\",'Set UP'!F25)","v":"S"},2,4,31,124.31,"Finished",null,124.31,{"$f":"IF('Set UP'!K25<>1,\"\",$L25)","v":""},{"$f":"IF('Set UP'!K25<>2,\"\",$L25)","v":124.31},{"$f":"IF('Set UP'!F25<>\"F\",\"\",$L25)","v":""},{"$f":"IF('Set UP'!F25<>\"NS\",\"\",$L25)","v":""},2,4,31.000000000000227,2,2,"","",1,1,"","","","",{"$f":"IF(OR(J25<>\"Finished\",U25=\"\"),\"\",(1-(L25-'Set UP'!$Z$11)/('Set UP'!$Z$11))*1000)","v":899.91150442477874}]
[null,20,{"$f":"IF(OR('Set UP'!$C26=0,'Set UP'!$D26=0,'Set UP'!$E26=0,'Set UP'!F26=0),\"  --\",'Set UP'!C26)","v":1443},{"$f":"IF(OR('Set UP'!$C26=0,'Set UP'!$D26=0,'Set UP'!$E26=0,'Set UP'!F26=0),\"  --\",'Set UP'!D26&\" \"&'Set UP'!E26)","v":"University of Birmingham B"},{"$f":"IF(OR('Set UP'!$C26=0,'Set UP'!$D26=0,'Set UP'!$E26=0,'Set UP'!F26=0),\" --\",'Set UP'!F26)","v":"S"},2,10,35,130.35,"Finished",null,130.35,{"$f":"IF('Set UP'!K26<>1,\"\",$L26)","v":""},{"$f":"IF('Set UP'!K26<>2,\"\",$L26)","v":130.35},{"$f":"IF('Set UP'!F26<>\"F\",\"\",$L26)","v":""},{"$f":"IF('Set UP'!F26<>\"NS\",\"\",$L26)","v":""},2,10,34.999999999999432,5,5,"","",3,3,"","","","",{"$f":"IF(OR(J26<>\"Finished\",U26=\"\"),\"\",(1-(L26-'Set UP'!$Z$11)/('Set UP'!$Z$11))*1000)","v":846.46017699115055}]
[null,21,{"$f":"IF(OR('Set UP'!$C27=0,'Set UP'!$D27=0,'Set UP'!$E27=0,'Set UP'!F27=0),\"  --\",'Set UP'!C27)","v":1434},{"$f":"IF(OR('Set UP'!$C27=0,'Set UP'!$D27=0,'Set UP'!$E27=0,'Set UP'!F27=0),\"  --\",'Set UP'!D27&\" \"&'Set UP'!E27)","v":"Loughborough University A"},{"$f":"IF(OR('Set UP'!$C27=0,'Set UP'!$D27=0,'Set UP'!$E27=0,'Set UP'!F27=0),\" --\",'Set UP'!F27)","v":"S"},2,15,90,135.9,"Finished",null,135.9,{"$f":"IF('Set UP'!K27<>1,\"\",$L27)","v":135.9},{"$f":"IF('Set UP'!K27<>2,\"\",$L27)","v":""},{"$f":"IF('Set UP'!F27<>\"F\",\"\",$L27)","v":""},{"$f":"IF('Set UP'!F27<>\"NS\",\"\",$L27)","v":""},2,15,90.000000000000568,6,6,3,3,"","","","","","",{"$f":"IF(OR(J27<>\"Finished\",U27=\"\"),\"\",(1-(L27-'Set UP'!$Z$11)/('Set UP'!$Z$11))*1000)","v":797.34513274336268}]
[null,22,{"$f":"IF(OR('Set UP'!$C28=0,'Set UP'!$D28=0,'Set UP'!$E28=0,'Set UP'!F28=0),\"  --\",'Set UP'!C28)","v":1435},{"$f":"IF(OR('Set UP'!$C28=0,'Set UP'!$D28=0,'Set UP'!$E28=0,'Set UP'!F28=0),\"  --\",'Set UP'!D28&\" \"&'Set UP'!E28)","v":"Loughborough University B"},{"$f":"IF(OR('Set UP'!$C28=0,'Set UP'!$D28=0,'Set UP'!$E28=0,'Set UP'!F28=0),\" --\",'Set UP'!F28)","v":"S"},2,7,47,127.47,"Finished",null,127.47,{"$f":"IF('Set UP'!K28<>1,\"\",$L28)","v":""},{"$f":"IF('Set UP'!K28<>2,\"\",$L28)","v":127.47},{"$f":"IF('Set UP'!F28<>\"F\",\"\",$L28)","v":""},{"$f":"IF('Set UP'!F28<>\"NS\",\"\",$L28)","v":""},2,7,46.999999999999886,3,3,"","",2,2,"","","","",{"$f":"IF(OR(J28<>\"Finished\",U28=\"\"),\"\",(1-(L28-'Set UP'!$Z$11)/('Set UP'!$Z$11))*1000)","v":871.94690265486724}]
[null,23,{"$f":"IF(OR('Set UP'!$C29=0,'Set UP'!$D29=0,'Set UP'!$E29=0,'Set UP'!F29=0),\"  --\",'Set UP'!C29)","v":1457},{"$f":"IF(OR('Set UP'!$C29=0,'Set UP'!$D29=0,'Set UP'!$E29=0,'Set UP'!F29=0),\"  --\",'Set UP'!D29&\" \"&'Set UP'!E29)","v":"University of Warwick B"},{"$f":"IF(OR('Set UP'!$C29=0,'Set UP'!$D29=0,'Set UP'!$E29=0,'Set UP'!F29=0),\" --\",'Set UP'!F29)","v":"S"},2,28,39,148.38999999999999,"Finished",null,148.38999999999999,{"$f":"IF('Set UP'!K29<>1,\"\",$L29)","v":""},{"$f":"IF('Set UP'!K29<>2,\"\",$L29)","v":148.38999999999999},{"$f":"IF('Set UP'!F29<>\"F\",\"\",$L29)","v":""},{"$f":"IF('Set UP'!F29<>\"NS\",\"\",$L29)","v":""},2,28,38.999999999998636,15,15,"","",8,8,"","","","",{"$f":"IF(OR(J29<>\"Finished\",U29=\"\"),\"\",(1-(L29-'Set UP'!$Z$11)/('Set UP'!$Z$11))*1000)","v":686.81415929203558}]
[null,24,{"$f":"IF(OR('Set UP'!$C30=0,'Set UP'!$D30=0,'Set UP'!$E30=0,'Set UP'!F30=0),\"  --\",'Set UP'!C30)","v":1429},{"$f":"IF(OR('Set UP'!$C30=0,'Set UP'!$D30=0,'Set UP'!$E30=0,'Set UP'!F30=0),\"  --\",'Set UP'!D30&\" \"&'Set UP'!E30)","v":"University of Nottingham A"},{"$f":"IF(OR('Set UP'!$C30=0,'Set UP'!$D30=0,'Set UP'!$E30=0,'Set UP'!F30=0),\" --\",'Set UP'!F30)","v":"S"},2,19,53,139.53,"Finished",null,139.53,{"$f":"IF('Set UP'!K30<>1,\"\",$L30)","v":139.53},{"$f":"IF('Set UP'!K30<>2,\"\",$L30)","v":""},{"$f":"IF('Set UP'!F30<>\"F\",\"\",$L30)","v":""},{"$f":"IF('Set UP'!F30<>\"NS\",\"\",$L30)","v":""},2,19,53.000000000000114,11,11,6,6,"","","","","","",{"$f":"IF(OR(J30<>\"Finished\",U30=\"\"),\"\",(1-(L30-'Set UP'!$Z$11)/('Set UP'!$Z$11))*1000)","v":765.22123893805303}]
[null,25,{"$f":"IF(OR('Set UP'!$C31=0,'Set UP'!$D31=0,'Set UP'!$E31=0,'Set UP'!F31=0),\"  --\",'Set UP'!C31)","v":1438},{"$f":"IF(OR('Set UP'!$C31=0,'Set UP'!$D31=0,'Set UP'!$E31=0,'Set UP'!F31=0),\"  --\",'Set UP'!D31&\" \"&'Set UP'!E31)","v":"Swansea Universities Lifesaving B"},{"$f":"IF(OR('Set UP'!$C31=0,'Set UP'!$D31=0,'Set UP'!$E31=0,'Set UP'!F31=0),\" --\",'Set UP'!F31)","v":"S"},2,17,99,137.99,"Finished",null,137.99,{"$f":"IF('Set UP'!K31<>1,\"\",$L31)","v":""},{"$f":"IF('Set UP'!K31<>2,\"\",$L31)","v":137.99},{"$f":"IF('Set UP'!F31<>\"F\",\"\",$L31)","v":""},{"$f":"IF('Set UP'!F31<>\"NS\",\"\",$L31)","v":""},2,17,99.000000000000909,8,8,"","",4,4,"","","","",{"$f":"IF(OR(J31<>\"Finished\",U31=\"\"),\"\",(1-(L31-'Set UP'!$Z$11)/('Set UP'!$Z$11))*1000)","v":778.84955752212386}]
[null,26,{"$f":"IF(OR('Set UP'!$C32=0,'Set UP'!$D32=0,'Set UP'!$E32=0,'Set UP'!F32=0),\"  --\",'Set UP'!C32)","v":1442},{"$f":"IF(OR('Set UP'!$C32=0,'Set UP'!$D32=0,'Set UP'!$E32=0,'Set UP'!F32=0),\"  --\",'Set UP'!D32&\" \"&'Set UP'!E32)","v":"University of Birmingham A"},{"$f":"IF(OR('Set UP'!$C32=0,'Set UP'!$D32=0,'Set UP'!$E32=0,'Set UP'!F32=0),\" --\",'Set UP'!F32)","v":"S"},2,17,98,137.97999999999999,"Finished",null,137.97999999999999,{"$f":"IF('Set UP'!K32<>1,\"\",$L32)","v":137.97999999999999},{"$f":"IF('Set UP'!K32<>2,\"\",$L32)","v":""},{"$f":"IF('Set UP'!F32<>\"F\",\"\",$L32)","v":""},{"$f":"IF('Set UP'!F32<>\"NS\",\"\",$L32)","v":""},2,17,97.999999999998977,7,7,4,4,"","","","","","",{"$f":"IF(OR(J32<>\"Finished\",U32=\"\"),\"\",(1-(L32-'Set UP'!$Z$11)/('Set UP'!$Z$11))*1000)","v":778.93805309734523}]
[null,27,{"$f":"IF(OR('Set UP'!$C33=0,'Set UP'!$D33=0,'Set UP'!$E33=0,'Set UP'!F33=0),\"  --\",'Set UP'!C33)","v":1456},{"$f":"IF(OR('Set UP'!$C33=0,'Set UP'!$D33=0,'Set UP'!$E33=0,'Set UP'!F33=0),\"  --\",'Set UP'!D33&\" \"&'Set UP'!E33)","v":"University of Warwick A"},{"$f":"IF(OR('Set UP'!$C33=0,'Set UP'!$D33=0,'Set UP'!$E33=0,'Set UP'!F33=0),\" --\",'Set UP'!F33)","v":"S"},2,18,81,138.81,"Finished",null,138.81,{"$f":"IF('Set UP'!K33<>1,\"\",$L33)","v":138.81},{"$f":"IF('Set UP'!K33<>2,\"\",$L33)","v":""},{"$f":"IF('Set UP'!F33<>\"F\",\"\",$L33)","v":""},{"$f":"IF('Set UP'!F33<>\"NS\",\"\",$L33)","v":""},2,18,81.000000000000227,10,10,5,5,"","","","","","",{"$f":"IF(OR(J33<>\"Finished\",U33=\"\"),\"\",(1-(L33-'Set UP'!$Z$11)/('Set UP'!$Z$11))*1000)","v":771.59292035398232}]
[null,28,{"$f":"IF(OR('Set UP'!$C34=0,'Set UP'!$D34=0,'Set UP'!$E34=0,'Set UP'!F34=0),\"  --\",'Set UP'!C34)","v":1460},{"$f":"IF(OR('Set UP'!$C34=0,'Set UP'!$D34=0,'Set UP'!$E34=0,'Set UP'!F34=0),\"  --\",'Set UP'!D34&\" \"&'Set UP'!E34)","v":"Bristol University A"},{"$f":"IF(OR('Set UP'!$C34=0,'Set UP'!$D34=0,'Set UP'!$E34=0,'Set UP'!F34=0),\" --\",'Set UP'!F34)","v":"S"},2,10,84,130.84,"Disqualified",null,"Disqualified",{"$f":"IF('Set UP'!K34<>1,\"\",$L34)","v":"Disqualified"},{"$f":"IF('Set UP'!K34<>2,\"\",$L34)","v":""},{"$f":"IF('Set UP'!F34<>\"F\",\"\",$L34)","v":""},{"$f":"IF('Set UP'!F34<>\"NS\",\"\",$L34)","v":""},"DQ","","","",24,"",9,"","","","","","",{"$f":"IF(OR(J34<>\"Finished\",U34=\"\"),\"\",(1-(L34-'Set UP'!$Z$11)/('Set UP'!$Z$11))*1000)","v":""}]
[null,29,{"$f":"IF(OR('Set UP'!$C35=0,'Set UP'!$D35=0,'Set UP'!$E35=0,'Set UP'!F35=0),\"  --\",'Set UP'!C35)","v":1437},{"$f":"IF(OR('Set UP'!$C35=0,'Set UP'!$D35=0,'Set UP'!$E35=0,'Set UP'!F35=0),\"  --\",'Set UP'!D35&\" \"&'Set UP'!E35)","v":"Swansea Universities Lifesaving A"},{"$f":"IF(OR('Set UP'!$C35=0,'Set UP'!$D35=0,'Set UP'!$E35=0,'Set UP'!F35=0),\" --\",'Set UP'!F35)","v":"S"},2,3,72,123.72,"Finished",null,123.72,{"$f":"IF('Set UP'!K35<>1,\"\",$L35)","v":123.72},{"$f":"IF('Set UP'!K35<>2,\"\",$L35)","v":""},{"$f":"IF('Set UP'!F35<>\"F\",\"\",$L35)","v":""},{"$f":"IF('Set UP'!F35<>\"NS\",\"\",$L35)","v":""},2,3,71.999999999999886,1,1,1,1,"","","","","","",{"$f":"IF(OR(J35<>\"Finished\",U35=\"\"),\"\",(1-(L35-'Set UP'!$Z$11)/('Set UP'!$Z$11))*1000)","v":905.13274336283189}]
[null,30,{"$f":"IF(OR('Set UP'!$C36=0,'Set UP'!$D36=0,'Set UP'!$E36=0,'Set UP'!F36=0),\"  --\",'Set UP'!C36)","v":1425},{"$f":"IF(OR('Set UP'!$C36=0,'Set UP'!$D36=0,'Set UP'!$E36=0,'Set UP'!F36=0),\"  --\",'Set UP'!D36&\" \"&'Set UP'!E36)","v":"London Universities A"},{"$f":"IF(OR('Set UP'!$C36=0,'Set UP'!$D36=0,'Set UP'!$E36=0,'Set UP'!F36=0),\" --\",'Set UP'!F36)","v":"S"},2,9,69,129.69,"Finished",null,129.69,{"$f":"IF('Set UP'!K36<>1,\"\",$L36)","v":129.69},{"$f":"IF('Set UP'!K36<>2,\"\",$L36)","v":""},{"$f":"IF('Set UP'!F36<>\"F\",\"\",$L36)","v":""},{"$f":"IF('Set UP'!F36<>\"NS\",\"\",$L36)","v":""},2,9,68.999999999999773,4,4,2,2,"","","","","","",{"$f":"IF(OR(J36<>\"Finished\",U36=\"\"),\"\",(1-(L36-'Set UP'!$Z$11)/('Set UP'!$Z$11))*1000)","v":852.30088495575228}]
[null,31,{"$f":"IF(OR('Set UP'!$C37=0,'Set UP'!$D37=0,'Set UP'!$E37=0,'Set UP'!F37=0),\"  --\",'Set UP'!C37)","v":"  --"},{"$f":"IF(OR('Set UP'!$C37=0,'Set UP'!$D37=0,'Set UP'!$E37=0,'Set UP'!F37=0),\"  --\",'Set UP'!D37&\" \"&'Set UP'!E37)","v":"  --"},{"$f":"IF(OR('Set UP'!$C37=0,'Set UP'!$D37=0,'Set UP'!$E37=0,'Set UP'!F37=0),\" --\",'Set UP'!F37)","v":" --"},null,null,null,"",null,null,"",{"$f":"IF('Set UP'!K37<>1,\"\",$L37)","v":""},{"$f":"IF('Set UP'!K37<>2,\"\",$L37)","v":""},{"$f":"IF('Set UP'!F37<>\"F\",\"\",$L37)","v":""},{"$f":"IF('Set UP'!F37<>\"NS\",\"\",$L37)","v":""},"","","","","","","","","","","","","",{"$f":"IF(OR(J37<>\"Finished\",U37=\"\"),\"\",(1-(L37-'Set UP'!$Z$11)/('Set UP'!$Z$11))*1000)","v":""}]
[null,32,{"$f":"IF(OR('Set UP'!$C38=0,'Set UP'!$D38=0,'Set UP'!$E38=0,'Set UP'!F38=0),\"  --\",'Set UP'!C38)","v":"  --"},{"$f":"IF(OR('Set UP'!$C38=0,'Set UP'!$D38=0,'Set UP'!$E38=0,'Set UP'!F38=0),\"  --\",'Set UP'!D38&\" \"&'Set UP'!E38)","v":"  --"},{"$f":"IF(OR('Set UP'!$C38=0,'Set UP'!$D38=0,'Set UP'!$E38=0,'Set UP'!F38=0),\" --\",'Set UP'!F38)","v":" --"},null,null,null,"",null,null,"",{"$f":"IF('Set UP'!K38<>1,\"\",$L38)","v":""},{"$f":"IF('Set UP'!K38<>2,\"\",$L38)","v":""},{"$f":"IF('Set UP'!F38<>\"F\",\"\",$L38)","v":""},{"$f":"IF('Set UP'!F38<>\"NS\",\"\",$L38)","v":""},"","","","","","","","","","","","","",{"$f":"IF(OR(J38<>\"Finished\",U38=\"\"),\"\",(1-(L38-'Set UP'!$Z$11)/('Set UP'!$Z$11))*1000)","v":""}]
[null,33,{"$f":"IF(OR('Set UP'!$C39=0,'Set UP'!$D39=0,'Set UP'!$E39=0,'Set UP'!F39=0),\"  --\",'Set UP'!C39)","v":"  --"},{"$f":"IF(OR('Set UP'!$C39=0,'Set UP'!$D39=0,'Set UP'!$E39=0,'Set UP'!F39=0),\"  --\",'Set UP'!D39&\" \"&'Set UP'!E39)","v":"  --"},{"$f":"IF(OR('Set UP'!$C39=0,'Set UP'!$D39=0,'Set UP'!$E39=0,'Set UP'!F39=0),\" --\",'Set UP'!F39)","v":" --"},null,null,null,"",null,null,"",{"$f":"IF('Set UP'!K39<>1,\"\",$L39)","v":""},{"$f":"IF('Set UP'!K39<>2,\"\",$L39)","v":""},{"$f":"IF('Set UP'!F39<>\"F\",\"\",$L39)","v":""},{"$f":"IF('Set UP'!F39<>\"NS\",\"\",$L39)","v":""},"","","","","","","","","","","","","",{"$f":"IF(OR(J39<>\"Finished\",U39=\"\"),\"\",(1-(L39-'Set UP'!$Z$11)/('Set UP'!$Z$11))*1000)","v":""}]
[null,34,{"$f":"IF(OR('Set UP'!$C40=0,'Set UP'!$D40=0,'Set UP'!$E40=0,'Set UP'!F40=0),\"  --\",'Set UP'!C40)","v":"  --"},{"$f":"IF(OR('Set UP'!$C40=0,'Set UP'!$D40=0,'Set UP'!$E40=0,'Set UP'!F40=0),\"  --\",'Set UP'!D40&\" \"&'Set UP'!E40)","v":"  --"},{"$f":"IF(OR('Set UP'!$C40=0,'Set UP'!$D40=0,'Set UP'!$E40=0,'Set UP'!F40=0),\" --\",'Set UP'!F40)","v":" --"},null,null,null,"",null,null,"",{"$f":"IF('Set UP'!K40<>1,\"\",$L40)","v":""},{"$f":"IF('Set UP'!K40<>2,\"\",$L40)","v":""},{"$f":"IF('Set UP'!F40<>\"F\",\"\",$L40)","v":""},{"$f":"IF('Set UP'!F40<>\"NS\",\"\",$L40)","v":""},"","","","","","","","","","","","","",{"$f":"IF(OR(J40<>\"Finished\",U40=\"\"),\"\",(1-(L40-'Set UP'!$Z$11)/('Set UP'!$Z$11))*1000)","v":""}]
[null,35,{"$f":"IF(OR('Set UP'!$C41=0,'Set UP'!$D41=0,'Set UP'!$E41=0,'Set UP'!F41=0),\"  --\",'Set UP'!C41)","v":"  --"},{"$f":"IF(OR('Set UP'!$C41=0,'Set UP'!$D41=0,'Set UP'!$E41=0,'Set UP'!F41=0),\"  --\",'Set UP'!D41&\" \"&'Set UP'!E41)","v":"  --"},{"$f":"IF(OR('Set UP'!$C41=0,'Set UP'!$D41=0,'Set UP'!$E41=0,'Set UP'!F41=0),\" --\",'Set UP'!F41)","v":" --"},null,null,null,"",null,null,"",{"$f":"IF('Set UP'!K41<>1,\"\",$L41)","v":""},{"$f":"IF('Set UP'!K41<>2,\"\",$L41)","v":""},{"$f":"IF('Set UP'!F41<>\"F\",\"\",$L41)","v":""},{"$f":"IF('Set UP'!F41<>\"NS\",\"\",$L41)","v":""},"","","","","","","","","","","","","",{"$f":"IF(OR(J41<>\"Finished\",U41=\"\"),\"\",(1-(L41-'Set UP'!$Z$11)/('Set UP'!$Z$11))*1000)","v":""}]
[null,36,{"$f":"IF(OR('Set UP'!$C42=0,'Set UP'!$D42=0,'Set UP'!$E42=0,'Set UP'!F42=0),\"  --\",'Set UP'!C42)","v":"  --"},{"$f":"IF(OR('Set UP'!$C42=0,'Set UP'!$D42=0,'Set UP'!$E42=0,'Set UP'!F42=0),\"  --\",'Set UP'!D42&\" \"&'Set UP'!E42)","v":"  --"},{"$f":"IF(OR('Set UP'!$C42=0,'Set UP'!$D42=0,'Set UP'!$E42=0,'Set UP'!F42=0),\" --\",'Set UP'!F42)","v":" --"},null,null,null,"",null,null,"",{"$f":"IF('Set UP'!K42<>1,\"\",$L42)","v":""},{"$f":"IF('Set UP'!K42<>2,\"\",$L42)","v":""},{"$f":"IF('Set UP'!F42<>\"F\",\"\",$L42)","v":""},{"$f":"IF('Set UP'!F42<>\"NS\",\"\",$L42)","v":""},"","","","","","","","","","","","","",{"$f":"IF(OR(J42<>\"Finished\",U42=\"\"),\"\",(1-(L42-'Set UP'!$Z$11)/('Set UP'!$Z$11))*1000)","v":""}]
[null,37,{"$f":"IF(OR('Set UP'!$C43=0,'Set UP'!$D43=0,'Set UP'!$E43=0,'Set UP'!F43=0),\"  --\",'Set UP'!C43)","v":"  --"},{"$f":"IF(OR('Set UP'!$C43=0,'Set UP'!$D43=0,'Set UP'!$E43=0,'Set UP'!F43=0),\"  --\",'Set UP'!D43&\" \"&'Set UP'!E43)","v":"  --"},{"$f":"IF(OR('Set UP'!$C43=0,'Set UP'!$D43=0,'Set UP'!$E43=0,'Set UP'!F43=0),\" --\",'Set UP'!F43)","v":" --"},null,null,null,"",null,null,"",{"$f":"IF('Set UP'!K43<>1,\"\",$L43)","v":""},{"$f":"IF('Set UP'!K43<>2,\"\",$L43)","v":""},{"$f":"IF('Set UP'!F43<>\"F\",\"\",$L43)","v":""},{"$f":"IF('Set UP'!F43<>\"NS\",\"\",$L43)","v":""},"","","","","","","","","","","","","",{"$f":"IF(OR(J43<>\"Finished\",U43=\"\"),\"\",(1-(L43-'Set UP'!$Z$11)/('Set UP'!$Z$11))*1000)","v":""}]
[null,38,{"$f":"IF(OR('Set UP'!$C44=0,'Set UP'!$D44=0,'Set UP'!$E44=0,'Set UP'!F44=0),\"  --\",'Set UP'!C44)","v":"  --"},{"$f":"IF(OR('Set UP'!$C44=0,'Set UP'!$D44=0,'Set UP'!$E44=0,'Set UP'!F44=0),\"  --\",'Set UP'!D44&\" \"&'Set UP'!E44)","v":"  --"},{"$f":"IF(OR('Set UP'!$C44=0,'Set UP'!$D44=0,'Set UP'!$E44=0,'Set UP'!F44=0),\" --\",'Set UP'!F44)","v":" --"},null,null,null,"",null,null,"",{"$f":"IF('Set UP'!K44<>1,\"\",$L44)","v":""},{"$f":"IF('Set UP'!K44<>2,\"\",$L44)","v":""},{"$f":"IF('Set UP'!F44<>\"F\",\"\",$L44)","v":""},{"$f":"IF('Set UP'!F44<>\"NS\",\"\",$L44)","v":""},"","","","","","","","","","","","","",{"$f":"IF(OR(J44<>\"Finished\",U44=\"\"),\"\",(1-(L44-'Set UP'!$Z$11)/('Set UP'!$Z$11))*1000)","v":""}]
[null,39,{"$f":"IF(OR('Set UP'!$C45=0,'Set UP'!$D45=0,'Set UP'!$E45=0,'Set UP'!F45=0),\"  --\",'Set UP'!C45)","v":"  --"},{"$f":"IF(OR('Set UP'!$C45=0,'Set UP'!$D45=0,'Set UP'!$E45=0,'Set UP'!F45=0),\"  --\",'Set UP'!D45&\" \"&'Set UP'!E45)","v":"  --"},{"$f":"IF(OR('Set UP'!$C45=0,'Set UP'!$D45=0,'Set UP'!$E45=0,'Set UP'!F45=0),\" --\",'Set UP'!F45)","v":" --"},null,null,null,"",null,null,"",{"$f":"IF('Set UP'!K45=1,\"\",$L45)","v":""},{"$f":"IF('Set UP'!K45<>2,\"\",$L45)","v":""},{"$f":"IF('Set UP'!F45<>\"F\",\"\",$L45)","v":""},{"$f":"IF('Set UP'!F45<>\"NS\",\"\",$L45)","v":""},"","","","","","","","","","","","","",{"$f":"IF(OR(J45<>\"Finished\",U45=\"\"),\"\",(1-(L45-'Set UP'!$Z$11)/('Set UP'!$Z$11))*1000)","v":""}]
[null,40,{"$f":"IF(OR('Set UP'!$C46=0,'Set UP'!$D46=0,'Set UP'!$E46=0,'Set UP'!F46=0),\"  --\",'Set UP'!C46)","v":"  --"},{"$f":"IF(OR('Set UP'!$C46=0,'Set UP'!$D46=0,'Set UP'!$E46=0,'Set UP'!F46=0),\"  --\",'Set UP'!D46&\" \"&'Set UP'!E46)","v":"  --"},{"$f":"IF(OR('Set UP'!$C46=0,'Set UP'!$D46=0,'Set UP'!$E46=0,'Set UP'!F46=0),\" --\",'Set UP'!F46)","v":" --"},null,null,null,"",null,null,"",{"$f":"IF('Set UP'!K46=1,\"\",$L46)","v":""},{"$f":"IF('Set UP'!K46<>2,\"\",$L46)","v":""},{"$f":"IF('Set UP'!F46<>\"F\",\"\",$L46)","v":""},{"$f":"IF('Set UP'!F46<>\"NS\",\"\",$L46)","v":""},"","","","","","","","","","","","","",{"$f":"IF(OR(J46<>\"Finished\",U46=\"\"),\"\",(1-(L46-'Set UP'!$Z$11)/('Set UP'!$Z$11))*1000)","v":""}]
[null,null,null,null,null,null,null,null,null,null,null,null,null,null,{"$f":"IF('Set UP'!F47<>\"F\",\"\",$L47)","v":""},null,null,null,null,null,null,null,null,null,null,"",null,null,null,{"$f":"IF(OR(J47<>\"Finished\",U47=\"\"),\"\",(1-(L47-'Set UP'!$Z$11)/('Set UP'!$Z$11))*1000)","v":""}]
[]
[]
[]
[]
[]
[]
[]
[]
[]
[]
[]
[]
[]
[null,null,null,null,null,null,null,null,null,"Finished"]
[null,null,null,null,null,null,null,null,null,"Disqualified"]

{"sheet":"Competition Places","index":9,"n_rows":47,"n_cols":6,"rows_kept":47,"cut":false,"hidden":false,"merged":[[47,1,47,6],[46,1,46,4],[2,2,2,3]]}
[]
[]
[null,null,"Competition Places",null,null,"Club to Highlight"]
[]
[null,null,"Place","Team"]
[null,null,1,"London Universities A"]
[null,null,2,"University of Warwick A"]
[null,null,3,"University of Birmingham A"]
[null,null,4,"University of Birmingham B"]
[null,null,5,"University of Nottingham A"]
[null,null,6,"University of Birmingham C"]
[null,null,7,"Loughborough University C"]
[null,null,8,"Loughborough University B"]
[null,null,9,"Bristol University A"]
[null,null,10,"Keynsham B"]
[null,null,11,"Loughborough University A"]
[null,null,12,"London Universities B"]
[null,null,13,"Bristol University B"]
[null,null,14,"University of Plymouth A"]
[null,null,15,"University of Birmingham D"]
[null,null,16,"University of Southampton A"]
[null,null,17,"University of Nottingham B"]
[null,null,18,"University of Plymouth B"]
[null,null,19,"Swansea Universities Lifesaving A"]
[null,null,20,"University of Warwick B"]
[null,null,21,"University of Nottingham C"]
[null,null,22,"Swansea Universities Lifesaving B"]
[null,null,23,"Bradford On Avon Lifesaving Club  A"]
[null,null,24,"Keynsham A"]
[null,null,25,"Bradford On Avon Lifesaving Club  C"]
[null,null,26,"University of Plymouth C"]
[null,null,27,"Bradford On Avon Lifesaving Club  B"]
[]
[]
[]
[]
[]
[]
[]
[]
[]
[]
[]
[]
[]
[]
[null,"Copyright Simon Harrison 2008, Oliver Coleman 2009"]

{"sheet":"A Places","index":10,"n_rows":47,"n_cols":6,"rows_kept":47,"cut":false,"hidden":false,"merged":[[2,2,2,3],[46,1,46,4],[47,1,47,6]]}
[]
[]
[null,null,"A Places",null,null,"Club to Highlight"]
[]
[null,null,"Place","Team"]
[null,null,1,"London Universities A"]
[null,null,2,"University of Warwick A"]
[null,null,3,"University of Birmingham A"]
[null,null,4,"Loughborough University A"]
[null,null,5,"University of Nottingham A"]
[null,null,6,"Bristol University A"]
[null,null,7,"University of Plymouth A"]
[null,null,8,"Swansea Universities Lifesaving A"]
[null,null,9,"University of Southampton A"]
[]
[]
[]
[]
[]
[]
[]
[]
[]
[]
[]
[]
[]
[]
[]
[]
[]
[]
[]
[]
[]
[]
[]
[]
[]
[]
[]
[]
[]
[]
[]
[]
[null,"Copyright Simon Harrison 2008, Oliver Coleman 2009"]

{"sheet":"B Places","index":11,"n_rows":47,"n_cols":6,"rows_kept":47,"cut":false,"hidden":false,"merged":[[2,2,2,3],[46,1,46,4],[47,1,47,6]]}
[]
[]
[null,null,"B Places",null,null,"Club to Highlight"]
[]
[null,null,"Place","Team"]
[null,null,1,"University of Birmingham B"]
[null,null,2,"Loughborough University C"]
[null,null,3,"University of Birmingham C"]
[null,null,4,"Loughborough University B"]
[null,null,5,"London Universities B"]
[null,null,6,"Bristol University B"]
[null,null,7,"University of Nottingham B"]
[null,null,8,"University of Plymouth B"]
[null,null,9,"University of Warwick B"]
[null,null,10,"University of Nottingham C"]
[null,null,11,"Swansea Universities Lifesaving B"]
[]
[]
[]
[]
[]
[]
[]
[]
[]
[]
[]
[]
[]
[]
[]
[]
[]
[]
[]
[]
[]
[]
[]
[]
[]
[]
[]
[]
[]
[]
[null,"Copyright Simon Harrison 2008, Oliver Coleman 2009"]

{"sheet":"Non-S Places","index":12,"n_rows":47,"n_cols":6,"rows_kept":47,"cut":false,"hidden":false,"merged":[[2,2,2,3],[46,1,46,4],[47,1,47,6]]}
[]
[]
[null,null,"Non- Student Places",null,null,"Club to Highlight"]
[]
[null,null,"Place","Team"]
[null,null,1,"Keynsham B"]
[null,null,2,"Keynsham A"]
[null,null,3,"Bradford On Avon Lifesaving Club  A"]
[null,null,4,"Bradford On Avon Lifesaving Club  C"]
[null,null,5,"Bradford On Avon Lifesaving Club  B"]
[]
[]
[]
[]
[]
[]
[]
[]
[]
[]
[]
[]
[]
[]
[]
[]
[]
[]
[]
[]
[]
[]
[]
[]
[]
[]
[]
[]
[]
[]
[]
[]
[]
[]
[]
[]
[null,"Copyright Simon Harrison 2008, Oliver Coleman 2009"]

{"sheet":"Competition Results","index":13,"n_rows":49,"n_cols":16,"rows_kept":49,"cut":false,"hidden":false,"merged":[[48,3,48,13],[4,3,5,3],[4,1,5,1],[4,13,5,13],[4,2,5,2],[4,4,5,4],[4,15,5,15],[2,1,2,2],[3,1,3,2],[4,14,5,14],[47,1,47,14]]}
[]
[null,null,null,null,null,"Weighting","Weighting","Weighting","Weighting","Weighting","Weighting","Weighting","Weighting"]
[null,"Club to Highlight",null,"Competition Results",null,{"$f":"'Set UP'!S6","v":2},{"$f":"'Set UP'!S7","v":2},{"$f":"'Set UP'!S8","v":0},{"$f":"'Set UP'!S9","v":1},{"$f":"'Set UP'!S10","v":1},{"$f":"'Set UP'!S11","v":1},{"$f":"'Set UP'!S12","v":0},{"$f":"'Set UP'!S13","v":0}]
[]
[null,null,"Web","Team","Class",{"$f":"'Set UP'!Q6","v":"Wet Incident"},{"$f":"'Set UP'!Q7","v":"Dry Incident"},{"$f":"'Set UP'!Q8","v":"Extra Incident"},{"$f":"'Set UP'!Q9","v":"Rope Throw"},{"$f":"'Set UP'!Q10","v":"Swim and Tow"},{"$f":"'Set UP'!Q11","v":"Medley"},{"$f":"'Set UP'!Q12","v":"Manikin Carry"},{"$f":"'Set UP'!Q13","v":"Obstacle"},"Sum of Weighted Positions","FINAL POSITION","League/Non \nStudent Position"]
[null,null,null,null,null,"Weighted Position","Weighted Position","Weighted Position","Weighted Position","Weighted Position","Weighted Position","Weighted Position","Weighted Position"]
[null,1,{"$f":"IF(OR('Set UP'!$C7=0,'Set UP'!$D7=0,'Set UP'!$E7=0,'Set UP'!F7=0),\"  --\",'Set UP'!C7)","v":1418},{"$f":"IF(OR('Set UP'!$C7=0,'Set UP'!$D7=0,'Set UP'!$E7=0,'Set UP'!F7=0),\"  --\",'Set UP'!D7&\" \"&'Set UP'!E7)","v":"Bradford On Avon Lifesaving Club  B"},{"$f":"IF(OR('Set UP'!$C7=0,'Set UP'!$D7=0,'Set UP'!$E7=0,'Set UP'!F7=0),\" --\",'Set UP'!F7)","v":"NS"},{"$f":"IF('Dry Incident'!$JQ21=\"\",\"\",'Dry Incident'!$JQ21*$F$3)","v":54},{"$f":"IF(' Wet Incident'!$JQ21=\"\",\"\",' Wet Incident'!$JQ21*$G$3)","v":50},{"$f":"IF('Extra Incident'!$JQ21=\"\",\"\",'Extra Incident'!$JQ21*$H$3)","v":0},{"$f":"IF(RopeThrow!X7=\"\",\"\",RopeThrow!X7*$I$3)","v":15},{"$f":"IF('Swim&Tow'!$W7=\"\",\"\",'Swim&Tow'!$W7*$J$3)","v":27},{"$f":"IF(Medley!$U7=\"\",\"\",Medley!$U7*$K$3)","v":23},{"$f":"IF('Manikin Carry'!$U7=\"\",\"\",'Manikin Carry'!$U7*$L$3)","v":""},{"$f":"IF(Obstacle!$U7=\"\",\"\",Obstacle!$U7*$M$3)","v":""},{"$f":"IF(AND(F7=\"\",G7=\"\",H7=\"\",I7=\"\",J7=\"\",K7=\"\",L7=\"\",M7=\"\"),\"\",SUM(F7:M7))","v":169},27,{"$f":"IF(E7=\"NS\",'Non-S Results'!O7,IF('Set UP'!K7=1,'League Results'!P7,IF('Set UP'!K7=2,'League Results'!R7,\"\")))","v":5}]
[null,2,{"$f":"IF(OR('Set UP'!$C8=0,'Set UP'!$D8=0,'Set UP'!$E8=0,'Set UP'!F8=0),\"  --\",'Set UP'!C8)","v":1419},{"$f":"IF(OR('Set UP'!$C8=0,'Set UP'!$D8=0,'Set UP'!$E8=0,'Set UP'!F8=0),\"  --\",'Set UP'!D8&\" \"&'Set UP'!E8)","v":"Bradford On Avon Lifesaving Club  A"},{"$f":"IF(OR('Set UP'!$C8=0,'Set UP'!$D8=0,'Set UP'!$E8=0,'Set UP'!F8=0),\" --\",'Set UP'!F8)","v":"NS"},{"$f":"IF('Dry Incident'!$JQ22=\"\",\"\",'Dry Incident'!$JQ22*$F$3)","v":32},{"$f":"IF(' Wet Incident'!$JQ22=\"\",\"\",' Wet Incident'!$JQ22*$G$3)","v":40},{"$f":"IF('Extra Incident'!$JQ22=\"\",\"\",'Extra Incident'!$JQ22*$H$3)","v":0},{"$f":"IF(RopeThrow!X8=\"\",\"\",RopeThrow!X8*$I$3)","v":23.5},{"$f":"IF('Swim&Tow'!$W8=\"\",\"\",'Swim&Tow'!$W8*$J$3)","v":25},{"$f":"IF(Medley!$U8=\"\",\"\",Medley!$U8*$K$3)","v":22},{"$f":"IF('Manikin Carry'!$U8=\"\",\"\",'Manikin Carry'!$U8*$L$3)","v":""},{"$f":"IF(Obstacle!$U8=\"\",\"\",Obstacle!$U8*$M$3)","v":""},{"$f":"IF(AND(F8=\"\",G8=\"\",H8=\"\",I8=\"\",J8=\"\",K8=\"\",L8=\"\",M8=\"\"),\"\",SUM(F8:M8))","v":142.5},23,{"$f":"IF(E8=\"NS\",'Non-S Results'!O8,IF('Set UP'!K8=1,'League Results'!P8,IF('Set UP'!K8=2,'League Results'!R8,\"\")))","v":3}]
[null,3,{"$f":"IF(OR('Set UP'!$C9=0,'Set UP'!$D9=0,'Set UP'!$E9=0,'Set UP'!F9=0),\"  --\",'Set UP'!C9)","v":1417},{"$f":"IF(OR('Set UP'!$C9=0,'Set UP'!$D9=0,'Set UP'!$E9=0,'Set UP'!F9=0),\"  --\",'Set UP'!D9&\" \"&'Set UP'!E9)","v":"Bradford On Avon Lifesaving Club  C"},{"$f":"IF(OR('Set UP'!$C9=0,'Set UP'!$D9=0,'Set UP'!$E9=0,'Set UP'!F9=0),\" --\",'Set UP'!F9)","v":"NS"},{"$f":"IF('Dry Incident'!$JQ23=\"\",\"\",'Dry Incident'!$JQ23*$F$3)","v":46},{"$f":"IF(' Wet Incident'!$JQ23=\"\",\"\",' Wet Incident'!$JQ23*$G$3)","v":46},{"$f":"IF('Extra Incident'!$JQ23=\"\",\"\",'Extra Incident'!$JQ23*$H$3)","v":0},{"$f":"IF(RopeThrow!X9=\"\",\"\",RopeThrow!X9*$I$3)","v":23.5},{"$f":"IF('Swim&Tow'!$W9=\"\",\"\",'Swim&Tow'!$W9*$J$3)","v":26},{"$f":"IF(Medley!$U9=\"\",\"\",Medley!$U9*$K$3)","v":21},{"$f":"IF('Manikin Carry'!$U9=\"\",\"\",'Manikin Carry'!$U9*$L$3)","v":""},{"$f":"IF(Obstacle!$U9=\"\",\"\",Obstacle!$U9*$M$3)","v":""},162.5,25,{"$f":"IF(E9=\"NS\",'Non-S Results'!O9,IF('Set UP'!K9=1,'League Results'!P9,IF('Set UP'!K9=2,'League Results'!R9,\"\")))","v":4}]
[null,4,{"$f":"IF(OR('Set UP'!$C10=0,'Set UP'!$D10=0,'Set UP'!$E10=0,'Set UP'!F10=0),\"  --\",'Set UP'!C10)","v":"  --"},{"$f":"IF(OR('Set UP'!$C10=0,'Set UP'!$D10=0,'Set UP'!$E10=0,'Set UP'!F10=0),\"  --\",'Set UP'!D10&\" \"&'Set UP'!E10)","v":"  --"},{"$f":"IF(OR('Set UP'!$C10=0,'Set UP'!$D10=0,'Set UP'!$E10=0,'Set UP'!F10=0),\" --\",'Set UP'!F10)","v":" --"},{"$f":"IF('Dry Incident'!$JQ24=\"\",\"\",'Dry Incident'!$JQ24*$F$3)","v":""},{"$f":"IF(' Wet Incident'!$JQ24=\"\",\"\",' Wet Incident'!$JQ24*$G$3)","v":""},{"$f":"IF('Extra Incident'!$JQ24=\"\",\"\",'Extra Incident'!$JQ24*$H$3)","v":""},{"$f":"IF(RopeThrow!X10=\"\",\"\",RopeThrow!X10*$I$3)","v":""},{"$f":"IF('Swim&Tow'!$W10=\"\",\"\",'Swim&Tow'!$W10*$J$3)","v":""},{"$f":"IF(Medley!$U10=\"\",\"\",Medley!$U10*$K$3)","v":""},{"$f":"IF('Manikin Carry'!$U10=\"\",\"\",'Manikin Carry'!$U10*$L$3)","v":""},{"$f":"IF(Obstacle!$U10=\"\",\"\",Obstacle!$U10*$M$3)","v":""},"",null,{"$f":"IF(E10=\"NS\",'Non-S Results'!O10,IF('Set UP'!K10=1,'League Results'!P10,IF('Set UP'!K10=2,'League Results'!R10,\"\")))","v":""}]
[null,5,{"$f":"IF(OR('Set UP'!$C11=0,'Set UP'!$D11=0,'Set UP'!$E11=0,'Set UP'!F11=0),\"  --\",'Set UP'!C11)","v":1424},{"$f":"IF(OR('Set UP'!$C11=0,'Set UP'!$D11=0,'Set UP'!$E11=0,'Set UP'!F11=0),\"  --\",'Set UP'!D11&\" \"&'Set UP'!E11)","v":"Keynsham B"},{"$f":"IF(OR('Set UP'!$C11=0,'Set UP'!$D11=0,'Set UP'!$E11=0,'Set UP'!F11=0),\" --\",'Set UP'!F11)","v":"NS"},{"$f":"IF('Dry Incident'!$JQ25=\"\",\"\",'Dry Incident'!$JQ25*$F$3)","v":28},{"$f":"IF(' Wet Incident'!$JQ25=\"\",\"\",' Wet Incident'!$JQ25*$G$3)","v":16},{"$f":"IF('Extra Incident'!$JQ25=\"\",\"\",'Extra Incident'!$JQ25*$H$3)","v":0},{"$f":"IF(RopeThrow!X11=\"\",\"\",RopeThrow!X11*$I$3)","v":7},{"$f":"IF('Swim&Tow'!$W11=\"\",\"\",'Swim&Tow'!$W11*$J$3)","v":11},{"$f":"IF(Medley!$U11=\"\",\"\",Medley!$U11*$K$3)","v":17},{"$f":"IF('Manikin Carry'!$U11=\"\",\"\",'Manikin Carry'!$U11*$L$3)","v":""},{"$f":"IF(Obstacle!$U11=\"\",\"\",Obstacle!$U11*$M$3)","v":""},79,10,{"$f":"IF(E11=\"NS\",'Non-S Results'!O11,IF('Set UP'!K11=1,'League Results'!P11,IF('Set UP'!K11=2,'League Results'!R11,\"\")))","v":1}]
[null,6,{"$f":"IF(OR('Set UP'!$C12=0,'Set UP'!$D12=0,'Set UP'!$E12=0,'Set UP'!F12=0),\"  --\",'Set UP'!C12)","v":1423},{"$f":"IF(OR('Set UP'!$C12=0,'Set UP'!$D12=0,'Set UP'!$E12=0,'Set UP'!F12=0),\"  --\",'Set UP'!D12&\" \"&'Set UP'!E12)","v":"Keynsham A"},{"$f":"IF(OR('Set UP'!$C12=0,'Set UP'!$D12=0,'Set UP'!$E12=0,'Set UP'!F12=0),\" --\",'Set UP'!F12)","v":"NS"},{"$f":"IF('Dry Incident'!$JQ26=\"\",\"\",'Dry Incident'!$JQ26*$F$3)","v":42},{"$f":"IF(' Wet Incident'!$JQ26=\"\",\"\",' Wet Incident'!$JQ26*$G$3)","v":36},{"$f":"IF('Extra Incident'!$JQ26=\"\",\"\",'Extra Incident'!$JQ26*$H$3)","v":0},{"$f":"IF(RopeThrow!X12=\"\",\"\",RopeThrow!X12*$I$3)","v":23.5},{"$f":"IF('Swim&Tow'!$W12=\"\",\"\",'Swim&Tow'!$W12*$J$3)","v":24},{"$f":"IF(Medley!$U12=\"\",\"\",Medley!$U12*$K$3)","v":24},{"$f":"IF('Manikin Carry'!$U12=\"\",\"\",'Manikin Carry'!$U12*$L$3)","v":""},{"$f":"IF(Obstacle!$U12=\"\",\"\",Obstacle!$U12*$M$3)","v":""},149.5,24,{"$f":"IF(E12=\"NS\",'Non-S Results'!O12,IF('Set UP'!K12=1,'League Results'!P12,IF('Set UP'!K12=2,'League Results'!R12,\"\")))","v":2}]
[null,7,{"$f":"IF(OR('Set UP'!$C13=0,'Set UP'!$D13=0,'Set UP'!$E13=0,'Set UP'!F13=0),\"  --\",'Set UP'!C13)","v":1433},{"$f":"IF(OR('Set UP'!$C13=0,'Set UP'!$D13=0,'Set UP'!$E13=0,'Set UP'!F13=0),\"  --\",'Set UP'!D13&\" \"&'Set UP'!E13)","v":"University of Nottingham B"},{"$f":"IF(OR('Set UP'!$C13=0,'Set UP'!$D13=0,'Set UP'!$E13=0,'Set UP'!F13=0),\" --\",'Set UP'!F13)","v":"S"},{"$f":"IF('Dry Incident'!$JQ27=\"\",\"\",'Dry Incident'!$JQ27*$F$3)","v":34},{"$f":"IF(' Wet Incident'!$JQ27=\"\",\"\",' Wet Incident'!$JQ27*$G$3)","v":20},{"$f":"IF('Extra Incident'!$JQ27=\"\",\"\",'Extra Incident'!$JQ27*$H$3)","v":0},{"$f":"IF(RopeThrow!X13=\"\",\"\",RopeThrow!X13*$I$3)","v":15},{"$f":"IF('Swim&Tow'!$W13=\"\",\"\",'Swim&Tow'!$W13*$J$3)","v":22},{"$f":"IF(Medley!$U13=\"\",\"\",Medley!$U13*$K$3)","v":20},{"$f":"IF('Manikin Carry'!$U13=\"\",\"\",'Manikin Carry'!$U13*$L$3)","v":""},{"$f":"IF(Obstacle!$U13=\"\",\"\",Obstacle!$U13*$M$3)","v":""},111,17,{"$f":"IF(E13=\"NS\",'Non-S Results'!O13,IF('Set UP'!K13=1,'League Results'!P13,IF('Set UP'!K13=2,'League Results'!R13,\"\")))","v":7}]
[null,8,{"$f":"IF(OR('Set UP'!$C14=0,'Set UP'!$D14=0,'Set UP'!$E14=0,'Set UP'!F14=0),\"  --\",'Set UP'!C14)","v":1441},{"$f":"IF(OR('Set UP'!$C14=0,'Set UP'!$D14=0,'Set UP'!$E14=0,'Set UP'!F14=0),\"  --\",'Set UP'!D14&\" \"&'Set UP'!E14)","v":"University of Plymouth C"},{"$f":"IF(OR('Set UP'!$C14=0,'Set UP'!$D14=0,'Set UP'!$E14=0,'Set UP'!F14=0),\" --\",'Set UP'!F14)","v":"NC"},{"$f":"IF('Dry Incident'!$JQ28=\"\",\"\",'Dry Incident'!$JQ28*$F$3)","v":52},{"$f":"IF(' Wet Incident'!$JQ28=\"\",\"\",' Wet Incident'!$JQ28*$G$3)","v":48},{"$f":"IF('Extra Incident'!$JQ28=\"\",\"\",'Extra Incident'!$JQ28*$H$3)","v":0},{"$f":"IF(RopeThrow!X14=\"\",\"\",RopeThrow!X14*$I$3)","v":23.5},{"$f":"IF('Swim&Tow'!$W14=\"\",\"\",'Swim&Tow'!$W14*$J$3)","v":23},{"$f":"IF(Medley!$U14=\"\",\"\",Medley!$U14*$K$3)","v":18},{"$f":"IF('Manikin Carry'!$U14=\"\",\"\",'Manikin Carry'!$U14*$L$3)","v":""},{"$f":"IF(Obstacle!$U14=\"\",\"\",Obstacle!$U14*$M$3)","v":""},164.5,26,{"$f":"IF(E14=\"NS\",'Non-S Results'!O14,IF('Set UP'!K14=1,'League Results'!P14,IF('Set UP'!K14=2,'League Results'!R14,\"\")))","v":""}]
[null,9,{"$f":"IF(OR('Set UP'!$C15=0,'Set UP'!$D15=0,'Set UP'!$E15=0,'Set UP'!F15=0),\"  --\",'Set UP'!C15)","v":1440},{"$f":"IF(OR('Set UP'!$C15=0,'Set UP'!$D15=0,'Set UP'!$E15=0,'Set UP'!F15=0),\"  --\",'Set UP'!D15&\" \"&'Set UP'!E15)","v":"University of Plymouth B"},{"$f":"IF(OR('Set UP'!$C15=0,'Set UP'!$D15=0,'Set UP'!$E15=0,'Set UP'!F15=0),\" --\",'Set UP'!F15)","v":"S"},{"$f":"IF('Dry Incident'!$JQ29=\"\",\"\",'Dry Incident'!$JQ29*$F$3)","v":40},{"$f":"IF(' Wet Incident'!$JQ29=\"\",\"\",' Wet Incident'!$JQ29*$G$3)","v":34},{"$f":"IF('Extra Incident'!$JQ29=\"\",\"\",'Extra Incident'!$JQ29*$H$3)","v":0},{"$f":"IF(RopeThrow!X15=\"\",\"\",RopeThrow!X15*$I$3)","v":15},{"$f":"IF('Swim&Tow'!$W15=\"\",\"\",'Swim&Tow'!$W15*$J$3)","v":13},{"$f":"IF(Medley!$U15=\"\",\"\",Medley!$U15*$K$3)","v":9},{"$f":"IF('Manikin Carry'!$U15=\"\",\"\",'Manikin Carry'!$U15*$L$3)","v":""},{"$f":"IF(Obstacle!$U15=\"\",\"\",Obstacle!$U15*$M$3)","v":""},111,18,{"$f":"IF(E15=\"NS\",'Non-S Results'!O15,IF('Set UP'!K15=1,'League Results'!P15,IF('Set UP'!K15=2,'League Results'!R15,\"\")))","v":8}]
[null,10,{"$f":"IF(OR('Set UP'!$C16=0,'Set UP'!$D16=0,'Set UP'!$E16=0,'Set UP'!F16=0),\"  --\",'Set UP'!C16)","v":1431},{"$f":"IF(OR('Set UP'!$C16=0,'Set UP'!$D16=0,'Set UP'!$E16=0,'Set UP'!F16=0),\"  --\",'Set UP'!D16&\" \"&'Set UP'!E16)","v":"University of Nottingham C"},{"$f":"IF(OR('Set UP'!$C16=0,'Set UP'!$D16=0,'Set UP'!$E16=0,'Set UP'!F16=0),\" --\",'Set UP'!F16)","v":"S"},{"$f":"IF('Dry Incident'!$JQ30=\"\",\"\",'Dry Incident'!$JQ30*$F$3)","v":30},{"$f":"IF(' Wet Incident'!$JQ30=\"\",\"\",' Wet Incident'!$JQ30*$G$3)","v":40},{"$f":"IF('Extra Incident'!$JQ30=\"\",\"\",'Extra Incident'!$JQ30*$H$3)","v":0},{"$f":"IF(RopeThrow!X16=\"\",\"\",RopeThrow!X16*$I$3)","v":15},{"$f":"IF('Swim&Tow'!$W16=\"\",\"\",'Swim&Tow'!$W16*$J$3)","v":20},{"$f":"IF(Medley!$U16=\"\",\"\",Medley!$U16*$K$3)","v":24},{"$f":"IF('Manikin Carry'!$U16=\"\",\"\",'Manikin Carry'!$U16*$L$3)","v":""},{"$f":"IF(Obstacle!$U16=\"\",\"\",Obstacle!$U16*$M$3)","v":""},129,21,{"$f":"IF(E16=\"NS\",'Non-S Results'!O16,IF('Set UP'!K16=1,'League Results'!P16,IF('Set UP'!K16=2,'League Results'!R16,\"\")))","v":10}]
[null,11,{"$f":"IF(OR('Set UP'!$C17=0,'Set UP'!$D17=0,'Set UP'!$E17=0,'Set UP'!F17=0),\"  --\",'Set UP'!C17)","v":1445},{"$f":"IF(OR('Set UP'!$C17=0,'Set UP'!$D17=0,'Set UP'!$E17=0,'Set UP'!F17=0),\"  --\",'Set UP'!D17&\" \"&'Set UP'!E17)","v":"University of Birmingham D"},{"$f":"IF(OR('Set UP'!$C17=0,'Set UP'!$D17=0,'Set UP'!$E17=0,'Set UP'!F17=0),\" --\",'Set UP'!F17)","v":"NC"},{"$f":"IF('Dry Incident'!$JQ31=\"\",\"\",'Dry Incident'!$JQ31*$F$3)","v":18},{"$f":"IF(' Wet Incident'!$JQ31=\"\",\"\",' Wet Incident'!$JQ31*$G$3)","v":22},{"$f":"IF('Extra Incident'!$JQ31=\"\",\"\",'Extra Incident'!$JQ31*$H$3)","v":0},{"$f":"IF(RopeThrow!X17=\"\",\"\",RopeThrow!X17*$I$3)","v":23.5},{"$f":"IF('Swim&Tow'!$W17=\"\",\"\",'Swim&Tow'!$W17*$J$3)","v":19},{"$f":"IF(Medley!$U17=\"\",\"\",Medley!$U17*$K$3)","v":24},{"$f":"IF('Manikin Carry'!$U17=\"\",\"\",'Manikin Carry'!$U17*$L$3)","v":""},{"$f":"IF(Obstacle!$U17=\"\",\"\",Obstacle!$U17*$M$3)","v":""},106.5,15,{"$f":"IF(E17=\"NS\",'Non-S Results'!O17,IF('Set UP'!K17=1,'League Results'!P17,IF('Set UP'!K17=2,'League Results'!R17,\"\")))","v":""}]
[null,12,{"$f":"IF(OR('Set UP'!$C18=0,'Set UP'!$D18=0,'Set UP'!$E18=0,'Set UP'!F18=0),\"  --\",'Set UP'!C18)","v":"  --"},{"$f":"IF(OR('Set UP'!$C18=0,'Set UP'!$D18=0,'Set UP'!$E18=0,'Set UP'!F18=0),\"  --\",'Set UP'!D18&\" \"&'Set UP'!E18)","v":"  --"},{"$f":"IF(OR('Set UP'!$C18=0,'Set UP'!$D18=0,'Set UP'!$E18=0,'Set UP'!F18=0),\" --\",'Set UP'!F18)","v":" --"},{"$f":"IF('Dry Incident'!$JQ32=\"\",\"\",'Dry Incident'!$JQ32*$F$3)","v":""},{"$f":"IF(' Wet Incident'!$JQ32=\"\",\"\",' Wet Incident'!$JQ32*$G$3)","v":""},{"$f":"IF('Extra Incident'!$JQ32=\"\",\"\",'Extra Incident'!$JQ32*$H$3)","v":""},{"$f":"IF(RopeThrow!X18=\"\",\"\",RopeThrow!X18*$I$3)","v":""},{"$f":"IF('Swim&Tow'!$W18=\"\",\"\",'Swim&Tow'!$W18*$J$3)","v":""},{"$f":"IF(Medley!$U18=\"\",\"\",Medley!$U18*$K$3)","v":""},{"$f":"IF('Manikin Carry'!$U18=\"\",\"\",'Manikin Carry'!$U18*$L$3)","v":""},{"$f":"IF(Obstacle!$U18=\"\",\"\",Obstacle!$U18*$M$3)","v":""},"",null,{"$f":"IF(E18=\"NS\",'Non-S Results'!O18,IF('Set UP'!K18=1,'League Results'!P18,IF('Set UP'!K18=2,'League Results'!R18,\"\")))","v":""}]
[null,13,{"$f":"IF(OR('Set UP'!$C19=0,'Set UP'!$D19=0,'Set UP'!$E19=0,'Set UP'!F19=0),\"  --\",'Set UP'!C19)","v":1426},{"$f":"IF(OR('Set UP'!$C19=0,'Set UP'!$D19=0,'Set UP'!$E19=0,'Set UP'!F19=0),\"  --\",'Set UP'!D19&\" \"&'Set UP'!E19)","v":"London Universities B"},{"$f":"IF(OR('Set UP'!$C19=0,'Set UP'!$D19=0,'Set UP'!$E19=0,'Set UP'!F19=0),\" --\",'Set UP'!F19)","v":"S"},{"$f":"IF('Dry Incident'!$JQ33=\"\",\"\",'Dry Incident'!$JQ33*$F$3)","v":16},{"$f":"IF(' Wet Incident'!$JQ33=\"\",\"\",' Wet Incident'!$JQ33*$G$3)","v":24},{"$f":"IF('Extra Incident'!$JQ33=\"\",\"\",'Extra Incident'!$JQ33*$H$3)","v":0},{"$f":"IF(RopeThrow!X19=\"\",\"\",RopeThrow!X19*$I$3)","v":15},{"$f":"IF('Swim&Tow'!$W19=\"\",\"\",'Swim&Tow'!$W19*$J$3)","v":14},{"$f":"IF(Medley!$U19=\"\",\"\",Medley!$U19*$K$3)","v":13},{"$f":"IF('Manikin Carry'!$U19=\"\",\"\",'Manikin Carry'!$U19*$L$3)","v":""},{"$f":"IF(Obstacle!$U19=\"\",\"\",Obstacle!$U19*$M$3)","v":""},82,12,{"$f":"IF(E19=\"NS\",'Non-S Results'!O19,IF('Set UP'!K19=1,'League Results'!P19,IF('Set UP'!K19=2,'League Results'!R19,\"\")))","v":5}]
[null,14,{"$f":"IF(OR('Set UP'!$C20=0,'Set UP'!$D20=0,'Set UP'!$E20=0,'Set UP'!F20=0),\"  --\",'Set UP'!C20)","v":"  --"},{"$f":"IF(OR('Set UP'!$C20=0,'Set UP'!$D20=0,'Set UP'!$E20=0,'Set UP'!F20=0),\"  --\",'Set UP'!D20&\" \"&'Set UP'!E20)","v":"  --"},{"$f":"IF(OR('Set UP'!$C20=0,'Set UP'!$D20=0,'Set UP'!$E20=0,'Set UP'!F20=0),\" --\",'Set UP'!F20)","v":" --"},{"$f":"IF('Dry Incident'!$JQ34=\"\",\"\",'Dry Incident'!$JQ34*$F$3)","v":""},{"$f":"IF(' Wet Incident'!$JQ34=\"\",\"\",' Wet Incident'!$JQ34*$G$3)","v":""},{"$f":"IF('Extra Incident'!$JQ34=\"\",\"\",'Extra Incident'!$JQ34*$H$3)","v":""},{"$f":"IF(RopeThrow!X20=\"\",\"\",RopeThrow!X20*$I$3)","v":""},{"$f":"IF('Swim&Tow'!$W20=\"\",\"\",'Swim&Tow'!$W20*$J$3)","v":""},{"$f":"IF(Medley!$U20=\"\",\"\",Medley!$U20*$K$3)","v":""},{"$f":"IF('Manikin Carry'!$U20=\"\",\"\",'Manikin Carry'!$U20*$L$3)","v":""},{"$f":"IF(Obstacle!$U20=\"\",\"\",Obstacle!$U20*$M$3)","v":""},"",null,{"$f":"IF(E20=\"NS\",'Non-S Results'!O20,IF('Set UP'!K20=1,'League Results'!P20,IF('Set UP'!K20=2,'League Results'!R20,\"\")))","v":""}]
[null,15,{"$f":"IF(OR('Set UP'!$C21=0,'Set UP'!$D21=0,'Set UP'!$E21=0,'Set UP'!F21=0),\"  --\",'Set UP'!C21)","v":1427},{"$f":"IF(OR('Set UP'!$C21=0,'Set UP'!$D21=0,'Set UP'!$E21=0,'Set UP'!F21=0),\"  --\",'Set UP'!D21&\" \"&'Set UP'!E21)","v":"University of Southampton A"},{"$f":"IF(OR('Set UP'!$C21=0,'Set UP'!$D21=0,'Set UP'!$E21=0,'Set UP'!F21=0),\" --\",'Set UP'!F21)","v":"S"},{"$f":"IF('Dry Incident'!$JQ35=\"\",\"\",'Dry Incident'!$JQ35*$F$3)","v":22},{"$f":"IF(' Wet Incident'!$JQ35=\"\",\"\",' Wet Incident'!$JQ35*$G$3)","v":30},{"$f":"IF('Extra Incident'!$JQ35=\"\",\"\",'Extra Incident'!$JQ35*$H$3)","v":0},{"$f":"IF(RopeThrow!X21=\"\",\"\",RopeThrow!X21*$I$3)","v":23.5},{"$f":"IF('Swim&Tow'!$W21=\"\",\"\",'Swim&Tow'!$W21*$J$3)","v":18},{"$f":"IF(Medley!$U21=\"\",\"\",Medley!$U21*$K$3)","v":16},{"$f":"IF('Manikin Carry'!$U21=\"\",\"\",'Manikin Carry'!$U21*$L$3)","v":""},{"$f":"IF(Obstacle!$U21=\"\",\"\",Obstacle!$U21*$M$3)","v":""},109.5,16,{"$f":"IF(E21=\"NS\",'Non-S Results'!O21,IF('Set UP'!K21=1,'League Results'!P21,IF('Set UP'!K21=2,'League Results'!R21,\"\")))","v":9}]
[null,16,{"$f":"IF(OR('Set UP'!$C22=0,'Set UP'!$D22=0,'Set UP'!$E22=0,'Set UP'!F22=0),\"  --\",'Set UP'!C22)","v":1444},{"$f":"IF(OR('Set UP'!$C22=0,'Set UP'!$D22=0,'Set UP'!$E22=0,'Set UP'!F22=0),\"  --\",'Set UP'!D22&\" \"&'Set UP'!E22)","v":"University of Birmingham C"},{"$f":"IF(OR('Set UP'!$C22=0,'Set UP'!$D22=0,'Set UP'!$E22=0,'Set UP'!F22=0),\" --\",'Set UP'!F22)","v":"S"},{"$f":"IF('Dry Incident'!$JQ36=\"\",\"\",'Dry Incident'!$JQ36*$F$3)","v":14},{"$f":"IF(' Wet Incident'!$JQ36=\"\",\"\",' Wet Incident'!$JQ36*$G$3)","v":14},{"$f":"IF('Extra Incident'!$JQ36=\"\",\"\",'Extra Incident'!$JQ36*$H$3)","v":0},{"$f":"IF(RopeThrow!X22=\"\",\"\",RopeThrow!X22*$I$3)","v":15},{"$f":"IF('Swim&Tow'!$W22=\"\",\"\",'Swim&Tow'!$W22*$J$3)","v":10},{"$f":"IF(Medley!$U22=\"\",\"\",Medley!$U22*$K$3)","v":14},{"$f":"IF('Manikin Carry'!$U22=\"\",\"\",'Manikin Carry'!$U22*$L$3)","v":""},{"$f":"IF(Obstacle!$U22=\"\",\"\",Obstacle!$U22*$M$3)","v":""},67,6,{"$f":"IF(E22=\"NS\",'Non-S Results'!O22,IF('Set UP'!K22=1,'League Results'!P22,IF('Set UP'!K22=2,'League Results'!R22,\"\")))","v":3}]
[null,17,{"$f":"IF(OR('Set UP'!$C23=0,'Set UP'!$D23=0,'Set UP'!$E23=0,'Set UP'!F23=0),\"  --\",'Set UP'!C23)","v":1439},{"$f":"IF(OR('Set UP'!$C23=0,'Set UP'!$D23=0,'Set UP'!$E23=0,'Set UP'!F23=0),\"  --\",'Set UP'!D23&\" \"&'Set UP'!E23)","v":"University of Plymouth A"},{"$f":"IF(OR('Set UP'!$C23=0,'Set UP'!$D23=0,'Set UP'!$E23=0,'Set UP'!F23=0),\" --\",'Set UP'!F23)","v":"S"},{"$f":"IF('Dry Incident'!$JQ37=\"\",\"\",'Dry Incident'!$JQ37*$F$3)","v":44},{"$f":"IF(' Wet Incident'!$JQ37=\"\",\"\",' Wet Incident'!$JQ37*$G$3)","v":4},{"$f":"IF('Extra Incident'!$JQ37=\"\",\"\",'Extra Incident'!$JQ37*$H$3)","v":0},{"$f":"IF(RopeThrow!X23=\"\",\"\",RopeThrow!X23*$I$3)","v":15},{"$f":"IF('Swim&Tow'!$W23=\"\",\"\",'Swim&Tow'!$W23*$J$3)","v":15},{"$f":"IF(Medley!$U23=\"\",\"\",Medley!$U23*$K$3)","v":12},{"$f":"IF('Manikin Carry'!$U23=\"\",\"\",'Manikin Carry'!$U23*$L$3)","v":""},{"$f":"IF(Obstacle!$U23=\"\",\"\",Obstacle!$U23*$M$3)","v":""},90,14,{"$f":"IF(E23=\"NS\",'Non-S Results'!O23,IF('Set UP'!K23=1,'League Results'!P23,IF('Set UP'!K23=2,'League Results'!R23,\"\")))","v":7}]
[null,18,{"$f":"IF(OR('Set UP'!$C24=0,'Set UP'!$D24=0,'Set UP'!$E24=0,'Set UP'!F24=0),\"  --\",'Set UP'!C24)","v":1461},{"$f":"IF(OR('Set UP'!$C24=0,'Set UP'!$D24=0,'Set UP'!$E24=0,'Set UP'!F24=0),\"  --\",'Set UP'!D24&\" \"&'Set UP'!E24)","v":"Bristol University B"},{"$f":"IF(OR('Set UP'!$C24=0,'Set UP'!$D24=0,'Set UP'!$E24=0,'Set UP'!F24=0),\" --\",'Set UP'!F24)","v":"S"},{"$f":"IF('Dry Incident'!$JQ38=\"\",\"\",'Dry Incident'!$JQ38*$F$3)","v":12},{"$f":"IF(' Wet Incident'!$JQ38=\"\",\"\",' Wet Incident'!$JQ38*$G$3)","v":26},{"$f":"IF('Extra Incident'!$JQ38=\"\",\"\",'Extra Incident'!$JQ38*$H$3)","v":0},{"$f":"IF(RopeThrow!X24=\"\",\"\",RopeThrow!X24*$I$3)","v":7},{"$f":"IF('Swim&Tow'!$W24=\"\",\"\",'Swim&Tow'!$W24*$J$3)","v":21},{"$f":"IF(Medley!$U24=\"\",\"\",Medley!$U24*$K$3)","v":19},{"$f":"IF('Manikin Carry'!$U24=\"\",\"\",'Manikin Carry'!$U24*$L$3)","v":""},{"$f":"IF(Obstacle!$U24=\"\",\"\",Obstacle!$U24*$M$3)","v":""},85,13,{"$f":"IF(E24=\"NS\",'Non-S Results'!O24,IF('Set UP'!K24=1,'League Results'!P24,IF('Set UP'!K24=2,'League Results'!R24,\"\")))","v":6}]
[null,19,{"$f":"IF(OR('Set UP'!$C25=0,'Set UP'!$D25=0,'Set UP'!$E25=0,'Set UP'!F25=0),\"  --\",'Set UP'!C25)","v":1436},{"$f":"IF(OR('Set UP'!$C25=0,'Set UP'!$D25=0,'Set UP'!$E25=0,'Set UP'!F25=0),\"  --\",'Set UP'!D25&\" \"&'Set UP'!E25)","v":"Loughborough University C"},{"$f":"IF(OR('Set UP'!$C25=0,'Set UP'!$D25=0,'Set UP'!$E25=0,'Set UP'!F25=0),\" --\",'Set UP'!F25)","v":"S"},{"$f":"IF('Dry Incident'!$JQ39=\"\",\"\",'Dry Incident'!$JQ39*$F$3)","v":6},{"$f":"IF(' Wet Incident'!$JQ39=\"\",\"\",' Wet Incident'!$JQ39*$G$3)","v":32},{"$f":"IF('Extra Incident'!$JQ39=\"\",\"\",'Extra Incident'!$JQ39*$H$3)","v":0},{"$f":"IF(RopeThrow!X25=\"\",\"\",RopeThrow!X25*$I$3)","v":23.5},{"$f":"IF('Swim&Tow'!$W25=\"\",\"\",'Swim&Tow'!$W25*$J$3)","v":6},{"$f":"IF(Medley!$U25=\"\",\"\",Medley!$U25*$K$3)","v":2},{"$f":"IF('Manikin Carry'!$U25=\"\",\"\",'Manikin Carry'!$U25*$L$3)","v":""},{"$f":"IF(Obstacle!$U25=\"\",\"\",Obstacle!$U25*$M$3)","v":""},69.5,7,{"$f":"IF(E25=\"NS\",'Non-S Results'!O25,IF('Set UP'!K25=1,'League Results'!P25,IF('Set UP'!K25=2,'League Results'!R25,\"\")))","v":2}]
[null,20,{"$f":"IF(OR('Set UP'!$C26=0,'Set UP'!$D26=0,'Set UP'!$E26=0,'Set UP'!F26=0),\"  --\",'Set UP'!C26)","v":1443},{"$f":"IF(OR('Set UP'!$C26=0,'Set UP'!$D26=0,'Set UP'!$E26=0,'Set UP'!F26=0),\"  --\",'Set UP'!D26&\" \"&'Set UP'!E26)","v":"University of Birmingham B"},{"$f":"IF(OR('Set UP'!$C26=0,'Set UP'!$D26=0,'Set UP'!$E26=0,'Set UP'!F26=0),\" --\",'Set UP'!F26)","v":"S"},{"$f":"IF('Dry Incident'!$JQ40=\"\",\"\",'Dry Incident'!$JQ40*$F$3)","v":10},{"$f":"IF(' Wet Incident'!$JQ40=\"\",\"\",' Wet Incident'!$JQ40*$G$3)","v":10},{"$f":"IF('Extra Incident'!$JQ40=\"\",\"\",'Extra Incident'!$JQ40*$H$3)","v":0},{"$f":"IF(RopeThrow!X26=\"\",\"\",RopeThrow!X26*$I$3)","v":23.5},{"$f":"IF('Swim&Tow'!$W26=\"\",\"\",'Swim&Tow'!$W26*$J$3)","v":8},{"$f":"IF(Medley!$U26=\"\",\"\",Medley!$U26*$K$3)","v":5},{"$f":"IF('Manikin Carry'!$U26=\"\",\"\",'Manikin Carry'!$U26*$L$3)","v":""},{"$f":"IF(Obstacle!$U26=\"\",\"\",Obstacle!$U26*$M$3)","v":""},56.5,4,{"$f":"IF(E26=\"NS\",'Non-S Results'!O26,IF('Set UP'!K26=1,'League Results'!P26,IF('Set UP'!K26=2,'League Results'!R26,\"\")))","v":1}]
[null,21,{"$f":"IF(OR('Set UP'!$C27=0,'Set UP'!$D27=0,'Set UP'!$E27=0,'Set UP'!F27=0),\"  --\",'Set UP'!C27)","v":1434},{"$f":"IF(OR('Set UP'!$C27=0,'Set UP'!$D27=0,'Set UP'!$E27=0,'Set UP'!F27=0),\"  --\",'Set UP'!D27&\" \"&'Set UP'!E27)","v":"Loughborough University A"},{"$f":"IF(OR('Set UP'!$C27=0,'Set UP'!$D27=0,'Set UP'!$E27=0,'Set UP'!F27=0),\" --\",'Set UP'!F27)","v":"S"},{"$f":"IF('Dry Incident'!$JQ41=\"\",\"\",'Dry Incident'!$JQ41*$F$3)","v":20},{"$f":"IF(' Wet Incident'!$JQ41=\"\",\"\",' Wet Incident'!$JQ41*$G$3)","v":38},{"$f":"IF('Extra Incident'!$JQ41=\"\",\"\",'Extra Incident'!$JQ41*$H$3)","v":0},{"$f":"IF(RopeThrow!X27=\"\",\"\",RopeThrow!X27*$I$3)","v":7},{"$f":"IF('Swim&Tow'!$W27=\"\",\"\",'Swim&Tow'!$W27*$J$3)","v":9},{"$f":"IF(Medley!$U27=\"\",\"\",Medley!$U27*$K$3)","v":6},{"$f":"IF('Manikin Carry'!$U27=\"\",\"\",'Manikin Carry'!$U27*$L$3)","v":""},{"$f":"IF(Obstacle!$U27=\"\",\"\",Obstacle!$U27*$M$3)","v":""},80,11,{"$f":"IF(E27=\"NS\",'Non-S Results'!O27,IF('Set UP'!K27=1,'League Results'!P27,IF('Set UP'!K27=2,'League Results'!R27,\"\")))","v":4}]
[null,22,{"$f":"IF(OR('Set UP'!$C28=0,'Set UP'!$D28=0,'Set UP'!$E28=0,'Set UP'!F28=0),\"  --\",'Set UP'!C28)","v":1435},{"$f":"IF(OR('Set UP'!$C28=0,'Set UP'!$D28=0,'Set UP'!$E28=0,'Set UP'!F28=0),\"  --\",'Set UP'!D28&\" \"&'Set UP'!E28)","v":"Loughborough University B"},{"$f":"IF(OR('Set UP'!$C28=0,'Set UP'!$D28=0,'Set UP'!$E28=0,'Set UP'!F28=0),\" --\",'Set UP'!F28)","v":"S"},{"$f":"IF('Dry Incident'!$JQ42=\"\",\"\",'Dry Incident'!$JQ42*$F$3)","v":38},{"$f":"IF(' Wet Incident'!$JQ42=\"\",\"\",' Wet Incident'!$JQ42*$G$3)","v":28},{"$f":"IF('Extra Incident'!$JQ42=\"\",\"\",'Extra Incident'!$JQ42*$H$3)","v":0},{"$f":"IF(RopeThrow!X28=\"\",\"\",RopeThrow!X28*$I$3)","v":1},{"$f":"IF('Swim&Tow'!$W28=\"\",\"\",'Swim&Tow'!$W28*$J$3)","v":3},{"$f":"IF(Medley!$U28=\"\",\"\",Medley!$U28*$K$3)","v":3},{"$f":"IF('Manikin Carry'!$U28=\"\",\"\",'Manikin Carry'!$U28*$L$3)","v":""},{"$f":"IF(Obstacle!$U28=\"\",\"\",Obstacle!$U28*$M$3)","v":""},73,8,{"$f":"IF(E28=\"NS\",'Non-S Results'!O28,IF('Set UP'!K28=1,'League Results'!P28,IF('Set UP'!K28=2,'League Results'!R28,\"\")))","v":4}]
[null,23,{"$f":"IF(OR('Set UP'!$C29=0,'Set UP'!$D29=0,'Set UP'!$E29=0,'Set UP'!F29=0),\"  --\",'Set UP'!C29)","v":1457},{"$f":"IF(OR('Set UP'!$C29=0,'Set UP'!$D29=0,'Set UP'!$E29=0,'Set UP'!F29=0),\"  --\",'Set UP'!D29&\" \"&'Set UP'!E29)","v":"University of Warwick B"},{"$f":"IF(OR('Set UP'!$C29=0,'Set UP'!$D29=0,'Set UP'!$E29=0,'Set UP'!F29=0),\" --\",'Set UP'!F29)","v":"S"},{"$f":"IF('Dry Incident'!$JQ43=\"\",\"\",'Dry Incident'!$JQ43*$F$3)","v":36},{"$f":"IF(' Wet Incident'!$JQ43=\"\",\"\",' Wet Incident'!$JQ43*$G$3)","v":44},{"$f":"IF('Extra Incident'!$JQ43=\"\",\"\",'Extra Incident'!$JQ43*$H$3)","v":0},{"$f":"IF(RopeThrow!X29=\"\",\"\",RopeThrow!X29*$I$3)","v":7},{"$f":"IF('Swim&Tow'!$W29=\"\",\"\",'Swim&Tow'!$W29*$J$3)","v":16},{"$f":"IF(Medley!$U29=\"\",\"\",Medley!$U29*$K$3)","v":15},{"$f":"IF('Manikin Carry'!$U29=\"\",\"\",'Manikin Carry'!$U29*$L$3)","v":""},{"$f":"IF(Obstacle!$U29=\"\",\"\",Obstacle!$U29*$M$3)","v":""},118,20,{"$f":"IF(E29=\"NS\",'Non-S Results'!O29,IF('Set UP'!K29=1,'League Results'!P29,IF('Set UP'!K29=2,'League Results'!R29,\"\")))","v":9}]
[null,24,{"$f":"IF(OR('Set UP'!$C30=0,'Set UP'!$D30=0,'Set UP'!$E30=0,'Set UP'!F30=0),\"  --\",'Set UP'!C30)","v":1429},{"$f":"IF(OR('Set UP'!$C30=0,'Set UP'!$D30=0,'Set UP'!$E30=0,'Set UP'!F30=0),\"  --\",'Set UP'!D30&\" \"&'Set UP'!E30)","v":"University of Nottingham A"},{"$f":"IF(OR('Set UP'!$C30=0,'Set UP'!$D30=0,'Set UP'!$E30=0,'Set UP'!F30=0),\" --\",'Set UP'!F30)","v":"S"},{"$f":"IF('Dry Incident'!$JQ44=\"\",\"\",'Dry Incident'!$JQ44*$F$3)","v":26},{"$f":"IF(' Wet Incident'!$JQ44=\"\",\"\",' Wet Incident'!$JQ44*$G$3)","v":12},{"$f":"IF('Extra Incident'!$JQ44=\"\",\"\",'Extra Incident'!$JQ44*$H$3)","v":0},{"$f":"IF(RopeThrow!X30=\"\",\"\",RopeThrow!X30*$I$3)","v":2},{"$f":"IF('Swim&Tow'!$W30=\"\",\"\",'Swim&Tow'!$W30*$J$3)","v":12},{"$f":"IF(Medley!$U30=\"\",\"\",Medley!$U30*$K$3)","v":11},{"$f":"IF('Manikin Carry'!$U30=\"\",\"\",'Manikin Carry'!$U30*$L$3)","v":""},{"$f":"IF(Obstacle!$U30=\"\",\"\",Obstacle!$U30*$M$3)","v":""},63,5,{"$f":"IF(E30=\"NS\",'Non-S Results'!O30,IF('Set UP'!K30=1,'League Results'!P30,IF('Set UP'!K30=2,'League Results'!R30,\"\")))","v":5}]
[null,25,{"$f":"IF(OR('Set UP'!$C31=0,'Set UP'!$D31=0,'Set UP'!$E31=0,'Set UP'!F31=0),\"  --\",'Set UP'!C31)","v":1438},{"$f":"IF(OR('Set UP'!$C31=0,'Set UP'!$D31=0,'Set UP'!$E31=0,'Set UP'!F31=0),\"  --\",'Set UP'!D31&\" \"&'Set UP'!E31)","v":"Swansea Universities Lifesaving B"},{"$f":"IF(OR('Set UP'!$C31=0,'Set UP'!$D31=0,'Set UP'!$E31=0,'Set UP'!F31=0),\" --\",'Set UP'!F31)","v":"S"},{"$f":"IF('Dry Incident'!$JQ45=\"\",\"\",'Dry Incident'!$JQ45*$F$3)","v":50},{"$f":"IF(' Wet Incident'!$JQ45=\"\",\"\",' Wet Incident'!$JQ45*$G$3)","v":52},{"$f":"IF('Extra Incident'!$JQ45=\"\",\"\",'Extra Incident'!$JQ45*$H$3)","v":0},{"$f":"IF(RopeThrow!X31=\"\",\"\",RopeThrow!X31*$I$3)","v":15},{"$f":"IF('Swim&Tow'!$W31=\"\",\"\",'Swim&Tow'!$W31*$J$3)","v":17},{"$f":"IF(Medley!$U31=\"\",\"\",Medley!$U31*$K$3)","v":8},{"$f":"IF('Manikin Carry'!$U31=\"\",\"\",'Manikin Carry'!$U31*$L$3)","v":""},{"$f":"IF(Obstacle!$U31=\"\",\"\",Obstacle!$U31*$M$3)","v":""},142,22,{"$f":"IF(E31=\"NS\",'Non-S Results'!O31,IF('Set UP'!K31=1,'League Results'!P31,IF('Set UP'!K31=2,'League Results'!R31,\"\")))","v":11}]
[null,26,{"$f":"IF(OR('Set UP'!$C32=0,'Set UP'!$D32=0,'Set UP'!$E32=0,'Set UP'!F32=0),\"  --\",'Set UP'!C32)","v":1442},{"$f":"IF(OR('Set UP'!$C32=0,'Set UP'!$D32=0,'Set UP'!$E32=0,'Set UP'!F32=0),\"  --\",'Set UP'!D32&\" \"&'Set UP'!E32)","v":"University of Birmingham A"},{"$f":"IF(OR('Set UP'!$C32=0,'Set UP'!$D32=0,'Set UP'!$E32=0,'Set UP'!F32=0),\" --\",'Set UP'!F32)","v":"S"},{"$f":"IF('Dry Incident'!$JQ46=\"\",\"\",'Dry Incident'!$JQ46*$F$3)","v":8},{"$f":"IF(' Wet Incident'!$JQ46=\"\",\"\",' Wet Incident'!$JQ46*$G$3)","v":18},{"$f":"IF('Extra Incident'!$JQ46=\"\",\"\",'Extra Incident'!$JQ46*$H$3)","v":0},{"$f":"IF(RopeThrow!X32=\"\",\"\",RopeThrow!X32*$I$3)","v":7},{"$f":"IF('Swim&Tow'!$W32=\"\",\"\",'Swim&Tow'!$W32*$J$3)","v":7},{"$f":"IF(Medley!$U32=\"\",\"\",Medley!$U32*$K$3)","v":7},{"$f":"IF('Manikin Carry'!$U32=\"\",\"\",'Manikin Carry'!$U32*$L$3)","v":""},{"$f":"IF(Obstacle!$U32=\"\",\"\",Obstacle!$U32*$M$3)","v":""},47,3,{"$f":"IF(E32=\"NS\",'Non-S Results'!O32,IF('Set UP'!K32=1,'League Results'!P32,IF('Set UP'!K32=2,'League Results'!R32,\"\")))","v":3}]
[null,27,{"$f":"IF(OR('Set UP'!$C33=0,'Set UP'!$D33=0,'Set UP'!$E33=0,'Set UP'!F33=0),\"  --\",'Set UP'!C33)","v":1456},{"$f":"IF(OR('Set UP'!$C33=0,'Set UP'!$D33=0,'Set UP'!$E33=0,'Set UP'!F33=0),\"  --\",'Set UP'!D33&\" \"&'Set UP'!E33)","v":"University of Warwick A"},{"$f":"IF(OR('Set UP'!$C33=0,'Set UP'!$D33=0,'Set UP'!$E33=0,'Set UP'!F33=0),\" --\",'Set UP'!F33)","v":"S"},{"$f":"IF('Dry Incident'!$JQ47=\"\",\"\",'Dry Incident'!$JQ47*$F$3)","v":2},{"$f":"IF(' Wet Incident'!$JQ47=\"\",\"\",' Wet Incident'!$JQ47*$G$3)","v":6},{"$f":"IF('Extra Incident'!$JQ47=\"\",\"\",'Extra Incident'!$JQ47*$H$3)","v":0},{"$f":"IF(RopeThrow!X33=\"\",\"\",RopeThrow!X33*$I$3)","v":7},{"$f":"IF('Swim&Tow'!$W33=\"\",\"\",'Swim&Tow'!$W33*$J$3)","v":1},{"$f":"IF(Medley!$U33=\"\",\"\",Medley!$U33*$K$3)","v":10},{"$f":"IF('Manikin Carry'!$U33=\"\",\"\",'Manikin Carry'!$U33*$L$3)","v":""},{"$f":"IF(Obstacle!$U33=\"\",\"\",Obstacle!$U33*$M$3)","v":""},26,2,{"$f":"IF(E33=\"NS\",'Non-S Results'!O33,IF('Set UP'!K33=1,'League Results'!P33,IF('Set UP'!K33=2,'League Results'!R33,\"\")))","v":2}]
[null,28,{"$f":"IF(OR('Set UP'!$C34=0,'Set UP'!$D34=0,'Set UP'!$E34=0,'Set UP'!F34=0),\"  --\",'Set UP'!C34)","v":1460},{"$f":"IF(OR('Set UP'!$C34=0,'Set UP'!$D34=0,'Set UP'!$E34=0,'Set UP'!F34=0),\"  --\",'Set UP'!D34&\" \"&'Set UP'!E34)","v":"Bristol University A"},{"$f":"IF(OR('Set UP'!$C34=0,'Set UP'!$D34=0,'Set UP'!$E34=0,'Set UP'!F34=0),\" --\",'Set UP'!F34)","v":"S"},{"$f":"IF('Dry Incident'!$JQ48=\"\",\"\",'Dry Incident'!$JQ48*$F$3)","v":24},{"$f":"IF(' Wet Incident'!$JQ48=\"\",\"\",' Wet Incident'!$JQ48*$G$3)","v":8},{"$f":"IF('Extra Incident'!$JQ48=\"\",\"\",'Extra Incident'!$JQ48*$H$3)","v":0},{"$f":"IF(RopeThrow!X34=\"\",\"\",RopeThrow!X34*$I$3)","v":15},{"$f":"IF('Swim&Tow'!$W34=\"\",\"\",'Swim&Tow'!$W34*$J$3)","v":4},{"$f":"IF(Medley!$U34=\"\",\"\",Medley!$U34*$K$3)","v":24},{"$f":"IF('Manikin Carry'!$U34=\"\",\"\",'Manikin Carry'!$U34*$L$3)","v":""},{"$f":"IF(Obstacle!$U34=\"\",\"\",Obstacle!$U34*$M$3)","v":""},75,9,{"$f":"IF(E34=\"NS\",'Non-S Results'!O34,IF('Set UP'!K34=1,'League Results'!P34,IF('Set UP'!K34=2,'League Results'!R34,\"\")))","v":6}]
[null,29,{"$f":"IF(OR('Set UP'!$C35=0,'Set UP'!$D35=0,'Set UP'!$E35=0,'Set UP'!F35=0),\"  --\",'Set UP'!C35)","v":1437},{"$f":"IF(OR('Set UP'!$C35=0,'Set UP'!$D35=0,'Set UP'!$E35=0,'Set UP'!F35=0),\"  --\",'Set UP'!D35&\" \"&'Set UP'!E35)","v":"Swansea Universities Lifesaving A"},{"$f":"IF(OR('Set UP'!$C35=0,'Set UP'!$D35=0,'Set UP'!$E35=0,'Set UP'!F35=0),\" --\",'Set UP'!F35)","v":"S"},{"$f":"IF('Dry Incident'!$JQ49=\"\",\"\",'Dry Incident'!$JQ49*$F$3)","v":48},{"$f":"IF(' Wet Incident'!$JQ49=\"\",\"\",' Wet Incident'!$JQ49*$G$3)","v":54},{"$f":"IF('Extra Incident'!$JQ49=\"\",\"\",'Extra Incident'!$JQ49*$H$3)","v":0},{"$f":"IF(RopeThrow!X35=\"\",\"\",RopeThrow!X35*$I$3)","v":7},{"$f":"IF('Swim&Tow'!$W35=\"\",\"\",'Swim&Tow'!$W35*$J$3)","v":5},{"$f":"IF(Medley!$U35=\"\",\"\",Medley!$U35*$K$3)","v":1},{"$f":"IF('Manikin Carry'!$U35=\"\",\"\",'Manikin Carry'!$U35*$L$3)","v":""},{"$f":"IF(Obstacle!$U35=\"\",\"\",Obstacle!$U35*$M$3)","v":""},115,19,{"$f":"IF(E35=\"NS\",'Non-S Results'!O35,IF('Set UP'!K35=1,'League Results'!P35,IF('Set UP'!K35=2,'League Results'!R35,\"\")))","v":8}]
[null,30,{"$f":"IF(OR('Set UP'!$C36=0,'Set UP'!$D36=0,'Set UP'!$E36=0,'Set UP'!F36=0),\"  --\",'Set UP'!C36)","v":1425},{"$f":"IF(OR('Set UP'!$C36=0,'Set UP'!$D36=0,'Set UP'!$E36=0,'Set UP'!F36=0),\"  --\",'Set UP'!D36&\" \"&'Set UP'!E36)","v":"London Universities A"},{"$f":"IF(OR('Set UP'!$C36=0,'Set UP'!$D36=0,'Set UP'!$E36=0,'Set UP'!F36=0),\" --\",'Set UP'!F36)","v":"S"},{"$f":"IF('Dry Incident'!$JQ50=\"\",\"\",'Dry Incident'!$JQ50*$F$3)","v":4},{"$f":"IF(' Wet Incident'!$JQ50=\"\",\"\",' Wet Incident'!$JQ50*$G$3)","v":2},{"$f":"IF('Extra Incident'!$JQ50=\"\",\"\",'Extra Incident'!$JQ50*$H$3)","v":0},{"$f":"IF(RopeThrow!X36=\"\",\"\",RopeThrow!X36*$I$3)","v":3},{"$f":"IF('Swim&Tow'!$W36=\"\",\"\",'Swim&Tow'!$W36*$J$3)","v":2},{"$f":"IF(Medley!$U36=\"\",\"\",Medley!$U36*$K$3)","v":4},{"$f":"IF('Manikin Carry'!$U36=\"\",\"\",'Manikin Carry'!$U36*$L$3)","v":""},{"$f":"IF(Obstacle!$U36=\"\",\"\",Obstacle!$U36*$M$3)","v":""},15,1,{"$f":"IF(E36=\"NS\",'Non-S Results'!O36,IF('Set UP'!K36=1,'League Results'!P36,IF('Set UP'!K36=2,'League Results'!R36,\"\")))","v":1}]
[null,31,{"$f":"IF(OR('Set UP'!$C37=0,'Set UP'!$D37=0,'Set UP'!$E37=0,'Set UP'!F37=0),\"  --\",'Set UP'!C37)","v":"  --"},{"$f":"IF(OR('Set UP'!$C37=0,'Set UP'!$D37=0,'Set UP'!$E37=0,'Set UP'!F37=0),\"  --\",'Set UP'!D37&\" \"&'Set UP'!E37)","v":"  --"},{"$f":"IF(OR('Set UP'!$C37=0,'Set UP'!$D37=0,'Set UP'!$E37=0,'Set UP'!F37=0),\" --\",'Set UP'!F37)","v":" --"},{"$f":"IF('Dry Incident'!$JQ51=\"\",\"\",'Dry Incident'!$JQ51*$F$3)","v":""},{"$f":"IF(' Wet Incident'!$JQ51=\"\",\"\",' Wet Incident'!$JQ51*$G$3)","v":""},{"$f":"IF('Extra Incident'!$JQ51=\"\",\"\",'Extra Incident'!$JQ51*$H$3)","v":""},{"$f":"IF(RopeThrow!X37=\"\",\"\",RopeThrow!X37*$I$3)","v":""},{"$f":"IF('Swim&Tow'!$W37=\"\",\"\",'Swim&Tow'!$W37*$J$3)","v":""},{"$f":"IF(Medley!$U37=\"\",\"\",Medley!$U37*$K$3)","v":""},{"$f":"IF('Manikin Carry'!$U37=\"\",\"\",'Manikin Carry'!$U37*$L$3)","v":""},{"$f":"IF(Obstacle!$U37=\"\",\"\",Obstacle!$U37*$M$3)","v":""},"",null,{"$f":"IF(E37=\"NS\",'Non-S Results'!O37,IF('Set UP'!K37=1,'League Results'!P37,IF('Set UP'!K37=2,'League Results'!R37,\"\")))","v":""}]
[null,32,{"$f":"IF(OR('Set UP'!$C38=0,'Set UP'!$D38=0,'Set UP'!$E38=0,'Set UP'!F38=0),\"  --\",'Set UP'!C38)","v":"  --"},{"$f":"IF(OR('Set UP'!$C38=0,'Set UP'!$D38=0,'Set UP'!$E38=0,'Set UP'!F38=0),\"  --\",'Set UP'!D38&\" \"&'Set UP'!E38)","v":"  --"},{"$f":"IF(OR('Set UP'!$C38=0,'Set UP'!$D38=0,'Set UP'!$E38=0,'Set UP'!F38=0),\" --\",'Set UP'!F38)","v":" --"},{"$f":"IF('Dry Incident'!$JQ52=\"\",\"\",'Dry Incident'!$JQ52*$F$3)","v":""},{"$f":"IF(' Wet Incident'!$JQ52=\"\",\"\",' Wet Incident'!$JQ52*$G$3)","v":""},{"$f":"IF('Extra Incident'!$JQ52=\"\",\"\",'Extra Incident'!$JQ52*$H$3)","v":""},{"$f":"IF(RopeThrow!X38=\"\",\"\",RopeThrow!X38*$I$3)","v":""},{"$f":"IF('Swim&Tow'!$W38=\"\",\"\",'Swim&Tow'!$W38*$J$3)","v":""},{"$f":"IF(Medley!$U38=\"\",\"\",Medley!$U38*$K$3)","v":""},{"$f":"IF('Manikin Carry'!$U38=\"\",\"\",'Manikin Carry'!$U38*$L$3)","v":""},{"$f":"IF(Obstacle!$U38=\"\",\"\",Obstacle!$U38*$M$3)","v":""},"",null,{"$f":"IF(E38=\"NS\",'Non-S Results'!O38,IF('Set UP'!K38=1,'League Results'!P38,IF('Set UP'!K38=2,'League Results'!R38,\"\")))","v":""}]
[null,33,{"$f":"IF(OR('Set UP'!$C39=0,'Set UP'!$D39=0,'Set UP'!$E39=0,'Set UP'!F39=0),\"  --\",'Set UP'!C39)","v":"  --"},{"$f":"IF(OR('Set UP'!$C39=0,'Set UP'!$D39=0,'Set UP'!$E39=0,'Set UP'!F39=0),\"  --\",'Set UP'!D39&\" \"&'Set UP'!E39)","v":"  --"},{"$f":"IF(OR('Set UP'!$C39=0,'Set UP'!$D39=0,'Set UP'!$E39=0,'Set UP'!F39=0),\" --\",'Set UP'!F39)","v":" --"},{"$f":"IF('Dry Incident'!$JQ53=\"\",\"\",'Dry Incident'!$JQ53*$F$3)","v":""},{"$f":"IF(' Wet Incident'!$JQ53=\"\",\"\",' Wet Incident'!$JQ53*$G$3)","v":""},{"$f":"IF('Extra Incident'!$JQ53=\"\",\"\",'Extra Incident'!$JQ53*$H$3)","v":""},{"$f":"IF(RopeThrow!X39=\"\",\"\",RopeThrow!X39*$I$3)","v":""},{"$f":"IF('Swim&Tow'!$W39=\"\",\"\",'Swim&Tow'!$W39*$J$3)","v":""},{"$f":"IF(Medley!$U39=\"\",\"\",Medley!$U39*$K$3)","v":""},{"$f":"IF('Manikin Carry'!$U39=\"\",\"\",'Manikin Carry'!$U39*$L$3)","v":""},{"$f":"IF(Obstacle!$U39=\"\",\"\",Obstacle!$U39*$M$3)","v":""},"",null,{"$f":"IF(E39=\"NS\",'Non-S Results'!O39,IF('Set UP'!K39=1,'League Results'!P39,IF('Set UP'!K39=2,'League Results'!R39,\"\")))","v":""}]
[null,34,{"$f":"IF(OR('Set UP'!$C40=0,'Set UP'!$D40=0,'Set UP'!$E40=0,'Set UP'!F40=0),\"  --\",'Set UP'!C40)","v":"  --"},{"$f":"IF(OR('Set UP'!$C40=0,'Set UP'!$D40=0,'Set UP'!$E40=0,'Set UP'!F40=0),\"  --\",'Set UP'!D40&\" \"&'Set UP'!E40)","v":"  --"},{"$f":"IF(OR('Set UP'!$C40=0,'Set UP'!$D40=0,'Set UP'!$E40=0,'Set UP'!F40=0),\" --\",'Set UP'!F40)","v":" --"},{"$f":"IF('Dry Incident'!$JQ54=\"\",\"\",'Dry Incident'!$JQ54*$F$3)","v":""},{"$f":"IF(' Wet Incident'!$JQ54=\"\",\"\",' Wet Incident'!$JQ54*$G$3)","v":""},{"$f":"IF('Extra Incident'!$JQ54=\"\",\"\",'Extra Incident'!$JQ54*$H$3)","v":""},{"$f":"IF(RopeThrow!X40=\"\",\"\",RopeThrow!X40*$I$3)","v":""},{"$f":"IF('Swim&Tow'!$W40=\"\",\"\",'Swim&Tow'!$W40*$J$3)","v":""},{"$f":"IF(Medley!$U40=\"\",\"\",Medley!$U40*$K$3)","v":""},{"$f":"IF('Manikin Carry'!$U40=\"\",\"\",'Manikin Carry'!$U40*$L$3)","v":""},{"$f":"IF(Obstacle!$U40=\"\",\"\",Obstacle!$U40*$M$3)","v":""},"",null,{"$f":"IF(E40=\"NS\",'Non-S Results'!O40,IF('Set UP'!K40=1,'League Results'!P40,IF('Set UP'!K40=2,'League Results'!R40,\"\")))","v":""}]
[null,35,{"$f":"IF(OR('Set UP'!$C41=0,'Set UP'!$D41=0,'Set UP'!$E41=0,'Set UP'!F41=0),\"  --\",'Set UP'!C41)","v":"  --"},{"$f":"IF(OR('Set UP'!$C41=0,'Set UP'!$D41=0,'Set UP'!$E41=0,'Set UP'!F41=0),\"  --\",'Set UP'!D41&\" \"&'Set UP'!E41)","v":"  --"},{"$f":"IF(OR('Set UP'!$C41=0,'Set UP'!$D41=0,'Set UP'!$E41=0,'Set UP'!F41=0),\" --\",'Set UP'!F41)","v":" --"},{"$f":"IF('Dry Incident'!$JQ55=\"\",\"\",'Dry Incident'!$JQ55*$F$3)","v":""},{"$f":"IF(' Wet Incident'!$JQ55=\"\",\"\",' Wet Incident'!$JQ55*$G$3)","v":""},{"$f":"IF('Extra Incident'!$JQ55=\"\",\"\",'Extra Incident'!$JQ55*$H$3)","v":""},{"$f":"IF(RopeThrow!X41=\"\",\"\",RopeThrow!X41*$I$3)","v":""},{"$f":"IF('Swim&Tow'!$W41=\"\",\"\",'Swim&Tow'!$W41*$J$3)","v":""},{"$f":"IF(Medley!$U41=\"\",\"\",Medley!$U41*$K$3)","v":""},{"$f":"IF('Manikin Carry'!$U41=\"\",\"\",'Manikin Carry'!$U41*$L$3)","v":""},{"$f":"IF(Obstacle!$U41=\"\",\"\",Obstacle!$U41*$M$3)","v":""},"",null,{"$f":"IF(E41=\"NS\",'Non-S Results'!O41,IF('Set UP'!K41=1,'League Results'!P41,IF('Set UP'!K41=2,'League Results'!R41,\"\")))","v":""}]
[null,36,{"$f":"IF(OR('Set UP'!$C42=0,'Set UP'!$D42=0,'Set UP'!$E42=0,'Set UP'!F42=0),\"  --\",'Set UP'!C42)","v":"  --"},{"$f":"IF(OR('Set UP'!$C42=0,'Set UP'!$D42=0,'Set UP'!$E42=0,'Set UP'!F42=0),\"  --\",'Set UP'!D42&\" \"&'Set UP'!E42)","v":"  --"},{"$f":"IF(OR('Set UP'!$C42=0,'Set UP'!$D42=0,'Set UP'!$E42=0,'Set UP'!F42=0),\" --\",'Set UP'!F42)","v":" --"},{"$f":"IF('Dry Incident'!$JQ56=\"\",\"\",'Dry Incident'!$JQ56*$F$3)","v":""},{"$f":"IF(' Wet Incident'!$JQ56=\"\",\"\",' Wet Incident'!$JQ56*$G$3)","v":""},{"$f":"IF('Extra Incident'!$JQ56=\"\",\"\",'Extra Incident'!$JQ56*$H$3)","v":""},{"$f":"IF(RopeThrow!X42=\"\",\"\",RopeThrow!X42*$I$3)","v":""},{"$f":"IF('Swim&Tow'!$W42=\"\",\"\",'Swim&Tow'!$W42*$J$3)","v":""},{"$f":"IF(Medley!$U42=\"\",\"\",Medley!$U42*$K$3)","v":""},{"$f":"IF('Manikin Carry'!$U42=\"\",\"\",'Manikin Carry'!$U42*$L$3)","v":""},{"$f":"IF(Obstacle!$U42=\"\",\"\",Obstacle!$U42*$M$3)","v":""},"",null,{"$f":"IF(E42=\"NS\",'Non-S Results'!O42,IF('Set UP'!K42=1,'League Results'!P42,IF('Set UP'!K42=2,'League Results'!R42,\"\")))","v":""}]
[null,37,{"$f":"IF(OR('Set UP'!$C43=0,'Set UP'!$D43=0,'Set UP'!$E43=0,'Set UP'!F43=0),\"  --\",'Set UP'!C43)","v":"  --"},{"$f":"IF(OR('Set UP'!$C43=0,'Set UP'!$D43=0,'Set UP'!$E43=0,'Set UP'!F43=0),\"  --\",'Set UP'!D43&\" \"&'Set UP'!E43)","v":"  --"},{"$f":"IF(OR('Set UP'!$C43=0,'Set UP'!$D43=0,'Set UP'!$E43=0,'Set UP'!F43=0),\" --\",'Set UP'!F43)","v":" --"},{"$f":"IF('Dry Incident'!$JQ57=\"\",\"\",'Dry Incident'!$JQ57*$F$3)","v":""},{"$f":"IF(' Wet Incident'!$JQ57=\"\",\"\",' Wet Incident'!$JQ57*$G$3)","v":""},{"$f":"IF('Extra Incident'!$JQ57=\"\",\"\",'Extra Incident'!$JQ57*$H$3)","v":""},{"$f":"IF(RopeThrow!X43=\"\",\"\",RopeThrow!X43*$I$3)","v":""},{"$f":"IF('Swim&Tow'!$W43=\"\",\"\",'Swim&Tow'!$W43*$J$3)","v":""},{"$f":"IF(Medley!$U43=\"\",\"\",Medley!$U43*$K$3)","v":""},{"$f":"IF('Manikin Carry'!$U43=\"\",\"\",'Manikin Carry'!$U43*$L$3)","v":""},{"$f":"IF(Obstacle!$U43=\"\",\"\",Obstacle!$U43*$M$3)","v":""},"",null,{"$f":"IF(E43=\"NS\",'Non-S Results'!O43,IF('Set UP'!K43=1,'League Results'!P43,IF('Set UP'!K43=2,'League Results'!R43,\"\")))","v":""}]
[null,38,{"$f":"IF(OR('Set UP'!$C44=0,'Set UP'!$D44=0,'Set UP'!$E44=0,'Set UP'!F44=0),\"  --\",'Set UP'!C44)","v":"  --"},{"$f":"IF(OR('Set UP'!$C44=0,'Set UP'!$D44=0,'Set UP'!$E44=0,'Set UP'!F44=0),\"  --\",'Set UP'!D44&\" \"&'Set UP'!E44)","v":"  --"},{"$f":"IF(OR('Set UP'!$C44=0,'Set UP'!$D44=0,'Set UP'!$E44=0,'Set UP'!F44=0),\" --\",'Set UP'!F44)","v":" --"},{"$f":"IF('Dry Incident'!$JQ58=\"\",\"\",'Dry Incident'!$JQ58*$F$3)","v":""},{"$f":"IF(' Wet Incident'!$JQ58=\"\",\"\",' Wet Incident'!$JQ58*$G$3)","v":""},{"$f":"IF('Extra Incident'!$JQ58=\"\",\"\",'Extra Incident'!$JQ58*$H$3)","v":""},{"$f":"IF(RopeThrow!X44=\"\",\"\",RopeThrow!X44*$I$3)","v":""},{"$f":"IF('Swim&Tow'!$W44=\"\",\"\",'Swim&Tow'!$W44*$J$3)","v":""},{"$f":"IF(Medley!$U44=\"\",\"\",Medley!$U44*$K$3)","v":""},{"$f":"IF('Manikin Carry'!$U44=\"\",\"\",'Manikin Carry'!$U44*$L$3)","v":""},{"$f":"IF(Obstacle!$U44=\"\",\"\",Obstacle!$U44*$M$3)","v":""},"",null,{"$f":"IF(E44=\"NS\",'Non-S Results'!O44,IF('Set UP'!K44=1,'League Results'!P44,IF('Set UP'!K44=2,'League Results'!R44,\"\")))","v":""}]
[null,39,{"$f":"IF(OR('Set UP'!$C45=0,'Set UP'!$D45=0,'Set UP'!$E45=0,'Set UP'!F45=0),\"  --\",'Set UP'!C45)","v":"  --"},{"$f":"IF(OR('Set UP'!$C45=0,'Set UP'!$D45=0,'Set UP'!$E45=0,'Set UP'!F45=0),\"  --\",'Set UP'!D45&\" \"&'Set UP'!E45)","v":"  --"},{"$f":"IF(OR('Set UP'!$C45=0,'Set UP'!$D45=0,'Set UP'!$E45=0,'Set UP'!F45=0),\" --\",'Set UP'!F45)","v":" --"},{"$f":"IF('Dry Incident'!$JQ59=\"\",\"\",'Dry Incident'!$JQ59*$F$3)","v":""},{"$f":"IF(' Wet Incident'!$JQ59=\"\",\"\",' Wet Incident'!$JQ59*$G$3)","v":""},{"$f":"IF('Extra Incident'!$JQ59=\"\",\"\",'Extra Incident'!$JQ59*$H$3)","v":""},{"$f":"IF(RopeThrow!X45=\"\",\"\",RopeThrow!X45*$I$3)","v":""},{"$f":"IF('Swim&Tow'!$W45=\"\",\"\",'Swim&Tow'!$W45*$J$3)","v":""},{"$f":"IF(Medley!$U45=\"\",\"\",Medley!$U45*$K$3)","v":""},{"$f":"IF('Manikin Carry'!$U45=\"\",\"\",'Manikin Carry'!$U45*$L$3)","v":""},{"$f":"IF(Obstacle!$U45=\"\",\"\",Obstacle!$U45*$M$3)","v":""},"",null,{"$f":"IF(E45=\"NS\",'Non-S Results'!O45,IF('Set UP'!K45=1,'League Results'!P45,IF('Set UP'!K45=2,'League Results'!R45,\"\")))","v":""}]
[null,40,{"$f":"IF(OR('Set UP'!$C46=0,'Set UP'!$D46=0,'Set UP'!$E46=0,'Set UP'!F46=0),\"  --\",'Set UP'!C46)","v":"  --"},{"$f":"IF(OR('Set UP'!$C46=0,'Set UP'!$D46=0,'Set UP'!$E46=0,'Set UP'!F46=0),\"  --\",'Set UP'!D46&\" \"&'Set UP'!E46)","v":"  --"},{"$f":"IF(OR('Set UP'!$C46=0,'Set UP'!$D46=0,'Set UP'!$E46=0,'Set UP'!F46=0),\" --\",'Set UP'!F46)","v":" --"},{"$f":"IF('Dry Incident'!$JQ60=\"\",\"\",'Dry Incident'!$JQ60*$F$3)","v":""},{"$f":"IF(' Wet Incident'!$JQ60=\"\",\"\",' Wet Incident'!$JQ60*$G$3)","v":""},{"$f":"IF('Extra Incident'!$JQ60=\"\",\"\",'Extra Incident'!$JQ60*$H$3)","v":""},{"$f":"IF(RopeThrow!X46=\"\",\"\",RopeThrow!X46*$I$3)","v":""},{"$f":"IF('Swim&Tow'!$W46=\"\",\"\",'Swim&Tow'!$W46*$J$3)","v":""},{"$f":"IF(Medley!$U46=\"\",\"\",Medley!$U46*$K$3)","v":""},{"$f":"IF('Manikin Carry'!$U46=\"\",\"\",'Manikin Carry'!$U46*$L$3)","v":""},{"$f":"IF(Obstacle!$U46=\"\",\"\",Obstacle!$U46*$M$3)","v":""},"",null,{"$f":"IF(E46=\"NS\",'Non-S Results'!O46,IF('Set UP'!K46=1,'League Results'!P46,IF('Set UP'!K46=2,'League Results'!R46,\"\")))","v":""}]
[null,null,null,null,null,null,{"$f":"IF(' Wet Incident'!$JQ61=\"\",\"\",' Wet Incident'!$JQ61*$G$3)","v":""},null,null,null,null,null,{"$f":"IF(Obstacle!$U47=\"\",\"\",Obstacle!$U47*$M$3)","v":""},{"$f":"IF(AND(F47=\"\",G47=\"\",I47=\"\",J47=\"\",K47=\"\",L47=\"\",M47=\"\"),\"\",SUM(F47:M47))","v":""},null,{"$f":"IF(E47=\"NS\",'Non-S Results'!O47,IF('Set UP'!K47=1,'League Results'!P47,IF('Set UP'!K47=2,'League Results'!R47,\"\")))","v":""}]
[null,"Copyright Simon Harrison 2008, Oliver Coleman 2009"]
[null,null,null,"ENSURE ALL THE ROPETHROW SHEET HAS HAD THE POSITIONS UPDATED BEFORE USING THE RESULTS ON THIS SHEET"]

{"sheet":"League Results","index":14,"n_rows":49,"n_cols":18,"rows_kept":49,"cut":false,"hidden":false,"merged":[[2,1,3,1],[4,14,5,14],[4,16,5,16],[4,17,5,17],[4,15,5,15],[48,3,48,13],[47,1,47,15],[4,1,5,1],[4,2,5,2],[4,3,5,3],[4,4,5,4],[4,13,5,13]]}
[]
[null,null,null,null,null,"Weighting","Weighting","Weighting","Weighting","Weighting","Weighting","Weighting","Weighting"]
[null,null,null,"League Results",null,{"$f":"'Set UP'!R6","v":2},{"$f":"'Set UP'!R7","v":2},{"$f":"'Set UP'!R8","v":0},{"$f":"'Set UP'!R9","v":1},{"$f":"'Set UP'!R10","v":1},{"$f":"'Set UP'!R11","v":1},{"$f":"'Set UP'!R12","v":0},{"$f":"'Set UP'!R13","v":0}]
[]
[null,null,"Web","Team","Class",{"$f":"'Set UP'!Q6","v":"Wet Incident"},{"$f":"'Set UP'!Q7","v":"Dry Incident"},{"$f":"'Set UP'!Q8","v":"Extra Incident"},{"$f":"'Set UP'!Q9","v":"Rope Throw"},{"$f":"'Set UP'!Q10","v":"Swim and Tow"},{"$f":"'Set UP'!Q11","v":"Medley"},{"$f":"'Set UP'!Q12","v":"Manikin Carry"},{"$f":"'Set UP'!Q13","v":"Obstacle"},"Sum of Weighted Positions ","Sum of Weighted\nPositions (A)","FINAL POSITION\n(A)","Sum of Weighted\nPositions (B)","FINAL POSITION\n(B)"]
[null,null,null,null,null,"Weighted Position","Weighted Position",null,"Weighted Position","Weighted Position","Weighted Position","Weighted Position","Weighted Position"]
[null,1,{"$f":"IF(OR('Set UP'!$C7=0,'Set UP'!$D7=0,'Set UP'!$E7=0,'Set UP'!F7=0),\"  --\",'Set UP'!C7)","v":1418},{"$f":"IF(OR('Set UP'!$C7=0,'Set UP'!$D7=0,'Set UP'!$E7=0,'Set UP'!F7=0),\"  --\",'Set UP'!D7&\" \"&'Set UP'!E7)","v":"Bradford On Avon Lifesaving Club  B"},{"$f":"IF(OR('Set UP'!$C7=0,'Set UP'!$D7=0,'Set UP'!$E7=0,'Set UP'!F7=0),\" --\",'Set UP'!F7)","v":"NS"},{"$f":"IF('Set UP'!$K7<=0,\"\",F$3*OFFSET('Dry Incident'!JQ21,0,2*'Set UP'!$K7))","v":""},{"$f":"IF('Set UP'!$K7<=0,\"\",G$3*OFFSET(' Wet Incident'!JQ21,0,2*'Set UP'!$K7))","v":""},{"$f":"IF('Set UP'!$K7<=0,\"\",H$3*OFFSET('Extra Incident'!JQ21,0,2*'Set UP'!$K7))","v":""},{"$f":"IF('Set UP'!$K7<=0,\"\",IF(OFFSET(RopeThrow!X7,0,2*'Set UP'!$K7)=\"\",\"\",I$3*OFFSET(RopeThrow!X7,0,2*'Set UP'!$K7)))","v":""},{"$f":"IF('Set UP'!$K7<=0,\"\",IF(OFFSET('Swim&Tow'!W7,0,2*'Set UP'!$K7)=\"\",\"\",J$3*OFFSET('Swim&Tow'!W7,0,2*'Set UP'!$K7)))","v":""},{"$f":"IF('Set UP'!$K7<=0,\"\",IF(OFFSET(Medley!U7,0,2*'Set UP'!$K7)=\"\",\"\",K$3*OFFSET(Medley!U7,0,2*'Set UP'!$K7)))","v":""},{"$f":"IF('Set UP'!$K7<=0,\"\",IF(OFFSET('Manikin Carry'!U7,0,2*'Set UP'!$K7)=\"\",\"\",L$3*OFFSET('Manikin Carry'!U7,0,2*'Set UP'!$K7)))","v":""},{"$f":"IF('Set UP'!$K7<=0,\"\",IF(OFFSET(Obstacle!U7,0,2*'Set UP'!$K7)=\"\",\"\",M$3*OFFSET(Obstacle!U7,0,2*'Set UP'!$K7)))","v":""},{"$f":"IF(AND(F7=\"\",G7=\"\",I7=\"\",J7=\"\",K7=\"\",L7=\"\",M7=\"\"),\"\",SUM(F7:M7))","v":""},{"$f":"IF('Set UP'!$K7=1,$N7,\"\")","v":""},null,{"$f":"IF('Set UP'!$K7=2,$N7,\"\")","v":""}]
[null,2,{"$f":"IF(OR('Set UP'!$C8=0,'Set UP'!$D8=0,'Set UP'!$E8=0,'Set UP'!F8=0),\"  --\",'Set UP'!C8)","v":1419},{"$f":"IF(OR('Set UP'!$C8=0,'Set UP'!$D8=0,'Set UP'!$E8=0,'Set UP'!F8=0),\"  --\",'Set UP'!D8&\" \"&'Set UP'!E8)","v":"Bradford On Avon Lifesaving Club  A"},{"$f":"IF(OR('Set UP'!$C8=0,'Set UP'!$D8=0,'Set UP'!$E8=0,'Set UP'!F8=0),\" --\",'Set UP'!F8)","v":"NS"},{"$f":"IF('Set UP'!$K8<=0,\"\",F$3*OFFSET('Dry Incident'!JQ22,0,2*'Set UP'!$K8))","v":""},{"$f":"IF('Set UP'!$K8<=0,\"\",G$3*OFFSET(' Wet Incident'!JQ22,0,2*'Set UP'!$K8))","v":""},{"$f":"IF('Set UP'!$K8<=0,\"\",H$3*OFFSET('Extra Incident'!JQ22,0,2*'Set UP'!$K8))","v":""},{"$f":"IF('Set UP'!$K8<=0,\"\",IF(OFFSET(RopeThrow!X8,0,2*'Set UP'!$K8)=\"\",\"\",I$3*OFFSET(RopeThrow!X8,0,2*'Set UP'!$K8)))","v":""},{"$f":"IF('Set UP'!$K8<=0,\"\",IF(OFFSET('Swim&Tow'!W8,0,2*'Set UP'!$K8)=\"\",\"\",J$3*OFFSET('Swim&Tow'!W8,0,2*'Set UP'!$K8)))","v":""},{"$f":"IF('Set UP'!$K8<=0,\"\",IF(OFFSET(Medley!U8,0,2*'Set UP'!$K8)=\"\",\"\",K$3*OFFSET(Medley!U8,0,2*'Set UP'!$K8)))","v":""},{"$f":"IF('Set UP'!$K8<=0,\"\",IF(OFFSET('Manikin Carry'!U8,0,2*'Set UP'!$K8)=\"\",\"\",L$3*OFFSET('Manikin Carry'!U8,0,2*'Set UP'!$K8)))","v":""},{"$f":"IF('Set UP'!$K8<=0,\"\",IF(OFFSET(Obstacle!U8,0,2*'Set UP'!$K8)=\"\",\"\",M$3*OFFSET(Obstacle!U8,0,2*'Set UP'!$K8)))","v":""},{"$f":"IF(AND(F8=\"\",G8=\"\",I8=\"\",J8=\"\",K8=\"\",L8=\"\",M8=\"\"),\"\",SUM(F8:M8))","v":""},{"$f":"IF('Set UP'!$K8=1,$N8,\"\")","v":""},null,{"$f":"IF('Set UP'!$K8=2,$N8,\"\")","v":""}]
[null,3,{"$f":"IF(OR('Set UP'!$C9=0,'Set UP'!$D9=0,'Set UP'!$E9=0,'Set UP'!F9=0),\"  --\",'Set UP'!C9)","v":1417},{"$f":"IF(OR('Set UP'!$C9=0,'Set UP'!$D9=0,'Set UP'!$E9=0,'Set UP'!F9=0),\"  --\",'Set UP'!D9&\" \"&'Set UP'!E9)","v":"Bradford On Avon Lifesaving Club  C"},{"$f":"IF(OR('Set UP'!$C9=0,'Set UP'!$D9=0,'Set UP'!$E9=0,'Set UP'!F9=0),\" --\",'Set UP'!F9)","v":"NS"},{"$f":"IF('Set UP'!$K9<=0,\"\",F$3*OFFSET('Dry Incident'!JQ23,0,2*'Set UP'!$K9))","v":""},{"$f":"IF('Set UP'!$K9<=0,\"\",G$3*OFFSET(' Wet Incident'!JQ23,0,2*'Set UP'!$K9))","v":""},{"$f":"IF('Set UP'!$K9<=0,\"\",H$3*OFFSET('Extra Incident'!JQ23,0,2*'Set UP'!$K9))","v":""},{"$f":"IF('Set UP'!$K9<=0,\"\",IF(OFFSET(RopeThrow!X9,0,2*'Set UP'!$K9)=\"\",\"\",I$3*OFFSET(RopeThrow!X9,0,2*'Set UP'!$K9)))","v":""},{"$f":"IF('Set UP'!$K9<=0,\"\",IF(OFFSET('Swim&Tow'!W9,0,2*'Set UP'!$K9)=\"\",\"\",J$3*OFFSET('Swim&Tow'!W9,0,2*'Set UP'!$K9)))","v":""},{"$f":"IF('Set UP'!$K9<=0,\"\",IF(OFFSET(Medley!U9,0,2*'Set UP'!$K9)=\"\",\"\",K$3*OFFSET(Medley!U9,0,2*'Set UP'!$K9)))","v":""},{"$f":"IF('Set UP'!$K9<=0,\"\",IF(OFFSET('Manikin Carry'!U9,0,2*'Set UP'!$K9)=\"\",\"\",L$3*OFFSET('Manikin Carry'!U9,0,2*'Set UP'!$K9)))","v":""},{"$f":"IF('Set UP'!$K9<=0,\"\",IF(OFFSET(Obstacle!U9,0,2*'Set UP'!$K9)=\"\",\"\",M$3*OFFSET(Obstacle!U9,0,2*'Set UP'!$K9)))","v":""},{"$f":"IF(AND(F9=\"\",G9=\"\",I9=\"\",J9=\"\",K9=\"\",L9=\"\",M9=\"\"),\"\",SUM(F9:M9))","v":""},{"$f":"IF('Set UP'!$K9=1,$N9,\"\")","v":""},null,{"$f":"IF('Set UP'!$K9=2,$N9,\"\")","v":""}]
[null,4,{"$f":"IF(OR('Set UP'!$C10=0,'Set UP'!$D10=0,'Set UP'!$E10=0,'Set UP'!F10=0),\"  --\",'Set UP'!C10)","v":"  --"},{"$f":"IF(OR('Set UP'!$C10=0,'Set UP'!$D10=0,'Set UP'!$E10=0,'Set UP'!F10=0),\"  --\",'Set UP'!D10&\" \"&'Set UP'!E10)","v":"  --"},{"$f":"IF(OR('Set UP'!$C10=0,'Set UP'!$D10=0,'Set UP'!$E10=0,'Set UP'!F10=0),\" --\",'Set UP'!F10)","v":" --"},{"$f":"IF('Set UP'!$K10<=0,\"\",F$3*OFFSET('Dry Incident'!JQ24,0,2*'Set UP'!$K10))","v":""},{"$f":"IF('Set UP'!$K10<=0,\"\",G$3*OFFSET(' Wet Incident'!JQ24,0,2*'Set UP'!$K10))","v":""},{"$f":"IF('Set UP'!$K10<=0,\"\",H$3*OFFSET('Extra Incident'!JQ24,0,2*'Set UP'!$K10))","v":""},{"$f":"IF('Set UP'!$K10<=0,\"\",IF(OFFSET(RopeThrow!X10,0,2*'Set UP'!$K10)=\"\",\"\",I$3*OFFSET(RopeThrow!X10,0,2*'Set UP'!$K10)))","v":""},{"$f":"IF('Set UP'!$K10<=0,\"\",IF(OFFSET('Swim&Tow'!W10,0,2*'Set UP'!$K10)=\"\",\"\",J$3*OFFSET('Swim&Tow'!W10,0,2*'Set UP'!$K10)))","v":""},{"$f":"IF('Set UP'!$K10<=0,\"\",IF(OFFSET(Medley!U10,0,2*'Set UP'!$K10)=\"\",\"\",K$3*OFFSET(Medley!U10,0,2*'Set UP'!$K10)))","v":""},{"$f":"IF('Set UP'!$K10<=0,\"\",IF(OFFSET('Manikin Carry'!U10,0,2*'Set UP'!$K10)=\"\",\"\",L$3*OFFSET('Manikin Carry'!U10,0,2*'Set UP'!$K10)))","v":""},{"$f":"IF('Set UP'!$K10<=0,\"\",IF(OFFSET(Obstacle!U10,0,2*'Set UP'!$K10)=\"\",\"\",M$3*OFFSET(Obstacle!U10,0,2*'Set UP'!$K10)))","v":""},"",{"$f":"IF('Set UP'!$K10=1,$N10,\"\")","v":""},null,{"$f":"IF('Set UP'!$K10=2,$N10,\"\")","v":""}]
[null,5,{"$f":"IF(OR('Set UP'!$C11=0,'Set UP'!$D11=0,'Set UP'!$E11=0,'Set UP'!F11=0),\"  --\",'Set UP'!C11)","v":1424},{"$f":"IF(OR('Set UP'!$C11=0,'Set UP'!$D11=0,'Set UP'!$E11=0,'Set UP'!F11=0),\"  --\",'Set UP'!D11&\" \"&'Set UP'!E11)","v":"Keynsham B"},{"$f":"IF(OR('Set UP'!$C11=0,'Set UP'!$D11=0,'Set UP'!$E11=0,'Set UP'!F11=0),\" --\",'Set UP'!F11)","v":"NS"},{"$f":"IF('Set UP'!$K11<=0,\"\",F$3*OFFSET('Dry Incident'!JQ25,0,2*'Set UP'!$K11))","v":""},{"$f":"IF('Set UP'!$K11<=0,\"\",G$3*OFFSET(' Wet Incident'!JQ25,0,2*'Set UP'!$K11))","v":""},{"$f":"IF('Set UP'!$K11<=0,\"\",H$3*OFFSET('Extra Incident'!JQ25,0,2*'Set UP'!$K11))","v":""},{"$f":"IF('Set UP'!$K11<=0,\"\",IF(OFFSET(RopeThrow!X11,0,2*'Set UP'!$K11)=\"\",\"\",I$3*OFFSET(RopeThrow!X11,0,2*'Set UP'!$K11)))","v":""},{"$f":"IF('Set UP'!$K11<=0,\"\",IF(OFFSET('Swim&Tow'!W11,0,2*'Set UP'!$K11)=\"\",\"\",J$3*OFFSET('Swim&Tow'!W11,0,2*'Set UP'!$K11)))","v":""},{"$f":"IF('Set UP'!$K11<=0,\"\",IF(OFFSET(Medley!U11,0,2*'Set UP'!$K11)=\"\",\"\",K$3*OFFSET(Medley!U11,0,2*'Set UP'!$K11)))","v":""},{"$f":"IF('Set UP'!$K11<=0,\"\",IF(OFFSET('Manikin Carry'!U11,0,2*'Set UP'!$K11)=\"\",\"\",L$3*OFFSET('Manikin Carry'!U11,0,2*'Set UP'!$K11)))","v":""},{"$f":"IF('Set UP'!$K11<=0,\"\",IF(OFFSET(Obstacle!U11,0,2*'Set UP'!$K11)=\"\",\"\",M$3*OFFSET(Obstacle!U11,0,2*'Set UP'!$K11)))","v":""},"",{"$f":"IF('Set UP'!$K11=1,$N11,\"\")","v":""},null,{"$f":"IF('Set UP'!$K11=2,$N11,\"\")","v":""}]
[null,6,{"$f":"IF(OR('Set UP'!$C12=0,'Set UP'!$D12=0,'Set UP'!$E12=0,'Set UP'!F12=0),\"  --\",'Set UP'!C12)","v":1423},{"$f":"IF(OR('Set UP'!$C12=0,'Set UP'!$D12=0,'Set UP'!$E12=0,'Set UP'!F12=0),\"  --\",'Set UP'!D12&\" \"&'Set UP'!E12)","v":"Keynsham A"},{"$f":"IF(OR('Set UP'!$C12=0,'Set UP'!$D12=0,'Set UP'!$E12=0,'Set UP'!F12=0),\" --\",'Set UP'!F12)","v":"NS"},{"$f":"IF('Set UP'!$K12<=0,\"\",F$3*OFFSET('Dry Incident'!JQ26,0,2*'Set UP'!$K12))","v":""},{"$f":"IF('Set UP'!$K12<=0,\"\",G$3*OFFSET(' Wet Incident'!JQ26,0,2*'Set UP'!$K12))","v":""},{"$f":"IF('Set UP'!$K12<=0,\"\",H$3*OFFSET('Extra Incident'!JQ26,0,2*'Set UP'!$K12))","v":""},{"$f":"IF('Set UP'!$K12<=0,\"\",IF(OFFSET(RopeThrow!X12,0,2*'Set UP'!$K12)=\"\",\"\",I$3*OFFSET(RopeThrow!X12,0,2*'Set UP'!$K12)))","v":""},{"$f":"IF('Set UP'!$K12<=0,\"\",IF(OFFSET('Swim&Tow'!W12,0,2*'Set UP'!$K12)=\"\",\"\",J$3*OFFSET('Swim&Tow'!W12,0,2*'Set UP'!$K12)))","v":""},{"$f":"IF('Set UP'!$K12<=0,\"\",IF(OFFSET(Medley!U12,0,2*'Set UP'!$K12)=\"\",\"\",K$3*OFFSET(Medley!U12,0,2*'Set UP'!$K12)))","v":""},{"$f":"IF('Set UP'!$K12<=0,\"\",IF(OFFSET('Manikin Carry'!U12,0,2*'Set UP'!$K12)=\"\",\"\",L$3*OFFSET('Manikin Carry'!U12,0,2*'Set UP'!$K12)))","v":""},{"$f":"IF('Set UP'!$K12<=0,\"\",IF(OFFSET(Obstacle!U12,0,2*'Set UP'!$K12)=\"\",\"\",M$3*OFFSET(Obstacle!U12,0,2*'Set UP'!$K12)))","v":""},"",{"$f":"IF('Set UP'!$K12=1,$N12,\"\")","v":""},null,{"$f":"IF('Set UP'!$K12=2,$N12,\"\")","v":""}]
[null,7,{"$f":"IF(OR('Set UP'!$C13=0,'Set UP'!$D13=0,'Set UP'!$E13=0,'Set UP'!F13=0),\"  --\",'Set UP'!C13)","v":1433},{"$f":"IF(OR('Set UP'!$C13=0,'Set UP'!$D13=0,'Set UP'!$E13=0,'Set UP'!F13=0),\"  --\",'Set UP'!D13&\" \"&'Set UP'!E13)","v":"University of Nottingham B"},{"$f":"IF(OR('Set UP'!$C13=0,'Set UP'!$D13=0,'Set UP'!$E13=0,'Set UP'!F13=0),\" --\",'Set UP'!F13)","v":"S"},{"$f":"IF('Set UP'!$K13<=0,\"\",F$3*OFFSET('Dry Incident'!JQ27,0,2*'Set UP'!$K13))","v":14},{"$f":"IF('Set UP'!$K13<=0,\"\",G$3*OFFSET(' Wet Incident'!JQ27,0,2*'Set UP'!$K13))","v":6},{"$f":"IF('Set UP'!$K13<=0,\"\",H$3*OFFSET('Extra Incident'!JQ27,0,2*'Set UP'!$K13))","v":0},{"$f":"IF('Set UP'!$K13<=0,\"\",IF(OFFSET(RopeThrow!X13,0,2*'Set UP'!$K13)=\"\",\"\",I$3*OFFSET(RopeThrow!X13,0,2*'Set UP'!$K13)))","v":6.5},{"$f":"IF('Set UP'!$K13<=0,\"\",IF(OFFSET('Swim&Tow'!W13,0,2*'Set UP'!$K13)=\"\",\"\",J$3*OFFSET('Swim&Tow'!W13,0,2*'Set UP'!$K13)))","v":11},{"$f":"IF('Set UP'!$K13<=0,\"\",IF(OFFSET(Medley!U13,0,2*'Set UP'!$K13)=\"\",\"\",K$3*OFFSET(Medley!U13,0,2*'Set UP'!$K13)))","v":10},{"$f":"IF('Set UP'!$K13<=0,\"\",IF(OFFSET('Manikin Carry'!U13,0,2*'Set UP'!$K13)=\"\",\"\",L$3*OFFSET('Manikin Carry'!U13,0,2*'Set UP'!$K13)))","v":""},{"$f":"IF('Set UP'!$K13<=0,\"\",IF(OFFSET(Obstacle!U13,0,2*'Set UP'!$K13)=\"\",\"\",M$3*OFFSET(Obstacle!U13,0,2*'Set UP'!$K13)))","v":""},47.5,{"$f":"IF('Set UP'!$K13=1,$N13,\"\")","v":""},null,{"$f":"IF('Set UP'!$K13=2,$N13,\"\")","v":47.5},7]
[null,8,{"$f":"IF(OR('Set UP'!$C14=0,'Set UP'!$D14=0,'Set UP'!$E14=0,'Set UP'!F14=0),\"  --\",'Set UP'!C14)","v":1441},{"$f":"IF(OR('Set UP'!$C14=0,'Set UP'!$D14=0,'Set UP'!$E14=0,'Set UP'!F14=0),\"  --\",'Set UP'!D14&\" \"&'Set UP'!E14)","v":"University of Plymouth C"},{"$f":"IF(OR('Set UP'!$C14=0,'Set UP'!$D14=0,'Set UP'!$E14=0,'Set UP'!F14=0),\" --\",'Set UP'!F14)","v":"NC"},{"$f":"IF('Set UP'!$K14<=0,\"\",F$3*OFFSET('Dry Incident'!JQ28,0,2*'Set UP'!$K14))","v":""},{"$f":"IF('Set UP'!$K14<=0,\"\",G$3*OFFSET(' Wet Incident'!JQ28,0,2*'Set UP'!$K14))","v":""},{"$f":"IF('Set UP'!$K14<=0,\"\",H$3*OFFSET('Extra Incident'!JQ28,0,2*'Set UP'!$K14))","v":""},{"$f":"IF('Set UP'!$K14<=0,\"\",IF(OFFSET(RopeThrow!X14,0,2*'Set UP'!$K14)=\"\",\"\",I$3*OFFSET(RopeThrow!X14,0,2*'Set UP'!$K14)))","v":""},{"$f":"IF('Set UP'!$K14<=0,\"\",IF(OFFSET('Swim&Tow'!W14,0,2*'Set UP'!$K14)=\"\",\"\",J$3*OFFSET('Swim&Tow'!W14,0,2*'Set UP'!$K14)))","v":""},{"$f":"IF('Set UP'!$K14<=0,\"\",IF(OFFSET(Medley!U14,0,2*'Set UP'!$K14)=\"\",\"\",K$3*OFFSET(Medley!U14,0,2*'Set UP'!$K14)))","v":""},{"$f":"IF('Set UP'!$K14<=0,\"\",IF(OFFSET('Manikin Carry'!U14,0,2*'Set UP'!$K14)=\"\",\"\",L$3*OFFSET('Manikin Carry'!U14,0,2*'Set UP'!$K14)))","v":""},{"$f":"IF('Set UP'!$K14<=0,\"\",IF(OFFSET(Obstacle!U14,0,2*'Set UP'!$K14)=\"\",\"\",M$3*OFFSET(Obstacle!U14,0,2*'Set UP'!$K14)))","v":""},"",{"$f":"IF('Set UP'!$K14=1,$N14,\"\")","v":""},null,{"$f":"IF('Set UP'!$K14=2,$N14,\"\")","v":""}]
[null,9,{"$f":"IF(OR('Set UP'!$C15=0,'Set UP'!$D15=0,'Set UP'!$E15=0,'Set UP'!F15=0),\"  --\",'Set UP'!C15)","v":1440},{"$f":"IF(OR('Set UP'!$C15=0,'Set UP'!$D15=0,'Set UP'!$E15=0,'Set UP'!F15=0),\"  --\",'Set UP'!D15&\" \"&'Set UP'!E15)","v":"University of Plymouth B"},{"$f":"IF(OR('Set UP'!$C15=0,'Set UP'!$D15=0,'Set UP'!$E15=0,'Set UP'!F15=0),\" --\",'Set UP'!F15)","v":"S"},{"$f":"IF('Set UP'!$K15<=0,\"\",F$3*OFFSET('Dry Incident'!JQ29,0,2*'Set UP'!$K15))","v":20},{"$f":"IF('Set UP'!$K15<=0,\"\",G$3*OFFSET(' Wet Incident'!JQ29,0,2*'Set UP'!$K15))","v":16},{"$f":"IF('Set UP'!$K15<=0,\"\",H$3*OFFSET('Extra Incident'!JQ29,0,2*'Set UP'!$K15))","v":0},{"$f":"IF('Set UP'!$K15<=0,\"\",IF(OFFSET(RopeThrow!X15,0,2*'Set UP'!$K15)=\"\",\"\",I$3*OFFSET(RopeThrow!X15,0,2*'Set UP'!$K15)))","v":6.5},{"$f":"IF('Set UP'!$K15<=0,\"\",IF(OFFSET('Swim&Tow'!W15,0,2*'Set UP'!$K15)=\"\",\"\",J$3*OFFSET('Swim&Tow'!W15,0,2*'Set UP'!$K15)))","v":5},{"$f":"IF('Set UP'!$K15<=0,\"\",IF(OFFSET(Medley!U15,0,2*'Set UP'!$K15)=\"\",\"\",K$3*OFFSET(Medley!U15,0,2*'Set UP'!$K15)))","v":5},{"$f":"IF('Set UP'!$K15<=0,\"\",IF(OFFSET('Manikin Carry'!U15,0,2*'Set UP'!$K15)=\"\",\"\",L$3*OFFSET('Manikin Carry'!U15,0,2*'Set UP'!$K15)))","v":""},{"$f":"IF('Set UP'!$K15<=0,\"\",IF(OFFSET(Obstacle!U15,0,2*'Set UP'!$K15)=\"\",\"\",M$3*OFFSET(Obstacle!U15,0,2*'Set UP'!$K15)))","v":""},52.5,{"$f":"IF('Set UP'!$K15=1,$N15,\"\")","v":""},null,{"$f":"IF('Set UP'!$K15=2,$N15,\"\")","v":52.5},8]
[null,10,{"$f":"IF(OR('Set UP'!$C16=0,'Set UP'!$D16=0,'Set UP'!$E16=0,'Set UP'!F16=0),\"  --\",'Set UP'!C16)","v":1431},{"$f":"IF(OR('Set UP'!$C16=0,'Set UP'!$D16=0,'Set UP'!$E16=0,'Set UP'!F16=0),\"  --\",'Set UP'!D16&\" \"&'Set UP'!E16)","v":"University of Nottingham C"},{"$f":"IF(OR('Set UP'!$C16=0,'Set UP'!$D16=0,'Set UP'!$E16=0,'Set UP'!F16=0),\" --\",'Set UP'!F16)","v":"S"},{"$f":"IF('Set UP'!$K16<=0,\"\",F$3*OFFSET('Dry Incident'!JQ30,0,2*'Set UP'!$K16))","v":12},{"$f":"IF('Set UP'!$K16<=0,\"\",G$3*OFFSET(' Wet Incident'!JQ30,0,2*'Set UP'!$K16))","v":18},{"$f":"IF('Set UP'!$K16<=0,\"\",H$3*OFFSET('Extra Incident'!JQ30,0,2*'Set UP'!$K16))","v":0},{"$f":"IF('Set UP'!$K16<=0,\"\",IF(OFFSET(RopeThrow!X16,0,2*'Set UP'!$K16)=\"\",\"\",I$3*OFFSET(RopeThrow!X16,0,2*'Set UP'!$K16)))","v":6.5},{"$f":"IF('Set UP'!$K16<=0,\"\",IF(OFFSET('Swim&Tow'!W16,0,2*'Set UP'!$K16)=\"\",\"\",J$3*OFFSET('Swim&Tow'!W16,0,2*'Set UP'!$K16)))","v":9},{"$f":"IF('Set UP'!$K16<=0,\"\",IF(OFFSET(Medley!U16,0,2*'Set UP'!$K16)=\"\",\"\",K$3*OFFSET(Medley!U16,0,2*'Set UP'!$K16)))","v":11},{"$f":"IF('Set UP'!$K16<=0,\"\",IF(OFFSET('Manikin Carry'!U16,0,2*'Set UP'!$K16)=\"\",\"\",L$3*OFFSET('Manikin Carry'!U16,0,2*'Set UP'!$K16)))","v":""},{"$f":"IF('Set UP'!$K16<=0,\"\",IF(OFFSET(Obstacle!U16,0,2*'Set UP'!$K16)=\"\",\"\",M$3*OFFSET(Obstacle!U16,0,2*'Set UP'!$K16)))","v":""},56.5,{"$f":"IF('Set UP'!$K16=1,$N16,\"\")","v":""},null,{"$f":"IF('Set UP'!$K16=2,$N16,\"\")","v":56.5},10]
[null,11,{"$f":"IF(OR('Set UP'!$C17=0,'Set UP'!$D17=0,'Set UP'!$E17=0,'Set UP'!F17=0),\"  --\",'Set UP'!C17)","v":1445},{"$f":"IF(OR('Set UP'!$C17=0,'Set UP'!$D17=0,'Set UP'!$E17=0,'Set UP'!F17=0),\"  --\",'Set UP'!D17&\" \"&'Set UP'!E17)","v":"University of Birmingham D"},{"$f":"IF(OR('Set UP'!$C17=0,'Set UP'!$D17=0,'Set UP'!$E17=0,'Set UP'!F17=0),\" --\",'Set UP'!F17)","v":"NC"},{"$f":"IF('Set UP'!$K17<=0,\"\",F$3*OFFSET('Dry Incident'!JQ31,0,2*'Set UP'!$K17))","v":""},{"$f":"IF('Set UP'!$K17<=0,\"\",G$3*OFFSET(' Wet Incident'!JQ31,0,2*'Set UP'!$K17))","v":""},{"$f":"IF('Set UP'!$K17<=0,\"\",H$3*OFFSET('Extra Incident'!JQ31,0,2*'Set UP'!$K17))","v":""},{"$f":"IF('Set UP'!$K17<=0,\"\",IF(OFFSET(RopeThrow!X17,0,2*'Set UP'!$K17)=\"\",\"\",I$3*OFFSET(RopeThrow!X17,0,2*'Set UP'!$K17)))","v":""},{"$f":"IF('Set UP'!$K17<=0,\"\",IF(OFFSET('Swim&Tow'!W17,0,2*'Set UP'!$K17)=\"\",\"\",J$3*OFFSET('Swim&Tow'!W17,0,2*'Set UP'!$K17)))","v":""},{"$f":"IF('Set UP'!$K17<=0,\"\",IF(OFFSET(Medley!U17,0,2*'Set UP'!$K17)=\"\",\"\",K$3*OFFSET(Medley!U17,0,2*'Set UP'!$K17)))","v":""},{"$f":"IF('Set UP'!$K17<=0,\"\",IF(OFFSET('Manikin Carry'!U17,0,2*'Set UP'!$K17)=\"\",\"\",L$3*OFFSET('Manikin Carry'!U17,0,2*'Set UP'!$K17)))","v":""},{"$f":"IF('Set UP'!$K17<=0,\"\",IF(OFFSET(Obstacle!U17,0,2*'Set UP'!$K17)=\"\",\"\",M$3*OFFSET(Obstacle!U17,0,2*'Set UP'!$K17)))","v":""},"",{"$f":"IF('Set UP'!$K17=1,$N17,\"\")","v":""},null,{"$f":"IF('Set UP'!$K17=2,$N17,\"\")","v":""}]
[null,12,{"$f":"IF(OR('Set UP'!$C18=0,'Set UP'!$D18=0,'Set UP'!$E18=0,'Set UP'!F18=0),\"  --\",'Set UP'!C18)","v":"  --"},{"$f":"IF(OR('Set UP'!$C18=0,'Set UP'!$D18=0,'Set UP'!$E18=0,'Set UP'!F18=0),\"  --\",'Set UP'!D18&\" \"&'Set UP'!E18)","v":"  --"},{"$f":"IF(OR('Set UP'!$C18=0,'Set UP'!$D18=0,'Set UP'!$E18=0,'Set UP'!F18=0),\" --\",'Set UP'!F18)","v":" --"},{"$f":"IF('Set UP'!$K18<=0,\"\",F$3*OFFSET('Dry Incident'!JQ32,0,2*'Set UP'!$K18))","v":""},{"$f":"IF('Set UP'!$K18<=0,\"\",G$3*OFFSET(' Wet Incident'!JQ32,0,2*'Set UP'!$K18))","v":""},{"$f":"IF('Set UP'!$K18<=0,\"\",H$3*OFFSET('Extra Incident'!JQ32,0,2*'Set UP'!$K18))","v":""},{"$f":"IF('Set UP'!$K18<=0,\"\",IF(OFFSET(RopeThrow!X18,0,2*'Set UP'!$K18)=\"\",\"\",I$3*OFFSET(RopeThrow!X18,0,2*'Set UP'!$K18)))","v":""},{"$f":"IF('Set UP'!$K18<=0,\"\",IF(OFFSET('Swim&Tow'!W18,0,2*'Set UP'!$K18)=\"\",\"\",J$3*OFFSET('Swim&Tow'!W18,0,2*'Set UP'!$K18)))","v":""},{"$f":"IF('Set UP'!$K18<=0,\"\",IF(OFFSET(Medley!U18,0,2*'Set UP'!$K18)=\"\",\"\",K$3*OFFSET(Medley!U18,0,2*'Set UP'!$K18)))","v":""},{"$f":"IF('Set UP'!$K18<=0,\"\",IF(OFFSET('Manikin Carry'!U18,0,2*'Set UP'!$K18)=\"\",\"\",L$3*OFFSET('Manikin Carry'!U18,0,2*'Set UP'!$K18)))","v":""},{"$f":"IF('Set UP'!$K18<=0,\"\",IF(OFFSET(Obstacle!U18,0,2*'Set UP'!$K18)=\"\",\"\",M$3*OFFSET(Obstacle!U18,0,2*'Set UP'!$K18)))","v":""},"",{"$f":"IF('Set UP'!$K18=1,$N18,\"\")","v":""},null,{"$f":"IF('Set UP'!$K18=2,$N18,\"\")","v":""}]
[null,13,{"$f":"IF(OR('Set UP'!$C19=0,'Set UP'!$D19=0,'Set UP'!$E19=0,'Set UP'!F19=0),\"  --\",'Set UP'!C19)","v":1426},{"$f":"IF(OR('Set UP'!$C19=0,'Set UP'!$D19=0,'Set UP'!$E19=0,'Set UP'!F19=0),\"  --\",'Set UP'!D19&\" \"&'Set UP'!E19)","v":"London Universities B"},{"$f":"IF(OR('Set UP'!$C19=0,'Set UP'!$D19=0,'Set UP'!$E19=0,'Set UP'!F19=0),\" --\",'Set UP'!F19)","v":"S"},{"$f":"IF('Set UP'!$K19<=0,\"\",F$3*OFFSET('Dry Incident'!JQ33,0,2*'Set UP'!$K19))","v":10},{"$f":"IF('Set UP'!$K19<=0,\"\",G$3*OFFSET(' Wet Incident'!JQ33,0,2*'Set UP'!$K19))","v":8},{"$f":"IF('Set UP'!$K19<=0,\"\",H$3*OFFSET('Extra Incident'!JQ33,0,2*'Set UP'!$K19))","v":0},{"$f":"IF('Set UP'!$K19<=0,\"\",IF(OFFSET(RopeThrow!X19,0,2*'Set UP'!$K19)=\"\",\"\",I$3*OFFSET(RopeThrow!X19,0,2*'Set UP'!$K19)))","v":6.5},{"$f":"IF('Set UP'!$K19<=0,\"\",IF(OFFSET('Swim&Tow'!W19,0,2*'Set UP'!$K19)=\"\",\"\",J$3*OFFSET('Swim&Tow'!W19,0,2*'Set UP'!$K19)))","v":6},{"$f":"IF('Set UP'!$K19<=0,\"\",IF(OFFSET(Medley!U19,0,2*'Set UP'!$K19)=\"\",\"\",K$3*OFFSET(Medley!U19,0,2*'Set UP'!$K19)))","v":6},{"$f":"IF('Set UP'!$K19<=0,\"\",IF(OFFSET('Manikin Carry'!U19,0,2*'Set UP'!$K19)=\"\",\"\",L$3*OFFSET('Manikin Carry'!U19,0,2*'Set UP'!$K19)))","v":""},{"$f":"IF('Set UP'!$K19<=0,\"\",IF(OFFSET(Obstacle!U19,0,2*'Set UP'!$K19)=\"\",\"\",M$3*OFFSET(Obstacle!U19,0,2*'Set UP'!$K19)))","v":""},36.5,{"$f":"IF('Set UP'!$K19=1,$N19,\"\")","v":""},null,{"$f":"IF('Set UP'!$K19=2,$N19,\"\")","v":36.5},5]
[null,14,{"$f":"IF(OR('Set UP'!$C20=0,'Set UP'!$D20=0,'Set UP'!$E20=0,'Set UP'!F20=0),\"  --\",'Set UP'!C20)","v":"  --"},{"$f":"IF(OR('Set UP'!$C20=0,'Set UP'!$D20=0,'Set UP'!$E20=0,'Set UP'!F20=0),\"  --\",'Set UP'!D20&\" \"&'Set UP'!E20)","v":"  --"},{"$f":"IF(OR('Set UP'!$C20=0,'Set UP'!$D20=0,'Set UP'!$E20=0,'Set UP'!F20=0),\" --\",'Set UP'!F20)","v":" --"},{"$f":"IF('Set UP'!$K20<=0,\"\",F$3*OFFSET('Dry Incident'!JQ34,0,2*'Set UP'!$K20))","v":""},{"$f":"IF('Set UP'!$K20<=0,\"\",G$3*OFFSET(' Wet Incident'!JQ34,0,2*'Set UP'!$K20))","v":""},{"$f":"IF('Set UP'!$K20<=0,\"\",H$3*OFFSET('Extra Incident'!JQ34,0,2*'Set UP'!$K20))","v":""},{"$f":"IF('Set UP'!$K20<=0,\"\",IF(OFFSET(RopeThrow!X20,0,2*'Set UP'!$K20)=\"\",\"\",I$3*OFFSET(RopeThrow!X20,0,2*'Set UP'!$K20)))","v":""},{"$f":"IF('Set UP'!$K20<=0,\"\",IF(OFFSET('Swim&Tow'!W20,0,2*'Set UP'!$K20)=\"\",\"\",J$3*OFFSET('Swim&Tow'!W20,0,2*'Set UP'!$K20)))","v":""},{"$f":"IF('Set UP'!$K20<=0,\"\",IF(OFFSET(Medley!U20,0,2*'Set UP'!$K20)=\"\",\"\",K$3*OFFSET(Medley!U20,0,2*'Set UP'!$K20)))","v":""},{"$f":"IF('Set UP'!$K20<=0,\"\",IF(OFFSET('Manikin Carry'!U20,0,2*'Set UP'!$K20)=\"\",\"\",L$3*OFFSET('Manikin Carry'!U20,0,2*'Set UP'!$K20)))","v":""},{"$f":"IF('Set UP'!$K20<=0,\"\",IF(OFFSET(Obstacle!U20,0,2*'Set UP'!$K20)=\"\",\"\",M$3*OFFSET(Obstacle!U20,0,2*'Set UP'!$K20)))","v":""},"",{"$f":"IF('Set UP'!$K20=1,$N20,\"\")","v":""},null,{"$f":"IF('Set UP'!$K20=2,$N20,\"\")","v":""}]
[null,15,{"$f":"IF(OR('Set UP'!$C21=0,'Set UP'!$D21=0,'Set UP'!$E21=0,'Set UP'!F21=0),\"  --\",'Set UP'!C21)","v":1427},{"$f":"IF(OR('Set UP'!$C21=0,'Set UP'!$D21=0,'Set UP'!$E21=0,'Set UP'!F21=0),\"  --\",'Set UP'!D21&\" \"&'Set UP'!E21)","v":"University of Southampton A"},{"$f":"IF(OR('Set UP'!$C21=0,'Set UP'!$D21=0,'Set UP'!$E21=0,'Set UP'!F21=0),\" --\",'Set UP'!F21)","v":"S"},{"$f":"IF('Set UP'!$K21<=0,\"\",F$3*OFFSET('Dry Incident'!JQ35,0,2*'Set UP'!$K21))","v":10},{"$f":"IF('Set UP'!$K21<=0,\"\",G$3*OFFSET(' Wet Incident'!JQ35,0,2*'Set UP'!$K21))","v":14},{"$f":"IF('Set UP'!$K21<=0,\"\",H$3*OFFSET('Extra Incident'!JQ35,0,2*'Set UP'!$K21))","v":0},{"$f":"IF('Set UP'!$K21<=0,\"\",IF(OFFSET(RopeThrow!X21,0,2*'Set UP'!$K21)=\"\",\"\",I$3*OFFSET(RopeThrow!X21,0,2*'Set UP'!$K21)))","v":9},{"$f":"IF('Set UP'!$K21<=0,\"\",IF(OFFSET('Swim&Tow'!W21,0,2*'Set UP'!$K21)=\"\",\"\",J$3*OFFSET('Swim&Tow'!W21,0,2*'Set UP'!$K21)))","v":9},{"$f":"IF('Set UP'!$K21<=0,\"\",IF(OFFSET(Medley!U21,0,2*'Set UP'!$K21)=\"\",\"\",K$3*OFFSET(Medley!U21,0,2*'Set UP'!$K21)))","v":8},{"$f":"IF('Set UP'!$K21<=0,\"\",IF(OFFSET('Manikin Carry'!U21,0,2*'Set UP'!$K21)=\"\",\"\",L$3*OFFSET('Manikin Carry'!U21,0,2*'Set UP'!$K21)))","v":""},{"$f":"IF('Set UP'!$K21<=0,\"\",IF(OFFSET(Obstacle!U21,0,2*'Set UP'!$K21)=\"\",\"\",M$3*OFFSET(Obstacle!U21,0,2*'Set UP'!$K21)))","v":""},50,{"$f":"IF('Set UP'!$K21=1,$N21,\"\")","v":50},9,{"$f":"IF('Set UP'!$K21=2,$N21,\"\")","v":""}]
[null,16,{"$f":"IF(OR('Set UP'!$C22=0,'Set UP'!$D22=0,'Set UP'!$E22=0,'Set UP'!F22=0),\"  --\",'Set UP'!C22)","v":1444},{"$f":"IF(OR('Set UP'!$C22=0,'Set UP'!$D22=0,'Set UP'!$E22=0,'Set UP'!F22=0),\"  --\",'Set UP'!D22&\" \"&'Set UP'!E22)","v":"University of Birmingham C"},{"$f":"IF(OR('Set UP'!$C22=0,'Set UP'!$D22=0,'Set UP'!$E22=0,'Set UP'!F22=0),\" --\",'Set UP'!F22)","v":"S"},{"$f":"IF('Set UP'!$K22<=0,\"\",F$3*OFFSET('Dry Incident'!JQ36,0,2*'Set UP'!$K22))","v":8},{"$f":"IF('Set UP'!$K22<=0,\"\",G$3*OFFSET(' Wet Incident'!JQ36,0,2*'Set UP'!$K22))","v":4},{"$f":"IF('Set UP'!$K22<=0,\"\",H$3*OFFSET('Extra Incident'!JQ36,0,2*'Set UP'!$K22))","v":0},{"$f":"IF('Set UP'!$K22<=0,\"\",IF(OFFSET(RopeThrow!X22,0,2*'Set UP'!$K22)=\"\",\"\",I$3*OFFSET(RopeThrow!X22,0,2*'Set UP'!$K22)))","v":6.5},{"$f":"IF('Set UP'!$K22<=0,\"\",IF(OFFSET('Swim&Tow'!W22,0,2*'Set UP'!$K22)=\"\",\"\",J$3*OFFSET('Swim&Tow'!W22,0,2*'Set UP'!$K22)))","v":4},{"$f":"IF('Set UP'!$K22<=0,\"\",IF(OFFSET(Medley!U22,0,2*'Set UP'!$K22)=\"\",\"\",K$3*OFFSET(Medley!U22,0,2*'Set UP'!$K22)))","v":7},{"$f":"IF('Set UP'!$K22<=0,\"\",IF(OFFSET('Manikin Carry'!U22,0,2*'Set UP'!$K22)=\"\",\"\",L$3*OFFSET('Manikin Carry'!U22,0,2*'Set UP'!$K22)))","v":""},{"$f":"IF('Set UP'!$K22<=0,\"\",IF(OFFSET(Obstacle!U22,0,2*'Set UP'!$K22)=\"\",\"\",M$3*OFFSET(Obstacle!U22,0,2*'Set UP'!$K22)))","v":""},29.5,{"$f":"IF('Set UP'!$K22=1,$N22,\"\")","v":""},null,{"$f":"IF('Set UP'!$K22=2,$N22,\"\")","v":29.5},3]
[null,17,{"$f":"IF(OR('Set UP'!$C23=0,'Set UP'!$D23=0,'Set UP'!$E23=0,'Set UP'!F23=0),\"  --\",'Set UP'!C23)","v":1439},{"$f":"IF(OR('Set UP'!$C23=0,'Set UP'!$D23=0,'Set UP'!$E23=0,'Set UP'!F23=0),\"  --\",'Set UP'!D23&\" \"&'Set UP'!E23)","v":"University of Plymouth A"},{"$f":"IF(OR('Set UP'!$C23=0,'Set UP'!$D23=0,'Set UP'!$E23=0,'Set UP'!F23=0),\" --\",'Set UP'!F23)","v":"S"},{"$f":"IF('Set UP'!$K23<=0,\"\",F$3*OFFSET('Dry Incident'!JQ37,0,2*'Set UP'!$K23))","v":16},{"$f":"IF('Set UP'!$K23<=0,\"\",G$3*OFFSET(' Wet Incident'!JQ37,0,2*'Set UP'!$K23))","v":4},{"$f":"IF('Set UP'!$K23<=0,\"\",H$3*OFFSET('Extra Incident'!JQ37,0,2*'Set UP'!$K23))","v":0},{"$f":"IF('Set UP'!$K23<=0,\"\",IF(OFFSET(RopeThrow!X23,0,2*'Set UP'!$K23)=\"\",\"\",I$3*OFFSET(RopeThrow!X23,0,2*'Set UP'!$K23)))","v":7.5},{"$f":"IF('Set UP'!$K23<=0,\"\",IF(OFFSET('Swim&Tow'!W23,0,2*'Set UP'!$K23)=\"\",\"\",J$3*OFFSET('Swim&Tow'!W23,0,2*'Set UP'!$K23)))","v":8},{"$f":"IF('Set UP'!$K23<=0,\"\",IF(OFFSET(Medley!U23,0,2*'Set UP'!$K23)=\"\",\"\",K$3*OFFSET(Medley!U23,0,2*'Set UP'!$K23)))","v":7},{"$f":"IF('Set UP'!$K23<=0,\"\",IF(OFFSET('Manikin Carry'!U23,0,2*'Set UP'!$K23)=\"\",\"\",L$3*OFFSET('Manikin Carry'!U23,0,2*'Set UP'!$K23)))","v":""},{"$f":"IF('Set UP'!$K23<=0,\"\",IF(OFFSET(Obstacle!U23,0,2*'Set UP'!$K23)=\"\",\"\",M$3*OFFSET(Obstacle!U23,0,2*'Set UP'!$K23)))","v":""},42.5,{"$f":"IF('Set UP'!$K23=1,$N23,\"\")","v":42.5},7,{"$f":"IF('Set UP'!$K23=2,$N23,\"\")","v":""}]
[null,18,{"$f":"IF(OR('Set UP'!$C24=0,'Set UP'!$D24=0,'Set UP'!$E24=0,'Set UP'!F24=0),\"  --\",'Set UP'!C24)","v":1461},{"$f":"IF(OR('Set UP'!$C24=0,'Set UP'!$D24=0,'Set UP'!$E24=0,'Set UP'!F24=0),\"  --\",'Set UP'!D24&\" \"&'Set UP'!E24)","v":"Bristol University B"},{"$f":"IF(OR('Set UP'!$C24=0,'Set UP'!$D24=0,'Set UP'!$E24=0,'Set UP'!F24=0),\" --\",'Set UP'!F24)","v":"S"},{"$f":"IF('Set UP'!$K24<=0,\"\",F$3*OFFSET('Dry Incident'!JQ38,0,2*'Set UP'!$K24))","v":6},{"$f":"IF('Set UP'!$K24<=0,\"\",G$3*OFFSET(' Wet Incident'!JQ38,0,2*'Set UP'!$K24))","v":10},{"$f":"IF('Set UP'!$K24<=0,\"\",H$3*OFFSET('Extra Incident'!JQ38,0,2*'Set UP'!$K24))","v":0},{"$f":"IF('Set UP'!$K24<=0,\"\",IF(OFFSET(RopeThrow!X24,0,2*'Set UP'!$K24)=\"\",\"\",I$3*OFFSET(RopeThrow!X24,0,2*'Set UP'!$K24)))","v":2.5},{"$f":"IF('Set UP'!$K24<=0,\"\",IF(OFFSET('Swim&Tow'!W24,0,2*'Set UP'!$K24)=\"\",\"\",J$3*OFFSET('Swim&Tow'!W24,0,2*'Set UP'!$K24)))","v":10},{"$f":"IF('Set UP'!$K24<=0,\"\",IF(OFFSET(Medley!U24,0,2*'Set UP'!$K24)=\"\",\"\",K$3*OFFSET(Medley!U24,0,2*'Set UP'!$K24)))","v":9},{"$f":"IF('Set UP'!$K24<=0,\"\",IF(OFFSET('Manikin Carry'!U24,0,2*'Set UP'!$K24)=\"\",\"\",L$3*OFFSET('Manikin Carry'!U24,0,2*'Set UP'!$K24)))","v":""},{"$f":"IF('Set UP'!$K24<=0,\"\",IF(OFFSET(Obstacle!U24,0,2*'Set UP'!$K24)=\"\",\"\",M$3*OFFSET(Obstacle!U24,0,2*'Set UP'!$K24)))","v":""},37.5,{"$f":"IF('Set UP'!$K24=1,$N24,\"\")","v":""},null,{"$f":"IF('Set UP'!$K24=2,$N24,\"\")","v":37.5},6]
[null,19,{"$f":"IF(OR('Set UP'!$C25=0,'Set UP'!$D25=0,'Set UP'!$E25=0,'Set UP'!F25=0),\"  --\",'Set UP'!C25)","v":1436},{"$f":"IF(OR('Set UP'!$C25=0,'Set UP'!$D25=0,'Set UP'!$E25=0,'Set UP'!F25=0),\"  --\",'Set UP'!D25&\" \"&'Set UP'!E25)","v":"Loughborough University C"},{"$f":"IF(OR('Set UP'!$C25=0,'Set UP'!$D25=0,'Set UP'!$E25=0,'Set UP'!F25=0),\" --\",'Set UP'!F25)","v":"S"},{"$f":"IF('Set UP'!$K25<=0,\"\",F$3*OFFSET('Dry Incident'!JQ39,0,2*'Set UP'!$K25))","v":2},{"$f":"IF('Set UP'!$K25<=0,\"\",G$3*OFFSET(' Wet Incident'!JQ39,0,2*'Set UP'!$K25))","v":14},{"$f":"IF('Set UP'!$K25<=0,\"\",H$3*OFFSET('Extra Incident'!JQ39,0,2*'Set UP'!$K25))","v":0},{"$f":"IF('Set UP'!$K25<=0,\"\",IF(OFFSET(RopeThrow!X25,0,2*'Set UP'!$K25)=\"\",\"\",I$3*OFFSET(RopeThrow!X25,0,2*'Set UP'!$K25)))","v":10.5},{"$f":"IF('Set UP'!$K25<=0,\"\",IF(OFFSET('Swim&Tow'!W25,0,2*'Set UP'!$K25)=\"\",\"\",J$3*OFFSET('Swim&Tow'!W25,0,2*'Set UP'!$K25)))","v":2},{"$f":"IF('Set UP'!$K25<=0,\"\",IF(OFFSET(Medley!U25,0,2*'Set UP'!$K25)=\"\",\"\",K$3*OFFSET(Medley!U25,0,2*'Set UP'!$K25)))","v":1},{"$f":"IF('Set UP'!$K25<=0,\"\",IF(OFFSET('Manikin Carry'!U25,0,2*'Set UP'!$K25)=\"\",\"\",L$3*OFFSET('Manikin Carry'!U25,0,2*'Set UP'!$K25)))","v":""},{"$f":"IF('Set UP'!$K25<=0,\"\",IF(OFFSET(Obstacle!U25,0,2*'Set UP'!$K25)=\"\",\"\",M$3*OFFSET(Obstacle!U25,0,2*'Set UP'!$K25)))","v":""},29.5,{"$f":"IF('Set UP'!$K25=1,$N25,\"\")","v":""},null,{"$f":"IF('Set UP'!$K25=2,$N25,\"\")","v":29.5},2]
[null,20,{"$f":"IF(OR('Set UP'!$C26=0,'Set UP'!$D26=0,'Set UP'!$E26=0,'Set UP'!F26=0),\"  --\",'Set UP'!C26)","v":1443},{"$f":"IF(OR('Set UP'!$C26=0,'Set UP'!$D26=0,'Set UP'!$E26=0,'Set UP'!F26=0),\"  --\",'Set UP'!D26&\" \"&'Set UP'!E26)","v":"University of Birmingham B"},{"$f":"IF(OR('Set UP'!$C26=0,'Set UP'!$D26=0,'Set UP'!$E26=0,'Set UP'!F26=0),\" --\",'Set UP'!F26)","v":"S"},{"$f":"IF('Set UP'!$K26<=0,\"\",F$3*OFFSET('Dry Incident'!JQ40,0,2*'Set UP'!$K26))","v":4},{"$f":"IF('Set UP'!$K26<=0,\"\",G$3*OFFSET(' Wet Incident'!JQ40,0,2*'Set UP'!$K26))","v":2},{"$f":"IF('Set UP'!$K26<=0,\"\",H$3*OFFSET('Extra Incident'!JQ40,0,2*'Set UP'!$K26))","v":0},{"$f":"IF('Set UP'!$K26<=0,\"\",IF(OFFSET(RopeThrow!X26,0,2*'Set UP'!$K26)=\"\",\"\",I$3*OFFSET(RopeThrow!X26,0,2*'Set UP'!$K26)))","v":10.5},{"$f":"IF('Set UP'!$K26<=0,\"\",IF(OFFSET('Swim&Tow'!W26,0,2*'Set UP'!$K26)=\"\",\"\",J$3*OFFSET('Swim&Tow'!W26,0,2*'Set UP'!$K26)))","v":3},{"$f":"IF('Set UP'!$K26<=0,\"\",IF(OFFSET(Medley!U26,0,2*'Set UP'!$K26)=\"\",\"\",K$3*OFFSET(Medley!U26,0,2*'Set UP'!$K26)))","v":3},{"$f":"IF('Set UP'!$K26<=0,\"\",IF(OFFSET('Manikin Carry'!U26,0,2*'Set UP'!$K26)=\"\",\"\",L$3*OFFSET('Manikin Carry'!U26,0,2*'Set UP'!$K26)))","v":""},{"$f":"IF('Set UP'!$K26<=0,\"\",IF(OFFSET(Obstacle!U26,0,2*'Set UP'!$K26)=\"\",\"\",M$3*OFFSET(Obstacle!U26,0,2*'Set UP'!$K26)))","v":""},22.5,{"$f":"IF('Set UP'!$K26=1,$N26,\"\")","v":""},null,{"$f":"IF('Set UP'!$K26=2,$N26,\"\")","v":22.5},1]
[null,21,{"$f":"IF(OR('Set UP'!$C27=0,'Set UP'!$D27=0,'Set UP'!$E27=0,'Set UP'!F27=0),\"  --\",'Set UP'!C27)","v":1434},{"$f":"IF(OR('Set UP'!$C27=0,'Set UP'!$D27=0,'Set UP'!$E27=0,'Set UP'!F27=0),\"  --\",'Set UP'!D27&\" \"&'Set UP'!E27)","v":"Loughborough University A"},{"$f":"IF(OR('Set UP'!$C27=0,'Set UP'!$D27=0,'Set UP'!$E27=0,'Set UP'!F27=0),\" --\",'Set UP'!F27)","v":"S"},{"$f":"IF('Set UP'!$K27<=0,\"\",F$3*OFFSET('Dry Incident'!JQ41,0,2*'Set UP'!$K27))","v":8},{"$f":"IF('Set UP'!$K27<=0,\"\",G$3*OFFSET(' Wet Incident'!JQ41,0,2*'Set UP'!$K27))","v":16},{"$f":"IF('Set UP'!$K27<=0,\"\",H$3*OFFSET('Extra Incident'!JQ41,0,2*'Set UP'!$K27))","v":0},{"$f":"IF('Set UP'!$K27<=0,\"\",IF(OFFSET(RopeThrow!X27,0,2*'Set UP'!$K27)=\"\",\"\",I$3*OFFSET(RopeThrow!X27,0,2*'Set UP'!$K27)))","v":4.5},{"$f":"IF('Set UP'!$K27<=0,\"\",IF(OFFSET('Swim&Tow'!W27,0,2*'Set UP'!$K27)=\"\",\"\",J$3*OFFSET('Swim&Tow'!W27,0,2*'Set UP'!$K27)))","v":6},{"$f":"IF('Set UP'!$K27<=0,\"\",IF(OFFSET(Medley!U27,0,2*'Set UP'!$K27)=\"\",\"\",K$3*OFFSET(Medley!U27,0,2*'Set UP'!$K27)))","v":3},{"$f":"IF('Set UP'!$K27<=0,\"\",IF(OFFSET('Manikin Carry'!U27,0,2*'Set UP'!$K27)=\"\",\"\",L$3*OFFSET('Manikin Carry'!U27,0,2*'Set UP'!$K27)))","v":""},{"$f":"IF('Set UP'!$K27<=0,\"\",IF(OFFSET(Obstacle!U27,0,2*'Set UP'!$K27)=\"\",\"\",M$3*OFFSET(Obstacle!U27,0,2*'Set UP'!$K27)))","v":""},37.5,{"$f":"IF('Set UP'!$K27=1,$N27,\"\")","v":37.5},4,{"$f":"IF('Set UP'!$K27=2,$N27,\"\")","v":""}]
[null,22,{"$f":"IF(OR('Set UP'!$C28=0,'Set UP'!$D28=0,'Set UP'!$E28=0,'Set UP'!F28=0),\"  --\",'Set UP'!C28)","v":1435},{"$f":"IF(OR('Set UP'!$C28=0,'Set UP'!$D28=0,'Set UP'!$E28=0,'Set UP'!F28=0),\"  --\",'Set UP'!D28&\" \"&'Set UP'!E28)","v":"Loughborough University B"},{"$f":"IF(OR('Set UP'!$C28=0,'Set UP'!$D28=0,'Set UP'!$E28=0,'Set UP'!F28=0),\" --\",'Set UP'!F28)","v":"S"},{"$f":"IF('Set UP'!$K28<=0,\"\",F$3*OFFSET('Dry Incident'!JQ42,0,2*'Set UP'!$K28))","v":18},{"$f":"IF('Set UP'!$K28<=0,\"\",G$3*OFFSET(' Wet Incident'!JQ42,0,2*'Set UP'!$K28))","v":12},{"$f":"IF('Set UP'!$K28<=0,\"\",H$3*OFFSET('Extra Incident'!JQ42,0,2*'Set UP'!$K28))","v":0},{"$f":"IF('Set UP'!$K28<=0,\"\",IF(OFFSET(RopeThrow!X28,0,2*'Set UP'!$K28)=\"\",\"\",I$3*OFFSET(RopeThrow!X28,0,2*'Set UP'!$K28)))","v":1},{"$f":"IF('Set UP'!$K28<=0,\"\",IF(OFFSET('Swim&Tow'!W28,0,2*'Set UP'!$K28)=\"\",\"\",J$3*OFFSET('Swim&Tow'!W28,0,2*'Set UP'!$K28)))","v":1},{"$f":"IF('Set UP'!$K28<=0,\"\",IF(OFFSET(Medley!U28,0,2*'Set UP'!$K28)=\"\",\"\",K$3*OFFSET(Medley!U28,0,2*'Set UP'!$K28)))","v":2},{"$f":"IF('Set UP'!$K28<=0,\"\",IF(OFFSET('Manikin Carry'!U28,0,2*'Set UP'!$K28)=\"\",\"\",L$3*OFFSET('Manikin Carry'!U28,0,2*'Set UP'!$K28)))","v":""},{"$f":"IF('Set UP'!$K28<=0,\"\",IF(OFFSET(Obstacle!U28,0,2*'Set UP'!$K28)=\"\",\"\",M$3*OFFSET(Obstacle!U28,0,2*'Set UP'!$K28)))","v":""},34,{"$f":"IF('Set UP'!$K28=1,$N28,\"\")","v":""},null,{"$f":"IF('Set UP'!$K28=2,$N28,\"\")","v":34},4]
[null,23,{"$f":"IF(OR('Set UP'!$C29=0,'Set UP'!$D29=0,'Set UP'!$E29=0,'Set UP'!F29=0),\"  --\",'Set UP'!C29)","v":1457},{"$f":"IF(OR('Set UP'!$C29=0,'Set UP'!$D29=0,'Set UP'!$E29=0,'Set UP'!F29=0),\"  --\",'Set UP'!D29&\" \"&'Set UP'!E29)","v":"University of Warwick B"},{"$f":"IF(OR('Set UP'!$C29=0,'Set UP'!$D29=0,'Set UP'!$E29=0,'Set UP'!F29=0),\" --\",'Set UP'!F29)","v":"S"},{"$f":"IF('Set UP'!$K29<=0,\"\",F$3*OFFSET('Dry Incident'!JQ43,0,2*'Set UP'!$K29))","v":16},{"$f":"IF('Set UP'!$K29<=0,\"\",G$3*OFFSET(' Wet Incident'!JQ43,0,2*'Set UP'!$K29))","v":20},{"$f":"IF('Set UP'!$K29<=0,\"\",H$3*OFFSET('Extra Incident'!JQ43,0,2*'Set UP'!$K29))","v":0},{"$f":"IF('Set UP'!$K29<=0,\"\",IF(OFFSET(RopeThrow!X29,0,2*'Set UP'!$K29)=\"\",\"\",I$3*OFFSET(RopeThrow!X29,0,2*'Set UP'!$K29)))","v":2.5},{"$f":"IF('Set UP'!$K29<=0,\"\",IF(OFFSET('Swim&Tow'!W29,0,2*'Set UP'!$K29)=\"\",\"\",J$3*OFFSET('Swim&Tow'!W29,0,2*'Set UP'!$K29)))","v":7},{"$f":"IF('Set UP'!$K29<=0,\"\",IF(OFFSET(Medley!U29,0,2*'Set UP'!$K29)=\"\",\"\",K$3*OFFSET(Medley!U29,0,2*'Set UP'!$K29)))","v":8},{"$f":"IF('Set UP'!$K29<=0,\"\",IF(OFFSET('Manikin Carry'!U29,0,2*'Set UP'!$K29)=\"\",\"\",L$3*OFFSET('Manikin Carry'!U29,0,2*'Set UP'!$K29)))","v":""},{"$f":"IF('Set UP'!$K29<=0,\"\",IF(OFFSET(Obstacle!U29,0,2*'Set UP'!$K29)=\"\",\"\",M$3*OFFSET(Obstacle!U29,0,2*'Set UP'!$K29)))","v":""},53.5,{"$f":"IF('Set UP'!$K29=1,$N29,\"\")","v":""},null,{"$f":"IF('Set UP'!$K29=2,$N29,\"\")","v":53.5},9]
[null,24,{"$f":"IF(OR('Set UP'!$C30=0,'Set UP'!$D30=0,'Set UP'!$E30=0,'Set UP'!F30=0),\"  --\",'Set UP'!C30)","v":1429},{"$f":"IF(OR('Set UP'!$C30=0,'Set UP'!$D30=0,'Set UP'!$E30=0,'Set UP'!F30=0),\"  --\",'Set UP'!D30&\" \"&'Set UP'!E30)","v":"University of Nottingham A"},{"$f":"IF(OR('Set UP'!$C30=0,'Set UP'!$D30=0,'Set UP'!$E30=0,'Set UP'!F30=0),\" --\",'Set UP'!F30)","v":"S"},{"$f":"IF('Set UP'!$K30<=0,\"\",F$3*OFFSET('Dry Incident'!JQ44,0,2*'Set UP'!$K30))","v":14},{"$f":"IF('Set UP'!$K30<=0,\"\",G$3*OFFSET(' Wet Incident'!JQ44,0,2*'Set UP'!$K30))","v":10},{"$f":"IF('Set UP'!$K30<=0,\"\",H$3*OFFSET('Extra Incident'!JQ44,0,2*'Set UP'!$K30))","v":0},{"$f":"IF('Set UP'!$K30<=0,\"\",IF(OFFSET(RopeThrow!X30,0,2*'Set UP'!$K30)=\"\",\"\",I$3*OFFSET(RopeThrow!X30,0,2*'Set UP'!$K30)))","v":1},{"$f":"IF('Set UP'!$K30<=0,\"\",IF(OFFSET('Swim&Tow'!W30,0,2*'Set UP'!$K30)=\"\",\"\",J$3*OFFSET('Swim&Tow'!W30,0,2*'Set UP'!$K30)))","v":7},{"$f":"IF('Set UP'!$K30<=0,\"\",IF(OFFSET(Medley!U30,0,2*'Set UP'!$K30)=\"\",\"\",K$3*OFFSET(Medley!U30,0,2*'Set UP'!$K30)))","v":6},{"$f":"IF('Set UP'!$K30<=0,\"\",IF(OFFSET('Manikin Carry'!U30,0,2*'Set UP'!$K30)=\"\",\"\",L$3*OFFSET('Manikin Carry'!U30,0,2*'Set UP'!$K30)))","v":""},{"$f":"IF('Set UP'!$K30<=0,\"\",IF(OFFSET(Obstacle!U30,0,2*'Set UP'!$K30)=\"\",\"\",M$3*OFFSET(Obstacle!U30,0,2*'Set UP'!$K30)))","v":""},38,{"$f":"IF('Set UP'!$K30=1,$N30,\"\")","v":38},5,{"$f":"IF('Set UP'!$K30=2,$N30,\"\")","v":""}]
[null,25,{"$f":"IF(OR('Set UP'!$C31=0,'Set UP'!$D31=0,'Set UP'!$E31=0,'Set UP'!F31=0),\"  --\",'Set UP'!C31)","v":1438},{"$f":"IF(OR('Set UP'!$C31=0,'Set UP'!$D31=0,'Set UP'!$E31=0,'Set UP'!F31=0),\"  --\",'Set UP'!D31&\" \"&'Set UP'!E31)","v":"Swansea Universities Lifesaving B"},{"$f":"IF(OR('Set UP'!$C31=0,'Set UP'!$D31=0,'Set UP'!$E31=0,'Set UP'!F31=0),\" --\",'Set UP'!F31)","v":"S"},{"$f":"IF('Set UP'!$K31<=0,\"\",F$3*OFFSET('Dry Incident'!JQ45,0,2*'Set UP'!$K31))","v":22},{"$f":"IF('Set UP'!$K31<=0,\"\",G$3*OFFSET(' Wet Incident'!JQ45,0,2*'Set UP'!$K31))","v":22},{"$f":"IF('Set UP'!$K31<=0,\"\",H$3*OFFSET('Extra Incident'!JQ45,0,2*'Set UP'!$K31))","v":0},{"$f":"IF('Set UP'!$K31<=0,\"\",IF(OFFSET(RopeThrow!X31,0,2*'Set UP'!$K31)=\"\",\"\",I$3*OFFSET(RopeThrow!X31,0,2*'Set UP'!$K31)))","v":6.5},{"$f":"IF('Set UP'!$K31<=0,\"\",IF(OFFSET('Swim&Tow'!W31,0,2*'Set UP'!$K31)=\"\",\"\",J$3*OFFSET('Swim&Tow'!W31,0,2*'Set UP'!$K31)))","v":8},{"$f":"IF('Set UP'!$K31<=0,\"\",IF(OFFSET(Medley!U31,0,2*'Set UP'!$K31)=\"\",\"\",K$3*OFFSET(Medley!U31,0,2*'Set UP'!$K31)))","v":4},{"$f":"IF('Set UP'!$K31<=0,\"\",IF(OFFSET('Manikin Carry'!U31,0,2*'Set UP'!$K31)=\"\",\"\",L$3*OFFSET('Manikin Carry'!U31,0,2*'Set UP'!$K31)))","v":""},{"$f":"IF('Set UP'!$K31<=0,\"\",IF(OFFSET(Obstacle!U31,0,2*'Set UP'!$K31)=\"\",\"\",M$3*OFFSET(Obstacle!U31,0,2*'Set UP'!$K31)))","v":""},62.5,{"$f":"IF('Set UP'!$K31=1,$N31,\"\")","v":""},null,{"$f":"IF('Set UP'!$K31=2,$N31,\"\")","v":62.5},11]
[null,26,{"$f":"IF(OR('Set UP'!$C32=0,'Set UP'!$D32=0,'Set UP'!$E32=0,'Set UP'!F32=0),\"  --\",'Set UP'!C32)","v":1442},{"$f":"IF(OR('Set UP'!$C32=0,'Set UP'!$D32=0,'Set UP'!$E32=0,'Set UP'!F32=0),\"  --\",'Set UP'!D32&\" \"&'Set UP'!E32)","v":"University of Birmingham A"},{"$f":"IF(OR('Set UP'!$C32=0,'Set UP'!$D32=0,'Set UP'!$E32=0,'Set UP'!F32=0),\" --\",'Set UP'!F32)","v":"S"},{"$f":"IF('Set UP'!$K32<=0,\"\",F$3*OFFSET('Dry Incident'!JQ46,0,2*'Set UP'!$K32))","v":6},{"$f":"IF('Set UP'!$K32<=0,\"\",G$3*OFFSET(' Wet Incident'!JQ46,0,2*'Set UP'!$K32))","v":12},{"$f":"IF('Set UP'!$K32<=0,\"\",H$3*OFFSET('Extra Incident'!JQ46,0,2*'Set UP'!$K32))","v":0},{"$f":"IF('Set UP'!$K32<=0,\"\",IF(OFFSET(RopeThrow!X32,0,2*'Set UP'!$K32)=\"\",\"\",I$3*OFFSET(RopeThrow!X32,0,2*'Set UP'!$K32)))","v":4.5},{"$f":"IF('Set UP'!$K32<=0,\"\",IF(OFFSET('Swim&Tow'!W32,0,2*'Set UP'!$K32)=\"\",\"\",J$3*OFFSET('Swim&Tow'!W32,0,2*'Set UP'!$K32)))","v":5},{"$f":"IF('Set UP'!$K32<=0,\"\",IF(OFFSET(Medley!U32,0,2*'Set UP'!$K32)=\"\",\"\",K$3*OFFSET(Medley!U32,0,2*'Set UP'!$K32)))","v":4},{"$f":"IF('Set UP'!$K32<=0,\"\",IF(OFFSET('Manikin Carry'!U32,0,2*'Set UP'!$K32)=\"\",\"\",L$3*OFFSET('Manikin Carry'!U32,0,2*'Set UP'!$K32)))","v":""},{"$f":"IF('Set UP'!$K32<=0,\"\",IF(OFFSET(Obstacle!U32,0,2*'Set UP'!$K32)=\"\",\"\",M$3*OFFSET(Obstacle!U32,0,2*'Set UP'!$K32)))","v":""},31.5,{"$f":"IF('Set UP'!$K32=1,$N32,\"\")","v":31.5},3,{"$f":"IF('Set UP'!$K32=2,$N32,\"\")","v":""}]
[null,27,{"$f":"IF(OR('Set UP'!$C33=0,'Set UP'!$D33=0,'Set UP'!$E33=0,'Set UP'!F33=0),\"  --\",'Set UP'!C33)","v":1456},{"$f":"IF(OR('Set UP'!$C33=0,'Set UP'!$D33=0,'Set UP'!$E33=0,'Set UP'!F33=0),\"  --\",'Set UP'!D33&\" \"&'Set UP'!E33)","v":"University of Warwick A"},{"$f":"IF(OR('Set UP'!$C33=0,'Set UP'!$D33=0,'Set UP'!$E33=0,'Set UP'!F33=0),\" --\",'Set UP'!F33)","v":"S"},{"$f":"IF('Set UP'!$K33<=0,\"\",F$3*OFFSET('Dry Incident'!JQ47,0,2*'Set UP'!$K33))","v":2},{"$f":"IF('Set UP'!$K33<=0,\"\",G$3*OFFSET(' Wet Incident'!JQ47,0,2*'Set UP'!$K33))","v":6},{"$f":"IF('Set UP'!$K33<=0,\"\",H$3*OFFSET('Extra Incident'!JQ47,0,2*'Set UP'!$K33))","v":0},{"$f":"IF('Set UP'!$K33<=0,\"\",IF(OFFSET(RopeThrow!X33,0,2*'Set UP'!$K33)=\"\",\"\",I$3*OFFSET(RopeThrow!X33,0,2*'Set UP'!$K33)))","v":4.5},{"$f":"IF('Set UP'!$K33<=0,\"\",IF(OFFSET('Swim&Tow'!W33,0,2*'Set UP'!$K33)=\"\",\"\",J$3*OFFSET('Swim&Tow'!W33,0,2*'Set UP'!$K33)))","v":1},{"$f":"IF('Set UP'!$K33<=0,\"\",IF(OFFSET(Medley!U33,0,2*'Set UP'!$K33)=\"\",\"\",K$3*OFFSET(Medley!U33,0,2*'Set UP'!$K33)))","v":5},{"$f":"IF('Set UP'!$K33<=0,\"\",IF(OFFSET('Manikin Carry'!U33,0,2*'Set UP'!$K33)=\"\",\"\",L$3*OFFSET('Manikin Carry'!U33,0,2*'Set UP'!$K33)))","v":""},{"$f":"IF('Set UP'!$K33<=0,\"\",IF(OFFSET(Obstacle!U33,0,2*'Set UP'!$K33)=\"\",\"\",M$3*OFFSET(Obstacle!U33,0,2*'Set UP'!$K33)))","v":""},18.5,{"$f":"IF('Set UP'!$K33=1,$N33,\"\")","v":18.5},2,{"$f":"IF('Set UP'!$K33=2,$N33,\"\")","v":""}]
[null,28,{"$f":"IF(OR('Set UP'!$C34=0,'Set UP'!$D34=0,'Set UP'!$E34=0,'Set UP'!F34=0),\"  --\",'Set UP'!C34)","v":1460},{"$f":"IF(OR('Set UP'!$C34=0,'Set UP'!$D34=0,'Set UP'!$E34=0,'Set UP'!F34=0),\"  --\",'Set UP'!D34&\" \"&'Set UP'!E34)","v":"Bristol University A"},{"$f":"IF(OR('Set UP'!$C34=0,'Set UP'!$D34=0,'Set UP'!$E34=0,'Set UP'!F34=0),\" --\",'Set UP'!F34)","v":"S"},{"$f":"IF('Set UP'!$K34<=0,\"\",F$3*OFFSET('Dry Incident'!JQ48,0,2*'Set UP'!$K34))","v":12},{"$f":"IF('Set UP'!$K34<=0,\"\",G$3*OFFSET(' Wet Incident'!JQ48,0,2*'Set UP'!$K34))","v":8},{"$f":"IF('Set UP'!$K34<=0,\"\",H$3*OFFSET('Extra Incident'!JQ48,0,2*'Set UP'!$K34))","v":0},{"$f":"IF('Set UP'!$K34<=0,\"\",IF(OFFSET(RopeThrow!X34,0,2*'Set UP'!$K34)=\"\",\"\",I$3*OFFSET(RopeThrow!X34,0,2*'Set UP'!$K34)))","v":7.5},{"$f":"IF('Set UP'!$K34<=0,\"\",IF(OFFSET('Swim&Tow'!W34,0,2*'Set UP'!$K34)=\"\",\"\",J$3*OFFSET('Swim&Tow'!W34,0,2*'Set UP'!$K34)))","v":3},{"$f":"IF('Set UP'!$K34<=0,\"\",IF(OFFSET(Medley!U34,0,2*'Set UP'!$K34)=\"\",\"\",K$3*OFFSET(Medley!U34,0,2*'Set UP'!$K34)))","v":9},{"$f":"IF('Set UP'!$K34<=0,\"\",IF(OFFSET('Manikin Carry'!U34,0,2*'Set UP'!$K34)=\"\",\"\",L$3*OFFSET('Manikin Carry'!U34,0,2*'Set UP'!$K34)))","v":""},{"$f":"IF('Set UP'!$K34<=0,\"\",IF(OFFSET(Obstacle!U34,0,2*'Set UP'!$K34)=\"\",\"\",M$3*OFFSET(Obstacle!U34,0,2*'Set UP'!$K34)))","v":""},39.5,{"$f":"IF('Set UP'!$K34=1,$N34,\"\")","v":39.5},6,{"$f":"IF('Set UP'!$K34=2,$N34,\"\")","v":""}]
[null,29,{"$f":"IF(OR('Set UP'!$C35=0,'Set UP'!$D35=0,'Set UP'!$E35=0,'Set UP'!F35=0),\"  --\",'Set UP'!C35)","v":1437},{"$f":"IF(OR('Set UP'!$C35=0,'Set UP'!$D35=0,'Set UP'!$E35=0,'Set UP'!F35=0),\"  --\",'Set UP'!D35&\" \"&'Set UP'!E35)","v":"Swansea Universities Lifesaving A"},{"$f":"IF(OR('Set UP'!$C35=0,'Set UP'!$D35=0,'Set UP'!$E35=0,'Set UP'!F35=0),\" --\",'Set UP'!F35)","v":"S"},{"$f":"IF('Set UP'!$K35<=0,\"\",F$3*OFFSET('Dry Incident'!JQ49,0,2*'Set UP'!$K35))","v":18},{"$f":"IF('Set UP'!$K35<=0,\"\",G$3*OFFSET(' Wet Incident'!JQ49,0,2*'Set UP'!$K35))","v":18},{"$f":"IF('Set UP'!$K35<=0,\"\",H$3*OFFSET('Extra Incident'!JQ49,0,2*'Set UP'!$K35))","v":0},{"$f":"IF('Set UP'!$K35<=0,\"\",IF(OFFSET(RopeThrow!X35,0,2*'Set UP'!$K35)=\"\",\"\",I$3*OFFSET(RopeThrow!X35,0,2*'Set UP'!$K35)))","v":4.5},{"$f":"IF('Set UP'!$K35<=0,\"\",IF(OFFSET('Swim&Tow'!W35,0,2*'Set UP'!$K35)=\"\",\"\",J$3*OFFSET('Swim&Tow'!W35,0,2*'Set UP'!$K35)))","v":4},{"$f":"IF('Set UP'!$K35<=0,\"\",IF(OFFSET(Medley!U35,0,2*'Set UP'!$K35)=\"\",\"\",K$3*OFFSET(Medley!U35,0,2*'Set UP'!$K35)))","v":1},{"$f":"IF('Set UP'!$K35<=0,\"\",IF(OFFSET('Manikin Carry'!U35,0,2*'Set UP'!$K35)=\"\",\"\",L$3*OFFSET('Manikin Carry'!U35,0,2*'Set UP'!$K35)))","v":""},{"$f":"IF('Set UP'!$K35<=0,\"\",IF(OFFSET(Obstacle!U35,0,2*'Set UP'!$K35)=\"\",\"\",M$3*OFFSET(Obstacle!U35,0,2*'Set UP'!$K35)))","v":""},45.5,{"$f":"IF('Set UP'!$K35=1,$N35,\"\")","v":45.5},8,{"$f":"IF('Set UP'!$K35=2,$N35,\"\")","v":""}]
[null,30,{"$f":"IF(OR('Set UP'!$C36=0,'Set UP'!$D36=0,'Set UP'!$E36=0,'Set UP'!F36=0),\"  --\",'Set UP'!C36)","v":1425},{"$f":"IF(OR('Set UP'!$C36=0,'Set UP'!$D36=0,'Set UP'!$E36=0,'Set UP'!F36=0),\"  --\",'Set UP'!D36&\" \"&'Set UP'!E36)","v":"London Universities A"},{"$f":"IF(OR('Set UP'!$C36=0,'Set UP'!$D36=0,'Set UP'!$E36=0,'Set UP'!F36=0),\" --\",'Set UP'!F36)","v":"S"},{"$f":"IF('Set UP'!$K36<=0,\"\",F$3*OFFSET('Dry Incident'!JQ50,0,2*'Set UP'!$K36))","v":4},{"$f":"IF('Set UP'!$K36<=0,\"\",G$3*OFFSET(' Wet Incident'!JQ50,0,2*'Set UP'!$K36))","v":2},{"$f":"IF('Set UP'!$K36<=0,\"\",H$3*OFFSET('Extra Incident'!JQ50,0,2*'Set UP'!$K36))","v":0},{"$f":"IF('Set UP'!$K36<=0,\"\",IF(OFFSET(RopeThrow!X36,0,2*'Set UP'!$K36)=\"\",\"\",I$3*OFFSET(RopeThrow!X36,0,2*'Set UP'!$K36)))","v":2},{"$f":"IF('Set UP'!$K36<=0,\"\",IF(OFFSET('Swim&Tow'!W36,0,2*'Set UP'!$K36)=\"\",\"\",J$3*OFFSET('Swim&Tow'!W36,0,2*'Set UP'!$K36)))","v":2},{"$f":"IF('Set UP'!$K36<=0,\"\",IF(OFFSET(Medley!U36,0,2*'Set UP'!$K36)=\"\",\"\",K$3*OFFSET(Medley!U36,0,2*'Set UP'!$K36)))","v":2},{"$f":"IF('Set UP'!$K36<=0,\"\",IF(OFFSET('Manikin Carry'!U36,0,2*'Set UP'!$K36)=\"\",\"\",L$3*OFFSET('Manikin Carry'!U36,0,2*'Set UP'!$K36)))","v":""},{"$f":"IF('Set UP'!$K36<=0,\"\",IF(OFFSET(Obstacle!U36,0,2*'Set UP'!$K36)=\"\",\"\",M$3*OFFSET(Obstacle!U36,0,2*'Set UP'!$K36)))","v":""},12,{"$f":"IF('Set UP'!$K36=1,$N36,\"\")","v":12},1,{"$f":"IF('Set UP'!$K36=2,$N36,\"\")","v":""}]
[null,31,{"$f":"IF(OR('Set UP'!$C37=0,'Set UP'!$D37=0,'Set UP'!$E37=0,'Set UP'!F37=0),\"  --\",'Set UP'!C37)","v":"  --"},{"$f":"IF(OR('Set UP'!$C37=0,'Set UP'!$D37=0,'Set UP'!$E37=0,'Set UP'!F37=0),\"  --\",'Set UP'!D37&\" \"&'Set UP'!E37)","v":"  --"},{"$f":"IF(OR('Set UP'!$C37=0,'Set UP'!$D37=0,'Set UP'!$E37=0,'Set UP'!F37=0),\" --\",'Set UP'!F37)","v":" --"},{"$f":"IF('Set UP'!$K37<=0,\"\",F$3*OFFSET('Dry Incident'!JQ51,0,2*'Set UP'!$K37))","v":""},{"$f":"IF('Set UP'!$K37<=0,\"\",G$3*OFFSET(' Wet Incident'!JQ51,0,2*'Set UP'!$K37))","v":""},{"$f":"IF('Set UP'!$K37<=0,\"\",H$3*OFFSET('Extra Incident'!JQ51,0,2*'Set UP'!$K37))","v":""},{"$f":"IF('Set UP'!$K37<=0,\"\",IF(OFFSET(RopeThrow!X37,0,2*'Set UP'!$K37)=\"\",\"\",I$3*OFFSET(RopeThrow!X37,0,2*'Set UP'!$K37)))","v":""},{"$f":"IF('Set UP'!$K37<=0,\"\",IF(OFFSET('Swim&Tow'!W37,0,2*'Set UP'!$K37)=\"\",\"\",J$3*OFFSET('Swim&Tow'!W37,0,2*'Set UP'!$K37)))","v":""},{"$f":"IF('Set UP'!$K37<=0,\"\",IF(OFFSET(Medley!U37,0,2*'Set UP'!$K37)=\"\",\"\",K$3*OFFSET(Medley!U37,0,2*'Set UP'!$K37)))","v":""},{"$f":"IF('Set UP'!$K37<=0,\"\",IF(OFFSET('Manikin Carry'!U37,0,2*'Set UP'!$K37)=\"\",\"\",L$3*OFFSET('Manikin Carry'!U37,0,2*'Set UP'!$K37)))","v":""},{"$f":"IF('Set UP'!$K37<=0,\"\",IF(OFFSET(Obstacle!U37,0,2*'Set UP'!$K37)=\"\",\"\",M$3*OFFSET(Obstacle!U37,0,2*'Set UP'!$K37)))","v":""},"",{"$f":"IF('Set UP'!$K37=1,$N37,\"\")","v":""},null,{"$f":"IF('Set UP'!$K37=2,$N37,\"\")","v":""}]
[null,32,{"$f":"IF(OR('Set UP'!$C38=0,'Set UP'!$D38=0,'Set UP'!$E38=0,'Set UP'!F38=0),\"  --\",'Set UP'!C38)","v":"  --"},{"$f":"IF(OR('Set UP'!$C38=0,'Set UP'!$D38=0,'Set UP'!$E38=0,'Set UP'!F38=0),\"  --\",'Set UP'!D38&\" \"&'Set UP'!E38)","v":"  --"},{"$f":"IF(OR('Set UP'!$C38=0,'Set UP'!$D38=0,'Set UP'!$E38=0,'Set UP'!F38=0),\" --\",'Set UP'!F38)","v":" --"},{"$f":"IF('Set UP'!$K38<=0,\"\",F$3*OFFSET('Dry Incident'!JQ52,0,2*'Set UP'!$K38))","v":""},{"$f":"IF('Set UP'!$K38<=0,\"\",G$3*OFFSET(' Wet Incident'!JQ52,0,2*'Set UP'!$K38))","v":""},{"$f":"IF('Set UP'!$K38<=0,\"\",H$3*OFFSET('Extra Incident'!JQ52,0,2*'Set UP'!$K38))","v":""},{"$f":"IF('Set UP'!$K38<=0,\"\",IF(OFFSET(RopeThrow!X38,0,2*'Set UP'!$K38)=\"\",\"\",I$3*OFFSET(RopeThrow!X38,0,2*'Set UP'!$K38)))","v":""},{"$f":"IF('Set UP'!$K38<=0,\"\",IF(OFFSET('Swim&Tow'!W38,0,2*'Set UP'!$K38)=\"\",\"\",J$3*OFFSET('Swim&Tow'!W38,0,2*'Set UP'!$K38)))","v":""},{"$f":"IF('Set UP'!$K38<=0,\"\",IF(OFFSET(Medley!U38,0,2*'Set UP'!$K38)=\"\",\"\",K$3*OFFSET(Medley!U38,0,2*'Set UP'!$K38)))","v":""},{"$f":"IF('Set UP'!$K38<=0,\"\",IF(OFFSET('Manikin Carry'!U38,0,2*'Set UP'!$K38)=\"\",\"\",L$3*OFFSET('Manikin Carry'!U38,0,2*'Set UP'!$K38)))","v":""},{"$f":"IF('Set UP'!$K38<=0,\"\",IF(OFFSET(Obstacle!U38,0,2*'Set UP'!$K38)=\"\",\"\",M$3*OFFSET(Obstacle!U38,0,2*'Set UP'!$K38)))","v":""},"",{"$f":"IF('Set UP'!$K38=1,$N38,\"\")","v":""},null,{"$f":"IF('Set UP'!$K38=2,$N38,\"\")","v":""}]
[null,33,{"$f":"IF(OR('Set UP'!$C39=0,'Set UP'!$D39=0,'Set UP'!$E39=0,'Set UP'!F39=0),\"  --\",'Set UP'!C39)","v":"  --"},{"$f":"IF(OR('Set UP'!$C39=0,'Set UP'!$D39=0,'Set UP'!$E39=0,'Set UP'!F39=0),\"  --\",'Set UP'!D39&\" \"&'Set UP'!E39)","v":"  --"},{"$f":"IF(OR('Set UP'!$C39=0,'Set UP'!$D39=0,'Set UP'!$E39=0,'Set UP'!F39=0),\" --\",'Set UP'!F39)","v":" --"},{"$f":"IF('Set UP'!$K39<=0,\"\",F$3*OFFSET('Dry Incident'!JQ53,0,2*'Set UP'!$K39))","v":""},{"$f":"IF('Set UP'!$K39<=0,\"\",G$3*OFFSET(' Wet Incident'!JQ53,0,2*'Set UP'!$K39))","v":""},{"$f":"IF('Set UP'!$K39<=0,\"\",H$3*OFFSET('Extra Incident'!JQ53,0,2*'Set UP'!$K39))","v":""},{"$f":"IF('Set UP'!$K39<=0,\"\",IF(OFFSET(RopeThrow!X39,0,2*'Set UP'!$K39)=\"\",\"\",I$3*OFFSET(RopeThrow!X39,0,2*'Set UP'!$K39)))","v":""},{"$f":"IF('Set UP'!$K39<=0,\"\",IF(OFFSET('Swim&Tow'!W39,0,2*'Set UP'!$K39)=\"\",\"\",J$3*OFFSET('Swim&Tow'!W39,0,2*'Set UP'!$K39)))","v":""},{"$f":"IF('Set UP'!$K39<=0,\"\",IF(OFFSET(Medley!U39,0,2*'Set UP'!$K39)=\"\",\"\",K$3*OFFSET(Medley!U39,0,2*'Set UP'!$K39)))","v":""},{"$f":"IF('Set UP'!$K39<=0,\"\",IF(OFFSET('Manikin Carry'!U39,0,2*'Set UP'!$K39)=\"\",\"\",L$3*OFFSET('Manikin Carry'!U39,0,2*'Set UP'!$K39)))","v":""},{"$f":"IF('Set UP'!$K39<=0,\"\",IF(OFFSET(Obstacle!U39,0,2*'Set UP'!$K39)=\"\",\"\",M$3*OFFSET(Obstacle!U39,0,2*'Set UP'!$K39)))","v":""},"",{"$f":"IF('Set UP'!$K39=1,$N39,\"\")","v":""},null,{"$f":"IF('Set UP'!$K39=2,$N39,\"\")","v":""}]
[null,34,{"$f":"IF(OR('Set UP'!$C40=0,'Set UP'!$D40=0,'Set UP'!$E40=0,'Set UP'!F40=0),\"  --\",'Set UP'!C40)","v":"  --"},{"$f":"IF(OR('Set UP'!$C40=0,'Set UP'!$D40=0,'Set UP'!$E40=0,'Set UP'!F40=0),\"  --\",'Set UP'!D40&\" \"&'Set UP'!E40)","v":"  --"},{"$f":"IF(OR('Set UP'!$C40=0,'Set UP'!$D40=0,'Set UP'!$E40=0,'Set UP'!F40=0),\" --\",'Set UP'!F40)","v":" --"},{"$f":"IF('Set UP'!$K40<=0,\"\",F$3*OFFSET('Dry Incident'!JQ54,0,2*'Set UP'!$K40))","v":""},{"$f":"IF('Set UP'!$K40<=0,\"\",G$3*OFFSET(' Wet Incident'!JQ54,0,2*'Set UP'!$K40))","v":""},{"$f":"IF('Set UP'!$K40<=0,\"\",H$3*OFFSET('Extra Incident'!JQ54,0,2*'Set UP'!$K40))","v":""},{"$f":"IF('Set UP'!$K40<=0,\"\",IF(OFFSET(RopeThrow!X40,0,2*'Set UP'!$K40)=\"\",\"\",I$3*OFFSET(RopeThrow!X40,0,2*'Set UP'!$K40)))","v":""},{"$f":"IF('Set UP'!$K40<=0,\"\",IF(OFFSET('Swim&Tow'!W40,0,2*'Set UP'!$K40)=\"\",\"\",J$3*OFFSET('Swim&Tow'!W40,0,2*'Set UP'!$K40)))","v":""},{"$f":"IF('Set UP'!$K40<=0,\"\",IF(OFFSET(Medley!U40,0,2*'Set UP'!$K40)=\"\",\"\",K$3*OFFSET(Medley!U40,0,2*'Set UP'!$K40)))","v":""},{"$f":"IF('Set UP'!$K40<=0,\"\",IF(OFFSET('Manikin Carry'!U40,0,2*'Set UP'!$K40)=\"\",\"\",L$3*OFFSET('Manikin Carry'!U40,0,2*'Set UP'!$K40)))","v":""},{"$f":"IF('Set UP'!$K40<=0,\"\",IF(OFFSET(Obstacle!U40,0,2*'Set UP'!$K40)=\"\",\"\",M$3*OFFSET(Obstacle!U40,0,2*'Set UP'!$K40)))","v":""},"",{"$f":"IF('Set UP'!$K40=1,$N40,\"\")","v":""},null,{"$f":"IF('Set UP'!$K40=2,$N40,\"\")","v":""}]
[null,35,{"$f":"IF(OR('Set UP'!$C41=0,'Set UP'!$D41=0,'Set UP'!$E41=0,'Set UP'!F41=0),\"  --\",'Set UP'!C41)","v":"  --"},{"$f":"IF(OR('Set UP'!$C41=0,'Set UP'!$D41=0,'Set UP'!$E41=0,'Set UP'!F41=0),\"  --\",'Set UP'!D41&\" \"&'Set UP'!E41)","v":"  --"},{"$f":"IF(OR('Set UP'!$C41=0,'Set UP'!$D41=0,'Set UP'!$E41=0,'Set UP'!F41=0),\" --\",'Set UP'!F41)","v":" --"},{"$f":"IF('Set UP'!$K41<=0,\"\",F$3*OFFSET('Dry Incident'!JQ55,0,2*'Set UP'!$K41))","v":""},{"$f":"IF('Set UP'!$K41<=0,\"\",G$3*OFFSET(' Wet Incident'!JQ55,0,2*'Set UP'!$K41))","v":""},{"$f":"IF('Set UP'!$K41<=0,\"\",H$3*OFFSET('Extra Incident'!JQ55,0,2*'Set UP'!$K41))","v":""},{"$f":"IF('Set UP'!$K41<=0,\"\",IF(OFFSET(RopeThrow!X41,0,2*'Set UP'!$K41)=\"\",\"\",I$3*OFFSET(RopeThrow!X41,0,2*'Set UP'!$K41)))","v":""},{"$f":"IF('Set UP'!$K41<=0,\"\",IF(OFFSET('Swim&Tow'!W41,0,2*'Set UP'!$K41)=\"\",\"\",J$3*OFFSET('Swim&Tow'!W41,0,2*'Set UP'!$K41)))","v":""},{"$f":"IF('Set UP'!$K41<=0,\"\",IF(OFFSET(Medley!U41,0,2*'Set UP'!$K41)=\"\",\"\",K$3*OFFSET(Medley!U41,0,2*'Set UP'!$K41)))","v":""},{"$f":"IF('Set UP'!$K41<=0,\"\",IF(OFFSET('Manikin Carry'!U41,0,2*'Set UP'!$K41)=\"\",\"\",L$3*OFFSET('Manikin Carry'!U41,0,2*'Set UP'!$K41)))","v":""},{"$f":"IF('Set UP'!$K41<=0,\"\",IF(OFFSET(Obstacle!U41,0,2*'Set UP'!$K41)=\"\",\"\",M$3*OFFSET(Obstacle!U41,0,2*'Set UP'!$K41)))","v":""},"",{"$f":"IF('Set UP'!$K41=1,$N41,\"\")","v":""},null,{"$f":"IF('Set UP'!$K41=2,$N41,\"\")","v":""}]
[null,36,{"$f":"IF(OR('Set UP'!$C42=0,'Set UP'!$D42=0,'Set UP'!$E42=0,'Set UP'!F42=0),\"  --\",'Set UP'!C42)","v":"  --"},{"$f":"IF(OR('Set UP'!$C42=0,'Set UP'!$D42=0,'Set UP'!$E42=0,'Set UP'!F42=0),\"  --\",'Set UP'!D42&\" \"&'Set UP'!E42)","v":"  --"},{"$f":"IF(OR('Set UP'!$C42=0,'Set UP'!$D42=0,'Set UP'!$E42=0,'Set UP'!F42=0),\" --\",'Set UP'!F42)","v":" --"},{"$f":"IF('Set UP'!$K42<=0,\"\",F$3*OFFSET('Dry Incident'!JQ56,0,2*'Set UP'!$K42))","v":""},{"$f":"IF('Set UP'!$K42<=0,\"\",G$3*OFFSET(' Wet Incident'!JQ56,0,2*'Set UP'!$K42))","v":""},{"$f":"IF('Set UP'!$K42<=0,\"\",H$3*OFFSET('Extra Incident'!JQ56,0,2*'Set UP'!$K42))","v":""},{"$f":"IF('Set UP'!$K42<=0,\"\",IF(OFFSET(RopeThrow!X42,0,2*'Set UP'!$K42)=\"\",\"\",I$3*OFFSET(RopeThrow!X42,0,2*'Set UP'!$K42)))","v":""},{"$f":"IF('Set UP'!$K42<=0,\"\",IF(OFFSET('Swim&Tow'!W42,0,2*'Set UP'!$K42)=\"\",\"\",J$3*OFFSET('Swim&Tow'!W42,0,2*'Set UP'!$K42)))","v":""},{"$f":"IF('Set UP'!$K42<=0,\"\",IF(OFFSET(Medley!U42,0,2*'Set UP'!$K42)=\"\",\"\",K$3*OFFSET(Medley!U42,0,2*'Set UP'!$K42)))","v":""},{"$f":"IF('Set UP'!$K42<=0,\"\",IF(OFFSET('Manikin Carry'!U42,0,2*'Set UP'!$K42)=\"\",\"\",L$3*OFFSET('Manikin Carry'!U42,0,2*'Set UP'!$K42)))","v":""},{"$f":"IF('Set UP'!$K42<=0,\"\",IF(OFFSET(Obstacle!U42,0,2*'Set UP'!$K42)=\"\",\"\",M$3*OFFSET(Obstacle!U42,0,2*'Set UP'!$K42)))","v":""},"",{"$f":"IF('Set UP'!$K42=1,$N42,\"\")","v":""},null,{"$f":"IF('Set UP'!$K42=2,$N42,\"\")","v":""}]
[null,37,{"$f":"IF(OR('Set UP'!$C43=0,'Set UP'!$D43=0,'Set UP'!$E43=0,'Set UP'!F43=0),\"  --\",'Set UP'!C43)","v":"  --"},{"$f":"IF(OR('Set UP'!$C43=0,'Set UP'!$D43=0,'Set UP'!$E43=0,'Set UP'!F43=0),\"  --\",'Set UP'!D43&\" \"&'Set UP'!E43)","v":"  --"},{"$f":"IF(OR('Set UP'!$C43=0,'Set UP'!$D43=0,'Set UP'!$E43=0,'Set UP'!F43=0),\" --\",'Set UP'!F43)","v":" --"},{"$f":"IF('Set UP'!$K43<=0,\"\",F$3*OFFSET('Dry Incident'!JQ57,0,2*'Set UP'!$K43))","v":""},{"$f":"IF('Set UP'!$K43<=0,\"\",G$3*OFFSET(' Wet Incident'!JQ57,0,2*'Set UP'!$K43))","v":""},{"$f":"IF('Set UP'!$K43<=0,\"\",H$3*OFFSET('Extra Incident'!JQ57,0,2*'Set UP'!$K43))","v":""},{"$f":"IF('Set UP'!$K43<=0,\"\",IF(OFFSET(RopeThrow!X43,0,2*'Set UP'!$K43)=\"\",\"\",I$3*OFFSET(RopeThrow!X43,0,2*'Set UP'!$K43)))","v":""},{"$f":"IF('Set UP'!$K43<=0,\"\",IF(OFFSET('Swim&Tow'!W43,0,2*'Set UP'!$K43)=\"\",\"\",J$3*OFFSET('Swim&Tow'!W43,0,2*'Set UP'!$K43)))","v":""},{"$f":"IF('Set UP'!$K43<=0,\"\",IF(OFFSET(Medley!U43,0,2*'Set UP'!$K43)=\"\",\"\",K$3*OFFSET(Medley!U43,0,2*'Set UP'!$K43)))","v":""},{"$f":"IF('Set UP'!$K43<=0,\"\",IF(OFFSET('Manikin Carry'!U43,0,2*'Set UP'!$K43)=\"\",\"\",L$3*OFFSET('Manikin Carry'!U43,0,2*'Set UP'!$K43)))","v":""},{"$f":"IF('Set UP'!$K43<=0,\"\",IF(OFFSET(Obstacle!U43,0,2*'Set UP'!$K43)=\"\",\"\",M$3*OFFSET(Obstacle!U43,0,2*'Set UP'!$K43)))","v":""},"",{"$f":"IF('Set UP'!$K43=1,$N43,\"\")","v":""},null,{"$f":"IF('Set UP'!$K43=2,$N43,\"\")","v":""}]
[null,38,{"$f":"IF(OR('Set UP'!$C44=0,'Set UP'!$D44=0,'Set UP'!$E44=0,'Set UP'!F44=0),\"  --\",'Set UP'!C44)","v":"  --"},{"$f":"IF(OR('Set UP'!$C44=0,'Set UP'!$D44=0,'Set UP'!$E44=0,'Set UP'!F44=0),\"  --\",'Set UP'!D44&\" \"&'Set UP'!E44)","v":"  --"},{"$f":"IF(OR('Set UP'!$C44=0,'Set UP'!$D44=0,'Set UP'!$E44=0,'Set UP'!F44=0),\" --\",'Set UP'!F44)","v":" --"},{"$f":"IF('Set UP'!$K44<=0,\"\",F$3*OFFSET('Dry Incident'!JQ58,0,2*'Set UP'!$K44))","v":""},{"$f":"IF('Set UP'!$K44<=0,\"\",G$3*OFFSET(' Wet Incident'!JQ58,0,2*'Set UP'!$K44))","v":""},{"$f":"IF('Set UP'!$K44<=0,\"\",H$3*OFFSET('Extra Incident'!JQ58,0,2*'Set UP'!$K44))","v":""},{"$f":"IF('Set UP'!$K44<=0,\"\",IF(OFFSET(RopeThrow!X44,0,2*'Set UP'!$K44)=\"\",\"\",I$3*OFFSET(RopeThrow!X44,0,2*'Set UP'!$K44)))","v":""},{"$f":"IF('Set UP'!$K44<=0,\"\",IF(OFFSET('Swim&Tow'!W44,0,2*'Set UP'!$K44)=\"\",\"\",J$3*OFFSET('Swim&Tow'!W44,0,2*'Set UP'!$K44)))","v":""},{"$f":"IF('Set UP'!$K44<=0,\"\",IF(OFFSET(Medley!U44,0,2*'Set UP'!$K44)=\"\",\"\",K$3*OFFSET(Medley!U44,0,2*'Set UP'!$K44)))","v":""},{"$f":"IF('Set UP'!$K44<=0,\"\",IF(OFFSET('Manikin Carry'!U44,0,2*'Set UP'!$K44)=\"\",\"\",L$3*OFFSET('Manikin Carry'!U44,0,2*'Set UP'!$K44)))","v":""},{"$f":"IF('Set UP'!$K44<=0,\"\",IF(OFFSET(Obstacle!U44,0,2*'Set UP'!$K44)=\"\",\"\",M$3*OFFSET(Obstacle!U44,0,2*'Set UP'!$K44)))","v":""},"",{"$f":"IF('Set UP'!$K44=1,$N44,\"\")","v":""},null,{"$f":"IF('Set UP'!$K44=2,$N44,\"\")","v":""}]
[null,39,{"$f":"IF(OR('Set UP'!$C45=0,'Set UP'!$D45=0,'Set UP'!$E45=0,'Set UP'!F45=0),\"  --\",'Set UP'!C45)","v":"  --"},{"$f":"IF(OR('Set UP'!$C45=0,'Set UP'!$D45=0,'Set UP'!$E45=0,'Set UP'!F45=0),\"  --\",'Set UP'!D45&\" \"&'Set UP'!E45)","v":"  --"},{"$f":"IF(OR('Set UP'!$C45=0,'Set UP'!$D45=0,'Set UP'!$E45=0,'Set UP'!F45=0),\" --\",'Set UP'!F45)","v":" --"},{"$f":"IF('Set UP'!$K45<=0,\"\",F$3*OFFSET('Dry Incident'!JQ59,0,2*'Set UP'!$K45))","v":""},{"$f":"IF('Set UP'!$K45<=0,\"\",G$3*OFFSET(' Wet Incident'!JQ59,0,2*'Set UP'!$K45))","v":""},{"$f":"IF('Set UP'!$K45<=0,\"\",H$3*OFFSET('Extra Incident'!JQ59,0,2*'Set UP'!$K45))","v":""},{"$f":"IF('Set UP'!$K45<=0,\"\",IF(OFFSET(RopeThrow!X45,0,2*'Set UP'!$K45)=\"\",\"\",I$3*OFFSET(RopeThrow!X45,0,2*'Set UP'!$K45)))","v":""},{"$f":"IF('Set UP'!$K45<=0,\"\",IF(OFFSET('Swim&Tow'!W45,0,2*'Set UP'!$K45)=\"\",\"\",J$3*OFFSET('Swim&Tow'!W45,0,2*'Set UP'!$K45)))","v":""},{"$f":"IF('Set UP'!$K45<=0,\"\",IF(OFFSET(Medley!U45,0,2*'Set UP'!$K45)=\"\",\"\",K$3*OFFSET(Medley!U45,0,2*'Set UP'!$K45)))","v":""},{"$f":"IF('Set UP'!$K45<=0,\"\",IF(OFFSET('Manikin Carry'!U45,0,2*'Set UP'!$K45)=\"\",\"\",L$3*OFFSET('Manikin Carry'!U45,0,2*'Set UP'!$K45)))","v":""},{"$f":"IF('Set UP'!$K45<=0,\"\",IF(OFFSET(Obstacle!U45,0,2*'Set UP'!$K45)=\"\",\"\",M$3*OFFSET(Obstacle!U45,0,2*'Set UP'!$K45)))","v":""},"",{"$f":"IF('Set UP'!$K45=1,$N45,\"\")","v":""},null,{"$f":"IF('Set UP'!$K45=2,$N45,\"\")","v":""}]
[null,40,{"$f":"IF(OR('Set UP'!$C46=0,'Set UP'!$D46=0,'Set UP'!$E46=0,'Set UP'!F46=0),\"  --\",'Set UP'!C46)","v":"  --"},{"$f":"IF(OR('Set UP'!$C46=0,'Set UP'!$D46=0,'Set UP'!$E46=0,'Set UP'!F46=0),\"  --\",'Set UP'!D46&\" \"&'Set UP'!E46)","v":"  --"},{"$f":"IF(OR('Set UP'!$C46=0,'Set UP'!$D46=0,'Set UP'!$E46=0,'Set UP'!F46=0),\" --\",'Set UP'!F46)","v":" --"},{"$f":"IF('Set UP'!$K46<=0,\"\",F$3*OFFSET('Dry Incident'!JQ60,0,2*'Set UP'!$K46))","v":""},{"$f":"IF('Set UP'!$K46<=0,\"\",G$3*OFFSET(' Wet Incident'!JQ60,0,2*'Set UP'!$K46))","v":""},{"$f":"IF('Set UP'!$K46<=0,\"\",H$3*OFFSET('Extra Incident'!JQ60,0,2*'Set UP'!$K46))","v":""},{"$f":"IF('Set UP'!$K46<=0,\"\",IF(OFFSET(RopeThrow!X46,0,2*'Set UP'!$K46)=\"\",\"\",I$3*OFFSET(RopeThrow!X46,0,2*'Set UP'!$K46)))","v":""},{"$f":"IF('Set UP'!$K46<=0,\"\",IF(OFFSET('Swim&Tow'!W46,0,2*'Set UP'!$K46)=\"\",\"\",J$3*OFFSET('Swim&Tow'!W46,0,2*'Set UP'!$K46)))","v":""},{"$f":"IF('Set UP'!$K46<=0,\"\",IF(OFFSET(Medley!U46,0,2*'Set UP'!$K46)=\"\",\"\",K$3*OFFSET(Medley!U46,0,2*'Set UP'!$K46)))","v":""},{"$f":"IF('Set UP'!$K46<=0,\"\",IF(OFFSET('Manikin Carry'!U46,0,2*'Set UP'!$K46)=\"\",\"\",L$3*OFFSET('Manikin Carry'!U46,0,2*'Set UP'!$K46)))","v":""},{"$f":"IF('Set UP'!$K46<=0,\"\",IF(OFFSET(Obstacle!U46,0,2*'Set UP'!$K46)=\"\",\"\",M$3*OFFSET(Obstacle!U46,0,2*'Set UP'!$K46)))","v":""},"",{"$f":"IF('Set UP'!$K46=1,$N46,\"\")","v":""},null,{"$f":"IF('Set UP'!$K46=2,$N46,\"\")","v":""}]
[null,null,null,null,null,null,{"$f":"IF(' Wet Incident'!$JS61=\"\",\"\",' Wet Incident'!$JS61*$G$3)","v":""},null,null,null,null,null,{"$f":"IF(Obstacle!$W47=\"\",\"\",Obstacle!$W47*$M$3)","v":""},null,{"$f":"IF('Set UP'!K47=1,$N47,\"\")","v":""},null,{"$f":"IF('Set UP'!$K47=1,$N47,\"\")","v":""}]
[null,"Copyright Simon Harrison 2008, Oliver Coleman 2009"]
[null,null,null,"ENSURE ALL THE ROPETHROW SHEET HAS HAD THE POSITIONS UPDATED BEFORE USING THE RESULTS ON THIS SHEET"]

{"sheet":"Non-S Results","index":15,"n_rows":49,"n_cols":15,"rows_kept":49,"cut":false,"hidden":false,"merged":[[4,14,5,14],[47,1,47,14],[48,3,48,13],[2,1,3,1],[4,1,5,1],[4,2,5,2],[4,3,5,3],[4,4,5,4],[4,13,5,13]]}
[]
[null,null,null,null,null,"Weighting","Weighting","Weighting","Weighting","Weighting","Weighting","Weighting","Weighting"]
[null,null,null,"Non_Student Results",null,{"$f":"'Set UP'!U6","v":2},{"$f":"'Set UP'!U7","v":2},{"$f":"'Set UP'!U8","v":0},{"$f":"'Set UP'!U9","v":1},{"$f":"'Set UP'!U10","v":1},{"$f":"'Set UP'!U11","v":1},{"$f":"'Set UP'!U12","v":0},{"$f":"'Set UP'!U13","v":0}]
[]
[null,null,"Web","Team","Class",{"$f":"'Set UP'!Q6","v":"Wet Incident"},{"$f":"'Set UP'!Q7","v":"Dry Incident"},{"$f":"'Set UP'!Q8","v":"Extra Incident"},{"$f":"'Set UP'!Q9","v":"Rope Throw"},{"$f":"'Set UP'!Q10","v":"Swim and Tow"},{"$f":"'Set UP'!Q11","v":"Medley"},{"$f":"'Set UP'!Q12","v":"Manikin Carry"},{"$f":"'Set UP'!Q13","v":"Obstacle"},"Sum of Weighted Positions ","FINAL POSITION\n"]
[null,null,null,null,null,"Weighted Position","Weighted Position",null,"Weighted Position","Weighted Position","Weighted Position","Weighted Position","Weighted Position"]
[null,1,{"$f":"IF(OR('Set UP'!$C7=0,'Set UP'!$D7=0,'Set UP'!$E7=0,'Set UP'!F7=0),\"  --\",'Set UP'!C7)","v":1418},{"$f":"IF(OR('Set UP'!$C7=0,'Set UP'!$D7=0,'Set UP'!$E7=0,'Set UP'!F7=0),\"  --\",'Set UP'!D7&\" \"&'Set UP'!E7)","v":"Bradford On Avon Lifesaving Club  B"},{"$f":"IF(OR('Set UP'!$C7=0,'Set UP'!$D7=0,'Set UP'!$E7=0,'Set UP'!F7=0),\" --\",'Set UP'!F7)","v":"NS"},{"$f":"IF(OR('Set UP'!$K7<0,'Set UP'!$F7<>\"NS\"),\"\",F$3*'Dry Incident'!JY21)","v":10},{"$f":"IF(OR('Set UP'!$K7<0,'Set UP'!$F7<>\"NS\"),\"\",G$3*' Wet Incident'!JY21)","v":10},{"$f":"IF(OR('Set UP'!$K7<0,'Set UP'!$F7<>\"NS\"),\"\",H$3*'Extra Incident'!JY21)","v":0},{"$f":"IF(OR('Set UP'!$K7<0,'Set UP'!$F7<>\"NS\",RopeThrow!AF7=\"\"),\"\",I$3*RopeThrow!AF7)","v":2},{"$f":"IF(OR('Set UP'!$K7<0,'Set UP'!$F7<>\"NS\",'Swim&Tow'!AE7=\"\"),\"\",J$3*'Swim&Tow'!AE7)","v":5},{"$f":"IF(OR('Set UP'!$K7<=0,'Set UP'!$F7<>\"NS\",Medley!AC7=\"\"),\"\",K$3*Medley!AC7)","v":""},{"$f":"IF(OR('Set UP'!$K7<=0,'Set UP'!$F7<>\"NS\",'Manikin Carry'!AC7=\"\"),\"\",L$3*'Manikin Carry'!AC7)","v":""},{"$f":"IF(OR('Set UP'!$K7<=0,'Set UP'!$F7<>\"NS\",Obstacle!AC7=\"\"),\"\",M$3*Obstacle!AC7)","v":""},{"$f":"IF(AND(F7=\"\",G7=\"\",H7=\"\",I7=\"\",J7=\"\",K7=\"\",L7=\"\"),\"\",SUM(F7:M7))","v":27},5]
[null,2,{"$f":"IF(OR('Set UP'!$C8=0,'Set UP'!$D8=0,'Set UP'!$E8=0,'Set UP'!F8=0),\"  --\",'Set UP'!C8)","v":1419},{"$f":"IF(OR('Set UP'!$C8=0,'Set UP'!$D8=0,'Set UP'!$E8=0,'Set UP'!F8=0),\"  --\",'Set UP'!D8&\" \"&'Set UP'!E8)","v":"Bradford On Avon Lifesaving Club  A"},{"$f":"IF(OR('Set UP'!$C8=0,'Set UP'!$D8=0,'Set UP'!$E8=0,'Set UP'!F8=0),\" --\",'Set UP'!F8)","v":"NS"},{"$f":"IF(OR('Set UP'!$K8<0,'Set UP'!$F8<>\"NS\"),\"\",F$3*'Dry Incident'!JY22)","v":4},{"$f":"IF(OR('Set UP'!$K8<0,'Set UP'!$F8<>\"NS\"),\"\",G$3*' Wet Incident'!JY22)","v":6},{"$f":"IF(OR('Set UP'!$K8<0,'Set UP'!$F8<>\"NS\"),\"\",H$3*'Extra Incident'!JY22)","v":0},{"$f":"IF(OR('Set UP'!$K8<0,'Set UP'!$F8<>\"NS\",RopeThrow!AF8=\"\"),\"\",I$3*RopeThrow!AF8)","v":4},{"$f":"IF(OR('Set UP'!$K8<0,'Set UP'!$F8<>\"NS\",'Swim&Tow'!AE8=\"\"),\"\",J$3*'Swim&Tow'!AE8)","v":3},{"$f":"IF(OR('Set UP'!$K8<=0,'Set UP'!$F8<>\"NS\",Medley!AC8=\"\"),\"\",K$3*Medley!AC8)","v":""},{"$f":"IF(OR('Set UP'!$K8<=0,'Set UP'!$F8<>\"NS\",'Manikin Carry'!AC8=\"\"),\"\",L$3*'Manikin Carry'!AC8)","v":""},{"$f":"IF(OR('Set UP'!$K8<=0,'Set UP'!$F8<>\"NS\",Obstacle!AC8=\"\"),\"\",M$3*Obstacle!AC8)","v":""},{"$f":"IF(AND(F8=\"\",G8=\"\",H8=\"\",I8=\"\",J8=\"\",K8=\"\",L8=\"\"),\"\",SUM(F8:M8))","v":17},3]
[null,3,{"$f":"IF(OR('Set UP'!$C9=0,'Set UP'!$D9=0,'Set UP'!$E9=0,'Set UP'!F9=0),\"  --\",'Set UP'!C9)","v":1417},{"$f":"IF(OR('Set UP'!$C9=0,'Set UP'!$D9=0,'Set UP'!$E9=0,'Set UP'!F9=0),\"  --\",'Set UP'!D9&\" \"&'Set UP'!E9)","v":"Bradford On Avon Lifesaving Club  C"},{"$f":"IF(OR('Set UP'!$C9=0,'Set UP'!$D9=0,'Set UP'!$E9=0,'Set UP'!F9=0),\" --\",'Set UP'!F9)","v":"NS"},{"$f":"IF(OR('Set UP'!$K9<0,'Set UP'!$F9<>\"NS\"),\"\",F$3*'Dry Incident'!JY23)","v":8},{"$f":"IF(OR('Set UP'!$K9<0,'Set UP'!$F9<>\"NS\"),\"\",G$3*' Wet Incident'!JY23)","v":8},{"$f":"IF(OR('Set UP'!$K9<0,'Set UP'!$F9<>\"NS\"),\"\",H$3*'Extra Incident'!JY23)","v":0},{"$f":"IF(OR('Set UP'!$K9<0,'Set UP'!$F9<>\"NS\",RopeThrow!AF9=\"\"),\"\",I$3*RopeThrow!AF9)","v":4},{"$f":"IF(OR('Set UP'!$K9<0,'Set UP'!$F9<>\"NS\",'Swim&Tow'!AE9=\"\"),\"\",J$3*'Swim&Tow'!AE9)","v":4},{"$f":"IF(OR('Set UP'!$K9<=0,'Set UP'!$F9<>\"NS\",Medley!AC9=\"\"),\"\",K$3*Medley!AC9)","v":""},{"$f":"IF(OR('Set UP'!$K9<=0,'Set UP'!$F9<>\"NS\",'Manikin Carry'!AC9=\"\"),\"\",L$3*'Manikin Carry'!AC9)","v":""},{"$f":"IF(OR('Set UP'!$K9<=0,'Set UP'!$F9<>\"NS\",Obstacle!AC9=\"\"),\"\",M$3*Obstacle!AC9)","v":""},24,4]
[null,4,{"$f":"IF(OR('Set UP'!$C10=0,'Set UP'!$D10=0,'Set UP'!$E10=0,'Set UP'!F10=0),\"  --\",'Set UP'!C10)","v":"  --"},{"$f":"IF(OR('Set UP'!$C10=0,'Set UP'!$D10=0,'Set UP'!$E10=0,'Set UP'!F10=0),\"  --\",'Set UP'!D10&\" \"&'Set UP'!E10)","v":"  --"},{"$f":"IF(OR('Set UP'!$C10=0,'Set UP'!$D10=0,'Set UP'!$E10=0,'Set UP'!F10=0),\" --\",'Set UP'!F10)","v":" --"},{"$f":"IF(OR('Set UP'!$K10<0,'Set UP'!$F10<>\"NS\"),\"\",F$3*'Dry Incident'!JY24)","v":""},{"$f":"IF(OR('Set UP'!$K10<0,'Set UP'!$F10<>\"NS\"),\"\",G$3*' Wet Incident'!JY24)","v":""},{"$f":"IF(OR('Set UP'!$K10<0,'Set UP'!$F10<>\"NS\"),\"\",H$3*'Extra Incident'!JY24)","v":""},{"$f":"IF(OR('Set UP'!$K10<0,'Set UP'!$F10<>\"NS\",RopeThrow!AF10=\"\"),\"\",I$3*RopeThrow!AF10)","v":""},{"$f":"IF(OR('Set UP'!$K10<0,'Set UP'!$F10<>\"NS\",'Swim&Tow'!AE10=\"\"),\"\",J$3*'Swim&Tow'!AE10)","v":""},{"$f":"IF(OR('Set UP'!$K10<=0,'Set UP'!$F10<>\"NS\",Medley!AC10=\"\"),\"\",K$3*Medley!AC10)","v":""},{"$f":"IF(OR('Set UP'!$K10<=0,'Set UP'!$F10<>\"NS\",'Manikin Carry'!AC10=\"\"),\"\",L$3*'Manikin Carry'!AC10)","v":""},{"$f":"IF(OR('Set UP'!$K10<=0,'Set UP'!$F10<>\"NS\",Obstacle!AC10=\"\"),\"\",M$3*Obstacle!AC10)","v":""},""]
[null,5,{"$f":"IF(OR('Set UP'!$C11=0,'Set UP'!$D11=0,'Set UP'!$E11=0,'Set UP'!F11=0),\"  --\",'Set UP'!C11)","v":1424},{"$f":"IF(OR('Set UP'!$C11=0,'Set UP'!$D11=0,'Set UP'!$E11=0,'Set UP'!F11=0),\"  --\",'Set UP'!D11&\" \"&'Set UP'!E11)","v":"Keynsham B"},{"$f":"IF(OR('Set UP'!$C11=0,'Set UP'!$D11=0,'Set UP'!$E11=0,'Set UP'!F11=0),\" --\",'Set UP'!F11)","v":"NS"},{"$f":"IF(OR('Set UP'!$K11<0,'Set UP'!$F11<>\"NS\"),\"\",F$3*'Dry Incident'!JY25)","v":2},{"$f":"IF(OR('Set UP'!$K11<0,'Set UP'!$F11<>\"NS\"),\"\",G$3*' Wet Incident'!JY25)","v":2},{"$f":"IF(OR('Set UP'!$K11<0,'Set UP'!$F11<>\"NS\"),\"\",H$3*'Extra Incident'!JY25)","v":0},{"$f":"IF(OR('Set UP'!$K11<0,'Set UP'!$F11<>\"NS\",RopeThrow!AF11=\"\"),\"\",I$3*RopeThrow!AF11)","v":1},{"$f":"IF(OR('Set UP'!$K11<0,'Set UP'!$F11<>\"NS\",'Swim&Tow'!AE11=\"\"),\"\",J$3*'Swim&Tow'!AE11)","v":1},{"$f":"IF(OR('Set UP'!$K11<=0,'Set UP'!$F11<>\"NS\",Medley!AC11=\"\"),\"\",K$3*Medley!AC11)","v":""},{"$f":"IF(OR('Set UP'!$K11<=0,'Set UP'!$F11<>\"NS\",'Manikin Carry'!AC11=\"\"),\"\",L$3*'Manikin Carry'!AC11)","v":""},{"$f":"IF(OR('Set UP'!$K11<=0,'Set UP'!$F11<>\"NS\",Obstacle!AC11=\"\"),\"\",M$3*Obstacle!AC11)","v":""},6,1]
[null,6,{"$f":"IF(OR('Set UP'!$C12=0,'Set UP'!$D12=0,'Set UP'!$E12=0,'Set UP'!F12=0),\"  --\",'Set UP'!C12)","v":1423},{"$f":"IF(OR('Set UP'!$C12=0,'Set UP'!$D12=0,'Set UP'!$E12=0,'Set UP'!F12=0),\"  --\",'Set UP'!D12&\" \"&'Set UP'!E12)","v":"Keynsham A"},{"$f":"IF(OR('Set UP'!$C12=0,'Set UP'!$D12=0,'Set UP'!$E12=0,'Set UP'!F12=0),\" --\",'Set UP'!F12)","v":"NS"},{"$f":"IF(OR('Set UP'!$K12<0,'Set UP'!$F12<>\"NS\"),\"\",F$3*'Dry Incident'!JY26)","v":6},{"$f":"IF(OR('Set UP'!$K12<0,'Set UP'!$F12<>\"NS\"),\"\",G$3*' Wet Incident'!JY26)","v":4},{"$f":"IF(OR('Set UP'!$K12<0,'Set UP'!$F12<>\"NS\"),\"\",H$3*'Extra Incident'!JY26)","v":0},{"$f":"IF(OR('Set UP'!$K12<0,'Set UP'!$F12<>\"NS\",RopeThrow!AF12=\"\"),\"\",I$3*RopeThrow!AF12)","v":4},{"$f":"IF(OR('Set UP'!$K12<0,'Set UP'!$F12<>\"NS\",'Swim&Tow'!AE12=\"\"),\"\",J$3*'Swim&Tow'!AE12)","v":2},{"$f":"IF(OR('Set UP'!$K12<=0,'Set UP'!$F12<>\"NS\",Medley!AC12=\"\"),\"\",K$3*Medley!AC12)","v":""},{"$f":"IF(OR('Set UP'!$K12<=0,'Set UP'!$F12<>\"NS\",'Manikin Carry'!AC12=\"\"),\"\",L$3*'Manikin Carry'!AC12)","v":""},{"$f":"IF(OR('Set UP'!$K12<=0,'Set UP'!$F12<>\"NS\",Obstacle!AC12=\"\"),\"\",M$3*Obstacle!AC12)","v":""},16,2]
[null,7,{"$f":"IF(OR('Set UP'!$C13=0,'Set UP'!$D13=0,'Set UP'!$E13=0,'Set UP'!F13=0),\"  --\",'Set UP'!C13)","v":1433},{"$f":"IF(OR('Set UP'!$C13=0,'Set UP'!$D13=0,'Set UP'!$E13=0,'Set UP'!F13=0),\"  --\",'Set UP'!D13&\" \"&'Set UP'!E13)","v":"University of Nottingham B"},{"$f":"IF(OR('Set UP'!$C13=0,'Set UP'!$D13=0,'Set UP'!$E13=0,'Set UP'!F13=0),\" --\",'Set UP'!F13)","v":"S"},{"$f":"IF(OR('Set UP'!$K13<0,'Set UP'!$F13<>\"NS\"),\"\",F$3*'Dry Incident'!JY27)","v":""},{"$f":"IF(OR('Set UP'!$K13<0,'Set UP'!$F13<>\"NS\"),\"\",G$3*' Wet Incident'!JY27)","v":""},{"$f":"IF(OR('Set UP'!$K13<0,'Set UP'!$F13<>\"NS\"),\"\",H$3*'Extra Incident'!JY27)","v":""},{"$f":"IF(OR('Set UP'!$K13<0,'Set UP'!$F13<>\"NS\",RopeThrow!AF13=\"\"),\"\",I$3*RopeThrow!AF13)","v":""},{"$f":"IF(OR('Set UP'!$K13<0,'Set UP'!$F13<>\"NS\",'Swim&Tow'!AE13=\"\"),\"\",J$3*'Swim&Tow'!AE13)","v":""},{"$f":"IF(OR('Set UP'!$K13<=0,'Set UP'!$F13<>\"NS\",Medley!AC13=\"\"),\"\",K$3*Medley!AC13)","v":""},{"$f":"IF(OR('Set UP'!$K13<=0,'Set UP'!$F13<>\"NS\",'Manikin Carry'!AC13=\"\"),\"\",L$3*'Manikin Carry'!AC13)","v":""},{"$f":"IF(OR('Set UP'!$K13<=0,'Set UP'!$F13<>\"NS\",Obstacle!AC13=\"\"),\"\",M$3*Obstacle!AC13)","v":""},""]
[null,8,{"$f":"IF(OR('Set UP'!$C14=0,'Set UP'!$D14=0,'Set UP'!$E14=0,'Set UP'!F14=0),\"  --\",'Set UP'!C14)","v":1441},{"$f":"IF(OR('Set UP'!$C14=0,'Set UP'!$D14=0,'Set UP'!$E14=0,'Set UP'!F14=0),\"  --\",'Set UP'!D14&\" \"&'Set UP'!E14)","v":"University of Plymouth C"},{"$f":"IF(OR('Set UP'!$C14=0,'Set UP'!$D14=0,'Set UP'!$E14=0,'Set UP'!F14=0),\" --\",'Set UP'!F14)","v":"NC"},{"$f":"IF(OR('Set UP'!$K14<0,'Set UP'!$F14<>\"NS\"),\"\",F$3*'Dry Incident'!JY28)","v":""},{"$f":"IF(OR('Set UP'!$K14<0,'Set UP'!$F14<>\"NS\"),\"\",G$3*' Wet Incident'!JY28)","v":""},{"$f":"IF(OR('Set UP'!$K14<0,'Set UP'!$F14<>\"NS\"),\"\",H$3*'Extra Incident'!JY28)","v":""},{"$f":"IF(OR('Set UP'!$K14<0,'Set UP'!$F14<>\"NS\",RopeThrow!AF14=\"\"),\"\",I$3*RopeThrow!AF14)","v":""},{"$f":"IF(OR('Set UP'!$K14<0,'Set UP'!$F14<>\"NS\",'Swim&Tow'!AE14=\"\"),\"\",J$3*'Swim&Tow'!AE14)","v":""},{"$f":"IF(OR('Set UP'!$K14<=0,'Set UP'!$F14<>\"NS\",Medley!AC14=\"\"),\"\",K$3*Medley!AC14)","v":""},{"$f":"IF(OR('Set UP'!$K14<=0,'Set UP'!$F14<>\"NS\",'Manikin Carry'!AC14=\"\"),\"\",L$3*'Manikin Carry'!AC14)","v":""},{"$f":"IF(OR('Set UP'!$K14<=0,'Set UP'!$F14<>\"NS\",Obstacle!AC14=\"\"),\"\",M$3*Obstacle!AC14)","v":""},""]
[null,9,{"$f":"IF(OR('Set UP'!$C15=0,'Set UP'!$D15=0,'Set UP'!$E15=0,'Set UP'!F15=0),\"  --\",'Set UP'!C15)","v":1440},{"$f":"IF(OR('Set UP'!$C15=0,'Set UP'!$D15=0,'Set UP'!$E15=0,'Set UP'!F15=0),\"  --\",'Set UP'!D15&\" \"&'Set UP'!E15)","v":"University of Plymouth B"},{"$f":"IF(OR('Set UP'!$C15=0,'Set UP'!$D15=0,'Set UP'!$E15=0,'Set UP'!F15=0),\" --\",'Set UP'!F15)","v":"S"},{"$f":"IF(OR('Set UP'!$K15<0,'Set UP'!$F15<>\"NS\"),\"\",F$3*'Dry Incident'!JY29)","v":""},{"$f":"IF(OR('Set UP'!$K15<0,'Set UP'!$F15<>\"NS\"),\"\",G$3*' Wet Incident'!JY29)","v":""},{"$f":"IF(OR('Set UP'!$K15<0,'Set UP'!$F15<>\"NS\"),\"\",H$3*'Extra Incident'!JY29)","v":""},{"$f":"IF(OR('Set UP'!$K15<0,'Set UP'!$F15<>\"NS\",RopeThrow!AF15=\"\"),\"\",I$3*RopeThrow!AF15)","v":""},{"$f":"IF(OR('Set UP'!$K15<0,'Set UP'!$F15<>\"NS\",'Swim&Tow'!AE15=\"\"),\"\",J$3*'Swim&Tow'!AE15)","v":""},{"$f":"IF(OR('Set UP'!$K15<=0,'Set UP'!$F15<>\"NS\",Medley!AC15=\"\"),\"\",K$3*Medley!AC15)","v":""},{"$f":"IF(OR('Set UP'!$K15<=0,'Set UP'!$F15<>\"NS\",'Manikin Carry'!AC15=\"\"),\"\",L$3*'Manikin Carry'!AC15)","v":""},{"$f":"IF(OR('Set UP'!$K15<=0,'Set UP'!$F15<>\"NS\",Obstacle!AC15=\"\"),\"\",M$3*Obstacle!AC15)","v":""},""]
[null,10,{"$f":"IF(OR('Set UP'!$C16=0,'Set UP'!$D16=0,'Set UP'!$E16=0,'Set UP'!F16=0),\"  --\",'Set UP'!C16)","v":1431},{"$f":"IF(OR('Set UP'!$C16=0,'Set UP'!$D16=0,'Set UP'!$E16=0,'Set UP'!F16=0),\"  --\",'Set UP'!D16&\" \"&'Set UP'!E16)","v":"University of Nottingham C"},{"$f":"IF(OR('Set UP'!$C16=0,'Set UP'!$D16=0,'Set UP'!$E16=0,'Set UP'!F16=0),\" --\",'Set UP'!F16)","v":"S"},{"$f":"IF(OR('Set UP'!$K16<0,'Set UP'!$F16<>\"NS\"),\"\",F$3*'Dry Incident'!JY30)","v":""},{"$f":"IF(OR('Set UP'!$K16<0,'Set UP'!$F16<>\"NS\"),\"\",G$3*' Wet Incident'!JY30)","v":""},{"$f":"IF(OR('Set UP'!$K16<0,'Set UP'!$F16<>\"NS\"),\"\",H$3*'Extra Incident'!JY30)","v":""},{"$f":"IF(OR('Set UP'!$K16<0,'Set UP'!$F16<>\"NS\",RopeThrow!AF16=\"\"),\"\",I$3*RopeThrow!AF16)","v":""},{"$f":"IF(OR('Set UP'!$K16<0,'Set UP'!$F16<>\"NS\",'Swim&Tow'!AE16=\"\"),\"\",J$3*'Swim&Tow'!AE16)","v":""},{"$f":"IF(OR('Set UP'!$K16<=0,'Set UP'!$F16<>\"NS\",Medley!AC16=\"\"),\"\",K$3*Medley!AC16)","v":""},{"$f":"IF(OR('Set UP'!$K16<=0,'Set UP'!$F16<>\"NS\",'Manikin Carry'!AC16=\"\"),\"\",L$3*'Manikin Carry'!AC16)","v":""},{"$f":"IF(OR('Set UP'!$K16<=0,'Set UP'!$F16<>\"NS\",Obstacle!AC16=\"\"),\"\",M$3*Obstacle!AC16)","v":""},""]
[null,11,{"$f":"IF(OR('Set UP'!$C17=0,'Set UP'!$D17=0,'Set UP'!$E17=0,'Set UP'!F17=0),\"  --\",'Set UP'!C17)","v":1445},{"$f":"IF(OR('Set UP'!$C17=0,'Set UP'!$D17=0,'Set UP'!$E17=0,'Set UP'!F17=0),\"  --\",'Set UP'!D17&\" \"&'Set UP'!E17)","v":"University of Birmingham D"},{"$f":"IF(OR('Set UP'!$C17=0,'Set UP'!$D17=0,'Set UP'!$E17=0,'Set UP'!F17=0),\" --\",'Set UP'!F17)","v":"NC"},{"$f":"IF(OR('Set UP'!$K17<0,'Set UP'!$F17<>\"NS\"),\"\",F$3*'Dry Incident'!JY31)","v":""},{"$f":"IF(OR('Set UP'!$K17<0,'Set UP'!$F17<>\"NS\"),\"\",G$3*' Wet Incident'!JY31)","v":""},{"$f":"IF(OR('Set UP'!$K17<0,'Set UP'!$F17<>\"NS\"),\"\",H$3*'Extra Incident'!JY31)","v":""},{"$f":"IF(OR('Set UP'!$K17<0,'Set UP'!$F17<>\"NS\",RopeThrow!AF17=\"\"),\"\",I$3*RopeThrow!AF17)","v":""},{"$f":"IF(OR('Set UP'!$K17<0,'Set UP'!$F17<>\"NS\",'Swim&Tow'!AE17=\"\"),\"\",J$3*'Swim&Tow'!AE17)","v":""},{"$f":"IF(OR('Set UP'!$K17<=0,'Set UP'!$F17<>\"NS\",Medley!AC17=\"\"),\"\",K$3*Medley!AC17)","v":""},{"$f":"IF(OR('Set UP'!$K17<=0,'Set UP'!$F17<>\"NS\",'Manikin Carry'!AC17=\"\"),\"\",L$3*'Manikin Carry'!AC17)","v":""},{"$f":"IF(OR('Set UP'!$K17<=0,'Set UP'!$F17<>\"NS\",Obstacle!AC17=\"\"),\"\",M$3*Obstacle!AC17)","v":""},""]
[null,12,{"$f":"IF(OR('Set UP'!$C18=0,'Set UP'!$D18=0,'Set UP'!$E18=0,'Set UP'!F18=0),\"  --\",'Set UP'!C18)","v":"  --"},{"$f":"IF(OR('Set UP'!$C18=0,'Set UP'!$D18=0,'Set UP'!$E18=0,'Set UP'!F18=0),\"  --\",'Set UP'!D18&\" \"&'Set UP'!E18)","v":"  --"},{"$f":"IF(OR('Set UP'!$C18=0,'Set UP'!$D18=0,'Set UP'!$E18=0,'Set UP'!F18=0),\" --\",'Set UP'!F18)","v":" --"},{"$f":"IF(OR('Set UP'!$K18<0,'Set UP'!$F18<>\"NS\"),\"\",F$3*'Dry Incident'!JY32)","v":""},{"$f":"IF(OR('Set UP'!$K18<0,'Set UP'!$F18<>\"NS\"),\"\",G$3*' Wet Incident'!JY32)","v":""},{"$f":"IF(OR('Set UP'!$K18<0,'Set UP'!$F18<>\"NS\"),\"\",H$3*'Extra Incident'!JY32)","v":""},{"$f":"IF(OR('Set UP'!$K18<0,'Set UP'!$F18<>\"NS\",RopeThrow!AF18=\"\"),\"\",I$3*RopeThrow!AF18)","v":""},{"$f":"IF(OR('Set UP'!$K18<0,'Set UP'!$F18<>\"NS\",'Swim&Tow'!AE18=\"\"),\"\",J$3*'Swim&Tow'!AE18)","v":""},{"$f":"IF(OR('Set UP'!$K18<=0,'Set UP'!$F18<>\"NS\",Medley!AC18=\"\"),\"\",K$3*Medley!AC18)","v":""},{"$f":"IF(OR('Set UP'!$K18<=0,'Set UP'!$F18<>\"NS\",'Manikin Carry'!AC18=\"\"),\"\",L$3*'Manikin Carry'!AC18)","v":""},{"$f":"IF(OR('Set UP'!$K18<=0,'Set UP'!$F18<>\"NS\",Obstacle!AC18=\"\"),\"\",M$3*Obstacle!AC18)","v":""},""]
[null,13,{"$f":"IF(OR('Set UP'!$C19=0,'Set UP'!$D19=0,'Set UP'!$E19=0,'Set UP'!F19=0),\"  --\",'Set UP'!C19)","v":1426},{"$f":"IF(OR('Set UP'!$C19=0,'Set UP'!$D19=0,'Set UP'!$E19=0,'Set UP'!F19=0),\"  --\",'Set UP'!D19&\" \"&'Set UP'!E19)","v":"London Universities B"},{"$f":"IF(OR('Set UP'!$C19=0,'Set UP'!$D19=0,'Set UP'!$E19=0,'Set UP'!F19=0),\" --\",'Set UP'!F19)","v":"S"},{"$f":"IF(OR('Set UP'!$K19<0,'Set UP'!$F19<>\"NS\"),\"\",F$3*'Dry Incident'!JY33)","v":""},{"$f":"IF(OR('Set UP'!$K19<0,'Set UP'!$F19<>\"NS\"),\"\",G$3*' Wet Incident'!JY33)","v":""},{"$f":"IF(OR('Set UP'!$K19<0,'Set UP'!$F19<>\"NS\"),\"\",H$3*'Extra Incident'!JY33)","v":""},{"$f":"IF(OR('Set UP'!$K19<0,'Set UP'!$F19<>\"NS\",RopeThrow!AF19=\"\"),\"\",I$3*RopeThrow!AF19)","v":""},{"$f":"IF(OR('Set UP'!$K19<0,'Set UP'!$F19<>\"NS\",'Swim&Tow'!AE19=\"\"),\"\",J$3*'Swim&Tow'!AE19)","v":""},{"$f":"IF(OR('Set UP'!$K19<=0,'Set UP'!$F19<>\"NS\",Medley!AC19=\"\"),\"\",K$3*Medley!AC19)","v":""},{"$f":"IF(OR('Set UP'!$K19<=0,'Set UP'!$F19<>\"NS\",'Manikin Carry'!AC19=\"\"),\"\",L$3*'Manikin Carry'!AC19)","v":""},{"$f":"IF(OR('Set UP'!$K19<=0,'Set UP'!$F19<>\"NS\",Obstacle!AC19=\"\"),\"\",M$3*Obstacle!AC19)","v":""},""]
[null,14,{"$f":"IF(OR('Set UP'!$C20=0,'Set UP'!$D20=0,'Set UP'!$E20=0,'Set UP'!F20=0),\"  --\",'Set UP'!C20)","v":"  --"},{"$f":"IF(OR('Set UP'!$C20=0,'Set UP'!$D20=0,'Set UP'!$E20=0,'Set UP'!F20=0),\"  --\",'Set UP'!D20&\" \"&'Set UP'!E20)","v":"  --"},{"$f":"IF(OR('Set UP'!$C20=0,'Set UP'!$D20=0,'Set UP'!$E20=0,'Set UP'!F20=0),\" --\",'Set UP'!F20)","v":" --"},{"$f":"IF(OR('Set UP'!$K20<0,'Set UP'!$F20<>\"NS\"),\"\",F$3*'Dry Incident'!JY34)","v":""},{"$f":"IF(OR('Set UP'!$K20<0,'Set UP'!$F20<>\"NS\"),\"\",G$3*' Wet Incident'!JY34)","v":""},{"$f":"IF(OR('Set UP'!$K20<0,'Set UP'!$F20<>\"NS\"),\"\",H$3*'Extra Incident'!JY34)","v":""},{"$f":"IF(OR('Set UP'!$K20<0,'Set UP'!$F20<>\"NS\",RopeThrow!AF20=\"\"),\"\",I$3*RopeThrow!AF20)","v":""},{"$f":"IF(OR('Set UP'!$K20<0,'Set UP'!$F20<>\"NS\",'Swim&Tow'!AE20=\"\"),\"\",J$3*'Swim&Tow'!AE20)","v":""},{"$f":"IF(OR('Set UP'!$K20<=0,'Set UP'!$F20<>\"NS\",Medley!AC20=\"\"),\"\",K$3*Medley!AC20)","v":""},{"$f":"IF(OR('Set UP'!$K20<=0,'Set UP'!$F20<>\"NS\",'Manikin Carry'!AC20=\"\"),\"\",L$3*'Manikin Carry'!AC20)","v":""},{"$f":"IF(OR('Set UP'!$K20<=0,'Set UP'!$F20<>\"NS\",Obstacle!AC20=\"\"),\"\",M$3*Obstacle!AC20)","v":""},""]
[null,15,{"$f":"IF(OR('Set UP'!$C21=0,'Set UP'!$D21=0,'Set UP'!$E21=0,'Set UP'!F21=0),\"  --\",'Set UP'!C21)","v":1427},{"$f":"IF(OR('Set UP'!$C21=0,'Set UP'!$D21=0,'Set UP'!$E21=0,'Set UP'!F21=0),\"  --\",'Set UP'!D21&\" \"&'Set UP'!E21)","v":"University of Southampton A"},{"$f":"IF(OR('Set UP'!$C21=0,'Set UP'!$D21=0,'Set UP'!$E21=0,'Set UP'!F21=0),\" --\",'Set UP'!F21)","v":"S"},{"$f":"IF(OR('Set UP'!$K21<0,'Set UP'!$F21<>\"NS\"),\"\",F$3*'Dry Incident'!JY35)","v":""},{"$f":"IF(OR('Set UP'!$K21<0,'Set UP'!$F21<>\"NS\"),\"\",G$3*' Wet Incident'!JY35)","v":""},{"$f":"IF(OR('Set UP'!$K21<0,'Set UP'!$F21<>\"NS\"),\"\",H$3*'Extra Incident'!JY35)","v":""},{"$f":"IF(OR('Set UP'!$K21<0,'Set UP'!$F21<>\"NS\",RopeThrow!AF21=\"\"),\"\",I$3*RopeThrow!AF21)","v":""},{"$f":"IF(OR('Set UP'!$K21<0,'Set UP'!$F21<>\"NS\",'Swim&Tow'!AE21=\"\"),\"\",J$3*'Swim&Tow'!AE21)","v":""},{"$f":"IF(OR('Set UP'!$K21<=0,'Set UP'!$F21<>\"NS\",Medley!AC21=\"\"),\"\",K$3*Medley!AC21)","v":""},{"$f":"IF(OR('Set UP'!$K21<=0,'Set UP'!$F21<>\"NS\",'Manikin Carry'!AC21=\"\"),\"\",L$3*'Manikin Carry'!AC21)","v":""},{"$f":"IF(OR('Set UP'!$K21<=0,'Set UP'!$F21<>\"NS\",Obstacle!AC21=\"\"),\"\",M$3*Obstacle!AC21)","v":""},""]
[null,16,{"$f":"IF(OR('Set UP'!$C22=0,'Set UP'!$D22=0,'Set UP'!$E22=0,'Set UP'!F22=0),\"  --\",'Set UP'!C22)","v":1444},{"$f":"IF(OR('Set UP'!$C22=0,'Set UP'!$D22=0,'Set UP'!$E22=0,'Set UP'!F22=0),\"  --\",'Set UP'!D22&\" \"&'Set UP'!E22)","v":"University of Birmingham C"},{"$f":"IF(OR('Set UP'!$C22=0,'Set UP'!$D22=0,'Set UP'!$E22=0,'Set UP'!F22=0),\" --\",'Set UP'!F22)","v":"S"},{"$f":"IF(OR('Set UP'!$K22<0,'Set UP'!$F22<>\"NS\"),\"\",F$3*'Dry Incident'!JY36)","v":""},{"$f":"IF(OR('Set UP'!$K22<0,'Set UP'!$F22<>\"NS\"),\"\",G$3*' Wet Incident'!JY36)","v":""},{"$f":"IF(OR('Set UP'!$K22<0,'Set UP'!$F22<>\"NS\"),\"\",H$3*'Extra Incident'!JY36)","v":""},{"$f":"IF(OR('Set UP'!$K22<0,'Set UP'!$F22<>\"NS\",RopeThrow!AF22=\"\"),\"\",I$3*RopeThrow!AF22)","v":""},{"$f":"IF(OR('Set UP'!$K22<0,'Set UP'!$F22<>\"NS\",'Swim&Tow'!AE22=\"\"),\"\",J$3*'Swim&Tow'!AE22)","v":""},{"$f":"IF(OR('Set UP'!$K22<=0,'Set UP'!$F22<>\"NS\",Medley!AC22=\"\"),\"\",K$3*Medley!AC22)","v":""},{"$f":"IF(OR('Set UP'!$K22<=0,'Set UP'!$F22<>\"NS\",'Manikin Carry'!AC22=\"\"),\"\",L$3*'Manikin Carry'!AC22)","v":""},{"$f":"IF(OR('Set UP'!$K22<=0,'Set UP'!$F22<>\"NS\",Obstacle!AC22=\"\"),\"\",M$3*Obstacle!AC22)","v":""},""]
[null,17,{"$f":"IF(OR('Set UP'!$C23=0,'Set UP'!$D23=0,'Set UP'!$E23=0,'Set UP'!F23=0),\"  --\",'Set UP'!C23)","v":1439},{"$f":"IF(OR('Set UP'!$C23=0,'Set UP'!$D23=0,'Set UP'!$E23=0,'Set UP'!F23=0),\"  --\",'Set UP'!D23&\" \"&'Set UP'!E23)","v":"University of Plymouth A"},{"$f":"IF(OR('Set UP'!$C23=0,'Set UP'!$D23=0,'Set UP'!$E23=0,'Set UP'!F23=0),\" --\",'Set UP'!F23)","v":"S"},{"$f":"IF(OR('Set UP'!$K23<0,'Set UP'!$F23<>\"NS\"),\"\",F$3*'Dry Incident'!JY37)","v":""},{"$f":"IF(OR('Set UP'!$K23<0,'Set UP'!$F23<>\"NS\"),\"\",G$3*' Wet Incident'!JY37)","v":""},{"$f":"IF(OR('Set UP'!$K23<0,'Set UP'!$F23<>\"NS\"),\"\",H$3*'Extra Incident'!JY37)","v":""},{"$f":"IF(OR('Set UP'!$K23<0,'Set UP'!$F23<>\"NS\",RopeThrow!AF23=\"\"),\"\",I$3*RopeThrow!AF23)","v":""},{"$f":"IF(OR('Set UP'!$K23<0,'Set UP'!$F23<>\"NS\",'Swim&Tow'!AE23=\"\"),\"\",J$3*'Swim&Tow'!AE23)","v":""},{"$f":"IF(OR('Set UP'!$K23<=0,'Set UP'!$F23<>\"NS\",Medley!AC23=\"\"),\"\",K$3*Medley!AC23)","v":""},{"$f":"IF(OR('Set UP'!$K23<=0,'Set UP'!$F23<>\"NS\",'Manikin Carry'!AC23=\"\"),\"\",L$3*'Manikin Carry'!AC23)","v":""},{"$f":"IF(OR('Set UP'!$K23<=0,'Set UP'!$F23<>\"NS\",Obstacle!AC23=\"\"),\"\",M$3*Obstacle!AC23)","v":""},""]
[null,18,{"$f":"IF(OR('Set UP'!$C24=0,'Set UP'!$D24=0,'Set UP'!$E24=0,'Set UP'!F24=0),\"  --\",'Set UP'!C24)","v":1461},{"$f":"IF(OR('Set UP'!$C24=0,'Set UP'!$D24=0,'Set UP'!$E24=0,'Set UP'!F24=0),\"  --\",'Set UP'!D24&\" \"&'Set UP'!E24)","v":"Bristol University B"},{"$f":"IF(OR('Set UP'!$C24=0,'Set UP'!$D24=0,'Set UP'!$E24=0,'Set UP'!F24=0),\" --\",'Set UP'!F24)","v":"S"},{"$f":"IF(OR('Set UP'!$K24<0,'Set UP'!$F24<>\"NS\"),\"\",F$3*'Dry Incident'!JY38)","v":""},{"$f":"IF(OR('Set UP'!$K24<0,'Set UP'!$F24<>\"NS\"),\"\",G$3*' Wet Incident'!JY38)","v":""},{"$f":"IF(OR('Set UP'!$K24<0,'Set UP'!$F24<>\"NS\"),\"\",H$3*'Extra Incident'!JY38)","v":""},{"$f":"IF(OR('Set UP'!$K24<0,'Set UP'!$F24<>\"NS\",RopeThrow!AF24=\"\"),\"\",I$3*RopeThrow!AF24)","v":""},{"$f":"IF(OR('Set UP'!$K24<0,'Set UP'!$F24<>\"NS\",'Swim&Tow'!AE24=\"\"),\"\",J$3*'Swim&Tow'!AE24)","v":""},{"$f":"IF(OR('Set UP'!$K24<=0,'Set UP'!$F24<>\"NS\",Medley!AC24=\"\"),\"\",K$3*Medley!AC24)","v":""},{"$f":"IF(OR('Set UP'!$K24<=0,'Set UP'!$F24<>\"NS\",'Manikin Carry'!AC24=\"\"),\"\",L$3*'Manikin Carry'!AC24)","v":""},{"$f":"IF(OR('Set UP'!$K24<=0,'Set UP'!$F24<>\"NS\",Obstacle!AC24=\"\"),\"\",M$3*Obstacle!AC24)","v":""},""]
[null,19,{"$f":"IF(OR('Set UP'!$C25=0,'Set UP'!$D25=0,'Set UP'!$E25=0,'Set UP'!F25=0),\"  --\",'Set UP'!C25)","v":1436},{"$f":"IF(OR('Set UP'!$C25=0,'Set UP'!$D25=0,'Set UP'!$E25=0,'Set UP'!F25=0),\"  --\",'Set UP'!D25&\" \"&'Set UP'!E25)","v":"Loughborough University C"},{"$f":"IF(OR('Set UP'!$C25=0,'Set UP'!$D25=0,'Set UP'!$E25=0,'Set UP'!F25=0),\" --\",'Set UP'!F25)","v":"S"},{"$f":"IF(OR('Set UP'!$K25<0,'Set UP'!$F25<>\"NS\"),\"\",F$3*'Dry Incident'!JY39)","v":""},{"$f":"IF(OR('Set UP'!$K25<0,'Set UP'!$F25<>\"NS\"),\"\",G$3*' Wet Incident'!JY39)","v":""},{"$f":"IF(OR('Set UP'!$K25<0,'Set UP'!$F25<>\"NS\"),\"\",H$3*'Extra Incident'!JY39)","v":""},{"$f":"IF(OR('Set UP'!$K25<0,'Set UP'!$F25<>\"NS\",RopeThrow!AF25=\"\"),\"\",I$3*RopeThrow!AF25)","v":""},{"$f":"IF(OR('Set UP'!$K25<0,'Set UP'!$F25<>\"NS\",'Swim&Tow'!AE25=\"\"),\"\",J$3*'Swim&Tow'!AE25)","v":""},{"$f":"IF(OR('Set UP'!$K25<=0,'Set UP'!$F25<>\"NS\",Medley!AC25=\"\"),\"\",K$3*Medley!AC25)","v":""},{"$f":"IF(OR('Set UP'!$K25<=0,'Set UP'!$F25<>\"NS\",'Manikin Carry'!AC25=\"\"),\"\",L$3*'Manikin Carry'!AC25)","v":""},{"$f":"IF(OR('Set UP'!$K25<=0,'Set UP'!$F25<>\"NS\",Obstacle!AC25=\"\"),\"\",M$3*Obstacle!AC25)","v":""},""]
[null,20,{"$f":"IF(OR('Set UP'!$C26=0,'Set UP'!$D26=0,'Set UP'!$E26=0,'Set UP'!F26=0),\"  --\",'Set UP'!C26)","v":1443},{"$f":"IF(OR('Set UP'!$C26=0,'Set UP'!$D26=0,'Set UP'!$E26=0,'Set UP'!F26=0),\"  --\",'Set UP'!D26&\" \"&'Set UP'!E26)","v":"University of Birmingham B"},{"$f":"IF(OR('Set UP'!$C26=0,'Set UP'!$D26=0,'Set UP'!$E26=0,'Set UP'!F26=0),\" --\",'Set UP'!F26)","v":"S"},{"$f":"IF(OR('Set UP'!$K26<0,'Set UP'!$F26<>\"NS\"),\"\",F$3*'Dry Incident'!JY40)","v":""},{"$f":"IF(OR('Set UP'!$K26<0,'Set UP'!$F26<>\"NS\"),\"\",G$3*' Wet Incident'!JY40)","v":""},{"$f":"IF(OR('Set UP'!$K26<0,'Set UP'!$F26<>\"NS\"),\"\",H$3*'Extra Incident'!JY40)","v":""},{"$f":"IF(OR('Set UP'!$K26<0,'Set UP'!$F26<>\"NS\",RopeThrow!AF26=\"\"),\"\",I$3*RopeThrow!AF26)","v":""},{"$f":"IF(OR('Set UP'!$K26<0,'Set UP'!$F26<>\"NS\",'Swim&Tow'!AE26=\"\"),\"\",J$3*'Swim&Tow'!AE26)","v":""},{"$f":"IF(OR('Set UP'!$K26<=0,'Set UP'!$F26<>\"NS\",Medley!AC26=\"\"),\"\",K$3*Medley!AC26)","v":""},{"$f":"IF(OR('Set UP'!$K26<=0,'Set UP'!$F26<>\"NS\",'Manikin Carry'!AC26=\"\"),\"\",L$3*'Manikin Carry'!AC26)","v":""},{"$f":"IF(OR('Set UP'!$K26<=0,'Set UP'!$F26<>\"NS\",Obstacle!AC26=\"\"),\"\",M$3*Obstacle!AC26)","v":""},""]
[null,21,{"$f":"IF(OR('Set UP'!$C27=0,'Set UP'!$D27=0,'Set UP'!$E27=0,'Set UP'!F27=0),\"  --\",'Set UP'!C27)","v":1434},{"$f":"IF(OR('Set UP'!$C27=0,'Set UP'!$D27=0,'Set UP'!$E27=0,'Set UP'!F27=0),\"  --\",'Set UP'!D27&\" \"&'Set UP'!E27)","v":"Loughborough University A"},{"$f":"IF(OR('Set UP'!$C27=0,'Set UP'!$D27=0,'Set UP'!$E27=0,'Set UP'!F27=0),\" --\",'Set UP'!F27)","v":"S"},{"$f":"IF(OR('Set UP'!$K27<0,'Set UP'!$F27<>\"NS\"),\"\",F$3*'Dry Incident'!JY41)","v":""},{"$f":"IF(OR('Set UP'!$K27<0,'Set UP'!$F27<>\"NS\"),\"\",G$3*' Wet Incident'!JY41)","v":""},{"$f":"IF(OR('Set UP'!$K27<0,'Set UP'!$F27<>\"NS\"),\"\",H$3*'Extra Incident'!JY41)","v":""},{"$f":"IF(OR('Set UP'!$K27<0,'Set UP'!$F27<>\"NS\",RopeThrow!AF27=\"\"),\"\",I$3*RopeThrow!AF27)","v":""},{"$f":"IF(OR('Set UP'!$K27<0,'Set UP'!$F27<>\"NS\",'Swim&Tow'!AE27=\"\"),\"\",J$3*'Swim&Tow'!AE27)","v":""},{"$f":"IF(OR('Set UP'!$K27<=0,'Set UP'!$F27<>\"NS\",Medley!AC27=\"\"),\"\",K$3*Medley!AC27)","v":""},{"$f":"IF(OR('Set UP'!$K27<=0,'Set UP'!$F27<>\"NS\",'Manikin Carry'!AC27=\"\"),\"\",L$3*'Manikin Carry'!AC27)","v":""},{"$f":"IF(OR('Set UP'!$K27<=0,'Set UP'!$F27<>\"NS\",Obstacle!AC27=\"\"),\"\",M$3*Obstacle!AC27)","v":""},""]
[null,22,{"$f":"IF(OR('Set UP'!$C28=0,'Set UP'!$D28=0,'Set UP'!$E28=0,'Set UP'!F28=0),\"  --\",'Set UP'!C28)","v":1435},{"$f":"IF(OR('Set UP'!$C28=0,'Set UP'!$D28=0,'Set UP'!$E28=0,'Set UP'!F28=0),\"  --\",'Set UP'!D28&\" \"&'Set UP'!E28)","v":"Loughborough University B"},{"$f":"IF(OR('Set UP'!$C28=0,'Set UP'!$D28=0,'Set UP'!$E28=0,'Set UP'!F28=0),\" --\",'Set UP'!F28)","v":"S"},{"$f":"IF(OR('Set UP'!$K28<0,'Set UP'!$F28<>\"NS\"),\"\",F$3*'Dry Incident'!JY42)","v":""},{"$f":"IF(OR('Set UP'!$K28<0,'Set UP'!$F28<>\"NS\"),\"\",G$3*' Wet Incident'!JY42)","v":""},{"$f":"IF(OR('Set UP'!$K28<0,'Set UP'!$F28<>\"NS\"),\"\",H$3*'Extra Incident'!JY42)","v":""},{"$f":"IF(OR('Set UP'!$K28<0,'Set UP'!$F28<>\"NS\",RopeThrow!AF28=\"\"),\"\",I$3*RopeThrow!AF28)","v":""},{"$f":"IF(OR('Set UP'!$K28<0,'Set UP'!$F28<>\"NS\",'Swim&Tow'!AE28=\"\"),\"\",J$3*'Swim&Tow'!AE28)","v":""},{"$f":"IF(OR('Set UP'!$K28<=0,'Set UP'!$F28<>\"NS\",Medley!AC28=\"\"),\"\",K$3*Medley!AC28)","v":""},{"$f":"IF(OR('Set UP'!$K28<=0,'Set UP'!$F28<>\"NS\",'Manikin Carry'!AC28=\"\"),\"\",L$3*'Manikin Carry'!AC28)","v":""},{"$f":"IF(OR('Set UP'!$K28<=0,'Set UP'!$F28<>\"NS\",Obstacle!AC28=\"\"),\"\",M$3*Obstacle!AC28)","v":""},""]
[null,23,{"$f":"IF(OR('Set UP'!$C29=0,'Set UP'!$D29=0,'Set UP'!$E29=0,'Set UP'!F29=0),\"  --\",'Set UP'!C29)","v":1457},{"$f":"IF(OR('Set UP'!$C29=0,'Set UP'!$D29=0,'Set UP'!$E29=0,'Set UP'!F29=0),\"  --\",'Set UP'!D29&\" \"&'Set UP'!E29)","v":"University of Warwick B"},{"$f":"IF(OR('Set UP'!$C29=0,'Set UP'!$D29=0,'Set UP'!$E29=0,'Set UP'!F29=0),\" --\",'Set UP'!F29)","v":"S"},{"$f":"IF(OR('Set UP'!$K29<0,'Set UP'!$F29<>\"NS\"),\"\",F$3*'Dry Incident'!JY43)","v":""},{"$f":"IF(OR('Set UP'!$K29<0,'Set UP'!$F29<>\"NS\"),\"\",G$3*' Wet Incident'!JY43)","v":""},{"$f":"IF(OR('Set UP'!$K29<0,'Set UP'!$F29<>\"NS\"),\"\",H$3*'Extra Incident'!JY43)","v":""},{"$f":"IF(OR('Set UP'!$K29<0,'Set UP'!$F29<>\"NS\",RopeThrow!AF29=\"\"),\"\",I$3*RopeThrow!AF29)","v":""},{"$f":"IF(OR('Set UP'!$K29<0,'Set UP'!$F29<>\"NS\",'Swim&Tow'!AE29=\"\"),\"\",J$3*'Swim&Tow'!AE29)","v":""},{"$f":"IF(OR('Set UP'!$K29<=0,'Set UP'!$F29<>\"NS\",Medley!AC29=\"\"),\"\",K$3*Medley!AC29)","v":""},{"$f":"IF(OR('Set UP'!$K29<=0,'Set UP'!$F29<>\"NS\",'Manikin Carry'!AC29=\"\"),\"\",L$3*'Manikin Carry'!AC29)","v":""},{"$f":"IF(OR('Set UP'!$K29<=0,'Set UP'!$F29<>\"NS\",Obstacle!AC29=\"\"),\"\",M$3*Obstacle!AC29)","v":""},""]
[null,24,{"$f":"IF(OR('Set UP'!$C30=0,'Set UP'!$D30=0,'Set UP'!$E30=0,'Set UP'!F30=0),\"  --\",'Set UP'!C30)","v":1429},{"$f":"IF(OR('Set UP'!$C30=0,'Set UP'!$D30=0,'Set UP'!$E30=0,'Set UP'!F30=0),\"  --\",'Set UP'!D30&\" \"&'Set UP'!E30)","v":"University of Nottingham A"},{"$f":"IF(OR('Set UP'!$C30=0,'Set UP'!$D30=0,'Set UP'!$E30=0,'Set UP'!F30=0),\" --\",'Set UP'!F30)","v":"S"},{"$f":"IF(OR('Set UP'!$K30<0,'Set UP'!$F30<>\"NS\"),\"\",F$3*'Dry Incident'!JY44)","v":""},{"$f":"IF(OR('Set UP'!$K30<0,'Set UP'!$F30<>\"NS\"),\"\",G$3*' Wet Incident'!JY44)","v":""},{"$f":"IF(OR('Set UP'!$K30<0,'Set UP'!$F30<>\"NS\"),\"\",H$3*'Extra Incident'!JY44)","v":""},{"$f":"IF(OR('Set UP'!$K30<0,'Set UP'!$F30<>\"NS\",RopeThrow!AF30=\"\"),\"\",I$3*RopeThrow!AF30)","v":""},{"$f":"IF(OR('Set UP'!$K30<0,'Set UP'!$F30<>\"NS\",'Swim&Tow'!AE30=\"\"),\"\",J$3*'Swim&Tow'!AE30)","v":""},{"$f":"IF(OR('Set UP'!$K30<=0,'Set UP'!$F30<>\"NS\",Medley!AC30=\"\"),\"\",K$3*Medley!AC30)","v":""},{"$f":"IF(OR('Set UP'!$K30<=0,'Set UP'!$F30<>\"NS\",'Manikin Carry'!AC30=\"\"),\"\",L$3*'Manikin Carry'!AC30)","v":""},{"$f":"IF(OR('Set UP'!$K30<=0,'Set UP'!$F30<>\"NS\",Obstacle!AC30=\"\"),\"\",M$3*Obstacle!AC30)","v":""},""]
[null,25,{"$f":"IF(OR('Set UP'!$C31=0,'Set UP'!$D31=0,'Set UP'!$E31=0,'Set UP'!F31=0),\"  --\",'Set UP'!C31)","v":1438},{"$f":"IF(OR('Set UP'!$C31=0,'Set UP'!$D31=0,'Set UP'!$E31=0,'Set UP'!F31=0),\"  --\",'Set UP'!D31&\" \"&'Set UP'!E31)","v":"Swansea Universities Lifesaving B"},{"$f":"IF(OR('Set UP'!$C31=0,'Set UP'!$D31=0,'Set UP'!$E31=0,'Set UP'!F31=0),\" --\",'Set UP'!F31)","v":"S"},{"$f":"IF(OR('Set UP'!$K31<0,'Set UP'!$F31<>\"NS\"),\"\",F$3*'Dry Incident'!JY45)","v":""},{"$f":"IF(OR('Set UP'!$K31<0,'Set UP'!$F31<>\"NS\"),\"\",G$3*' Wet Incident'!JY45)","v":""},{"$f":"IF(OR('Set UP'!$K31<0,'Set UP'!$F31<>\"NS\"),\"\",H$3*'Extra Incident'!JY45)","v":""},{"$f":"IF(OR('Set UP'!$K31<0,'Set UP'!$F31<>\"NS\",RopeThrow!AF31=\"\"),\"\",I$3*RopeThrow!AF31)","v":""},{"$f":"IF(OR('Set UP'!$K31<0,'Set UP'!$F31<>\"NS\",'Swim&Tow'!AE31=\"\"),\"\",J$3*'Swim&Tow'!AE31)","v":""},{"$f":"IF(OR('Set UP'!$K31<=0,'Set UP'!$F31<>\"NS\",Medley!AC31=\"\"),\"\",K$3*Medley!AC31)","v":""},{"$f":"IF(OR('Set UP'!$K31<=0,'Set UP'!$F31<>\"NS\",'Manikin Carry'!AC31=\"\"),\"\",L$3*'Manikin Carry'!AC31)","v":""},{"$f":"IF(OR('Set UP'!$K31<=0,'Set UP'!$F31<>\"NS\",Obstacle!AC31=\"\"),\"\",M$3*Obstacle!AC31)","v":""},""]
[null,26,{"$f":"IF(OR('Set UP'!$C32=0,'Set UP'!$D32=0,'Set UP'!$E32=0,'Set UP'!F32=0),\"  --\",'Set UP'!C32)","v":1442},{"$f":"IF(OR('Set UP'!$C32=0,'Set UP'!$D32=0,'Set UP'!$E32=0,'Set UP'!F32=0),\"  --\",'Set UP'!D32&\" \"&'Set UP'!E32)","v":"University of Birmingham A"},{"$f":"IF(OR('Set UP'!$C32=0,'Set UP'!$D32=0,'Set UP'!$E32=0,'Set UP'!F32=0),\" --\",'Set UP'!F32)","v":"S"},{"$f":"IF(OR('Set UP'!$K32<0,'Set UP'!$F32<>\"NS\"),\"\",F$3*'Dry Incident'!JY46)","v":""},{"$f":"IF(OR('Set UP'!$K32<0,'Set UP'!$F32<>\"NS\"),\"\",G$3*' Wet Incident'!JY46)","v":""},{"$f":"IF(OR('Set UP'!$K32<0,'Set UP'!$F32<>\"NS\"),\"\",H$3*'Extra Incident'!JY46)","v":""},{"$f":"IF(OR('Set UP'!$K32<0,'Set UP'!$F32<>\"NS\",RopeThrow!AF32=\"\"),\"\",I$3*RopeThrow!AF32)","v":""},{"$f":"IF(OR('Set UP'!$K32<0,'Set UP'!$F32<>\"NS\",'Swim&Tow'!AE32=\"\"),\"\",J$3*'Swim&Tow'!AE32)","v":""},{"$f":"IF(OR('Set UP'!$K32<=0,'Set UP'!$F32<>\"NS\",Medley!AC32=\"\"),\"\",K$3*Medley!AC32)","v":""},{"$f":"IF(OR('Set UP'!$K32<=0,'Set UP'!$F32<>\"NS\",'Manikin Carry'!AC32=\"\"),\"\",L$3*'Manikin Carry'!AC32)","v":""},{"$f":"IF(OR('Set UP'!$K32<=0,'Set UP'!$F32<>\"NS\",Obstacle!AC32=\"\"),\"\",M$3*Obstacle!AC32)","v":""},""]
[null,27,{"$f":"IF(OR('Set UP'!$C33=0,'Set UP'!$D33=0,'Set UP'!$E33=0,'Set UP'!F33=0),\"  --\",'Set UP'!C33)","v":1456},{"$f":"IF(OR('Set UP'!$C33=0,'Set UP'!$D33=0,'Set UP'!$E33=0,'Set UP'!F33=0),\"  --\",'Set UP'!D33&\" \"&'Set UP'!E33)","v":"University of Warwick A"},{"$f":"IF(OR('Set UP'!$C33=0,'Set UP'!$D33=0,'Set UP'!$E33=0,'Set UP'!F33=0),\" --\",'Set UP'!F33)","v":"S"},{"$f":"IF(OR('Set UP'!$K33<0,'Set UP'!$F33<>\"NS\"),\"\",F$3*'Dry Incident'!JY47)","v":""},{"$f":"IF(OR('Set UP'!$K33<0,'Set UP'!$F33<>\"NS\"),\"\",G$3*' Wet Incident'!JY47)","v":""},{"$f":"IF(OR('Set UP'!$K33<0,'Set UP'!$F33<>\"NS\"),\"\",H$3*'Extra Incident'!JY47)","v":""},{"$f":"IF(OR('Set UP'!$K33<0,'Set UP'!$F33<>\"NS\",RopeThrow!AF33=\"\"),\"\",I$3*RopeThrow!AF33)","v":""},{"$f":"IF(OR('Set UP'!$K33<0,'Set UP'!$F33<>\"NS\",'Swim&Tow'!AE33=\"\"),\"\",J$3*'Swim&Tow'!AE33)","v":""},{"$f":"IF(OR('Set UP'!$K33<=0,'Set UP'!$F33<>\"NS\",Medley!AC33=\"\"),\"\",K$3*Medley!AC33)","v":""},{"$f":"IF(OR('Set UP'!$K33<=0,'Set UP'!$F33<>\"NS\",'Manikin Carry'!AC33=\"\"),\"\",L$3*'Manikin Carry'!AC33)","v":""},{"$f":"IF(OR('Set UP'!$K33<=0,'Set UP'!$F33<>\"NS\",Obstacle!AC33=\"\"),\"\",M$3*Obstacle!AC33)","v":""},""]
[null,28,{"$f":"IF(OR('Set UP'!$C34=0,'Set UP'!$D34=0,'Set UP'!$E34=0,'Set UP'!F34=0),\"  --\",'Set UP'!C34)","v":1460},{"$f":"IF(OR('Set UP'!$C34=0,'Set UP'!$D34=0,'Set UP'!$E34=0,'Set UP'!F34=0),\"  --\",'Set UP'!D34&\" \"&'Set UP'!E34)","v":"Bristol University A"},{"$f":"IF(OR('Set UP'!$C34=0,'Set UP'!$D34=0,'Set UP'!$E34=0,'Set UP'!F34=0),\" --\",'Set UP'!F34)","v":"S"},{"$f":"IF(OR('Set UP'!$K34<0,'Set UP'!$F34<>\"NS\"),\"\",F$3*'Dry Incident'!JY48)","v":""},{"$f":"IF(OR('Set UP'!$K34<0,'Set UP'!$F34<>\"NS\"),\"\",G$3*' Wet Incident'!JY48)","v":""},{"$f":"IF(OR('Set UP'!$K34<0,'Set UP'!$F34<>\"NS\"),\"\",H$3*'Extra Incident'!JY48)","v":""},{"$f":"IF(OR('Set UP'!$K34<0,'Set UP'!$F34<>\"NS\",RopeThrow!AF34=\"\"),\"\",I$3*RopeThrow!AF34)","v":""},{"$f":"IF(OR('Set UP'!$K34<0,'Set UP'!$F34<>\"NS\",'Swim&Tow'!AE34=\"\"),\"\",J$3*'Swim&Tow'!AE34)","v":""},{"$f":"IF(OR('Set UP'!$K34<=0,'Set UP'!$F34<>\"NS\",Medley!AC34=\"\"),\"\",K$3*Medley!AC34)","v":""},{"$f":"IF(OR('Set UP'!$K34<=0,'Set UP'!$F34<>\"NS\",'Manikin Carry'!AC34=\"\"),\"\",L$3*'Manikin Carry'!AC34)","v":""},{"$f":"IF(OR('Set UP'!$K34<=0,'Set UP'!$F34<>\"NS\",Obstacle!AC34=\"\"),\"\",M$3*Obstacle!AC34)","v":""},""]
[null,29,{"$f":"IF(OR('Set UP'!$C35=0,'Set UP'!$D35=0,'Set UP'!$E35=0,'Set UP'!F35=0),\"  --\",'Set UP'!C35)","v":1437},{"$f":"IF(OR('Set UP'!$C35=0,'Set UP'!$D35=0,'Set UP'!$E35=0,'Set UP'!F35=0),\"  --\",'Set UP'!D35&\" \"&'Set UP'!E35)","v":"Swansea Universities Lifesaving A"},{"$f":"IF(OR('Set UP'!$C35=0,'Set UP'!$D35=0,'Set UP'!$E35=0,'Set UP'!F35=0),\" --\",'Set UP'!F35)","v":"S"},{"$f":"IF(OR('Set UP'!$K35<0,'Set UP'!$F35<>\"NS\"),\"\",F$3*'Dry Incident'!JY49)","v":""},{"$f":"IF(OR('Set UP'!$K35<0,'Set UP'!$F35<>\"NS\"),\"\",G$3*' Wet Incident'!JY49)","v":""},{"$f":"IF(OR('Set UP'!$K35<0,'Set UP'!$F35<>\"NS\"),\"\",H$3*'Extra Incident'!JY49)","v":""},{"$f":"IF(OR('Set UP'!$K35<0,'Set UP'!$F35<>\"NS\",RopeThrow!AF35=\"\"),\"\",I$3*RopeThrow!AF35)","v":""},{"$f":"IF(OR('Set UP'!$K35<0,'Set UP'!$F35<>\"NS\",'Swim&Tow'!AE35=\"\"),\"\",J$3*'Swim&Tow'!AE35)","v":""},{"$f":"IF(OR('Set UP'!$K35<=0,'Set UP'!$F35<>\"NS\",Medley!AC35=\"\"),\"\",K$3*Medley!AC35)","v":""},{"$f":"IF(OR('Set UP'!$K35<=0,'Set UP'!$F35<>\"NS\",'Manikin Carry'!AC35=\"\"),\"\",L$3*'Manikin Carry'!AC35)","v":""},{"$f":"IF(OR('Set UP'!$K35<=0,'Set UP'!$F35<>\"NS\",Obstacle!AC35=\"\"),\"\",M$3*Obstacle!AC35)","v":""},""]
[null,30,{"$f":"IF(OR('Set UP'!$C36=0,'Set UP'!$D36=0,'Set UP'!$E36=0,'Set UP'!F36=0),\"  --\",'Set UP'!C36)","v":1425},{"$f":"IF(OR('Set UP'!$C36=0,'Set UP'!$D36=0,'Set UP'!$E36=0,'Set UP'!F36=0),\"  --\",'Set UP'!D36&\" \"&'Set UP'!E36)","v":"London Universities A"},{"$f":"IF(OR('Set UP'!$C36=0,'Set UP'!$D36=0,'Set UP'!$E36=0,'Set UP'!F36=0),\" --\",'Set UP'!F36)","v":"S"},{"$f":"IF(OR('Set UP'!$K36<0,'Set UP'!$F36<>\"NS\"),\"\",F$3*'Dry Incident'!JY50)","v":""},{"$f":"IF(OR('Set UP'!$K36<0,'Set UP'!$F36<>\"NS\"),\"\",G$3*' Wet Incident'!JY50)","v":""},{"$f":"IF(OR('Set UP'!$K36<0,'Set UP'!$F36<>\"NS\"),\"\",H$3*'Extra Incident'!JY50)","v":""},{"$f":"IF(OR('Set UP'!$K36<0,'Set UP'!$F36<>\"NS\",RopeThrow!AF36=\"\"),\"\",I$3*RopeThrow!AF36)","v":""},{"$f":"IF(OR('Set UP'!$K36<0,'Set UP'!$F36<>\"NS\",'Swim&Tow'!AE36=\"\"),\"\",J$3*'Swim&Tow'!AE36)","v":""},{"$f":"IF(OR('Set UP'!$K36<=0,'Set UP'!$F36<>\"NS\",Medley!AC36=\"\"),\"\",K$3*Medley!AC36)","v":""},{"$f":"IF(OR('Set UP'!$K36<=0,'Set UP'!$F36<>\"NS\",'Manikin Carry'!AC36=\"\"),\"\",L$3*'Manikin Carry'!AC36)","v":""},{"$f":"IF(OR('Set UP'!$K36<=0,'Set UP'!$F36<>\"NS\",Obstacle!AC36=\"\"),\"\",M$3*Obstacle!AC36)","v":""},""]
[null,31,{"$f":"IF(OR('Set UP'!$C37=0,'Set UP'!$D37=0,'Set UP'!$E37=0,'Set UP'!F37=0),\"  --\",'Set UP'!C37)","v":"  --"},{"$f":"IF(OR('Set UP'!$C37=0,'Set UP'!$D37=0,'Set UP'!$E37=0,'Set UP'!F37=0),\"  --\",'Set UP'!D37&\" \"&'Set UP'!E37)","v":"  --"},{"$f":"IF(OR('Set UP'!$C37=0,'Set UP'!$D37=0,'Set UP'!$E37=0,'Set UP'!F37=0),\" --\",'Set UP'!F37)","v":" --"},{"$f":"IF(OR('Set UP'!$K37<0,'Set UP'!$F37<>\"NS\"),\"\",F$3*'Dry Incident'!JY51)","v":""},{"$f":"IF(OR('Set UP'!$K37<0,'Set UP'!$F37<>\"NS\"),\"\",G$3*' Wet Incident'!JY51)","v":""},{"$f":"IF(OR('Set UP'!$K37<0,'Set UP'!$F37<>\"NS\"),\"\",H$3*'Extra Incident'!JY51)","v":""},{"$f":"IF(OR('Set UP'!$K37<0,'Set UP'!$F37<>\"NS\",RopeThrow!AF37=\"\"),\"\",I$3*RopeThrow!AF37)","v":""},{"$f":"IF(OR('Set UP'!$K37<0,'Set UP'!$F37<>\"NS\",'Swim&Tow'!AE37=\"\"),\"\",J$3*'Swim&Tow'!AE37)","v":""},{"$f":"IF(OR('Set UP'!$K37<=0,'Set UP'!$F37<>\"NS\",Medley!AC37=\"\"),\"\",K$3*Medley!AC37)","v":""},{"$f":"IF(OR('Set UP'!$K37<=0,'Set UP'!$F37<>\"NS\",'Manikin Carry'!AC37=\"\"),\"\",L$3*'Manikin Carry'!AC37)","v":""},{"$f":"IF(OR('Set UP'!$K37<=0,'Set UP'!$F37<>\"NS\",Obstacle!AC37=\"\"),\"\",M$3*Obstacle!AC37)","v":""},""]
[null,32,{"$f":"IF(OR('Set UP'!$C38=0,'Set UP'!$D38=0,'Set UP'!$E38=0,'Set UP'!F38=0),\"  --\",'Set UP'!C38)","v":"  --"},{"$f":"IF(OR('Set UP'!$C38=0,'Set UP'!$D38=0,'Set UP'!$E38=0,'Set UP'!F38=0),\"  --\",'Set UP'!D38&\" \"&'Set UP'!E38)","v":"  --"},{"$f":"IF(OR('Set UP'!$C38=0,'Set UP'!$D38=0,'Set UP'!$E38=0,'Set UP'!F38=0),\" --\",'Set UP'!F38)","v":" --"},{"$f":"IF(OR('Set UP'!$K38<0,'Set UP'!$F38<>\"NS\"),\"\",F$3*'Dry Incident'!JY52)","v":""},{"$f":"IF(OR('Set UP'!$K38<0,'Set UP'!$F38<>\"NS\"),\"\",G$3*' Wet Incident'!JY52)","v":""},{"$f":"IF(OR('Set UP'!$K38<0,'Set UP'!$F38<>\"NS\"),\"\",H$3*'Extra Incident'!JY52)","v":""},{"$f":"IF(OR('Set UP'!$K38<0,'Set UP'!$F38<>\"NS\",RopeThrow!AF38=\"\"),\"\",I$3*RopeThrow!AF38)","v":""},{"$f":"IF(OR('Set UP'!$K38<0,'Set UP'!$F38<>\"NS\",'Swim&Tow'!AE38=\"\"),\"\",J$3*'Swim&Tow'!AE38)","v":""},{"$f":"IF(OR('Set UP'!$K38<=0,'Set UP'!$F38<>\"NS\",Medley!AC38=\"\"),\"\",K$3*Medley!AC38)","v":""},{"$f":"IF(OR('Set UP'!$K38<=0,'Set UP'!$F38<>\"NS\",'Manikin Carry'!AC38=\"\"),\"\",L$3*'Manikin Carry'!AC38)","v":""},{"$f":"IF(OR('Set UP'!$K38<=0,'Set UP'!$F38<>\"NS\",Obstacle!AC38=\"\"),\"\",M$3*Obstacle!AC38)","v":""},""]
[null,33,{"$f":"IF(OR('Set UP'!$C39=0,'Set UP'!$D39=0,'Set UP'!$E39=0,'Set UP'!F39=0),\"  --\",'Set UP'!C39)","v":"  --"},{"$f":"IF(OR('Set UP'!$C39=0,'Set UP'!$D39=0,'Set UP'!$E39=0,'Set UP'!F39=0),\"  --\",'Set UP'!D39&\" \"&'Set UP'!E39)","v":"  --"},{"$f":"IF(OR('Set UP'!$C39=0,'Set UP'!$D39=0,'Set UP'!$E39=0,'Set UP'!F39=0),\" --\",'Set UP'!F39)","v":" --"},{"$f":"IF(OR('Set UP'!$K39<0,'Set UP'!$F39<>\"NS\"),\"\",F$3*'Dry Incident'!JY53)","v":""},{"$f":"IF(OR('Set UP'!$K39<0,'Set UP'!$F39<>\"NS\"),\"\",G$3*' Wet Incident'!JY53)","v":""},{"$f":"IF(OR('Set UP'!$K39<0,'Set UP'!$F39<>\"NS\"),\"\",H$3*'Extra Incident'!JY53)","v":""},{"$f":"IF(OR('Set UP'!$K39<0,'Set UP'!$F39<>\"NS\",RopeThrow!AF39=\"\"),\"\",I$3*RopeThrow!AF39)","v":""},{"$f":"IF(OR('Set UP'!$K39<0,'Set UP'!$F39<>\"NS\",'Swim&Tow'!AE39=\"\"),\"\",J$3*'Swim&Tow'!AE39)","v":""},{"$f":"IF(OR('Set UP'!$K39<=0,'Set UP'!$F39<>\"NS\",Medley!AC39=\"\"),\"\",K$3*Medley!AC39)","v":""},{"$f":"IF(OR('Set UP'!$K39<=0,'Set UP'!$F39<>\"NS\",'Manikin Carry'!AC39=\"\"),\"\",L$3*'Manikin Carry'!AC39)","v":""},{"$f":"IF(OR('Set UP'!$K39<=0,'Set UP'!$F39<>\"NS\",Obstacle!AC39=\"\"),\"\",M$3*Obstacle!AC39)","v":""},""]
[null,34,{"$f":"IF(OR('Set UP'!$C40=0,'Set UP'!$D40=0,'Set UP'!$E40=0,'Set UP'!F40=0),\"  --\",'Set UP'!C40)","v":"  --"},{"$f":"IF(OR('Set UP'!$C40=0,'Set UP'!$D40=0,'Set UP'!$E40=0,'Set UP'!F40=0),\"  --\",'Set UP'!D40&\" \"&'Set UP'!E40)","v":"  --"},{"$f":"IF(OR('Set UP'!$C40=0,'Set UP'!$D40=0,'Set UP'!$E40=0,'Set UP'!F40=0),\" --\",'Set UP'!F40)","v":" --"},{"$f":"IF(OR('Set UP'!$K40<0,'Set UP'!$F40<>\"NS\"),\"\",F$3*'Dry Incident'!JY54)","v":""},{"$f":"IF(OR('Set UP'!$K40<0,'Set UP'!$F40<>\"NS\"),\"\",G$3*' Wet Incident'!JY54)","v":""},{"$f":"IF(OR('Set UP'!$K40<0,'Set UP'!$F40<>\"NS\"),\"\",H$3*'Extra Incident'!JY54)","v":""},{"$f":"IF(OR('Set UP'!$K40<0,'Set UP'!$F40<>\"NS\",RopeThrow!AF40=\"\"),\"\",I$3*RopeThrow!AF40)","v":""},{"$f":"IF(OR('Set UP'!$K40<0,'Set UP'!$F40<>\"NS\",'Swim&Tow'!AE40=\"\"),\"\",J$3*'Swim&Tow'!AE40)","v":""},{"$f":"IF(OR('Set UP'!$K40<=0,'Set UP'!$F40<>\"NS\",Medley!AC40=\"\"),\"\",K$3*Medley!AC40)","v":""},{"$f":"IF(OR('Set UP'!$K40<=0,'Set UP'!$F40<>\"NS\",'Manikin Carry'!AC40=\"\"),\"\",L$3*'Manikin Carry'!AC40)","v":""},{"$f":"IF(OR('Set UP'!$K40<=0,'Set UP'!$F40<>\"NS\",Obstacle!AC40=\"\"),\"\",M$3*Obstacle!AC40)","v":""},""]
[null,35,{"$f":"IF(OR('Set UP'!$C41=0,'Set UP'!$D41=0,'Set UP'!$E41=0,'Set UP'!F41=0),\"  --\",'Set UP'!C41)","v":"  --"},{"$f":"IF(OR('Set UP'!$C41=0,'Set UP'!$D41=0,'Set UP'!$E41=0,'Set UP'!F41=0),\"  --\",'Set UP'!D41&\" \"&'Set UP'!E41)","v":"  --"},{"$f":"IF(OR('Set UP'!$C41=0,'Set UP'!$D41=0,'Set UP'!$E41=0,'Set UP'!F41=0),\" --\",'Set UP'!F41)","v":" --"},{"$f":"IF(OR('Set UP'!$K41<0,'Set UP'!$F41<>\"NS\"),\"\",F$3*'Dry Incident'!JY55)","v":""},{"$f":"IF(OR('Set UP'!$K41<0,'Set UP'!$F41<>\"NS\"),\"\",G$3*' Wet Incident'!JY55)","v":""},{"$f":"IF(OR('Set UP'!$K41<0,'Set UP'!$F41<>\"NS\"),\"\",H$3*'Extra Incident'!JY55)","v":""},{"$f":"IF(OR('Set UP'!$K41<0,'Set UP'!$F41<>\"NS\",RopeThrow!AF41=\"\"),\"\",I$3*RopeThrow!AF41)","v":""},{"$f":"IF(OR('Set UP'!$K41<0,'Set UP'!$F41<>\"NS\",'Swim&Tow'!AE41=\"\"),\"\",J$3*'Swim&Tow'!AE41)","v":""},{"$f":"IF(OR('Set UP'!$K41<=0,'Set UP'!$F41<>\"NS\",Medley!AC41=\"\"),\"\",K$3*Medley!AC41)","v":""},{"$f":"IF(OR('Set UP'!$K41<=0,'Set UP'!$F41<>\"NS\",'Manikin Carry'!AC41=\"\"),\"\",L$3*'Manikin Carry'!AC41)","v":""},{"$f":"IF(OR('Set UP'!$K41<=0,'Set UP'!$F41<>\"NS\",Obstacle!AC41=\"\"),\"\",M$3*Obstacle!AC41)","v":""},""]
[null,36,{"$f":"IF(OR('Set UP'!$C42=0,'Set UP'!$D42=0,'Set UP'!$E42=0,'Set UP'!F42=0),\"  --\",'Set UP'!C42)","v":"  --"},{"$f":"IF(OR('Set UP'!$C42=0,'Set UP'!$D42=0,'Set UP'!$E42=0,'Set UP'!F42=0),\"  --\",'Set UP'!D42&\" \"&'Set UP'!E42)","v":"  --"},{"$f":"IF(OR('Set UP'!$C42=0,'Set UP'!$D42=0,'Set UP'!$E42=0,'Set UP'!F42=0),\" --\",'Set UP'!F42)","v":" --"},{"$f":"IF(OR('Set UP'!$K42<0,'Set UP'!$F42<>\"NS\"),\"\",F$3*'Dry Incident'!JY56)","v":""},{"$f":"IF(OR('Set UP'!$K42<0,'Set UP'!$F42<>\"NS\"),\"\",G$3*' Wet Incident'!JY56)","v":""},{"$f":"IF(OR('Set UP'!$K42<0,'Set UP'!$F42<>\"NS\"),\"\",H$3*'Extra Incident'!JY56)","v":""},{"$f":"IF(OR('Set UP'!$K42<0,'Set UP'!$F42<>\"NS\",RopeThrow!AF42=\"\"),\"\",I$3*RopeThrow!AF42)","v":""},{"$f":"IF(OR('Set UP'!$K42<0,'Set UP'!$F42<>\"NS\",'Swim&Tow'!AE42=\"\"),\"\",J$3*'Swim&Tow'!AE42)","v":""},{"$f":"IF(OR('Set UP'!$K42<=0,'Set UP'!$F42<>\"NS\",Medley!AC42=\"\"),\"\",K$3*Medley!AC42)","v":""},{"$f":"IF(OR('Set UP'!$K42<=0,'Set UP'!$F42<>\"NS\",'Manikin Carry'!AC42=\"\"),\"\",L$3*'Manikin Carry'!AC42)","v":""},{"$f":"IF(OR('Set UP'!$K42<=0,'Set UP'!$F42<>\"NS\",Obstacle!AC42=\"\"),\"\",M$3*Obstacle!AC42)","v":""},""]
[null,37,{"$f":"IF(OR('Set UP'!$C43=0,'Set UP'!$D43=0,'Set UP'!$E43=0,'Set UP'!F43=0),\"  --\",'Set UP'!C43)","v":"  --"},{"$f":"IF(OR('Set UP'!$C43=0,'Set UP'!$D43=0,'Set UP'!$E43=0,'Set UP'!F43=0),\"  --\",'Set UP'!D43&\" \"&'Set UP'!E43)","v":"  --"},{"$f":"IF(OR('Set UP'!$C43=0,'Set UP'!$D43=0,'Set UP'!$E43=0,'Set UP'!F43=0),\" --\",'Set UP'!F43)","v":" --"},{"$f":"IF(OR('Set UP'!$K43<0,'Set UP'!$F43<>\"NS\"),\"\",F$3*'Dry Incident'!JY57)","v":""},{"$f":"IF(OR('Set UP'!$K43<0,'Set UP'!$F43<>\"NS\"),\"\",G$3*' Wet Incident'!JY57)","v":""},{"$f":"IF(OR('Set UP'!$K43<0,'Set UP'!$F43<>\"NS\"),\"\",H$3*'Extra Incident'!JY57)","v":""},{"$f":"IF(OR('Set UP'!$K43<0,'Set UP'!$F43<>\"NS\",RopeThrow!AF43=\"\"),\"\",I$3*RopeThrow!AF43)","v":""},{"$f":"IF(OR('Set UP'!$K43<0,'Set UP'!$F43<>\"NS\",'Swim&Tow'!AE43=\"\"),\"\",J$3*'Swim&Tow'!AE43)","v":""},{"$f":"IF(OR('Set UP'!$K43<=0,'Set UP'!$F43<>\"NS\",Medley!AC43=\"\"),\"\",K$3*Medley!AC43)","v":""},{"$f":"IF(OR('Set UP'!$K43<=0,'Set UP'!$F43<>\"NS\",'Manikin Carry'!AC43=\"\"),\"\",L$3*'Manikin Carry'!AC43)","v":""},{"$f":"IF(OR('Set UP'!$K43<=0,'Set UP'!$F43<>\"NS\",Obstacle!AC43=\"\"),\"\",M$3*Obstacle!AC43)","v":""},""]
[null,38,{"$f":"IF(OR('Set UP'!$C44=0,'Set UP'!$D44=0,'Set UP'!$E44=0,'Set UP'!F44=0),\"  --\",'Set UP'!C44)","v":"  --"},{"$f":"IF(OR('Set UP'!$C44=0,'Set UP'!$D44=0,'Set UP'!$E44=0,'Set UP'!F44=0),\"  --\",'Set UP'!D44&\" \"&'Set UP'!E44)","v":"  --"},{"$f":"IF(OR('Set UP'!$C44=0,'Set UP'!$D44=0,'Set UP'!$E44=0,'Set UP'!F44=0),\" --\",'Set UP'!F44)","v":" --"},{"$f":"IF(OR('Set UP'!$K44<0,'Set UP'!$F44<>\"NS\"),\"\",F$3*'Dry Incident'!JY58)","v":""},{"$f":"IF(OR('Set UP'!$K44<0,'Set UP'!$F44<>\"NS\"),\"\",G$3*' Wet Incident'!JY58)","v":""},{"$f":"IF(OR('Set UP'!$K44<0,'Set UP'!$F44<>\"NS\"),\"\",H$3*'Extra Incident'!JY58)","v":""},{"$f":"IF(OR('Set UP'!$K44<0,'Set UP'!$F44<>\"NS\",RopeThrow!AF44=\"\"),\"\",I$3*RopeThrow!AF44)","v":""},{"$f":"IF(OR('Set UP'!$K44<0,'Set UP'!$F44<>\"NS\",'Swim&Tow'!AE44=\"\"),\"\",J$3*'Swim&Tow'!AE44)","v":""},{"$f":"IF(OR('Set UP'!$K44<=0,'Set UP'!$F44<>\"NS\",Medley!AC44=\"\"),\"\",K$3*Medley!AC44)","v":""},{"$f":"IF(OR('Set UP'!$K44<=0,'Set UP'!$F44<>\"NS\",'Manikin Carry'!AC44=\"\"),\"\",L$3*'Manikin Carry'!AC44)","v":""},{"$f":"IF(OR('Set UP'!$K44<=0,'Set UP'!$F44<>\"NS\",Obstacle!AC44=\"\"),\"\",M$3*Obstacle!AC44)","v":""},""]
[null,39,{"$f":"IF(OR('Set UP'!$C45=0,'Set UP'!$D45=0,'Set UP'!$E45=0,'Set UP'!F45=0),\"  --\",'Set UP'!C45)","v":"  --"},{"$f":"IF(OR('Set UP'!$C45=0,'Set UP'!$D45=0,'Set UP'!$E45=0,'Set UP'!F45=0),\"  --\",'Set UP'!D45&\" \"&'Set UP'!E45)","v":"  --"},{"$f":"IF(OR('Set UP'!$C45=0,'Set UP'!$D45=0,'Set UP'!$E45=0,'Set UP'!F45=0),\" --\",'Set UP'!F45)","v":" --"},{"$f":"IF(OR('Set UP'!$K45<0,'Set UP'!$F45<>\"NS\"),\"\",F$3*'Dry Incident'!JY59)","v":""},{"$f":"IF(OR('Set UP'!$K45<0,'Set UP'!$F45<>\"NS\"),\"\",G$3*' Wet Incident'!JY59)","v":""},{"$f":"IF(OR('Set UP'!$K45<0,'Set UP'!$F45<>\"NS\"),\"\",H$3*'Extra Incident'!JY59)","v":""},{"$f":"IF(OR('Set UP'!$K45<0,'Set UP'!$F45<>\"NS\",RopeThrow!AF45=\"\"),\"\",I$3*RopeThrow!AF45)","v":""},{"$f":"IF(OR('Set UP'!$K45<0,'Set UP'!$F45<>\"NS\",'Swim&Tow'!AE45=\"\"),\"\",J$3*'Swim&Tow'!AE45)","v":""},{"$f":"IF(OR('Set UP'!$K45<=0,'Set UP'!$F45<>\"NS\",Medley!AC45=\"\"),\"\",K$3*Medley!AC45)","v":""},{"$f":"IF(OR('Set UP'!$K45<=0,'Set UP'!$F45<>\"NS\",'Manikin Carry'!AC45=\"\"),\"\",L$3*'Manikin Carry'!AC45)","v":""},{"$f":"IF(OR('Set UP'!$K45<=0,'Set UP'!$F45<>\"NS\",Obstacle!AC45=\"\"),\"\",M$3*Obstacle!AC45)","v":""},""]
[null,40,{"$f":"IF(OR('Set UP'!$C46=0,'Set UP'!$D46=0,'Set UP'!$E46=0,'Set UP'!F46=0),\"  --\",'Set UP'!C46)","v":"  --"},{"$f":"IF(OR('Set UP'!$C46=0,'Set UP'!$D46=0,'Set UP'!$E46=0,'Set UP'!F46=0),\"  --\",'Set UP'!D46&\" \"&'Set UP'!E46)","v":"  --"},{"$f":"IF(OR('Set UP'!$C46=0,'Set UP'!$D46=0,'Set UP'!$E46=0,'Set UP'!F46=0),\" --\",'Set UP'!F46)","v":" --"},{"$f":"IF(OR('Set UP'!$K46<0,'Set UP'!$F46<>\"NS\"),\"\",F$3*'Dry Incident'!JY60)","v":""},{"$f":"IF(OR('Set UP'!$K46<0,'Set UP'!$F46<>\"NS\"),\"\",G$3*' Wet Incident'!JY60)","v":""},{"$f":"IF(OR('Set UP'!$K46<0,'Set UP'!$F46<>\"NS\"),\"\",H$3*'Extra Incident'!JY60)","v":""},{"$f":"IF(OR('Set UP'!$K46<0,'Set UP'!$F46<>\"NS\",RopeThrow!AF46=\"\"),\"\",I$3*RopeThrow!AF46)","v":""},{"$f":"IF(OR('Set UP'!$K46<0,'Set UP'!$F46<>\"NS\",'Swim&Tow'!AE46=\"\"),\"\",J$3*'Swim&Tow'!AE46)","v":""},{"$f":"IF(OR('Set UP'!$K46<=0,'Set UP'!$F46<>\"NS\",Medley!AC46=\"\"),\"\",K$3*Medley!AC46)","v":""},{"$f":"IF(OR('Set UP'!$K46<=0,'Set UP'!$F46<>\"NS\",'Manikin Carry'!AC46=\"\"),\"\",L$3*'Manikin Carry'!AC46)","v":""},{"$f":"IF(OR('Set UP'!$K46<=0,'Set UP'!$F46<>\"NS\",Obstacle!AC46=\"\"),\"\",M$3*Obstacle!AC46)","v":""},""]
[null,null,null,null,null,{"$f":"IF(OR('Set UP'!$K47<0,'Set UP'!$F47<>\"NS\"),\"\",F$3*'Dry Incident'!JY61)","v":""},{"$f":"IF(OR('Set UP'!$K47<0,'Set UP'!$F47<>\"NS\"),\"\",G$3*' Wet Incident'!JY61)","v":""},{"$f":"IF(OR('Set UP'!$K47<0,'Set UP'!$F47<>\"NS\"),\"\",H$3*'Extra Incident'!JY61)","v":""},{"$f":"IF(OR('Set UP'!$K47<0,'Set UP'!$F47<>\"NS\"),\"\",I$3*#REF!)","v":""},{"$f":"IF(OR('Set UP'!$K47<0,'Set UP'!$F47<>\"NS\"),\"\",J$3*'Swim&Tow'!AE47)","v":""},{"$f":"IF(OR('Set UP'!$K47<=0,'Set UP'!$F47<>\"NS\",Medley!AA47=\"\"),\"\",K$3*Medley!AA47)","v":""},{"$f":"IF(OR('Set UP'!$K47<=0,'Set UP'!$F47<>\"NS\",'Manikin Carry'!AA47=\"\"),\"\",L$3*'Manikin Carry'!AA47)","v":""},{"$f":"IF(OR('Set UP'!$K47<=0,'Set UP'!$F47<>\"NS\",Obstacle!AA47=\"\"),\"\",M$3*Obstacle!AA47)","v":""},""]
[null,"Copyright Simon Harrison 2008, Oliver Coleman 2009"]
[null,null,null,"ENSURE ALL THE ROPETHROW SHEET HAS HAD THE POSITIONS UPDATED BEFORE USING THE RESULTS ON THIS SHEET"]

{"sheet":"Freshers Results","index":16,"n_rows":49,"n_cols":15,"rows_kept":49,"cut":false,"hidden":true,"merged":[[2,1,3,1],[4,14,5,14],[47,1,47,14],[48,3,48,13],[4,1,5,1],[4,2,5,2],[4,3,5,3],[4,4,5,4],[4,13,5,13]]}
[]
[null,null,null,null,null,"Weighting","Weighting","Weighting","Weighting","Weighting","Weighting","Weighting","Weighting"]
[null,null,null,"Freshers Results",null,{"$f":"'Set UP'!T6","v":0},{"$f":"'Set UP'!T7","v":0},{"$f":"'Set UP'!T8","v":0},{"$f":"'Set UP'!T9","v":0},{"$f":"'Set UP'!T10","v":0},{"$f":"'Set UP'!T11","v":0},{"$f":"'Set UP'!T12","v":0},{"$f":"'Set UP'!T13","v":0}]
[]
[null,null,"Web","Team","Class",{"$f":"'Set UP'!Q6","v":"Wet Incident"},{"$f":"'Set UP'!Q7","v":"Dry Incident"},{"$f":"'Set UP'!Q8","v":"Extra Incident"},{"$f":"'Set UP'!Q9","v":"Rope Throw"},{"$f":"'Set UP'!Q10","v":"Swim and Tow"},{"$f":"'Set UP'!Q11","v":"Medley"},{"$f":"'Set UP'!Q12","v":"Manikin Carry"},{"$f":"'Set UP'!Q13","v":"Obstacle"},"Sum of Weighted Positions ","FINAL POSITION\n"]
[null,null,null,null,null,"Weighted Position","Weighted Position",null,"Weighted Position","Weighted Position","Weighted Position","Weighted Position","Weighted Position"]
[null,1,{"$f":"IF(OR('Set UP'!$C7=0,'Set UP'!$D7=0,'Set UP'!$E7=0,'Set UP'!F7=0),\"  --\",'Set UP'!C7)","v":1418},{"$f":"IF(OR('Set UP'!$C7=0,'Set UP'!$D7=0,'Set UP'!$E7=0,'Set UP'!F7=0),\"  --\",'Set UP'!D7&\" \"&'Set UP'!E7)","v":"Bradford On Avon Lifesaving Club  B"},{"$f":"IF(OR('Set UP'!$C7=0,'Set UP'!$D7=0,'Set UP'!$E7=0,'Set UP'!F7=0),\" --\",'Set UP'!F7)","v":"NS"},{"$f":"IF(OR('Set UP'!$K7<=0,'Set UP'!$F7<>\"F\"),\"\",F$3*'Dry Incident'!JW21)","v":""},{"$f":"IF(OR('Set UP'!$K7<=0,'Set UP'!$F7<>\"F\"),\"\",G$3*' Wet Incident'!JW21)","v":""},{"$f":"IF(OR('Set UP'!$K7<=0,'Set UP'!$F7<>\"F\"),\"\",H$3*'Extra Incident'!JW21)","v":""},{"$f":"IF(OR('Set UP'!$K7<=0,'Set UP'!$F7<>\"F\",RopeThrow!AD7=\"\"),\"\",I$3*RopeThrow!AD7)","v":""},{"$f":"IF(OR('Set UP'!$K7<=0,'Set UP'!$F7<>\"F\",'Swim&Tow'!AC7=\"\"),\"\",J$3*'Swim&Tow'!AC7)","v":""},{"$f":"IF(OR('Set UP'!$K7<=0,'Set UP'!$F7<>\"F\",Medley!AA7=\"\"),\"\",K$3*Medley!AA7)","v":""},{"$f":"IF(OR('Set UP'!$K7<=0,'Set UP'!$F7<>\"F\",'Manikin Carry'!AA7=\"\"),\"\",L$3*'Manikin Carry'!AA7)","v":""},{"$f":"IF(OR('Set UP'!$K7<=0,'Set UP'!$F7<>\"F\",Obstacle!AA7=\"\"),\"\",M$3*Obstacle!AA7)","v":""},{"$f":"IF(AND(F7=\"\",G7=\"\",H7=\"\",I7=\"\",J7=\"\",K7=\"\",L7=\"\"),\"\",SUM(F7:M7))","v":""}]
[null,2,{"$f":"IF(OR('Set UP'!$C8=0,'Set UP'!$D8=0,'Set UP'!$E8=0,'Set UP'!F8=0),\"  --\",'Set UP'!C8)","v":1419},{"$f":"IF(OR('Set UP'!$C8=0,'Set UP'!$D8=0,'Set UP'!$E8=0,'Set UP'!F8=0),\"  --\",'Set UP'!D8&\" \"&'Set UP'!E8)","v":"Bradford On Avon Lifesaving Club  A"},{"$f":"IF(OR('Set UP'!$C8=0,'Set UP'!$D8=0,'Set UP'!$E8=0,'Set UP'!F8=0),\" --\",'Set UP'!F8)","v":"NS"},{"$f":"IF(OR('Set UP'!$K8<=0,'Set UP'!$F8<>\"F\"),\"\",F$3*'Dry Incident'!JW22)","v":""},{"$f":"IF(OR('Set UP'!$K8<=0,'Set UP'!$F8<>\"F\"),\"\",G$3*' Wet Incident'!JW22)","v":""},{"$f":"IF(OR('Set UP'!$K8<=0,'Set UP'!$F8<>\"F\"),\"\",H$3*'Extra Incident'!JW22)","v":""},{"$f":"IF(OR('Set UP'!$K8<=0,'Set UP'!$F8<>\"F\",RopeThrow!AD8=\"\"),\"\",I$3*RopeThrow!AD8)","v":""},{"$f":"IF(OR('Set UP'!$K8<=0,'Set UP'!$F8<>\"F\",'Swim&Tow'!AC8=\"\"),\"\",J$3*'Swim&Tow'!AC8)","v":""},{"$f":"IF(OR('Set UP'!$K8<=0,'Set UP'!$F8<>\"F\",Medley!AA8=\"\"),\"\",K$3*Medley!AA8)","v":""},{"$f":"IF(OR('Set UP'!$K8<=0,'Set UP'!$F8<>\"F\",'Manikin Carry'!AA8=\"\"),\"\",L$3*'Manikin Carry'!AA8)","v":""},{"$f":"IF(OR('Set UP'!$K8<=0,'Set UP'!$F8<>\"F\",Obstacle!AA8=\"\"),\"\",M$3*Obstacle!AA8)","v":""},{"$f":"IF(AND(F8=\"\",G8=\"\",H8=\"\",I8=\"\",J8=\"\",K8=\"\",L8=\"\"),\"\",SUM(F8:M8))","v":""}]
[null,3,{"$f":"IF(OR('Set UP'!$C9=0,'Set UP'!$D9=0,'Set UP'!$E9=0,'Set UP'!F9=0),\"  --\",'Set UP'!C9)","v":1417},{"$f":"IF(OR('Set UP'!$C9=0,'Set UP'!$D9=0,'Set UP'!$E9=0,'Set UP'!F9=0),\"  --\",'Set UP'!D9&\" \"&'Set UP'!E9)","v":"Bradford On Avon Lifesaving Club  C"},{"$f":"IF(OR('Set UP'!$C9=0,'Set UP'!$D9=0,'Set UP'!$E9=0,'Set UP'!F9=0),\" --\",'Set UP'!F9)","v":"NS"},{"$f":"IF(OR('Set UP'!$K9<=0,'Set UP'!$F9<>\"F\"),\"\",F$3*'Dry Incident'!JW23)","v":""},{"$f":"IF(OR('Set UP'!$K9<=0,'Set UP'!$F9<>\"F\"),\"\",G$3*' Wet Incident'!JW23)","v":""},{"$f":"IF(OR('Set UP'!$K9<=0,'Set UP'!$F9<>\"F\"),\"\",H$3*'Extra Incident'!JW23)","v":""},{"$f":"IF(OR('Set UP'!$K9<=0,'Set UP'!$F9<>\"F\",RopeThrow!AD9=\"\"),\"\",I$3*RopeThrow!AD9)","v":""},{"$f":"IF(OR('Set UP'!$K9<=0,'Set UP'!$F9<>\"F\",'Swim&Tow'!AC9=\"\"),\"\",J$3*'Swim&Tow'!AC9)","v":""},{"$f":"IF(OR('Set UP'!$K9<=0,'Set UP'!$F9<>\"F\",Medley!AA9=\"\"),\"\",K$3*Medley!AA9)","v":""},{"$f":"IF(OR('Set UP'!$K9<=0,'Set UP'!$F9<>\"F\",'Manikin Carry'!AA9=\"\"),\"\",L$3*'Manikin Carry'!AA9)","v":""},{"$f":"IF(OR('Set UP'!$K9<=0,'Set UP'!$F9<>\"F\",Obstacle!AA9=\"\"),\"\",M$3*Obstacle!AA9)","v":""},""]
[null,4,{"$f":"IF(OR('Set UP'!$C10=0,'Set UP'!$D10=0,'Set UP'!$E10=0,'Set UP'!F10=0),\"  --\",'Set UP'!C10)","v":"  --"},{"$f":"IF(OR('Set UP'!$C10=0,'Set UP'!$D10=0,'Set UP'!$E10=0,'Set UP'!F10=0),\"  --\",'Set UP'!D10&\" \"&'Set UP'!E10)","v":"  --"},{"$f":"IF(OR('Set UP'!$C10=0,'Set UP'!$D10=0,'Set UP'!$E10=0,'Set UP'!F10=0),\" --\",'Set UP'!F10)","v":" --"},{"$f":"IF(OR('Set UP'!$K10<=0,'Set UP'!$F10<>\"F\"),\"\",F$3*'Dry Incident'!JW24)","v":""},{"$f":"IF(OR('Set UP'!$K10<=0,'Set UP'!$F10<>\"F\"),\"\",G$3*' Wet Incident'!JW24)","v":""},{"$f":"IF(OR('Set UP'!$K10<=0,'Set UP'!$F10<>\"F\"),\"\",H$3*'Extra Incident'!JW24)","v":""},{"$f":"IF(OR('Set UP'!$K10<=0,'Set UP'!$F10<>\"F\",RopeThrow!AD10=\"\"),\"\",I$3*RopeThrow!AD10)","v":""},{"$f":"IF(OR('Set UP'!$K10<=0,'Set UP'!$F10<>\"F\",'Swim&Tow'!AC10=\"\"),\"\",J$3*'Swim&Tow'!AC10)","v":""},{"$f":"IF(OR('Set UP'!$K10<=0,'Set UP'!$F10<>\"F\",Medley!AA10=\"\"),\"\",K$3*Medley!AA10)","v":""},{"$f":"IF(OR('Set UP'!$K10<=0,'Set UP'!$F10<>\"F\",'Manikin Carry'!AA10=\"\"),\"\",L$3*'Manikin Carry'!AA10)","v":""},{"$f":"IF(OR('Set UP'!$K10<=0,'Set UP'!$F10<>\"F\",Obstacle!AA10=\"\"),\"\",M$3*Obstacle!AA10)","v":""},""]
[null,5,{"$f":"IF(OR('Set UP'!$C11=0,'Set UP'!$D11=0,'Set UP'!$E11=0,'Set UP'!F11=0),\"  --\",'Set UP'!C11)","v":1424},{"$f":"IF(OR('Set UP'!$C11=0,'Set UP'!$D11=0,'Set UP'!$E11=0,'Set UP'!F11=0),\"  --\",'Set UP'!D11&\" \"&'Set UP'!E11)","v":"Keynsham B"},{"$f":"IF(OR('Set UP'!$C11=0,'Set UP'!$D11=0,'Set UP'!$E11=0,'Set UP'!F11=0),\" --\",'Set UP'!F11)","v":"NS"},{"$f":"IF(OR('Set UP'!$K11<=0,'Set UP'!$F11<>\"F\"),\"\",F$3*'Dry Incident'!JW25)","v":""},{"$f":"IF(OR('Set UP'!$K11<=0,'Set UP'!$F11<>\"F\"),\"\",G$3*' Wet Incident'!JW25)","v":""},{"$f":"IF(OR('Set UP'!$K11<=0,'Set UP'!$F11<>\"F\"),\"\",H$3*'Extra Incident'!JW25)","v":""},{"$f":"IF(OR('Set UP'!$K11<=0,'Set UP'!$F11<>\"F\",RopeThrow!AD11=\"\"),\"\",I$3*RopeThrow!AD11)","v":""},{"$f":"IF(OR('Set UP'!$K11<=0,'Set UP'!$F11<>\"F\",'Swim&Tow'!AC11=\"\"),\"\",J$3*'Swim&Tow'!AC11)","v":""},{"$f":"IF(OR('Set UP'!$K11<=0,'Set UP'!$F11<>\"F\",Medley!AA11=\"\"),\"\",K$3*Medley!AA11)","v":""},{"$f":"IF(OR('Set UP'!$K11<=0,'Set UP'!$F11<>\"F\",'Manikin Carry'!AA11=\"\"),\"\",L$3*'Manikin Carry'!AA11)","v":""},{"$f":"IF(OR('Set UP'!$K11<=0,'Set UP'!$F11<>\"F\",Obstacle!AA11=\"\"),\"\",M$3*Obstacle!AA11)","v":""},""]
[null,6,{"$f":"IF(OR('Set UP'!$C12=0,'Set UP'!$D12=0,'Set UP'!$E12=0,'Set UP'!F12=0),\"  --\",'Set UP'!C12)","v":1423},{"$f":"IF(OR('Set UP'!$C12=0,'Set UP'!$D12=0,'Set UP'!$E12=0,'Set UP'!F12=0),\"  --\",'Set UP'!D12&\" \"&'Set UP'!E12)","v":"Keynsham A"},{"$f":"IF(OR('Set UP'!$C12=0,'Set UP'!$D12=0,'Set UP'!$E12=0,'Set UP'!F12=0),\" --\",'Set UP'!F12)","v":"NS"},{"$f":"IF(OR('Set UP'!$K12<=0,'Set UP'!$F12<>\"F\"),\"\",F$3*'Dry Incident'!JW26)","v":""},{"$f":"IF(OR('Set UP'!$K12<=0,'Set UP'!$F12<>\"F\"),\"\",G$3*' Wet Incident'!JW26)","v":""},{"$f":"IF(OR('Set UP'!$K12<=0,'Set UP'!$F12<>\"F\"),\"\",H$3*'Extra Incident'!JW26)","v":""},{"$f":"IF(OR('Set UP'!$K12<=0,'Set UP'!$F12<>\"F\",RopeThrow!AD12=\"\"),\"\",I$3*RopeThrow!AD12)","v":""},{"$f":"IF(OR('Set UP'!$K12<=0,'Set UP'!$F12<>\"F\",'Swim&Tow'!AC12=\"\"),\"\",J$3*'Swim&Tow'!AC12)","v":""},{"$f":"IF(OR('Set UP'!$K12<=0,'Set UP'!$F12<>\"F\",Medley!AA12=\"\"),\"\",K$3*Medley!AA12)","v":""},{"$f":"IF(OR('Set UP'!$K12<=0,'Set UP'!$F12<>\"F\",'Manikin Carry'!AA12=\"\"),\"\",L$3*'Manikin Carry'!AA12)","v":""},{"$f":"IF(OR('Set UP'!$K12<=0,'Set UP'!$F12<>\"F\",Obstacle!AA12=\"\"),\"\",M$3*Obstacle!AA12)","v":""},""]
[null,7,{"$f":"IF(OR('Set UP'!$C13=0,'Set UP'!$D13=0,'Set UP'!$E13=0,'Set UP'!F13=0),\"  --\",'Set UP'!C13)","v":1433},{"$f":"IF(OR('Set UP'!$C13=0,'Set UP'!$D13=0,'Set UP'!$E13=0,'Set UP'!F13=0),\"  --\",'Set UP'!D13&\" \"&'Set UP'!E13)","v":"University of Nottingham B"},{"$f":"IF(OR('Set UP'!$C13=0,'Set UP'!$D13=0,'Set UP'!$E13=0,'Set UP'!F13=0),\" --\",'Set UP'!F13)","v":"S"},{"$f":"IF(OR('Set UP'!$K13<=0,'Set UP'!$F13<>\"F\"),\"\",F$3*'Dry Incident'!JW27)","v":""},{"$f":"IF(OR('Set UP'!$K13<=0,'Set UP'!$F13<>\"F\"),\"\",G$3*' Wet Incident'!JW27)","v":""},{"$f":"IF(OR('Set UP'!$K13<=0,'Set UP'!$F13<>\"F\"),\"\",H$3*'Extra Incident'!JW27)","v":""},{"$f":"IF(OR('Set UP'!$K13<=0,'Set UP'!$F13<>\"F\",RopeThrow!AD13=\"\"),\"\",I$3*RopeThrow!AD13)","v":""},{"$f":"IF(OR('Set UP'!$K13<=0,'Set UP'!$F13<>\"F\",'Swim&Tow'!AC13=\"\"),\"\",J$3*'Swim&Tow'!AC13)","v":""},{"$f":"IF(OR('Set UP'!$K13<=0,'Set UP'!$F13<>\"F\",Medley!AA13=\"\"),\"\",K$3*Medley!AA13)","v":""},{"$f":"IF(OR('Set UP'!$K13<=0,'Set UP'!$F13<>\"F\",'Manikin Carry'!AA13=\"\"),\"\",L$3*'Manikin Carry'!AA13)","v":""},{"$f":"IF(OR('Set UP'!$K13<=0,'Set UP'!$F13<>\"F\",Obstacle!AA13=\"\"),\"\",M$3*Obstacle!AA13)","v":""},""]
[null,8,{"$f":"IF(OR('Set UP'!$C14=0,'Set UP'!$D14=0,'Set UP'!$E14=0,'Set UP'!F14=0),\"  --\",'Set UP'!C14)","v":1441},{"$f":"IF(OR('Set UP'!$C14=0,'Set UP'!$D14=0,'Set UP'!$E14=0,'Set UP'!F14=0),\"  --\",'Set UP'!D14&\" \"&'Set UP'!E14)","v":"University of Plymouth C"},{"$f":"IF(OR('Set UP'!$C14=0,'Set UP'!$D14=0,'Set UP'!$E14=0,'Set UP'!F14=0),\" --\",'Set UP'!F14)","v":"NC"},{"$f":"IF(OR('Set UP'!$K14<=0,'Set UP'!$F14<>\"F\"),\"\",F$3*'Dry Incident'!JW28)","v":""},{"$f":"IF(OR('Set UP'!$K14<=0,'Set UP'!$F14<>\"F\"),\"\",G$3*' Wet Incident'!JW28)","v":""},{"$f":"IF(OR('Set UP'!$K14<=0,'Set UP'!$F14<>\"F\"),\"\",H$3*'Extra Incident'!JW28)","v":""},{"$f":"IF(OR('Set UP'!$K14<=0,'Set UP'!$F14<>\"F\",RopeThrow!AD14=\"\"),\"\",I$3*RopeThrow!AD14)","v":""},{"$f":"IF(OR('Set UP'!$K14<=0,'Set UP'!$F14<>\"F\",'Swim&Tow'!AC14=\"\"),\"\",J$3*'Swim&Tow'!AC14)","v":""},{"$f":"IF(OR('Set UP'!$K14<=0,'Set UP'!$F14<>\"F\",Medley!AA14=\"\"),\"\",K$3*Medley!AA14)","v":""},{"$f":"IF(OR('Set UP'!$K14<=0,'Set UP'!$F14<>\"F\",'Manikin Carry'!AA14=\"\"),\"\",L$3*'Manikin Carry'!AA14)","v":""},{"$f":"IF(OR('Set UP'!$K14<=0,'Set UP'!$F14<>\"F\",Obstacle!AA14=\"\"),\"\",M$3*Obstacle!AA14)","v":""},""]
[null,9,{"$f":"IF(OR('Set UP'!$C15=0,'Set UP'!$D15=0,'Set UP'!$E15=0,'Set UP'!F15=0),\"  --\",'Set UP'!C15)","v":1440},{"$f":"IF(OR('Set UP'!$C15=0,'Set UP'!$D15=0,'Set UP'!$E15=0,'Set UP'!F15=0),\"  --\",'Set UP'!D15&\" \"&'Set UP'!E15)","v":"University of Plymouth B"},{"$f":"IF(OR('Set UP'!$C15=0,'Set UP'!$D15=0,'Set UP'!$E15=0,'Set UP'!F15=0),\" --\",'Set UP'!F15)","v":"S"},{"$f":"IF(OR('Set UP'!$K15<=0,'Set UP'!$F15<>\"F\"),\"\",F$3*'Dry Incident'!JW29)","v":""},{"$f":"IF(OR('Set UP'!$K15<=0,'Set UP'!$F15<>\"F\"),\"\",G$3*' Wet Incident'!JW29)","v":""},{"$f":"IF(OR('Set UP'!$K15<=0,'Set UP'!$F15<>\"F\"),\"\",H$3*'Extra Incident'!JW29)","v":""},{"$f":"IF(OR('Set UP'!$K15<=0,'Set UP'!$F15<>\"F\",RopeThrow!AD15=\"\"),\"\",I$3*RopeThrow!AD15)","v":""},{"$f":"IF(OR('Set UP'!$K15<=0,'Set UP'!$F15<>\"F\",'Swim&Tow'!AC15=\"\"),\"\",J$3*'Swim&Tow'!AC15)","v":""},{"$f":"IF(OR('Set UP'!$K15<=0,'Set UP'!$F15<>\"F\",Medley!AA15=\"\"),\"\",K$3*Medley!AA15)","v":""},{"$f":"IF(OR('Set UP'!$K15<=0,'Set UP'!$F15<>\"F\",'Manikin Carry'!AA15=\"\"),\"\",L$3*'Manikin Carry'!AA15)","v":""},{"$f":"IF(OR('Set UP'!$K15<=0,'Set UP'!$F15<>\"F\",Obstacle!AA15=\"\"),\"\",M$3*Obstacle!AA15)","v":""},""]
[null,10,{"$f":"IF(OR('Set UP'!$C16=0,'Set UP'!$D16=0,'Set UP'!$E16=0,'Set UP'!F16=0),\"  --\",'Set UP'!C16)","v":1431},{"$f":"IF(OR('Set UP'!$C16=0,'Set UP'!$D16=0,'Set UP'!$E16=0,'Set UP'!F16=0),\"  --\",'Set UP'!D16&\" \"&'Set UP'!E16)","v":"University of Nottingham C"},{"$f":"IF(OR('Set UP'!$C16=0,'Set UP'!$D16=0,'Set UP'!$E16=0,'Set UP'!F16=0),\" --\",'Set UP'!F16)","v":"S"},{"$f":"IF(OR('Set UP'!$K16<=0,'Set UP'!$F16<>\"F\"),\"\",F$3*'Dry Incident'!JW30)","v":""},{"$f":"IF(OR('Set UP'!$K16<=0,'Set UP'!$F16<>\"F\"),\"\",G$3*' Wet Incident'!JW30)","v":""},{"$f":"IF(OR('Set UP'!$K16<=0,'Set UP'!$F16<>\"F\"),\"\",H$3*'Extra Incident'!JW30)","v":""},{"$f":"IF(OR('Set UP'!$K16<=0,'Set UP'!$F16<>\"F\",RopeThrow!AD16=\"\"),\"\",I$3*RopeThrow!AD16)","v":""},{"$f":"IF(OR('Set UP'!$K16<=0,'Set UP'!$F16<>\"F\",'Swim&Tow'!AC16=\"\"),\"\",J$3*'Swim&Tow'!AC16)","v":""},{"$f":"IF(OR('Set UP'!$K16<=0,'Set UP'!$F16<>\"F\",Medley!AA16=\"\"),\"\",K$3*Medley!AA16)","v":""},{"$f":"IF(OR('Set UP'!$K16<=0,'Set UP'!$F16<>\"F\",'Manikin Carry'!AA16=\"\"),\"\",L$3*'Manikin Carry'!AA16)","v":""},{"$f":"IF(OR('Set UP'!$K16<=0,'Set UP'!$F16<>\"F\",Obstacle!AA16=\"\"),\"\",M$3*Obstacle!AA16)","v":""},""]
[null,11,{"$f":"IF(OR('Set UP'!$C17=0,'Set UP'!$D17=0,'Set UP'!$E17=0,'Set UP'!F17=0),\"  --\",'Set UP'!C17)","v":1445},{"$f":"IF(OR('Set UP'!$C17=0,'Set UP'!$D17=0,'Set UP'!$E17=0,'Set UP'!F17=0),\"  --\",'Set UP'!D17&\" \"&'Set UP'!E17)","v":"University of Birmingham D"},{"$f":"IF(OR('Set UP'!$C17=0,'Set UP'!$D17=0,'Set UP'!$E17=0,'Set UP'!F17=0),\" --\",'Set UP'!F17)","v":"NC"},{"$f":"IF(OR('Set UP'!$K17<=0,'Set UP'!$F17<>\"F\"),\"\",F$3*'Dry Incident'!JW31)","v":""},{"$f":"IF(OR('Set UP'!$K17<=0,'Set UP'!$F17<>\"F\"),\"\",G$3*' Wet Incident'!JW31)","v":""},{"$f":"IF(OR('Set UP'!$K17<=0,'Set UP'!$F17<>\"F\"),\"\",H$3*'Extra Incident'!JW31)","v":""},{"$f":"IF(OR('Set UP'!$K17<=0,'Set UP'!$F17<>\"F\",RopeThrow!AD17=\"\"),\"\",I$3*RopeThrow!AD17)","v":""},{"$f":"IF(OR('Set UP'!$K17<=0,'Set UP'!$F17<>\"F\",'Swim&Tow'!AC17=\"\"),\"\",J$3*'Swim&Tow'!AC17)","v":""},{"$f":"IF(OR('Set UP'!$K17<=0,'Set UP'!$F17<>\"F\",Medley!AA17=\"\"),\"\",K$3*Medley!AA17)","v":""},{"$f":"IF(OR('Set UP'!$K17<=0,'Set UP'!$F17<>\"F\",'Manikin Carry'!AA17=\"\"),\"\",L$3*'Manikin Carry'!AA17)","v":""},{"$f":"IF(OR('Set UP'!$K17<=0,'Set UP'!$F17<>\"F\",Obstacle!AA17=\"\"),\"\",M$3*Obstacle!AA17)","v":""},""]
[null,12,{"$f":"IF(OR('Set UP'!$C18=0,'Set UP'!$D18=0,'Set UP'!$E18=0,'Set UP'!F18=0),\"  --\",'Set UP'!C18)","v":"  --"},{"$f":"IF(OR('Set UP'!$C18=0,'Set UP'!$D18=0,'Set UP'!$E18=0,'Set UP'!F18=0),\"  --\",'Set UP'!D18&\" \"&'Set UP'!E18)","v":"  --"},{"$f":"IF(OR('Set UP'!$C18=0,'Set UP'!$D18=0,'Set UP'!$E18=0,'Set UP'!F18=0),\" --\",'Set UP'!F18)","v":" --"},{"$f":"IF(OR('Set UP'!$K18<=0,'Set UP'!$F18<>\"F\"),\"\",F$3*'Dry Incident'!JW32)","v":""},{"$f":"IF(OR('Set UP'!$K18<=0,'Set UP'!$F18<>\"F\"),\"\",G$3*' Wet Incident'!JW32)","v":""},{"$f":"IF(OR('Set UP'!$K18<=0,'Set UP'!$F18<>\"F\"),\"\",H$3*'Extra Incident'!JW32)","v":""},{"$f":"IF(OR('Set UP'!$K18<=0,'Set UP'!$F18<>\"F\",RopeThrow!AD18=\"\"),\"\",I$3*RopeThrow!AD18)","v":""},{"$f":"IF(OR('Set UP'!$K18<=0,'Set UP'!$F18<>\"F\",'Swim&Tow'!AC18=\"\"),\"\",J$3*'Swim&Tow'!AC18)","v":""},{"$f":"IF(OR('Set UP'!$K18<=0,'Set UP'!$F18<>\"F\",Medley!AA18=\"\"),\"\",K$3*Medley!AA18)","v":""},{"$f":"IF(OR('Set UP'!$K18<=0,'Set UP'!$F18<>\"F\",'Manikin Carry'!AA18=\"\"),\"\",L$3*'Manikin Carry'!AA18)","v":""},{"$f":"IF(OR('Set UP'!$K18<=0,'Set UP'!$F18<>\"F\",Obstacle!AA18=\"\"),\"\",M$3*Obstacle!AA18)","v":""},""]
[null,13,{"$f":"IF(OR('Set UP'!$C19=0,'Set UP'!$D19=0,'Set UP'!$E19=0,'Set UP'!F19=0),\"  --\",'Set UP'!C19)","v":1426},{"$f":"IF(OR('Set UP'!$C19=0,'Set UP'!$D19=0,'Set UP'!$E19=0,'Set UP'!F19=0),\"  --\",'Set UP'!D19&\" \"&'Set UP'!E19)","v":"London Universities B"},{"$f":"IF(OR('Set UP'!$C19=0,'Set UP'!$D19=0,'Set UP'!$E19=0,'Set UP'!F19=0),\" --\",'Set UP'!F19)","v":"S"},{"$f":"IF(OR('Set UP'!$K19<=0,'Set UP'!$F19<>\"F\"),\"\",F$3*'Dry Incident'!JW33)","v":""},{"$f":"IF(OR('Set UP'!$K19<=0,'Set UP'!$F19<>\"F\"),\"\",G$3*' Wet Incident'!JW33)","v":""},{"$f":"IF(OR('Set UP'!$K19<=0,'Set UP'!$F19<>\"F\"),\"\",H$3*'Extra Incident'!JW33)","v":""},{"$f":"IF(OR('Set UP'!$K19<=0,'Set UP'!$F19<>\"F\",RopeThrow!AD19=\"\"),\"\",I$3*RopeThrow!AD19)","v":""},{"$f":"IF(OR('Set UP'!$K19<=0,'Set UP'!$F19<>\"F\",'Swim&Tow'!AC19=\"\"),\"\",J$3*'Swim&Tow'!AC19)","v":""},{"$f":"IF(OR('Set UP'!$K19<=0,'Set UP'!$F19<>\"F\",Medley!AA19=\"\"),\"\",K$3*Medley!AA19)","v":""},{"$f":"IF(OR('Set UP'!$K19<=0,'Set UP'!$F19<>\"F\",'Manikin Carry'!AA19=\"\"),\"\",L$3*'Manikin Carry'!AA19)","v":""},{"$f":"IF(OR('Set UP'!$K19<=0,'Set UP'!$F19<>\"F\",Obstacle!AA19=\"\"),\"\",M$3*Obstacle!AA19)","v":""},""]
[null,14,{"$f":"IF(OR('Set UP'!$C20=0,'Set UP'!$D20=0,'Set UP'!$E20=0,'Set UP'!F20=0),\"  --\",'Set UP'!C20)","v":"  --"},{"$f":"IF(OR('Set UP'!$C20=0,'Set UP'!$D20=0,'Set UP'!$E20=0,'Set UP'!F20=0),\"  --\",'Set UP'!D20&\" \"&'Set UP'!E20)","v":"  --"},{"$f":"IF(OR('Set UP'!$C20=0,'Set UP'!$D20=0,'Set UP'!$E20=0,'Set UP'!F20=0),\" --\",'Set UP'!F20)","v":" --"},{"$f":"IF(OR('Set UP'!$K20<=0,'Set UP'!$F20<>\"F\"),\"\",F$3*'Dry Incident'!JW34)","v":""},{"$f":"IF(OR('Set UP'!$K20<=0,'Set UP'!$F20<>\"F\"),\"\",G$3*' Wet Incident'!JW34)","v":""},{"$f":"IF(OR('Set UP'!$K20<=0,'Set UP'!$F20<>\"F\"),\"\",H$3*'Extra Incident'!JW34)","v":""},{"$f":"IF(OR('Set UP'!$K20<=0,'Set UP'!$F20<>\"F\",RopeThrow!AD20=\"\"),\"\",I$3*RopeThrow!AD20)","v":""},{"$f":"IF(OR('Set UP'!$K20<=0,'Set UP'!$F20<>\"F\",'Swim&Tow'!AC20=\"\"),\"\",J$3*'Swim&Tow'!AC20)","v":""},{"$f":"IF(OR('Set UP'!$K20<=0,'Set UP'!$F20<>\"F\",Medley!AA20=\"\"),\"\",K$3*Medley!AA20)","v":""},{"$f":"IF(OR('Set UP'!$K20<=0,'Set UP'!$F20<>\"F\",'Manikin Carry'!AA20=\"\"),\"\",L$3*'Manikin Carry'!AA20)","v":""},{"$f":"IF(OR('Set UP'!$K20<=0,'Set UP'!$F20<>\"F\",Obstacle!AA20=\"\"),\"\",M$3*Obstacle!AA20)","v":""},""]
[null,15,{"$f":"IF(OR('Set UP'!$C21=0,'Set UP'!$D21=0,'Set UP'!$E21=0,'Set UP'!F21=0),\"  --\",'Set UP'!C21)","v":1427},{"$f":"IF(OR('Set UP'!$C21=0,'Set UP'!$D21=0,'Set UP'!$E21=0,'Set UP'!F21=0),\"  --\",'Set UP'!D21&\" \"&'Set UP'!E21)","v":"University of Southampton A"},{"$f":"IF(OR('Set UP'!$C21=0,'Set UP'!$D21=0,'Set UP'!$E21=0,'Set UP'!F21=0),\" --\",'Set UP'!F21)","v":"S"},{"$f":"IF(OR('Set UP'!$K21<=0,'Set UP'!$F21<>\"F\"),\"\",F$3*'Dry Incident'!JW35)","v":""},{"$f":"IF(OR('Set UP'!$K21<=0,'Set UP'!$F21<>\"F\"),\"\",G$3*' Wet Incident'!JW35)","v":""},{"$f":"IF(OR('Set UP'!$K21<=0,'Set UP'!$F21<>\"F\"),\"\",H$3*'Extra Incident'!JW35)","v":""},{"$f":"IF(OR('Set UP'!$K21<=0,'Set UP'!$F21<>\"F\",RopeThrow!AD21=\"\"),\"\",I$3*RopeThrow!AD21)","v":""},{"$f":"IF(OR('Set UP'!$K21<=0,'Set UP'!$F21<>\"F\",'Swim&Tow'!AC21=\"\"),\"\",J$3*'Swim&Tow'!AC21)","v":""},{"$f":"IF(OR('Set UP'!$K21<=0,'Set UP'!$F21<>\"F\",Medley!AA21=\"\"),\"\",K$3*Medley!AA21)","v":""},{"$f":"IF(OR('Set UP'!$K21<=0,'Set UP'!$F21<>\"F\",'Manikin Carry'!AA21=\"\"),\"\",L$3*'Manikin Carry'!AA21)","v":""},{"$f":"IF(OR('Set UP'!$K21<=0,'Set UP'!$F21<>\"F\",Obstacle!AA21=\"\"),\"\",M$3*Obstacle!AA21)","v":""},""]
[null,16,{"$f":"IF(OR('Set UP'!$C22=0,'Set UP'!$D22=0,'Set UP'!$E22=0,'Set UP'!F22=0),\"  --\",'Set UP'!C22)","v":1444},{"$f":"IF(OR('Set UP'!$C22=0,'Set UP'!$D22=0,'Set UP'!$E22=0,'Set UP'!F22=0),\"  --\",'Set UP'!D22&\" \"&'Set UP'!E22)","v":"University of Birmingham C"},{"$f":"IF(OR('Set UP'!$C22=0,'Set UP'!$D22=0,'Set UP'!$E22=0,'Set UP'!F22=0),\" --\",'Set UP'!F22)","v":"S"},{"$f":"IF(OR('Set UP'!$K22<=0,'Set UP'!$F22<>\"F\"),\"\",F$3*'Dry Incident'!JW36)","v":""},{"$f":"IF(OR('Set UP'!$K22<=0,'Set UP'!$F22<>\"F\"),\"\",G$3*' Wet Incident'!JW36)","v":""},{"$f":"IF(OR('Set UP'!$K22<=0,'Set UP'!$F22<>\"F\"),\"\",H$3*'Extra Incident'!JW36)","v":""},{"$f":"IF(OR('Set UP'!$K22<=0,'Set UP'!$F22<>\"F\",RopeThrow!AD22=\"\"),\"\",I$3*RopeThrow!AD22)","v":""},{"$f":"IF(OR('Set UP'!$K22<=0,'Set UP'!$F22<>\"F\",'Swim&Tow'!AC22=\"\"),\"\",J$3*'Swim&Tow'!AC22)","v":""},{"$f":"IF(OR('Set UP'!$K22<=0,'Set UP'!$F22<>\"F\",Medley!AA22=\"\"),\"\",K$3*Medley!AA22)","v":""},{"$f":"IF(OR('Set UP'!$K22<=0,'Set UP'!$F22<>\"F\",'Manikin Carry'!AA22=\"\"),\"\",L$3*'Manikin Carry'!AA22)","v":""},{"$f":"IF(OR('Set UP'!$K22<=0,'Set UP'!$F22<>\"F\",Obstacle!AA22=\"\"),\"\",M$3*Obstacle!AA22)","v":""},""]
[null,17,{"$f":"IF(OR('Set UP'!$C23=0,'Set UP'!$D23=0,'Set UP'!$E23=0,'Set UP'!F23=0),\"  --\",'Set UP'!C23)","v":1439},{"$f":"IF(OR('Set UP'!$C23=0,'Set UP'!$D23=0,'Set UP'!$E23=0,'Set UP'!F23=0),\"  --\",'Set UP'!D23&\" \"&'Set UP'!E23)","v":"University of Plymouth A"},{"$f":"IF(OR('Set UP'!$C23=0,'Set UP'!$D23=0,'Set UP'!$E23=0,'Set UP'!F23=0),\" --\",'Set UP'!F23)","v":"S"},{"$f":"IF(OR('Set UP'!$K23<=0,'Set UP'!$F23<>\"F\"),\"\",F$3*'Dry Incident'!JW37)","v":""},{"$f":"IF(OR('Set UP'!$K23<=0,'Set UP'!$F23<>\"F\"),\"\",G$3*' Wet Incident'!JW37)","v":""},{"$f":"IF(OR('Set UP'!$K23<=0,'Set UP'!$F23<>\"F\"),\"\",H$3*'Extra Incident'!JW37)","v":""},{"$f":"IF(OR('Set UP'!$K23<=0,'Set UP'!$F23<>\"F\",RopeThrow!AD23=\"\"),\"\",I$3*RopeThrow!AD23)","v":""},{"$f":"IF(OR('Set UP'!$K23<=0,'Set UP'!$F23<>\"F\",'Swim&Tow'!AC23=\"\"),\"\",J$3*'Swim&Tow'!AC23)","v":""},{"$f":"IF(OR('Set UP'!$K23<=0,'Set UP'!$F23<>\"F\",Medley!AA23=\"\"),\"\",K$3*Medley!AA23)","v":""},{"$f":"IF(OR('Set UP'!$K23<=0,'Set UP'!$F23<>\"F\",'Manikin Carry'!AA23=\"\"),\"\",L$3*'Manikin Carry'!AA23)","v":""},{"$f":"IF(OR('Set UP'!$K23<=0,'Set UP'!$F23<>\"F\",Obstacle!AA23=\"\"),\"\",M$3*Obstacle!AA23)","v":""},""]
[null,18,{"$f":"IF(OR('Set UP'!$C24=0,'Set UP'!$D24=0,'Set UP'!$E24=0,'Set UP'!F24=0),\"  --\",'Set UP'!C24)","v":1461},{"$f":"IF(OR('Set UP'!$C24=0,'Set UP'!$D24=0,'Set UP'!$E24=0,'Set UP'!F24=0),\"  --\",'Set UP'!D24&\" \"&'Set UP'!E24)","v":"Bristol University B"},{"$f":"IF(OR('Set UP'!$C24=0,'Set UP'!$D24=0,'Set UP'!$E24=0,'Set UP'!F24=0),\" --\",'Set UP'!F24)","v":"S"},{"$f":"IF(OR('Set UP'!$K24<=0,'Set UP'!$F24<>\"F\"),\"\",F$3*'Dry Incident'!JW38)","v":""},{"$f":"IF(OR('Set UP'!$K24<=0,'Set UP'!$F24<>\"F\"),\"\",G$3*' Wet Incident'!JW38)","v":""},{"$f":"IF(OR('Set UP'!$K24<=0,'Set UP'!$F24<>\"F\"),\"\",H$3*'Extra Incident'!JW38)","v":""},{"$f":"IF(OR('Set UP'!$K24<=0,'Set UP'!$F24<>\"F\",RopeThrow!AD24=\"\"),\"\",I$3*RopeThrow!AD24)","v":""},{"$f":"IF(OR('Set UP'!$K24<=0,'Set UP'!$F24<>\"F\",'Swim&Tow'!AC24=\"\"),\"\",J$3*'Swim&Tow'!AC24)","v":""},{"$f":"IF(OR('Set UP'!$K24<=0,'Set UP'!$F24<>\"F\",Medley!AA24=\"\"),\"\",K$3*Medley!AA24)","v":""},{"$f":"IF(OR('Set UP'!$K24<=0,'Set UP'!$F24<>\"F\",'Manikin Carry'!AA24=\"\"),\"\",L$3*'Manikin Carry'!AA24)","v":""},{"$f":"IF(OR('Set UP'!$K24<=0,'Set UP'!$F24<>\"F\",Obstacle!AA24=\"\"),\"\",M$3*Obstacle!AA24)","v":""},""]
[null,19,{"$f":"IF(OR('Set UP'!$C25=0,'Set UP'!$D25=0,'Set UP'!$E25=0,'Set UP'!F25=0),\"  --\",'Set UP'!C25)","v":1436},{"$f":"IF(OR('Set UP'!$C25=0,'Set UP'!$D25=0,'Set UP'!$E25=0,'Set UP'!F25=0),\"  --\",'Set UP'!D25&\" \"&'Set UP'!E25)","v":"Loughborough University C"},{"$f":"IF(OR('Set UP'!$C25=0,'Set UP'!$D25=0,'Set UP'!$E25=0,'Set UP'!F25=0),\" --\",'Set UP'!F25)","v":"S"},{"$f":"IF(OR('Set UP'!$K25<=0,'Set UP'!$F25<>\"F\"),\"\",F$3*'Dry Incident'!JW39)","v":""},{"$f":"IF(OR('Set UP'!$K25<=0,'Set UP'!$F25<>\"F\"),\"\",G$3*' Wet Incident'!JW39)","v":""},{"$f":"IF(OR('Set UP'!$K25<=0,'Set UP'!$F25<>\"F\"),\"\",H$3*'Extra Incident'!JW39)","v":""},{"$f":"IF(OR('Set UP'!$K25<=0,'Set UP'!$F25<>\"F\",RopeThrow!AD25=\"\"),\"\",I$3*RopeThrow!AD25)","v":""},{"$f":"IF(OR('Set UP'!$K25<=0,'Set UP'!$F25<>\"F\",'Swim&Tow'!AC25=\"\"),\"\",J$3*'Swim&Tow'!AC25)","v":""},{"$f":"IF(OR('Set UP'!$K25<=0,'Set UP'!$F25<>\"F\",Medley!AA25=\"\"),\"\",K$3*Medley!AA25)","v":""},{"$f":"IF(OR('Set UP'!$K25<=0,'Set UP'!$F25<>\"F\",'Manikin Carry'!AA25=\"\"),\"\",L$3*'Manikin Carry'!AA25)","v":""},{"$f":"IF(OR('Set UP'!$K25<=0,'Set UP'!$F25<>\"F\",Obstacle!AA25=\"\"),\"\",M$3*Obstacle!AA25)","v":""},""]
[null,20,{"$f":"IF(OR('Set UP'!$C26=0,'Set UP'!$D26=0,'Set UP'!$E26=0,'Set UP'!F26=0),\"  --\",'Set UP'!C26)","v":1443},{"$f":"IF(OR('Set UP'!$C26=0,'Set UP'!$D26=0,'Set UP'!$E26=0,'Set UP'!F26=0),\"  --\",'Set UP'!D26&\" \"&'Set UP'!E26)","v":"University of Birmingham B"},{"$f":"IF(OR('Set UP'!$C26=0,'Set UP'!$D26=0,'Set UP'!$E26=0,'Set UP'!F26=0),\" --\",'Set UP'!F26)","v":"S"},{"$f":"IF(OR('Set UP'!$K26<=0,'Set UP'!$F26<>\"F\"),\"\",F$3*'Dry Incident'!JW40)","v":""},{"$f":"IF(OR('Set UP'!$K26<=0,'Set UP'!$F26<>\"F\"),\"\",G$3*' Wet Incident'!JW40)","v":""},{"$f":"IF(OR('Set UP'!$K26<=0,'Set UP'!$F26<>\"F\"),\"\",H$3*'Extra Incident'!JW40)","v":""},{"$f":"IF(OR('Set UP'!$K26<=0,'Set UP'!$F26<>\"F\",RopeThrow!AD26=\"\"),\"\",I$3*RopeThrow!AD26)","v":""},{"$f":"IF(OR('Set UP'!$K26<=0,'Set UP'!$F26<>\"F\",'Swim&Tow'!AC26=\"\"),\"\",J$3*'Swim&Tow'!AC26)","v":""},{"$f":"IF(OR('Set UP'!$K26<=0,'Set UP'!$F26<>\"F\",Medley!AA26=\"\"),\"\",K$3*Medley!AA26)","v":""},{"$f":"IF(OR('Set UP'!$K26<=0,'Set UP'!$F26<>\"F\",'Manikin Carry'!AA26=\"\"),\"\",L$3*'Manikin Carry'!AA26)","v":""},{"$f":"IF(OR('Set UP'!$K26<=0,'Set UP'!$F26<>\"F\",Obstacle!AA26=\"\"),\"\",M$3*Obstacle!AA26)","v":""},""]
[null,21,{"$f":"IF(OR('Set UP'!$C27=0,'Set UP'!$D27=0,'Set UP'!$E27=0,'Set UP'!F27=0),\"  --\",'Set UP'!C27)","v":1434},{"$f":"IF(OR('Set UP'!$C27=0,'Set UP'!$D27=0,'Set UP'!$E27=0,'Set UP'!F27=0),\"  --\",'Set UP'!D27&\" \"&'Set UP'!E27)","v":"Loughborough University A"},{"$f":"IF(OR('Set UP'!$C27=0,'Set UP'!$D27=0,'Set UP'!$E27=0,'Set UP'!F27=0),\" --\",'Set UP'!F27)","v":"S"},{"$f":"IF(OR('Set UP'!$K27<=0,'Set UP'!$F27<>\"F\"),\"\",F$3*'Dry Incident'!JW41)","v":""},{"$f":"IF(OR('Set UP'!$K27<=0,'Set UP'!$F27<>\"F\"),\"\",G$3*' Wet Incident'!JW41)","v":""},{"$f":"IF(OR('Set UP'!$K27<=0,'Set UP'!$F27<>\"F\"),\"\",H$3*'Extra Incident'!JW41)","v":""},{"$f":"IF(OR('Set UP'!$K27<=0,'Set UP'!$F27<>\"F\",RopeThrow!AD27=\"\"),\"\",I$3*RopeThrow!AD27)","v":""},{"$f":"IF(OR('Set UP'!$K27<=0,'Set UP'!$F27<>\"F\",'Swim&Tow'!AC27=\"\"),\"\",J$3*'Swim&Tow'!AC27)","v":""},{"$f":"IF(OR('Set UP'!$K27<=0,'Set UP'!$F27<>\"F\",Medley!AA27=\"\"),\"\",K$3*Medley!AA27)","v":""},{"$f":"IF(OR('Set UP'!$K27<=0,'Set UP'!$F27<>\"F\",'Manikin Carry'!AA27=\"\"),\"\",L$3*'Manikin Carry'!AA27)","v":""},{"$f":"IF(OR('Set UP'!$K27<=0,'Set UP'!$F27<>\"F\",Obstacle!AA27=\"\"),\"\",M$3*Obstacle!AA27)","v":""},""]
[null,22,{"$f":"IF(OR('Set UP'!$C28=0,'Set UP'!$D28=0,'Set UP'!$E28=0,'Set UP'!F28=0),\"  --\",'Set UP'!C28)","v":1435},{"$f":"IF(OR('Set UP'!$C28=0,'Set UP'!$D28=0,'Set UP'!$E28=0,'Set UP'!F28=0),\"  --\",'Set UP'!D28&\" \"&'Set UP'!E28)","v":"Loughborough University B"},{"$f":"IF(OR('Set UP'!$C28=0,'Set UP'!$D28=0,'Set UP'!$E28=0,'Set UP'!F28=0),\" --\",'Set UP'!F28)","v":"S"},{"$f":"IF(OR('Set UP'!$K28<=0,'Set UP'!$F28<>\"F\"),\"\",F$3*'Dry Incident'!JW42)","v":""},{"$f":"IF(OR('Set UP'!$K28<=0,'Set UP'!$F28<>\"F\"),\"\",G$3*' Wet Incident'!JW42)","v":""},{"$f":"IF(OR('Set UP'!$K28<=0,'Set UP'!$F28<>\"F\"),\"\",H$3*'Extra Incident'!JW42)","v":""},{"$f":"IF(OR('Set UP'!$K28<=0,'Set UP'!$F28<>\"F\",RopeThrow!AD28=\"\"),\"\",I$3*RopeThrow!AD28)","v":""},{"$f":"IF(OR('Set UP'!$K28<=0,'Set UP'!$F28<>\"F\",'Swim&Tow'!AC28=\"\"),\"\",J$3*'Swim&Tow'!AC28)","v":""},{"$f":"IF(OR('Set UP'!$K28<=0,'Set UP'!$F28<>\"F\",Medley!AA28=\"\"),\"\",K$3*Medley!AA28)","v":""},{"$f":"IF(OR('Set UP'!$K28<=0,'Set UP'!$F28<>\"F\",'Manikin Carry'!AA28=\"\"),\"\",L$3*'Manikin Carry'!AA28)","v":""},{"$f":"IF(OR('Set UP'!$K28<=0,'Set UP'!$F28<>\"F\",Obstacle!AA28=\"\"),\"\",M$3*Obstacle!AA28)","v":""},""]
[null,23,{"$f":"IF(OR('Set UP'!$C29=0,'Set UP'!$D29=0,'Set UP'!$E29=0,'Set UP'!F29=0),\"  --\",'Set UP'!C29)","v":1457},{"$f":"IF(OR('Set UP'!$C29=0,'Set UP'!$D29=0,'Set UP'!$E29=0,'Set UP'!F29=0),\"  --\",'Set UP'!D29&\" \"&'Set UP'!E29)","v":"University of Warwick B"},{"$f":"IF(OR('Set UP'!$C29=0,'Set UP'!$D29=0,'Set UP'!$E29=0,'Set UP'!F29=0),\" --\",'Set UP'!F29)","v":"S"},{"$f":"IF(OR('Set UP'!$K29<=0,'Set UP'!$F29<>\"F\"),\"\",F$3*'Dry Incident'!JW43)","v":""},{"$f":"IF(OR('Set UP'!$K29<=0,'Set UP'!$F29<>\"F\"),\"\",G$3*' Wet Incident'!JW43)","v":""},{"$f":"IF(OR('Set UP'!$K29<=0,'Set UP'!$F29<>\"F\"),\"\",H$3*'Extra Incident'!JW43)","v":""},{"$f":"IF(OR('Set UP'!$K29<=0,'Set UP'!$F29<>\"F\",RopeThrow!AD29=\"\"),\"\",I$3*RopeThrow!AD29)","v":""},{"$f":"IF(OR('Set UP'!$K29<=0,'Set UP'!$F29<>\"F\",'Swim&Tow'!AC29=\"\"),\"\",J$3*'Swim&Tow'!AC29)","v":""},{"$f":"IF(OR('Set UP'!$K29<=0,'Set UP'!$F29<>\"F\",Medley!AA29=\"\"),\"\",K$3*Medley!AA29)","v":""},{"$f":"IF(OR('Set UP'!$K29<=0,'Set UP'!$F29<>\"F\",'Manikin Carry'!AA29=\"\"),\"\",L$3*'Manikin Carry'!AA29)","v":""},{"$f":"IF(OR('Set UP'!$K29<=0,'Set UP'!$F29<>\"F\",Obstacle!AA29=\"\"),\"\",M$3*Obstacle!AA29)","v":""},""]
[null,24,{"$f":"IF(OR('Set UP'!$C30=0,'Set UP'!$D30=0,'Set UP'!$E30=0,'Set UP'!F30=0),\"  --\",'Set UP'!C30)","v":1429},{"$f":"IF(OR('Set UP'!$C30=0,'Set UP'!$D30=0,'Set UP'!$E30=0,'Set UP'!F30=0),\"  --\",'Set UP'!D30&\" \"&'Set UP'!E30)","v":"University of Nottingham A"},{"$f":"IF(OR('Set UP'!$C30=0,'Set UP'!$D30=0,'Set UP'!$E30=0,'Set UP'!F30=0),\" --\",'Set UP'!F30)","v":"S"},{"$f":"IF(OR('Set UP'!$K30<=0,'Set UP'!$F30<>\"F\"),\"\",F$3*'Dry Incident'!JW44)","v":""},{"$f":"IF(OR('Set UP'!$K30<=0,'Set UP'!$F30<>\"F\"),\"\",G$3*' Wet Incident'!JW44)","v":""},{"$f":"IF(OR('Set UP'!$K30<=0,'Set UP'!$F30<>\"F\"),\"\",H$3*'Extra Incident'!JW44)","v":""},{"$f":"IF(OR('Set UP'!$K30<=0,'Set UP'!$F30<>\"F\",RopeThrow!AD30=\"\"),\"\",I$3*RopeThrow!AD30)","v":""},{"$f":"IF(OR('Set UP'!$K30<=0,'Set UP'!$F30<>\"F\",'Swim&Tow'!AC30=\"\"),\"\",J$3*'Swim&Tow'!AC30)","v":""},{"$f":"IF(OR('Set UP'!$K30<=0,'Set UP'!$F30<>\"F\",Medley!AA30=\"\"),\"\",K$3*Medley!AA30)","v":""},{"$f":"IF(OR('Set UP'!$K30<=0,'Set UP'!$F30<>\"F\",'Manikin Carry'!AA30=\"\"),\"\",L$3*'Manikin Carry'!AA30)","v":""},{"$f":"IF(OR('Set UP'!$K30<=0,'Set UP'!$F30<>\"F\",Obstacle!AA30=\"\"),\"\",M$3*Obstacle!AA30)","v":""},""]
[null,25,{"$f":"IF(OR('Set UP'!$C31=0,'Set UP'!$D31=0,'Set UP'!$E31=0,'Set UP'!F31=0),\"  --\",'Set UP'!C31)","v":1438},{"$f":"IF(OR('Set UP'!$C31=0,'Set UP'!$D31=0,'Set UP'!$E31=0,'Set UP'!F31=0),\"  --\",'Set UP'!D31&\" \"&'Set UP'!E31)","v":"Swansea Universities Lifesaving B"},{"$f":"IF(OR('Set UP'!$C31=0,'Set UP'!$D31=0,'Set UP'!$E31=0,'Set UP'!F31=0),\" --\",'Set UP'!F31)","v":"S"},{"$f":"IF(OR('Set UP'!$K31<=0,'Set UP'!$F31<>\"F\"),\"\",F$3*'Dry Incident'!JW45)","v":""},{"$f":"IF(OR('Set UP'!$K31<=0,'Set UP'!$F31<>\"F\"),\"\",G$3*' Wet Incident'!JW45)","v":""},{"$f":"IF(OR('Set UP'!$K31<=0,'Set UP'!$F31<>\"F\"),\"\",H$3*'Extra Incident'!JW45)","v":""},{"$f":"IF(OR('Set UP'!$K31<=0,'Set UP'!$F31<>\"F\",RopeThrow!AD31=\"\"),\"\",I$3*RopeThrow!AD31)","v":""},{"$f":"IF(OR('Set UP'!$K31<=0,'Set UP'!$F31<>\"F\",'Swim&Tow'!AC31=\"\"),\"\",J$3*'Swim&Tow'!AC31)","v":""},{"$f":"IF(OR('Set UP'!$K31<=0,'Set UP'!$F31<>\"F\",Medley!AA31=\"\"),\"\",K$3*Medley!AA31)","v":""},{"$f":"IF(OR('Set UP'!$K31<=0,'Set UP'!$F31<>\"F\",'Manikin Carry'!AA31=\"\"),\"\",L$3*'Manikin Carry'!AA31)","v":""},{"$f":"IF(OR('Set UP'!$K31<=0,'Set UP'!$F31<>\"F\",Obstacle!AA31=\"\"),\"\",M$3*Obstacle!AA31)","v":""},""]
[null,26,{"$f":"IF(OR('Set UP'!$C32=0,'Set UP'!$D32=0,'Set UP'!$E32=0,'Set UP'!F32=0),\"  --\",'Set UP'!C32)","v":1442},{"$f":"IF(OR('Set UP'!$C32=0,'Set UP'!$D32=0,'Set UP'!$E32=0,'Set UP'!F32=0),\"  --\",'Set UP'!D32&\" \"&'Set UP'!E32)","v":"University of Birmingham A"},{"$f":"IF(OR('Set UP'!$C32=0,'Set UP'!$D32=0,'Set UP'!$E32=0,'Set UP'!F32=0),\" --\",'Set UP'!F32)","v":"S"},{"$f":"IF(OR('Set UP'!$K32<=0,'Set UP'!$F32<>\"F\"),\"\",F$3*'Dry Incident'!JW46)","v":""},{"$f":"IF(OR('Set UP'!$K32<=0,'Set UP'!$F32<>\"F\"),\"\",G$3*' Wet Incident'!JW46)","v":""},{"$f":"IF(OR('Set UP'!$K32<=0,'Set UP'!$F32<>\"F\"),\"\",H$3*'Extra Incident'!JW46)","v":""},{"$f":"IF(OR('Set UP'!$K32<=0,'Set UP'!$F32<>\"F\",RopeThrow!AD32=\"\"),\"\",I$3*RopeThrow!AD32)","v":""},{"$f":"IF(OR('Set UP'!$K32<=0,'Set UP'!$F32<>\"F\",'Swim&Tow'!AC32=\"\"),\"\",J$3*'Swim&Tow'!AC32)","v":""},{"$f":"IF(OR('Set UP'!$K32<=0,'Set UP'!$F32<>\"F\",Medley!AA32=\"\"),\"\",K$3*Medley!AA32)","v":""},{"$f":"IF(OR('Set UP'!$K32<=0,'Set UP'!$F32<>\"F\",'Manikin Carry'!AA32=\"\"),\"\",L$3*'Manikin Carry'!AA32)","v":""},{"$f":"IF(OR('Set UP'!$K32<=0,'Set UP'!$F32<>\"F\",Obstacle!AA32=\"\"),\"\",M$3*Obstacle!AA32)","v":""},""]
[null,27,{"$f":"IF(OR('Set UP'!$C33=0,'Set UP'!$D33=0,'Set UP'!$E33=0,'Set UP'!F33=0),\"  --\",'Set UP'!C33)","v":1456},{"$f":"IF(OR('Set UP'!$C33=0,'Set UP'!$D33=0,'Set UP'!$E33=0,'Set UP'!F33=0),\"  --\",'Set UP'!D33&\" \"&'Set UP'!E33)","v":"University of Warwick A"},{"$f":"IF(OR('Set UP'!$C33=0,'Set UP'!$D33=0,'Set UP'!$E33=0,'Set UP'!F33=0),\" --\",'Set UP'!F33)","v":"S"},{"$f":"IF(OR('Set UP'!$K33<=0,'Set UP'!$F33<>\"F\"),\"\",F$3*'Dry Incident'!JW47)","v":""},{"$f":"IF(OR('Set UP'!$K33<=0,'Set UP'!$F33<>\"F\"),\"\",G$3*' Wet Incident'!JW47)","v":""},{"$f":"IF(OR('Set UP'!$K33<=0,'Set UP'!$F33<>\"F\"),\"\",H$3*'Extra Incident'!JW47)","v":""},{"$f":"IF(OR('Set UP'!$K33<=0,'Set UP'!$F33<>\"F\",RopeThrow!AD33=\"\"),\"\",I$3*RopeThrow!AD33)","v":""},{"$f":"IF(OR('Set UP'!$K33<=0,'Set UP'!$F33<>\"F\",'Swim&Tow'!AC33=\"\"),\"\",J$3*'Swim&Tow'!AC33)","v":""},{"$f":"IF(OR('Set UP'!$K33<=0,'Set UP'!$F33<>\"F\",Medley!AA33=\"\"),\"\",K$3*Medley!AA33)","v":""},{"$f":"IF(OR('Set UP'!$K33<=0,'Set UP'!$F33<>\"F\",'Manikin Carry'!AA33=\"\"),\"\",L$3*'Manikin Carry'!AA33)","v":""},{"$f":"IF(OR('Set UP'!$K33<=0,'Set UP'!$F33<>\"F\",Obstacle!AA33=\"\"),\"\",M$3*Obstacle!AA33)","v":""},""]
[null,28,{"$f":"IF(OR('Set UP'!$C34=0,'Set UP'!$D34=0,'Set UP'!$E34=0,'Set UP'!F34=0),\"  --\",'Set UP'!C34)","v":1460},{"$f":"IF(OR('Set UP'!$C34=0,'Set UP'!$D34=0,'Set UP'!$E34=0,'Set UP'!F34=0),\"  --\",'Set UP'!D34&\" \"&'Set UP'!E34)","v":"Bristol University A"},{"$f":"IF(OR('Set UP'!$C34=0,'Set UP'!$D34=0,'Set UP'!$E34=0,'Set UP'!F34=0),\" --\",'Set UP'!F34)","v":"S"},{"$f":"IF(OR('Set UP'!$K34<=0,'Set UP'!$F34<>\"F\"),\"\",F$3*'Dry Incident'!JW48)","v":""},{"$f":"IF(OR('Set UP'!$K34<=0,'Set UP'!$F34<>\"F\"),\"\",G$3*' Wet Incident'!JW48)","v":""},{"$f":"IF(OR('Set UP'!$K34<=0,'Set UP'!$F34<>\"F\"),\"\",H$3*'Extra Incident'!JW48)","v":""},{"$f":"IF(OR('Set UP'!$K34<=0,'Set UP'!$F34<>\"F\",RopeThrow!AD34=\"\"),\"\",I$3*RopeThrow!AD34)","v":""},{"$f":"IF(OR('Set UP'!$K34<=0,'Set UP'!$F34<>\"F\",'Swim&Tow'!AC34=\"\"),\"\",J$3*'Swim&Tow'!AC34)","v":""},{"$f":"IF(OR('Set UP'!$K34<=0,'Set UP'!$F34<>\"F\",Medley!AA34=\"\"),\"\",K$3*Medley!AA34)","v":""},{"$f":"IF(OR('Set UP'!$K34<=0,'Set UP'!$F34<>\"F\",'Manikin Carry'!AA34=\"\"),\"\",L$3*'Manikin Carry'!AA34)","v":""},{"$f":"IF(OR('Set UP'!$K34<=0,'Set UP'!$F34<>\"F\",Obstacle!AA34=\"\"),\"\",M$3*Obstacle!AA34)","v":""},""]
[null,29,{"$f":"IF(OR('Set UP'!$C35=0,'Set UP'!$D35=0,'Set UP'!$E35=0,'Set UP'!F35=0),\"  --\",'Set UP'!C35)","v":1437},{"$f":"IF(OR('Set UP'!$C35=0,'Set UP'!$D35=0,'Set UP'!$E35=0,'Set UP'!F35=0),\"  --\",'Set UP'!D35&\" \"&'Set UP'!E35)","v":"Swansea Universities Lifesaving A"},{"$f":"IF(OR('Set UP'!$C35=0,'Set UP'!$D35=0,'Set UP'!$E35=0,'Set UP'!F35=0),\" --\",'Set UP'!F35)","v":"S"},{"$f":"IF(OR('Set UP'!$K35<=0,'Set UP'!$F35<>\"F\"),\"\",F$3*'Dry Incident'!JW49)","v":""},{"$f":"IF(OR('Set UP'!$K35<=0,'Set UP'!$F35<>\"F\"),\"\",G$3*' Wet Incident'!JW49)","v":""},{"$f":"IF(OR('Set UP'!$K35<=0,'Set UP'!$F35<>\"F\"),\"\",H$3*'Extra Incident'!JW49)","v":""},{"$f":"IF(OR('Set UP'!$K35<=0,'Set UP'!$F35<>\"F\",RopeThrow!AD35=\"\"),\"\",I$3*RopeThrow!AD35)","v":""},{"$f":"IF(OR('Set UP'!$K35<=0,'Set UP'!$F35<>\"F\",'Swim&Tow'!AC35=\"\"),\"\",J$3*'Swim&Tow'!AC35)","v":""},{"$f":"IF(OR('Set UP'!$K35<=0,'Set UP'!$F35<>\"F\",Medley!AA35=\"\"),\"\",K$3*Medley!AA35)","v":""},{"$f":"IF(OR('Set UP'!$K35<=0,'Set UP'!$F35<>\"F\",'Manikin Carry'!AA35=\"\"),\"\",L$3*'Manikin Carry'!AA35)","v":""},{"$f":"IF(OR('Set UP'!$K35<=0,'Set UP'!$F35<>\"F\",Obstacle!AA35=\"\"),\"\",M$3*Obstacle!AA35)","v":""},""]
[null,30,{"$f":"IF(OR('Set UP'!$C36=0,'Set UP'!$D36=0,'Set UP'!$E36=0,'Set UP'!F36=0),\"  --\",'Set UP'!C36)","v":1425},{"$f":"IF(OR('Set UP'!$C36=0,'Set UP'!$D36=0,'Set UP'!$E36=0,'Set UP'!F36=0),\"  --\",'Set UP'!D36&\" \"&'Set UP'!E36)","v":"London Universities A"},{"$f":"IF(OR('Set UP'!$C36=0,'Set UP'!$D36=0,'Set UP'!$E36=0,'Set UP'!F36=0),\" --\",'Set UP'!F36)","v":"S"},{"$f":"IF(OR('Set UP'!$K36<=0,'Set UP'!$F36<>\"F\"),\"\",F$3*'Dry Incident'!JW50)","v":""},{"$f":"IF(OR('Set UP'!$K36<=0,'Set UP'!$F36<>\"F\"),\"\",G$3*' Wet Incident'!JW50)","v":""},{"$f":"IF(OR('Set UP'!$K36<=0,'Set UP'!$F36<>\"F\"),\"\",H$3*'Extra Incident'!JW50)","v":""},{"$f":"IF(OR('Set UP'!$K36<=0,'Set UP'!$F36<>\"F\",RopeThrow!AD36=\"\"),\"\",I$3*RopeThrow!AD36)","v":""},{"$f":"IF(OR('Set UP'!$K36<=0,'Set UP'!$F36<>\"F\",'Swim&Tow'!AC36=\"\"),\"\",J$3*'Swim&Tow'!AC36)","v":""},{"$f":"IF(OR('Set UP'!$K36<=0,'Set UP'!$F36<>\"F\",Medley!AA36=\"\"),\"\",K$3*Medley!AA36)","v":""},{"$f":"IF(OR('Set UP'!$K36<=0,'Set UP'!$F36<>\"F\",'Manikin Carry'!AA36=\"\"),\"\",L$3*'Manikin Carry'!AA36)","v":""},{"$f":"IF(OR('Set UP'!$K36<=0,'Set UP'!$F36<>\"F\",Obstacle!AA36=\"\"),\"\",M$3*Obstacle!AA36)","v":""},""]
[null,31,{"$f":"IF(OR('Set UP'!$C37=0,'Set UP'!$D37=0,'Set UP'!$E37=0,'Set UP'!F37=0),\"  --\",'Set UP'!C37)","v":"  --"},{"$f":"IF(OR('Set UP'!$C37=0,'Set UP'!$D37=0,'Set UP'!$E37=0,'Set UP'!F37=0),\"  --\",'Set UP'!D37&\" \"&'Set UP'!E37)","v":"  --"},{"$f":"IF(OR('Set UP'!$C37=0,'Set UP'!$D37=0,'Set UP'!$E37=0,'Set UP'!F37=0),\" --\",'Set UP'!F37)","v":" --"},{"$f":"IF(OR('Set UP'!$K37<=0,'Set UP'!$F37<>\"F\"),\"\",F$3*'Dry Incident'!JW51)","v":""},{"$f":"IF(OR('Set UP'!$K37<=0,'Set UP'!$F37<>\"F\"),\"\",G$3*' Wet Incident'!JW51)","v":""},{"$f":"IF(OR('Set UP'!$K37<=0,'Set UP'!$F37<>\"F\"),\"\",H$3*'Extra Incident'!JW51)","v":""},{"$f":"IF(OR('Set UP'!$K37<=0,'Set UP'!$F37<>\"F\",RopeThrow!AD37=\"\"),\"\",I$3*RopeThrow!AD37)","v":""},{"$f":"IF(OR('Set UP'!$K37<=0,'Set UP'!$F37<>\"F\",'Swim&Tow'!AC37=\"\"),\"\",J$3*'Swim&Tow'!AC37)","v":""},{"$f":"IF(OR('Set UP'!$K37<=0,'Set UP'!$F37<>\"F\",Medley!AA37=\"\"),\"\",K$3*Medley!AA37)","v":""},{"$f":"IF(OR('Set UP'!$K37<=0,'Set UP'!$F37<>\"F\",'Manikin Carry'!AA37=\"\"),\"\",L$3*'Manikin Carry'!AA37)","v":""},{"$f":"IF(OR('Set UP'!$K37<=0,'Set UP'!$F37<>\"F\",Obstacle!AA37=\"\"),\"\",M$3*Obstacle!AA37)","v":""},""]
[null,32,{"$f":"IF(OR('Set UP'!$C38=0,'Set UP'!$D38=0,'Set UP'!$E38=0,'Set UP'!F38=0),\"  --\",'Set UP'!C38)","v":"  --"},{"$f":"IF(OR('Set UP'!$C38=0,'Set UP'!$D38=0,'Set UP'!$E38=0,'Set UP'!F38=0),\"  --\",'Set UP'!D38&\" \"&'Set UP'!E38)","v":"  --"},{"$f":"IF(OR('Set UP'!$C38=0,'Set UP'!$D38=0,'Set UP'!$E38=0,'Set UP'!F38=0),\" --\",'Set UP'!F38)","v":" --"},{"$f":"IF(OR('Set UP'!$K38<=0,'Set UP'!$F38<>\"F\"),\"\",F$3*'Dry Incident'!JW52)","v":""},{"$f":"IF(OR('Set UP'!$K38<=0,'Set UP'!$F38<>\"F\"),\"\",G$3*' Wet Incident'!JW52)","v":""},{"$f":"IF(OR('Set UP'!$K38<=0,'Set UP'!$F38<>\"F\"),\"\",H$3*'Extra Incident'!JW52)","v":""},{"$f":"IF(OR('Set UP'!$K38<=0,'Set UP'!$F38<>\"F\",RopeThrow!AD38=\"\"),\"\",I$3*RopeThrow!AD38)","v":""},{"$f":"IF(OR('Set UP'!$K38<=0,'Set UP'!$F38<>\"F\",'Swim&Tow'!AC38=\"\"),\"\",J$3*'Swim&Tow'!AC38)","v":""},{"$f":"IF(OR('Set UP'!$K38<=0,'Set UP'!$F38<>\"F\",Medley!AA38=\"\"),\"\",K$3*Medley!AA38)","v":""},{"$f":"IF(OR('Set UP'!$K38<=0,'Set UP'!$F38<>\"F\",'Manikin Carry'!AA38=\"\"),\"\",L$3*'Manikin Carry'!AA38)","v":""},{"$f":"IF(OR('Set UP'!$K38<=0,'Set UP'!$F38<>\"F\",Obstacle!AA38=\"\"),\"\",M$3*Obstacle!AA38)","v":""},""]
[null,33,{"$f":"IF(OR('Set UP'!$C39=0,'Set UP'!$D39=0,'Set UP'!$E39=0,'Set UP'!F39=0),\"  --\",'Set UP'!C39)","v":"  --"},{"$f":"IF(OR('Set UP'!$C39=0,'Set UP'!$D39=0,'Set UP'!$E39=0,'Set UP'!F39=0),\"  --\",'Set UP'!D39&\" \"&'Set UP'!E39)","v":"  --"},{"$f":"IF(OR('Set UP'!$C39=0,'Set UP'!$D39=0,'Set UP'!$E39=0,'Set UP'!F39=0),\" --\",'Set UP'!F39)","v":" --"},{"$f":"IF(OR('Set UP'!$K39<=0,'Set UP'!$F39<>\"F\"),\"\",F$3*'Dry Incident'!JW53)","v":""},{"$f":"IF(OR('Set UP'!$K39<=0,'Set UP'!$F39<>\"F\"),\"\",G$3*' Wet Incident'!JW53)","v":""},{"$f":"IF(OR('Set UP'!$K39<=0,'Set UP'!$F39<>\"F\"),\"\",H$3*'Extra Incident'!JW53)","v":""},{"$f":"IF(OR('Set UP'!$K39<=0,'Set UP'!$F39<>\"F\",RopeThrow!AD39=\"\"),\"\",I$3*RopeThrow!AD39)","v":""},{"$f":"IF(OR('Set UP'!$K39<=0,'Set UP'!$F39<>\"F\",'Swim&Tow'!AC39=\"\"),\"\",J$3*'Swim&Tow'!AC39)","v":""},{"$f":"IF(OR('Set UP'!$K39<=0,'Set UP'!$F39<>\"F\",Medley!AA39=\"\"),\"\",K$3*Medley!AA39)","v":""},{"$f":"IF(OR('Set UP'!$K39<=0,'Set UP'!$F39<>\"F\",'Manikin Carry'!AA39=\"\"),\"\",L$3*'Manikin Carry'!AA39)","v":""},{"$f":"IF(OR('Set UP'!$K39<=0,'Set UP'!$F39<>\"F\",Obstacle!AA39=\"\"),\"\",M$3*Obstacle!AA39)","v":""},""]
[null,34,{"$f":"IF(OR('Set UP'!$C40=0,'Set UP'!$D40=0,'Set UP'!$E40=0,'Set UP'!F40=0),\"  --\",'Set UP'!C40)","v":"  --"},{"$f":"IF(OR('Set UP'!$C40=0,'Set UP'!$D40=0,'Set UP'!$E40=0,'Set UP'!F40=0),\"  --\",'Set UP'!D40&\" \"&'Set UP'!E40)","v":"  --"},{"$f":"IF(OR('Set UP'!$C40=0,'Set UP'!$D40=0,'Set UP'!$E40=0,'Set UP'!F40=0),\" --\",'Set UP'!F40)","v":" --"},{"$f":"IF(OR('Set UP'!$K40<=0,'Set UP'!$F40<>\"F\"),\"\",F$3*'Dry Incident'!JW54)","v":""},{"$f":"IF(OR('Set UP'!$K40<=0,'Set UP'!$F40<>\"F\"),\"\",G$3*' Wet Incident'!JW54)","v":""},{"$f":"IF(OR('Set UP'!$K40<=0,'Set UP'!$F40<>\"F\"),\"\",H$3*'Extra Incident'!JW54)","v":""},{"$f":"IF(OR('Set UP'!$K40<=0,'Set UP'!$F40<>\"F\",RopeThrow!AD40=\"\"),\"\",I$3*RopeThrow!AD40)","v":""},{"$f":"IF(OR('Set UP'!$K40<=0,'Set UP'!$F40<>\"F\",'Swim&Tow'!AC40=\"\"),\"\",J$3*'Swim&Tow'!AC40)","v":""},{"$f":"IF(OR('Set UP'!$K40<=0,'Set UP'!$F40<>\"F\",Medley!AA40=\"\"),\"\",K$3*Medley!AA40)","v":""},{"$f":"IF(OR('Set UP'!$K40<=0,'Set UP'!$F40<>\"F\",'Manikin Carry'!AA40=\"\"),\"\",L$3*'Manikin Carry'!AA40)","v":""},{"$f":"IF(OR('Set UP'!$K40<=0,'Set UP'!$F40<>\"F\",Obstacle!AA40=\"\"),\"\",M$3*Obstacle!AA40)","v":""},""]
[null,35,{"$f":"IF(OR('Set UP'!$C41=0,'Set UP'!$D41=0,'Set UP'!$E41=0,'Set UP'!F41=0),\"  --\",'Set UP'!C41)","v":"  --"},{"$f":"IF(OR('Set UP'!$C41=0,'Set UP'!$D41=0,'Set UP'!$E41=0,'Set UP'!F41=0),\"  --\",'Set UP'!D41&\" \"&'Set UP'!E41)","v":"  --"},{"$f":"IF(OR('Set UP'!$C41=0,'Set UP'!$D41=0,'Set UP'!$E41=0,'Set UP'!F41=0),\" --\",'Set UP'!F41)","v":" --"},{"$f":"IF(OR('Set UP'!$K41<=0,'Set UP'!$F41<>\"F\"),\"\",F$3*'Dry Incident'!JW55)","v":""},{"$f":"IF(OR('Set UP'!$K41<=0,'Set UP'!$F41<>\"F\"),\"\",G$3*' Wet Incident'!JW55)","v":""},{"$f":"IF(OR('Set UP'!$K41<=0,'Set UP'!$F41<>\"F\"),\"\",H$3*'Extra Incident'!JW55)","v":""},{"$f":"IF(OR('Set UP'!$K41<=0,'Set UP'!$F41<>\"F\",RopeThrow!AD41=\"\"),\"\",I$3*RopeThrow!AD41)","v":""},{"$f":"IF(OR('Set UP'!$K41<=0,'Set UP'!$F41<>\"F\",'Swim&Tow'!AC41=\"\"),\"\",J$3*'Swim&Tow'!AC41)","v":""},{"$f":"IF(OR('Set UP'!$K41<=0,'Set UP'!$F41<>\"F\",Medley!AA41=\"\"),\"\",K$3*Medley!AA41)","v":""},{"$f":"IF(OR('Set UP'!$K41<=0,'Set UP'!$F41<>\"F\",'Manikin Carry'!AA41=\"\"),\"\",L$3*'Manikin Carry'!AA41)","v":""},{"$f":"IF(OR('Set UP'!$K41<=0,'Set UP'!$F41<>\"F\",Obstacle!AA41=\"\"),\"\",M$3*Obstacle!AA41)","v":""},""]
[null,36,{"$f":"IF(OR('Set UP'!$C42=0,'Set UP'!$D42=0,'Set UP'!$E42=0,'Set UP'!F42=0),\"  --\",'Set UP'!C42)","v":"  --"},{"$f":"IF(OR('Set UP'!$C42=0,'Set UP'!$D42=0,'Set UP'!$E42=0,'Set UP'!F42=0),\"  --\",'Set UP'!D42&\" \"&'Set UP'!E42)","v":"  --"},{"$f":"IF(OR('Set UP'!$C42=0,'Set UP'!$D42=0,'Set UP'!$E42=0,'Set UP'!F42=0),\" --\",'Set UP'!F42)","v":" --"},{"$f":"IF(OR('Set UP'!$K42<=0,'Set UP'!$F42<>\"F\"),\"\",F$3*'Dry Incident'!JW56)","v":""},{"$f":"IF(OR('Set UP'!$K42<=0,'Set UP'!$F42<>\"F\"),\"\",G$3*' Wet Incident'!JW56)","v":""},{"$f":"IF(OR('Set UP'!$K42<=0,'Set UP'!$F42<>\"F\"),\"\",H$3*'Extra Incident'!JW56)","v":""},{"$f":"IF(OR('Set UP'!$K42<=0,'Set UP'!$F42<>\"F\",RopeThrow!AD42=\"\"),\"\",I$3*RopeThrow!AD42)","v":""},{"$f":"IF(OR('Set UP'!$K42<=0,'Set UP'!$F42<>\"F\",'Swim&Tow'!AC42=\"\"),\"\",J$3*'Swim&Tow'!AC42)","v":""},{"$f":"IF(OR('Set UP'!$K42<=0,'Set UP'!$F42<>\"F\",Medley!AA42=\"\"),\"\",K$3*Medley!AA42)","v":""},{"$f":"IF(OR('Set UP'!$K42<=0,'Set UP'!$F42<>\"F\",'Manikin Carry'!AA42=\"\"),\"\",L$3*'Manikin Carry'!AA42)","v":""},{"$f":"IF(OR('Set UP'!$K42<=0,'Set UP'!$F42<>\"F\",Obstacle!AA42=\"\"),\"\",M$3*Obstacle!AA42)","v":""},""]
[null,37,{"$f":"IF(OR('Set UP'!$C43=0,'Set UP'!$D43=0,'Set UP'!$E43=0,'Set UP'!F43=0),\"  --\",'Set UP'!C43)","v":"  --"},{"$f":"IF(OR('Set UP'!$C43=0,'Set UP'!$D43=0,'Set UP'!$E43=0,'Set UP'!F43=0),\"  --\",'Set UP'!D43&\" \"&'Set UP'!E43)","v":"  --"},{"$f":"IF(OR('Set UP'!$C43=0,'Set UP'!$D43=0,'Set UP'!$E43=0,'Set UP'!F43=0),\" --\",'Set UP'!F43)","v":" --"},{"$f":"IF(OR('Set UP'!$K43<=0,'Set UP'!$F43<>\"F\"),\"\",F$3*'Dry Incident'!JW57)","v":""},{"$f":"IF(OR('Set UP'!$K43<=0,'Set UP'!$F43<>\"F\"),\"\",G$3*' Wet Incident'!JW57)","v":""},{"$f":"IF(OR('Set UP'!$K43<=0,'Set UP'!$F43<>\"F\"),\"\",H$3*'Extra Incident'!JW57)","v":""},{"$f":"IF(OR('Set UP'!$K43<=0,'Set UP'!$F43<>\"F\",RopeThrow!AD43=\"\"),\"\",I$3*RopeThrow!AD43)","v":""},{"$f":"IF(OR('Set UP'!$K43<=0,'Set UP'!$F43<>\"F\",'Swim&Tow'!AC43=\"\"),\"\",J$3*'Swim&Tow'!AC43)","v":""},{"$f":"IF(OR('Set UP'!$K43<=0,'Set UP'!$F43<>\"F\",Medley!AA43=\"\"),\"\",K$3*Medley!AA43)","v":""},{"$f":"IF(OR('Set UP'!$K43<=0,'Set UP'!$F43<>\"F\",'Manikin Carry'!AA43=\"\"),\"\",L$3*'Manikin Carry'!AA43)","v":""},{"$f":"IF(OR('Set UP'!$K43<=0,'Set UP'!$F43<>\"F\",Obstacle!AA43=\"\"),\"\",M$3*Obstacle!AA43)","v":""},""]
[null,38,{"$f":"IF(OR('Set UP'!$C44=0,'Set UP'!$D44=0,'Set UP'!$E44=0,'Set UP'!F44=0),\"  --\",'Set UP'!C44)","v":"  --"},{"$f":"IF(OR('Set UP'!$C44=0,'Set UP'!$D44=0,'Set UP'!$E44=0,'Set UP'!F44=0),\"  --\",'Set UP'!D44&\" \"&'Set UP'!E44)","v":"  --"},{"$f":"IF(OR('Set UP'!$C44=0,'Set UP'!$D44=0,'Set UP'!$E44=0,'Set UP'!F44=0),\" --\",'Set UP'!F44)","v":" --"},{"$f":"IF(OR('Set UP'!$K44<=0,'Set UP'!$F44<>\"F\"),\"\",F$3*'Dry Incident'!JW58)","v":""},{"$f":"IF(OR('Set UP'!$K44<=0,'Set UP'!$F44<>\"F\"),\"\",G$3*' Wet Incident'!JW58)","v":""},{"$f":"IF(OR('Set UP'!$K44<=0,'Set UP'!$F44<>\"F\"),\"\",H$3*'Extra Incident'!JW58)","v":""},{"$f":"IF(OR('Set UP'!$K44<=0,'Set UP'!$F44<>\"F\",RopeThrow!AD44=\"\"),\"\",I$3*RopeThrow!AD44)","v":""},{"$f":"IF(OR('Set UP'!$K44<=0,'Set UP'!$F44<>\"F\",'Swim&Tow'!AC44=\"\"),\"\",J$3*'Swim&Tow'!AC44)","v":""},{"$f":"IF(OR('Set UP'!$K44<=0,'Set UP'!$F44<>\"F\",Medley!AA44=\"\"),\"\",K$3*Medley!AA44)","v":""},{"$f":"IF(OR('Set UP'!$K44<=0,'Set UP'!$F44<>\"F\",'Manikin Carry'!AA44=\"\"),\"\",L$3*'Manikin Carry'!AA44)","v":""},{"$f":"IF(OR('Set UP'!$K44<=0,'Set UP'!$F44<>\"F\",Obstacle!AA44=\"\"),\"\",M$3*Obstacle!AA44)","v":""},""]
[null,39,{"$f":"IF(OR('Set UP'!$C45=0,'Set UP'!$D45=0,'Set UP'!$E45=0,'Set UP'!F45=0),\"  --\",'Set UP'!C45)","v":"  --"},{"$f":"IF(OR('Set UP'!$C45=0,'Set UP'!$D45=0,'Set UP'!$E45=0,'Set UP'!F45=0),\"  --\",'Set UP'!D45&\" \"&'Set UP'!E45)","v":"  --"},{"$f":"IF(OR('Set UP'!$C45=0,'Set UP'!$D45=0,'Set UP'!$E45=0,'Set UP'!F45=0),\" --\",'Set UP'!F45)","v":" --"},{"$f":"IF(OR('Set UP'!$K45<=0,'Set UP'!$F45<>\"F\"),\"\",F$3*'Dry Incident'!JW59)","v":""},{"$f":"IF(OR('Set UP'!$K45<=0,'Set UP'!$F45<>\"F\"),\"\",G$3*' Wet Incident'!JW59)","v":""},{"$f":"IF(OR('Set UP'!$K45<=0,'Set UP'!$F45<>\"F\"),\"\",H$3*'Extra Incident'!JW59)","v":""},{"$f":"IF(OR('Set UP'!$K45<=0,'Set UP'!$F45<>\"F\",RopeThrow!AD45=\"\"),\"\",I$3*RopeThrow!AD45)","v":""},{"$f":"IF(OR('Set UP'!$K45<=0,'Set UP'!$F45<>\"F\",'Swim&Tow'!AC45=\"\"),\"\",J$3*'Swim&Tow'!AC45)","v":""},{"$f":"IF(OR('Set UP'!$K45<=0,'Set UP'!$F45<>\"F\",Medley!AA45=\"\"),\"\",K$3*Medley!AA45)","v":""},{"$f":"IF(OR('Set UP'!$K45<=0,'Set UP'!$F45<>\"F\",'Manikin Carry'!AA45=\"\"),\"\",L$3*'Manikin Carry'!AA45)","v":""},{"$f":"IF(OR('Set UP'!$K45<=0,'Set UP'!$F45<>\"F\",Obstacle!AA45=\"\"),\"\",M$3*Obstacle!AA45)","v":""},""]
[null,40,{"$f":"IF(OR('Set UP'!$C46=0,'Set UP'!$D46=0,'Set UP'!$E46=0,'Set UP'!F46=0),\"  --\",'Set UP'!C46)","v":"  --"},{"$f":"IF(OR('Set UP'!$C46=0,'Set UP'!$D46=0,'Set UP'!$E46=0,'Set UP'!F46=0),\"  --\",'Set UP'!D46&\" \"&'Set UP'!E46)","v":"  --"},{"$f":"IF(OR('Set UP'!$C46=0,'Set UP'!$D46=0,'Set UP'!$E46=0,'Set UP'!F46=0),\" --\",'Set UP'!F46)","v":" --"},{"$f":"IF(OR('Set UP'!$K46<=0,'Set UP'!$F46<>\"F\"),\"\",F$3*'Dry Incident'!JW60)","v":""},{"$f":"IF(AND('Set UP'!$K46<=0,'Set UP'!$F46<>\"F\"),\"\",G$3*' Wet Incident'!JW60)","v":""},{"$f":"IF(OR('Set UP'!$K46<=0,'Set UP'!$F46<>\"F\"),\"\",H$3*'Extra Incident'!JW60)","v":""},{"$f":"IF(OR('Set UP'!$K46<=0,'Set UP'!$F46<>\"F\",RopeThrow!AD46=\"\"),\"\",I$3*RopeThrow!AD46)","v":""},{"$f":"IF(OR('Set UP'!$K46<=0,'Set UP'!$F46<>\"F\",'Swim&Tow'!AC46=\"\"),\"\",J$3*'Swim&Tow'!AC46)","v":""},{"$f":"IF(OR('Set UP'!$K46<=0,'Set UP'!$F46<>\"F\",Medley!AA46=\"\"),\"\",K$3*Medley!AA46)","v":""},{"$f":"IF(OR('Set UP'!$K46<=0,'Set UP'!$F46<>\"F\",'Manikin Carry'!AA46=\"\"),\"\",L$3*'Manikin Carry'!AA46)","v":""},{"$f":"IF(OR('Set UP'!$K46<=0,'Set UP'!$F46<>\"F\",Obstacle!AA46=\"\"),\"\",M$3*Obstacle!AA46)","v":""},""]
[null,null,null,null,null,{"$f":"IF(AND('Set UP'!$K47<=0,'Set UP'!$F47<>\"F\"),\"\",F$3*OFFSET('Dry Incident'!JQ61,0,2*'Set UP'!$K47))","v":""},{"$f":"IF(' Wet Incident'!$JS61=\"\",\"\",' Wet Incident'!$JS61*$G$3)","v":""},null,null,null,null,null,{"$f":"IF(Obstacle!$W47=\"\",\"\",Obstacle!$W47*$M$3)","v":""},""]
[null,"Copyright Simon Harrison 2008, Oliver Coleman 2009"]
[null,null,null,"ENSURE ALL THE ROPETHROW SHEET HAS HAD THE POSITIONS UPDATED BEFORE USING THE RESULTS ON THIS SHEET"]

{"sheet":"RLSS SPORTS LEAGUE","index":17,"n_rows":12,"n_cols":17,"rows_kept":12,"cut":false,"hidden":true,"merged":[]}
["Verifier_RLSSNO",30000000,null,null,null,"Date Comp","2013-03-18","Comp_Type",4]
["VerifierDOB","01/04/1988",null,null,null,"Was LC (Y/N)","Y"]
[]
[]
["Any Highlighted in red will not be put forward to sport League as invalid format,all these will be discounted and not reported as errors"]
[]
["WebID","ClubRLSSNumber","Comp1RLSS","comp1DOB","comp2RLSS","comp2DOB","Comp3RLSS","comp3DOB","Comp4RLSS","Comp4DOB",null,"Sheet_REF","EventID code (SportLEague)","Sex","whereIsFinished","ColumwithTime","ToInclude"]
[null,null,null,null,null,null,null,null,null,null,null,"RopeThrow",33,"M",14,9,"Y"]
[null,null,null,null,null,null,null,null,null,null,null,"Swim&Tow",36,"M",10,14,"Y"]
[null,null,null,null,null,null,null,null,null,null,null,"Medley",12,"M",10,12,"N"]
[null,null,null,null,null,null,null,null,null,null,null,"Manikin Carry",13,"M",10,12,"N"]
[null,null,null,null,null,null,null,null,null,null,null,"Obstacle",14,"M",10,12,"N"]

{"sheet":"Obstacle","index":18,"n_rows":62,"n_cols":30,"rows_kept":62,"cut":false,"hidden":true,"merged":[[2,4,2,5],[3,4,3,5],[4,25,5,25],[4,26,5,26],[4,8,5,8],[4,10,5,10],[4,9,5,9],[4,19,5,19],[4,11,5,11],[4,23,5,23],[4,24,5,24],[4,20,5,20],[4,21,5,21],[4,22,5,22],[4,16,4,18],[4,12,5,12],[4,29,5,29],[4,13,5,13],[4,14,5,14],[4,1,5,1],[4,2,5,2],[4,3,5,3],[4,4,5,4],[4,5,4,7],[4,27,5,27],[4,28,5,28],[4,15,5,15]]}
[]
[null,null,null,null,null,null,null,null,null,null,"Penalty Time (seconds)"]
[null,null,null,{"$f":"'Set UP'!Q13","v":"Obstacle"},"Club to Highlight",null,null,null,null,null,15]
[]
[null,null,"Web","Team","Class","Stopwatch Time",null,null,null,"Finish Status","No. \nPenalties","Total\n(Competition)","Total\n(A)","Total\n(B)","Total\n(FRESHERS)","Total\n(Non-Student)","Total Time",null,null,"Competition Position\nExcluding DQ's","Position\n(Competition)","A League Position\nExcluding DQ's","Position\n(A League)","B League Position\nExcluding DQ's","Position\n(B League)","FRESHERS League Position\nExcluding DQ's","Position\n(FRESHERS League)","Non-StudentPosition\nExcluding DQ's","Position\n(Non-Student)","Lifesaving Points"]
[null,null,null,null,null,"mins","secs","1/100\nsec",null,null,null,null,null,null,null,null,"mins","secs","1/100 sec"]
[null,1,{"$f":"IF(OR('Set UP'!$C7=0,'Set UP'!$D7=0,'Set UP'!$E7=0,'Set UP'!F7=0),\"  --\",'Set UP'!C7)","v":1418},{"$f":"IF(OR('Set UP'!$C7=0,'Set UP'!$D7=0,'Set UP'!$E7=0,'Set UP'!F7=0),\"  --\",'Set UP'!D7&\" \"&'Set UP'!E7)","v":"Bradford On Avon Lifesaving Club  B"},{"$f":"IF(OR('Set UP'!$C7=0,'Set UP'!$D7=0,'Set UP'!$E7=0,'Set UP'!F7=0),\" --\",'Set UP'!F7)","v":"NS"},null,null,null,{"$f":"IF(AND(ISBLANK(F7),ISBLANK(G7),ISBLANK(H7)),\"\",(F7*60)+G7+(H7/100))","v":""},null,null,{"$f":"IF(D7=\"  --\",\"\",IF(J7=\"Disqualified\",J7,IF(J7=\"Finished\",IF(OR(G7=\"\",H7=\"\"),\"\",I7+(K7*$K$3)),\"\")))","v":""},{"$f":"IF('Set UP'!K7<>1,\"\",$L7)","v":""},{"$f":"IF('Set UP'!K7<>2,\"\",$L7)","v":""},{"$f":"IF('Set UP'!F7<>\"F\",\"\",$L7)","v":""},{"$f":"IF('Set UP'!F7<>\"NS\",\"\",$L7)","v":""},{"$f":"IF(D7=\"  --\",\"\",IF(L7=\"Disqualified\",\"DQ\",IF(L7=\"\",\"\",INT(L7/60))))","v":""},{"$f":"IF(D7=\"  --\",\"\", IF(L7=\"Disqualified\",\"\",IF(L7=\"\",\"\",INT(L7-(Q7*60)))))","v":""},{"$f":"IF(D7=\"  --\",\"\", IF(L7=\"Disqualified\",\"\",IF(L7=\"\",\"\",100*(L7-((Q7*60)+R7)))))","v":""},{"$f":"IF(OR(L7=\"Disqualified\",L7=\"\"),\"\",RANK(L7,$L$7:$L$46,1))","v":""},{"$f":"IF(L7=\"Disqualified\",MAX($T$7:$T$46)+1,T7)","v":""},{"$f":"IF(OR($M7=\"Disqualified\",$M7=\"\"),\"\",RANK($M7,$M$7:$M$46,1))","v":""},{"$f":"IF($M7=\"Disqualified\",MAX($V$7:$V$46)+1,V7)","v":""},{"$f":"IF(OR($N7=\"Disqualified\",$N7=\"\"),\"\",RANK($N7,$N$7:$N$46,1))","v":""},{"$f":"IF($N7=\"Disqualified\",MAX($X$7:$X$46)+1,X7)","v":""},{"$f":"IF(OR($O7=\"Disqualified\",$O7=\"\"),\"\",RANK($O7,$O$7:$O$46,1))","v":""},{"$f":"IF($O7=\"Disqualified\",MAX($Z$7:$Z$46)+1,Z7)","v":""},{"$f":"IF(OR($P7=\"Disqualified\",$P7=\"\"),\"\",RANK($P7,$P$7:$P$46,1))","v":""},{"$f":"IF($P7=\"Disqualified\",MAX($AB$7:$AB$46)+1,AB7)","v":""},{"$f":"IF(OR(J7<>\"Finished\",U7=\"\"),\"\",(1-(L7-'Set UP'!$Z$13)/('Set UP'!$Z$13))*1000)","v":""}]
[null,2,{"$f":"IF(OR('Set UP'!$C8=0,'Set UP'!$D8=0,'Set UP'!$E8=0,'Set UP'!F8=0),\"  --\",'Set UP'!C8)","v":1419},{"$f":"IF(OR('Set UP'!$C8=0,'Set UP'!$D8=0,'Set UP'!$E8=0,'Set UP'!F8=0),\"  --\",'Set UP'!D8&\" \"&'Set UP'!E8)","v":"Bradford On Avon Lifesaving Club  A"},{"$f":"IF(OR('Set UP'!$C8=0,'Set UP'!$D8=0,'Set UP'!$E8=0,'Set UP'!F8=0),\" --\",'Set UP'!F8)","v":"NS"},null,null,null,"",null,null,"",{"$f":"IF('Set UP'!K8<>1,\"\",$L8)","v":""},{"$f":"IF('Set UP'!K8<>2,\"\",$L8)","v":""},{"$f":"IF('Set UP'!F8<>\"F\",\"\",$L8)","v":""},{"$f":"IF('Set UP'!F8<>\"NS\",\"\",$L8)","v":""},"","","","","","","",{"$f":"IF(OR($N8=\"Disqualified\",$N8=\"\"),\"\",RANK($N8,$N$7:$N$46,1))","v":""},{"$f":"IF($N8=\"Disqualified\",MAX($X$7:$X$46)+1,X8)","v":""},{"$f":"IF(OR($O8=\"Disqualified\",$O8=\"\"),\"\",RANK($O8,$O$7:$O$46,1))","v":""},{"$f":"IF($O8=\"Disqualified\",MAX($Z$7:$Z$46)+1,Z8)","v":""},{"$f":"IF(OR($P8=\"Disqualified\",$P8=\"\"),\"\",RANK($P8,$P$7:$P$46,1))","v":""},{"$f":"IF($P8=\"Disqualified\",MAX($AB$7:$AB$46)+1,AB8)","v":""},{"$f":"IF(OR(J8<>\"Finished\",U8=\"\"),\"\",(1-(L8-'Set UP'!$Z$13)/('Set UP'!$Z$13))*1000)","v":""}]
[null,3,{"$f":"IF(OR('Set UP'!$C9=0,'Set UP'!$D9=0,'Set UP'!$E9=0,'Set UP'!F9=0),\"  --\",'Set UP'!C9)","v":1417},{"$f":"IF(OR('Set UP'!$C9=0,'Set UP'!$D9=0,'Set UP'!$E9=0,'Set UP'!F9=0),\"  --\",'Set UP'!D9&\" \"&'Set UP'!E9)","v":"Bradford On Avon Lifesaving Club  C"},{"$f":"IF(OR('Set UP'!$C9=0,'Set UP'!$D9=0,'Set UP'!$E9=0,'Set UP'!F9=0),\" --\",'Set UP'!F9)","v":"NS"},null,null,null,"",null,null,"",{"$f":"IF('Set UP'!K9<>1,\"\",$L9)","v":""},{"$f":"IF('Set UP'!K9<>2,\"\",$L9)","v":""},{"$f":"IF('Set UP'!F9<>\"F\",\"\",$L9)","v":""},{"$f":"IF('Set UP'!F9<>\"NS\",\"\",$L9)","v":""},"","","","","","","","","","","","","",{"$f":"IF(OR(J9<>\"Finished\",U9=\"\"),\"\",(1-(L9-'Set UP'!$Z$13)/('Set UP'!$Z$13))*1000)","v":""}]
[null,4,{"$f":"IF(OR('Set UP'!$C10=0,'Set UP'!$D10=0,'Set UP'!$E10=0,'Set UP'!F10=0),\"  --\",'Set UP'!C10)","v":"  --"},{"$f":"IF(OR('Set UP'!$C10=0,'Set UP'!$D10=0,'Set UP'!$E10=0,'Set UP'!F10=0),\"  --\",'Set UP'!D10&\" \"&'Set UP'!E10)","v":"  --"},{"$f":"IF(OR('Set UP'!$C10=0,'Set UP'!$D10=0,'Set UP'!$E10=0,'Set UP'!F10=0),\" --\",'Set UP'!F10)","v":" --"},null,null,null,"",null,null,"",{"$f":"IF('Set UP'!K10<>1,\"\",$L10)","v":""},{"$f":"IF('Set UP'!K10<>2,\"\",$L10)","v":""},{"$f":"IF('Set UP'!F10<>\"F\",\"\",$L10)","v":""},{"$f":"IF('Set UP'!F10<>\"NS\",\"\",$L10)","v":""},"","","","","","","","","","","","","",{"$f":"IF(OR(J10<>\"Finished\",U10=\"\"),\"\",(1-(L10-'Set UP'!$Z$13)/('Set UP'!$Z$13))*1000)","v":""}]
[null,5,{"$f":"IF(OR('Set UP'!$C11=0,'Set UP'!$D11=0,'Set UP'!$E11=0,'Set UP'!F11=0),\"  --\",'Set UP'!C11)","v":1424},{"$f":"IF(OR('Set UP'!$C11=0,'Set UP'!$D11=0,'Set UP'!$E11=0,'Set UP'!F11=0),\"  --\",'Set UP'!D11&\" \"&'Set UP'!E11)","v":"Keynsham B"},{"$f":"IF(OR('Set UP'!$C11=0,'Set UP'!$D11=0,'Set UP'!$E11=0,'Set UP'!F11=0),\" --\",'Set UP'!F11)","v":"NS"},null,null,null,"",null,null,"",{"$f":"IF('Set UP'!K11<>1,\"\",$L11)","v":""},{"$f":"IF('Set UP'!K11<>2,\"\",$L11)","v":""},{"$f":"IF('Set UP'!F11<>\"F\",\"\",$L11)","v":""},{"$f":"IF('Set UP'!F11<>\"NS\",\"\",$L11)","v":""},"","","","","","","","","","","","","",{"$f":"IF(OR(J11<>\"Finished\",U11=\"\"),\"\",(1-(L11-'Set UP'!$Z$13)/('Set UP'!$Z$13))*1000)","v":""}]
[null,6,{"$f":"IF(OR('Set UP'!$C12=0,'Set UP'!$D12=0,'Set UP'!$E12=0,'Set UP'!F12=0),\"  --\",'Set UP'!C12)","v":1423},{"$f":"IF(OR('Set UP'!$C12=0,'Set UP'!$D12=0,'Set UP'!$E12=0,'Set UP'!F12=0),\"  --\",'Set UP'!D12&\" \"&'Set UP'!E12)","v":"Keynsham A"},{"$f":"IF(OR('Set UP'!$C12=0,'Set UP'!$D12=0,'Set UP'!$E12=0,'Set UP'!F12=0),\" --\",'Set UP'!F12)","v":"NS"},null,null,null,"",null,null,"",{"$f":"IF('Set UP'!K12<>1,\"\",$L12)","v":""},{"$f":"IF('Set UP'!K12<>2,\"\",$L12)","v":""},{"$f":"IF('Set UP'!F12<>\"F\",\"\",$L12)","v":""},{"$f":"IF('Set UP'!F12<>\"NS\",\"\",$L12)","v":""},"","","","","","","","","","","","","",{"$f":"IF(OR(J12<>\"Finished\",U12=\"\"),\"\",(1-(L12-'Set UP'!$Z$13)/('Set UP'!$Z$13))*1000)","v":""}]
[null,7,{"$f":"IF(OR('Set UP'!$C13=0,'Set UP'!$D13=0,'Set UP'!$E13=0,'Set UP'!F13=0),\"  --\",'Set UP'!C13)","v":1433},{"$f":"IF(OR('Set UP'!$C13=0,'Set UP'!$D13=0,'Set UP'!$E13=0,'Set UP'!F13=0),\"  --\",'Set UP'!D13&\" \"&'Set UP'!E13)","v":"University of Nottingham B"},{"$f":"IF(OR('Set UP'!$C13=0,'Set UP'!$D13=0,'Set UP'!$E13=0,'Set UP'!F13=0),\" --\",'Set UP'!F13)","v":"S"},null,null,null,"",null,null,"",{"$f":"IF('Set UP'!K13<>1,\"\",$L13)","v":""},{"$f":"IF('Set UP'!K13<>2,\"\",$L13)","v":""},{"$f":"IF('Set UP'!F13<>\"F\",\"\",$L13)","v":""},{"$f":"IF('Set UP'!F13<>\"NS\",\"\",$L13)","v":""},"","","","","","","","","","","","","",{"$f":"IF(OR(J13<>\"Finished\",U13=\"\"),\"\",(1-(L13-'Set UP'!$Z$13)/('Set UP'!$Z$13))*1000)","v":""}]
[null,8,{"$f":"IF(OR('Set UP'!$C14=0,'Set UP'!$D14=0,'Set UP'!$E14=0,'Set UP'!F14=0),\"  --\",'Set UP'!C14)","v":1441},{"$f":"IF(OR('Set UP'!$C14=0,'Set UP'!$D14=0,'Set UP'!$E14=0,'Set UP'!F14=0),\"  --\",'Set UP'!D14&\" \"&'Set UP'!E14)","v":"University of Plymouth C"},{"$f":"IF(OR('Set UP'!$C14=0,'Set UP'!$D14=0,'Set UP'!$E14=0,'Set UP'!F14=0),\" --\",'Set UP'!F14)","v":"NC"},null,null,null,"",null,null,"",{"$f":"IF('Set UP'!K14<>1,\"\",$L14)","v":""},{"$f":"IF('Set UP'!K14<>2,\"\",$L14)","v":""},{"$f":"IF('Set UP'!F14<>\"F\",\"\",$L14)","v":""},{"$f":"IF('Set UP'!F14<>\"NS\",\"\",$L14)","v":""},"","","","","","","","","","","","","",{"$f":"IF(OR(J14<>\"Finished\",U14=\"\"),\"\",(1-(L14-'Set UP'!$Z$13)/('Set UP'!$Z$13))*1000)","v":""}]
[null,9,{"$f":"IF(OR('Set UP'!$C15=0,'Set UP'!$D15=0,'Set UP'!$E15=0,'Set UP'!F15=0),\"  --\",'Set UP'!C15)","v":1440},{"$f":"IF(OR('Set UP'!$C15=0,'Set UP'!$D15=0,'Set UP'!$E15=0,'Set UP'!F15=0),\"  --\",'Set UP'!D15&\" \"&'Set UP'!E15)","v":"University of Plymouth B"},{"$f":"IF(OR('Set UP'!$C15=0,'Set UP'!$D15=0,'Set UP'!$E15=0,'Set UP'!F15=0),\" --\",'Set UP'!F15)","v":"S"},null,null,null,"",null,null,"",{"$f":"IF('Set UP'!K15<>1,\"\",$L15)","v":""},{"$f":"IF('Set UP'!K15<>2,\"\",$L15)","v":""},{"$f":"IF('Set UP'!F15<>\"F\",\"\",$L15)","v":""},{"$f":"IF('Set UP'!F15<>\"NS\",\"\",$L15)","v":""},"","","","","","","","","","","","","",{"$f":"IF(OR(J15<>\"Finished\",U15=\"\"),\"\",(1-(L15-'Set UP'!$Z$13)/('Set UP'!$Z$13))*1000)","v":""}]
[null,10,{"$f":"IF(OR('Set UP'!$C16=0,'Set UP'!$D16=0,'Set UP'!$E16=0,'Set UP'!F16=0),\"  --\",'Set UP'!C16)","v":1431},{"$f":"IF(OR('Set UP'!$C16=0,'Set UP'!$D16=0,'Set UP'!$E16=0,'Set UP'!F16=0),\"  --\",'Set UP'!D16&\" \"&'Set UP'!E16)","v":"University of Nottingham C"},{"$f":"IF(OR('Set UP'!$C16=0,'Set UP'!$D16=0,'Set UP'!$E16=0,'Set UP'!F16=0),\" --\",'Set UP'!F16)","v":"S"},null,null,null,"",null,null,"",{"$f":"IF('Set UP'!K16<>1,\"\",$L16)","v":""},{"$f":"IF('Set UP'!K16<>2,\"\",$L16)","v":""},{"$f":"IF('Set UP'!F16<>\"F\",\"\",$L16)","v":""},{"$f":"IF('Set UP'!F16<>\"NS\",\"\",$L16)","v":""},"","","","","","","","","","","","","",{"$f":"IF(OR(J16<>\"Finished\",U16=\"\"),\"\",(1-(L16-'Set UP'!$Z$13)/('Set UP'!$Z$13))*1000)","v":""}]
[null,11,{"$f":"IF(OR('Set UP'!$C17=0,'Set UP'!$D17=0,'Set UP'!$E17=0,'Set UP'!F17=0),\"  --\",'Set UP'!C17)","v":1445},{"$f":"IF(OR('Set UP'!$C17=0,'Set UP'!$D17=0,'Set UP'!$E17=0,'Set UP'!F17=0),\"  --\",'Set UP'!D17&\" \"&'Set UP'!E17)","v":"University of Birmingham D"},{"$f":"IF(OR('Set UP'!$C17=0,'Set UP'!$D17=0,'Set UP'!$E17=0,'Set UP'!F17=0),\" --\",'Set UP'!F17)","v":"NC"},null,null,null,"",null,null,"",{"$f":"IF('Set UP'!K17<>1,\"\",$L17)","v":""},{"$f":"IF('Set UP'!K17<>2,\"\",$L17)","v":""},{"$f":"IF('Set UP'!F17<>\"F\",\"\",$L17)","v":""},{"$f":"IF('Set UP'!F17<>\"NS\",\"\",$L17)","v":""},"","","","","","","","","","","","","",{"$f":"IF(OR(J17<>\"Finished\",U17=\"\"),\"\",(1-(L17-'Set UP'!$Z$13)/('Set UP'!$Z$13))*1000)","v":""}]
[null,12,{"$f":"IF(OR('Set UP'!$C18=0,'Set UP'!$D18=0,'Set UP'!$E18=0,'Set UP'!F18=0),\"  --\",'Set UP'!C18)","v":"  --"},{"$f":"IF(OR('Set UP'!$C18=0,'Set UP'!$D18=0,'Set UP'!$E18=0,'Set UP'!F18=0),\"  --\",'Set UP'!D18&\" \"&'Set UP'!E18)","v":"  --"},{"$f":"IF(OR('Set UP'!$C18=0,'Set UP'!$D18=0,'Set UP'!$E18=0,'Set UP'!F18=0),\" --\",'Set UP'!F18)","v":" --"},null,null,null,"",null,null,"",{"$f":"IF('Set UP'!K18<>1,\"\",$L18)","v":""},{"$f":"IF('Set UP'!K18<>2,\"\",$L18)","v":""},{"$f":"IF('Set UP'!F18<>\"F\",\"\",$L18)","v":""},{"$f":"IF('Set UP'!F18<>\"NS\",\"\",$L18)","v":""},"","","","","","","","","","","","","",{"$f":"IF(OR(J18<>\"Finished\",U18=\"\"),\"\",(1-(L18-'Set UP'!$Z$13)/('Set UP'!$Z$13))*1000)","v":""}]
[null,13,{"$f":"IF(OR('Set UP'!$C19=0,'Set UP'!$D19=0,'Set UP'!$E19=0,'Set UP'!F19=0),\"  --\",'Set UP'!C19)","v":1426},{"$f":"IF(OR('Set UP'!$C19=0,'Set UP'!$D19=0,'Set UP'!$E19=0,'Set UP'!F19=0),\"  --\",'Set UP'!D19&\" \"&'Set UP'!E19)","v":"London Universities B"},{"$f":"IF(OR('Set UP'!$C19=0,'Set UP'!$D19=0,'Set UP'!$E19=0,'Set UP'!F19=0),\" --\",'Set UP'!F19)","v":"S"},null,null,null,"",null,null,"",{"$f":"IF('Set UP'!K19<>1,\"\",$L19)","v":""},{"$f":"IF('Set UP'!K19<>2,\"\",$L19)","v":""},{"$f":"IF('Set UP'!F19<>\"F\",\"\",$L19)","v":""},{"$f":"IF('Set UP'!F19<>\"NS\",\"\",$L19)","v":""},"","","","","","","","","","","","","",{"$f":"IF(OR(J19<>\"Finished\",U19=\"\"),\"\",(1-(L19-'Set UP'!$Z$13)/('Set UP'!$Z$13))*1000)","v":""}]
[null,14,{"$f":"IF(OR('Set UP'!$C20=0,'Set UP'!$D20=0,'Set UP'!$E20=0,'Set UP'!F20=0),\"  --\",'Set UP'!C20)","v":"  --"},{"$f":"IF(OR('Set UP'!$C20=0,'Set UP'!$D20=0,'Set UP'!$E20=0,'Set UP'!F20=0),\"  --\",'Set UP'!D20&\" \"&'Set UP'!E20)","v":"  --"},{"$f":"IF(OR('Set UP'!$C20=0,'Set UP'!$D20=0,'Set UP'!$E20=0,'Set UP'!F20=0),\" --\",'Set UP'!F20)","v":" --"},null,null,null,"",null,null,"",{"$f":"IF('Set UP'!K20<>1,\"\",$L20)","v":""},{"$f":"IF('Set UP'!K20<>2,\"\",$L20)","v":""},{"$f":"IF('Set UP'!F20<>\"F\",\"\",$L20)","v":""},{"$f":"IF('Set UP'!F20<>\"NS\",\"\",$L20)","v":""},"","","","","","","","","","","","","",{"$f":"IF(OR(J20<>\"Finished\",U20=\"\"),\"\",(1-(L20-'Set UP'!$Z$13)/('Set UP'!$Z$13))*1000)","v":""}]
[null,15,{"$f":"IF(OR('Set UP'!$C21=0,'Set UP'!$D21=0,'Set UP'!$E21=0,'Set UP'!F21=0),\"  --\",'Set UP'!C21)","v":1427},{"$f":"IF(OR('Set UP'!$C21=0,'Set UP'!$D21=0,'Set UP'!$E21=0,'Set UP'!F21=0),\"  --\",'Set UP'!D21&\" \"&'Set UP'!E21)","v":"University of Southampton A"},{"$f":"IF(OR('Set UP'!$C21=0,'Set UP'!$D21=0,'Set UP'!$E21=0,'Set UP'!F21=0),\" --\",'Set UP'!F21)","v":"S"},null,null,null,"",null,null,"",{"$f":"IF('Set UP'!K21<>1,\"\",$L21)","v":""},{"$f":"IF('Set UP'!K21<>2,\"\",$L21)","v":""},{"$f":"IF('Set UP'!F21<>\"F\",\"\",$L21)","v":""},{"$f":"IF('Set UP'!F21<>\"NS\",\"\",$L21)","v":""},"","","","","","","","","","","","","",{"$f":"IF(OR(J21<>\"Finished\",U21=\"\"),\"\",(1-(L21-'Set UP'!$Z$13)/('Set UP'!$Z$13))*1000)","v":""}]
[null,16,{"$f":"IF(OR('Set UP'!$C22=0,'Set UP'!$D22=0,'Set UP'!$E22=0,'Set UP'!F22=0),\"  --\",'Set UP'!C22)","v":1444},{"$f":"IF(OR('Set UP'!$C22=0,'Set UP'!$D22=0,'Set UP'!$E22=0,'Set UP'!F22=0),\"  --\",'Set UP'!D22&\" \"&'Set UP'!E22)","v":"University of Birmingham C"},{"$f":"IF(OR('Set UP'!$C22=0,'Set UP'!$D22=0,'Set UP'!$E22=0,'Set UP'!F22=0),\" --\",'Set UP'!F22)","v":"S"},null,null,null,"",null,null,"",{"$f":"IF('Set UP'!K22<>1,\"\",$L22)","v":""},{"$f":"IF('Set UP'!K22<>2,\"\",$L22)","v":""},{"$f":"IF('Set UP'!F22<>\"F\",\"\",$L22)","v":""},{"$f":"IF('Set UP'!F22<>\"NS\",\"\",$L22)","v":""},"","","","","","","","","","","","","",{"$f":"IF(OR(J22<>\"Finished\",U22=\"\"),\"\",(1-(L22-'Set UP'!$Z$13)/('Set UP'!$Z$13))*1000)","v":""}]
[null,17,{"$f":"IF(OR('Set UP'!$C23=0,'Set UP'!$D23=0,'Set UP'!$E23=0,'Set UP'!F23=0),\"  --\",'Set UP'!C23)","v":1439},{"$f":"IF(OR('Set UP'!$C23=0,'Set UP'!$D23=0,'Set UP'!$E23=0,'Set UP'!F23=0),\"  --\",'Set UP'!D23&\" \"&'Set UP'!E23)","v":"University of Plymouth A"},{"$f":"IF(OR('Set UP'!$C23=0,'Set UP'!$D23=0,'Set UP'!$E23=0,'Set UP'!F23=0),\" --\",'Set UP'!F23)","v":"S"},null,null,null,"",null,null,"",{"$f":"IF('Set UP'!K23<>1,\"\",$L23)","v":""},{"$f":"IF('Set UP'!K23<>2,\"\",$L23)","v":""},{"$f":"IF('Set UP'!F23<>\"F\",\"\",$L23)","v":""},{"$f":"IF('Set UP'!F23<>\"NS\",\"\",$L23)","v":""},"","","","","","","","","","","","","",{"$f":"IF(OR(J23<>\"Finished\",U23=\"\"),\"\",(1-(L23-'Set UP'!$Z$13)/('Set UP'!$Z$13))*1000)","v":""}]
[null,18,{"$f":"IF(OR('Set UP'!$C24=0,'Set UP'!$D24=0,'Set UP'!$E24=0,'Set UP'!F24=0),\"  --\",'Set UP'!C24)","v":1461},{"$f":"IF(OR('Set UP'!$C24=0,'Set UP'!$D24=0,'Set UP'!$E24=0,'Set UP'!F24=0),\"  --\",'Set UP'!D24&\" \"&'Set UP'!E24)","v":"Bristol University B"},{"$f":"IF(OR('Set UP'!$C24=0,'Set UP'!$D24=0,'Set UP'!$E24=0,'Set UP'!F24=0),\" --\",'Set UP'!F24)","v":"S"},null,null,null,"",null,null,"",{"$f":"IF('Set UP'!K24<>1,\"\",$L24)","v":""},{"$f":"IF('Set UP'!K24<>2,\"\",$L24)","v":""},{"$f":"IF('Set UP'!F24<>\"F\",\"\",$L24)","v":""},{"$f":"IF('Set UP'!F24<>\"NS\",\"\",$L24)","v":""},"","","","","","","","","","","","","",{"$f":"IF(OR(J24<>\"Finished\",U24=\"\"),\"\",(1-(L24-'Set UP'!$Z$13)/('Set UP'!$Z$13))*1000)","v":""}]
[null,19,{"$f":"IF(OR('Set UP'!$C25=0,'Set UP'!$D25=0,'Set UP'!$E25=0,'Set UP'!F25=0),\"  --\",'Set UP'!C25)","v":1436},{"$f":"IF(OR('Set UP'!$C25=0,'Set UP'!$D25=0,'Set UP'!$E25=0,'Set UP'!F25=0),\"  --\",'Set UP'!D25&\" \"&'Set UP'!E25)","v":"Loughborough University C"},{"$f":"IF(OR('Set UP'!$C25=0,'Set UP'!$D25=0,'Set UP'!$E25=0,'Set UP'!F25=0),\" --\",'Set UP'!F25)","v":"S"},null,null,null,"",null,null,"",{"$f":"IF('Set UP'!K25<>1,\"\",$L25)","v":""},{"$f":"IF('Set UP'!K25<>2,\"\",$L25)","v":""},{"$f":"IF('Set UP'!F25<>\"F\",\"\",$L25)","v":""},{"$f":"IF('Set UP'!F25<>\"NS\",\"\",$L25)","v":""},"","","","","","","","","","","","","",{"$f":"IF(OR(J25<>\"Finished\",U25=\"\"),\"\",(1-(L25-'Set UP'!$Z$13)/('Set UP'!$Z$13))*1000)","v":""}]
[null,20,{"$f":"IF(OR('Set UP'!$C26=0,'Set UP'!$D26=0,'Set UP'!$E26=0,'Set UP'!F26=0),\"  --\",'Set UP'!C26)","v":1443},{"$f":"IF(OR('Set UP'!$C26=0,'Set UP'!$D26=0,'Set UP'!$E26=0,'Set UP'!F26=0),\"  --\",'Set UP'!D26&\" \"&'Set UP'!E26)","v":"University of Birmingham B"},{"$f":"IF(OR('Set UP'!$C26=0,'Set UP'!$D26=0,'Set UP'!$E26=0,'Set UP'!F26=0),\" --\",'Set UP'!F26)","v":"S"},null,null,null,"",null,null,"",{"$f":"IF('Set UP'!K26<>1,\"\",$L26)","v":""},{"$f":"IF('Set UP'!K26<>2,\"\",$L26)","v":""},{"$f":"IF('Set UP'!F26<>\"F\",\"\",$L26)","v":""},{"$f":"IF('Set UP'!F26<>\"NS\",\"\",$L26)","v":""},"","","","","","","","","","","","","",{"$f":"IF(OR(J26<>\"Finished\",U26=\"\"),\"\",(1-(L26-'Set UP'!$Z$13)/('Set UP'!$Z$13))*1000)","v":""}]
[null,21,{"$f":"IF(OR('Set UP'!$C27=0,'Set UP'!$D27=0,'Set UP'!$E27=0,'Set UP'!F27=0),\"  --\",'Set UP'!C27)","v":1434},{"$f":"IF(OR('Set UP'!$C27=0,'Set UP'!$D27=0,'Set UP'!$E27=0,'Set UP'!F27=0),\"  --\",'Set UP'!D27&\" \"&'Set UP'!E27)","v":"Loughborough University A"},{"$f":"IF(OR('Set UP'!$C27=0,'Set UP'!$D27=0,'Set UP'!$E27=0,'Set UP'!F27=0),\" --\",'Set UP'!F27)","v":"S"},null,null,null,"",null,null,"",{"$f":"IF('Set UP'!K27<>1,\"\",$L27)","v":""},{"$f":"IF('Set UP'!K27<>2,\"\",$L27)","v":""},{"$f":"IF('Set UP'!F27<>\"F\",\"\",$L27)","v":""},{"$f":"IF('Set UP'!F27<>\"NS\",\"\",$L27)","v":""},"","","","","","","","","","","","","",{"$f":"IF(OR(J27<>\"Finished\",U27=\"\"),\"\",(1-(L27-'Set UP'!$Z$13)/('Set UP'!$Z$13))*1000)","v":""}]
[null,22,{"$f":"IF(OR('Set UP'!$C28=0,'Set UP'!$D28=0,'Set UP'!$E28=0,'Set UP'!F28=0),\"  --\",'Set UP'!C28)","v":1435},{"$f":"IF(OR('Set UP'!$C28=0,'Set UP'!$D28=0,'Set UP'!$E28=0,'Set UP'!F28=0),\"  --\",'Set UP'!D28&\" \"&'Set UP'!E28)","v":"Loughborough University B"},{"$f":"IF(OR('Set UP'!$C28=0,'Set UP'!$D28=0,'Set UP'!$E28=0,'Set UP'!F28=0),\" --\",'Set UP'!F28)","v":"S"},null,null,null,"",null,null,"",{"$f":"IF('Set UP'!K28<>1,\"\",$L28)","v":""},{"$f":"IF('Set UP'!K28<>2,\"\",$L28)","v":""},{"$f":"IF('Set UP'!F28<>\"F\",\"\",$L28)","v":""},{"$f":"IF('Set UP'!F28<>\"NS\",\"\",$L28)","v":""},"","","","","","","","","","","","","",{"$f":"IF(OR(J28<>\"Finished\",U28=\"\"),\"\",(1-(L28-'Set UP'!$Z$13)/('Set UP'!$Z$13))*1000)","v":""}]
[null,23,{"$f":"IF(OR('Set UP'!$C29=0,'Set UP'!$D29=0,'Set UP'!$E29=0,'Set UP'!F29=0),\"  --\",'Set UP'!C29)","v":1457},{"$f":"IF(OR('Set UP'!$C29=0,'Set UP'!$D29=0,'Set UP'!$E29=0,'Set UP'!F29=0),\"  --\",'Set UP'!D29&\" \"&'Set UP'!E29)","v":"University of Warwick B"},{"$f":"IF(OR('Set UP'!$C29=0,'Set UP'!$D29=0,'Set UP'!$E29=0,'Set UP'!F29=0),\" --\",'Set UP'!F29)","v":"S"},null,null,null,"",null,null,"",{"$f":"IF('Set UP'!K29<>1,\"\",$L29)","v":""},{"$f":"IF('Set UP'!K29<>2,\"\",$L29)","v":""},{"$f":"IF('Set UP'!F29<>\"F\",\"\",$L29)","v":""},{"$f":"IF('Set UP'!F29<>\"NS\",\"\",$L29)","v":""},"","","","","","","","","","","","","",{"$f":"IF(OR(J29<>\"Finished\",U29=\"\"),\"\",(1-(L29-'Set UP'!$Z$13)/('Set UP'!$Z$13))*1000)","v":""}]
[null,24,{"$f":"IF(OR('Set UP'!$C30=0,'Set UP'!$D30=0,'Set UP'!$E30=0,'Set UP'!F30=0),\"  --\",'Set UP'!C30)","v":1429},{"$f":"IF(OR('Set UP'!$C30=0,'Set UP'!$D30=0,'Set UP'!$E30=0,'Set UP'!F30=0),\"  --\",'Set UP'!D30&\" \"&'Set UP'!E30)","v":"University of Nottingham A"},{"$f":"IF(OR('Set UP'!$C30=0,'Set UP'!$D30=0,'Set UP'!$E30=0,'Set UP'!F30=0),\" --\",'Set UP'!F30)","v":"S"},null,null,null,"",null,null,"",{"$f":"IF('Set UP'!K30<>1,\"\",$L30)","v":""},{"$f":"IF('Set UP'!K30<>2,\"\",$L30)","v":""},{"$f":"IF('Set UP'!F30<>\"F\",\"\",$L30)","v":""},{"$f":"IF('Set UP'!F30<>\"NS\",\"\",$L30)","v":""},"","","","","","","","","","","","","",{"$f":"IF(OR(J30<>\"Finished\",U30=\"\"),\"\",(1-(L30-'Set UP'!$Z$13)/('Set UP'!$Z$13))*1000)","v":""}]
[null,25,{"$f":"IF(OR('Set UP'!$C31=0,'Set UP'!$D31=0,'Set UP'!$E31=0,'Set UP'!F31=0),\"  --\",'Set UP'!C31)","v":1438},{"$f":"IF(OR('Set UP'!$C31=0,'Set UP'!$D31=0,'Set UP'!$E31=0,'Set UP'!F31=0),\"  --\",'Set UP'!D31&\" \"&'Set UP'!E31)","v":"Swansea Universities Lifesaving B"},{"$f":"IF(OR('Set UP'!$C31=0,'Set UP'!$D31=0,'Set UP'!$E31=0,'Set UP'!F31=0),\" --\",'Set UP'!F31)","v":"S"},null,null,null,"",null,null,"",{"$f":"IF('Set UP'!K31<>1,\"\",$L31)","v":""},{"$f":"IF('Set UP'!K31<>2,\"\",$L31)","v":""},{"$f":"IF('Set UP'!F31<>\"F\",\"\",$L31)","v":""},{"$f":"IF('Set UP'!F31<>\"NS\",\"\",$L31)","v":""},"","","","","","","","","","","","","",{"$f":"IF(OR(J31<>\"Finished\",U31=\"\"),\"\",(1-(L31-'Set UP'!$Z$13)/('Set UP'!$Z$13))*1000)","v":""}]
[null,26,{"$f":"IF(OR('Set UP'!$C32=0,'Set UP'!$D32=0,'Set UP'!$E32=0,'Set UP'!F32=0),\"  --\",'Set UP'!C32)","v":1442},{"$f":"IF(OR('Set UP'!$C32=0,'Set UP'!$D32=0,'Set UP'!$E32=0,'Set UP'!F32=0),\"  --\",'Set UP'!D32&\" \"&'Set UP'!E32)","v":"University of Birmingham A"},{"$f":"IF(OR('Set UP'!$C32=0,'Set UP'!$D32=0,'Set UP'!$E32=0,'Set UP'!F32=0),\" --\",'Set UP'!F32)","v":"S"},null,null,null,"",null,null,"",{"$f":"IF('Set UP'!K32<>1,\"\",$L32)","v":""},{"$f":"IF('Set UP'!K32<>2,\"\",$L32)","v":""},{"$f":"IF('Set UP'!F32<>\"F\",\"\",$L32)","v":""},{"$f":"IF('Set UP'!F32<>\"NS\",\"\",$L32)","v":""},"","","","","","","","","","","","","",{"$f":"IF(OR(J32<>\"Finished\",U32=\"\"),\"\",(1-(L32-'Set UP'!$Z$13)/('Set UP'!$Z$13))*1000)","v":""}]
[null,27,{"$f":"IF(OR('Set UP'!$C33=0,'Set UP'!$D33=0,'Set UP'!$E33=0,'Set UP'!F33=0),\"  --\",'Set UP'!C33)","v":1456},{"$f":"IF(OR('Set UP'!$C33=0,'Set UP'!$D33=0,'Set UP'!$E33=0,'Set UP'!F33=0),\"  --\",'Set UP'!D33&\" \"&'Set UP'!E33)","v":"University of Warwick A"},{"$f":"IF(OR('Set UP'!$C33=0,'Set UP'!$D33=0,'Set UP'!$E33=0,'Set UP'!F33=0),\" --\",'Set UP'!F33)","v":"S"},null,null,null,"",null,null,"",{"$f":"IF('Set UP'!K33<>1,\"\",$L33)","v":""},{"$f":"IF('Set UP'!K33<>2,\"\",$L33)","v":""},{"$f":"IF('Set UP'!F33<>\"F\",\"\",$L33)","v":""},{"$f":"IF('Set UP'!F33<>\"NS\",\"\",$L33)","v":""},"","","","","","","","","","","","","",{"$f":"IF(OR(J33<>\"Finished\",U33=\"\"),\"\",(1-(L33-'Set UP'!$Z$13)/('Set UP'!$Z$13))*1000)","v":""}]
[null,28,{"$f":"IF(OR('Set UP'!$C34=0,'Set UP'!$D34=0,'Set UP'!$E34=0,'Set UP'!F34=0),\"  --\",'Set UP'!C34)","v":1460},{"$f":"IF(OR('Set UP'!$C34=0,'Set UP'!$D34=0,'Set UP'!$E34=0,'Set UP'!F34=0),\"  --\",'Set UP'!D34&\" \"&'Set UP'!E34)","v":"Bristol University A"},{"$f":"IF(OR('Set UP'!$C34=0,'Set UP'!$D34=0,'Set UP'!$E34=0,'Set UP'!F34=0),\" --\",'Set UP'!F34)","v":"S"},null,null,null,"",null,null,"",{"$f":"IF('Set UP'!K34<>1,\"\",$L34)","v":""},{"$f":"IF('Set UP'!K34<>2,\"\",$L34)","v":""},{"$f":"IF('Set UP'!F34<>\"F\",\"\",$L34)","v":""},{"$f":"IF('Set UP'!F34<>\"NS\",\"\",$L34)","v":""},"","","","","","","","","","","","","",{"$f":"IF(OR(J34<>\"Finished\",U34=\"\"),\"\",(1-(L34-'Set UP'!$Z$13)/('Set UP'!$Z$13))*1000)","v":""}]
[null,29,{"$f":"IF(OR('Set UP'!$C35=0,'Set UP'!$D35=0,'Set UP'!$E35=0,'Set UP'!F35=0),\"  --\",'Set UP'!C35)","v":1437},{"$f":"IF(OR('Set UP'!$C35=0,'Set UP'!$D35=0,'Set UP'!$E35=0,'Set UP'!F35=0),\"  --\",'Set UP'!D35&\" \"&'Set UP'!E35)","v":"Swansea Universities Lifesaving A"},{"$f":"IF(OR('Set UP'!$C35=0,'Set UP'!$D35=0,'Set UP'!$E35=0,'Set UP'!F35=0),\" --\",'Set UP'!F35)","v":"S"},null,null,null,"",null,null,"",{"$f":"IF('Set UP'!K35<>1,\"\",$L35)","v":""},{"$f":"IF('Set UP'!K35<>2,\"\",$L35)","v":""},{"$f":"IF('Set UP'!F35<>\"F\",\"\",$L35)","v":""},{"$f":"IF('Set UP'!F35<>\"NS\",\"\",$L35)","v":""},"","","","","","","","","","","","","",{"$f":"IF(OR(J35<>\"Finished\",U35=\"\"),\"\",(1-(L35-'Set UP'!$Z$13)/('Set UP'!$Z$13))*1000)","v":""}]
[null,30,{"$f":"IF(OR('Set UP'!$C36=0,'Set UP'!$D36=0,'Set UP'!$E36=0,'Set UP'!F36=0),\"  --\",'Set UP'!C36)","v":1425},{"$f":"IF(OR('Set UP'!$C36=0,'Set UP'!$D36=0,'Set UP'!$E36=0,'Set UP'!F36=0),\"  --\",'Set UP'!D36&\" \"&'Set UP'!E36)","v":"London Universities A"},{"$f":"IF(OR('Set UP'!$C36=0,'Set UP'!$D36=0,'Set UP'!$E36=0,'Set UP'!F36=0),\" --\",'Set UP'!F36)","v":"S"},null,null,null,"",null,null,"",{"$f":"IF('Set UP'!K36<>1,\"\",$L36)","v":""},{"$f":"IF('Set UP'!K36<>2,\"\",$L36)","v":""},{"$f":"IF('Set UP'!F36<>\"F\",\"\",$L36)","v":""},{"$f":"IF('Set UP'!F36<>\"NS\",\"\",$L36)","v":""},"","","","","","","","","","","","","",{"$f":"IF(OR(J36<>\"Finished\",U36=\"\"),\"\",(1-(L36-'Set UP'!$Z$13)/('Set UP'!$Z$13))*1000)","v":""}]
[null,31,{"$f":"IF(OR('Set UP'!$C37=0,'Set UP'!$D37=0,'Set UP'!$E37=0,'Set UP'!F37=0),\"  --\",'Set UP'!C37)","v":"  --"},{"$f":"IF(OR('Set UP'!$C37=0,'Set UP'!$D37=0,'Set UP'!$E37=0,'Set UP'!F37=0),\"  --\",'Set UP'!D37&\" \"&'Set UP'!E37)","v":"  --"},{"$f":"IF(OR('Set UP'!$C37=0,'Set UP'!$D37=0,'Set UP'!$E37=0,'Set UP'!F37=0),\" --\",'Set UP'!F37)","v":" --"},null,null,null,"",null,null,"",{"$f":"IF('Set UP'!K37<>1,\"\",$L37)","v":""},{"$f":"IF('Set UP'!K37<>2,\"\",$L37)","v":""},{"$f":"IF('Set UP'!F37<>\"F\",\"\",$L37)","v":""},{"$f":"IF('Set UP'!F37<>\"NS\",\"\",$L37)","v":""},"","","","","","","","","","","","","",{"$f":"IF(OR(J37<>\"Finished\",U37=\"\"),\"\",(1-(L37-'Set UP'!$Z$13)/('Set UP'!$Z$13))*1000)","v":""}]
[null,32,{"$f":"IF(OR('Set UP'!$C38=0,'Set UP'!$D38=0,'Set UP'!$E38=0,'Set UP'!F38=0),\"  --\",'Set UP'!C38)","v":"  --"},{"$f":"IF(OR('Set UP'!$C38=0,'Set UP'!$D38=0,'Set UP'!$E38=0,'Set UP'!F38=0),\"  --\",'Set UP'!D38&\" \"&'Set UP'!E38)","v":"  --"},{"$f":"IF(OR('Set UP'!$C38=0,'Set UP'!$D38=0,'Set UP'!$E38=0,'Set UP'!F38=0),\" --\",'Set UP'!F38)","v":" --"},null,null,null,"",null,null,"",{"$f":"IF('Set UP'!K38<>1,\"\",$L38)","v":""},{"$f":"IF('Set UP'!K38<>2,\"\",$L38)","v":""},{"$f":"IF('Set UP'!F38<>\"F\",\"\",$L38)","v":""},{"$f":"IF('Set UP'!F38<>\"NS\",\"\",$L38)","v":""},"","","","","","","","","","","","","",{"$f":"IF(OR(J38<>\"Finished\",U38=\"\"),\"\",(1-(L38-'Set UP'!$Z$13)/('Set UP'!$Z$13))*1000)","v":""}]
[null,33,{"$f":"IF(OR('Set UP'!$C39=0,'Set UP'!$D39=0,'Set UP'!$E39=0,'Set UP'!F39=0),\"  --\",'Set UP'!C39)","v":"  --"},{"$f":"IF(OR('Set UP'!$C39=0,'Set UP'!$D39=0,'Set UP'!$E39=0,'Set UP'!F39=0),\"  --\",'Set UP'!D39&\" \"&'Set UP'!E39)","v":"  --"},{"$f":"IF(OR('Set UP'!$C39=0,'Set UP'!$D39=0,'Set UP'!$E39=0,'Set UP'!F39=0),\" --\",'Set UP'!F39)","v":" --"},null,null,null,"",null,null,"",{"$f":"IF('Set UP'!K39<>1,\"\",$L39)","v":""},{"$f":"IF('Set UP'!K39<>2,\"\",$L39)","v":""},{"$f":"IF('Set UP'!F39<>\"F\",\"\",$L39)","v":""},{"$f":"IF('Set UP'!F39<>\"NS\",\"\",$L39)","v":""},"","","","","","","","","","","","","",{"$f":"IF(OR(J39<>\"Finished\",U39=\"\"),\"\",(1-(L39-'Set UP'!$Z$13)/('Set UP'!$Z$13))*1000)","v":""}]
[null,34,{"$f":"IF(OR('Set UP'!$C40=0,'Set UP'!$D40=0,'Set UP'!$E40=0,'Set UP'!F40=0),\"  --\",'Set UP'!C40)","v":"  --"},{"$f":"IF(OR('Set UP'!$C40=0,'Set UP'!$D40=0,'Set UP'!$E40=0,'Set UP'!F40=0),\"  --\",'Set UP'!D40&\" \"&'Set UP'!E40)","v":"  --"},{"$f":"IF(OR('Set UP'!$C40=0,'Set UP'!$D40=0,'Set UP'!$E40=0,'Set UP'!F40=0),\" --\",'Set UP'!F40)","v":" --"},null,null,null,"",null,null,"",{"$f":"IF('Set UP'!K40<>1,\"\",$L40)","v":""},{"$f":"IF('Set UP'!K40<>2,\"\",$L40)","v":""},{"$f":"IF('Set UP'!F40<>\"F\",\"\",$L40)","v":""},{"$f":"IF('Set UP'!F40<>\"NS\",\"\",$L40)","v":""},"","","","","","","","","","","","","",{"$f":"IF(OR(J40<>\"Finished\",U40=\"\"),\"\",(1-(L40-'Set UP'!$Z$13)/('Set UP'!$Z$13))*1000)","v":""}]
[null,35,{"$f":"IF(OR('Set UP'!$C41=0,'Set UP'!$D41=0,'Set UP'!$E41=0,'Set UP'!F41=0),\"  --\",'Set UP'!C41)","v":"  --"},{"$f":"IF(OR('Set UP'!$C41=0,'Set UP'!$D41=0,'Set UP'!$E41=0,'Set UP'!F41=0),\"  --\",'Set UP'!D41&\" \"&'Set UP'!E41)","v":"  --"},{"$f":"IF(OR('Set UP'!$C41=0,'Set UP'!$D41=0,'Set UP'!$E41=0,'Set UP'!F41=0),\" --\",'Set UP'!F41)","v":" --"},null,null,null,"",null,null,"",{"$f":"IF('Set UP'!K41<>1,\"\",$L41)","v":""},{"$f":"IF('Set UP'!K41<>2,\"\",$L41)","v":""},{"$f":"IF('Set UP'!F41<>\"F\",\"\",$L41)","v":""},{"$f":"IF('Set UP'!F41<>\"NS\",\"\",$L41)","v":""},"","","","","","","","","","","","","",{"$f":"IF(OR(J41<>\"Finished\",U41=\"\"),\"\",(1-(L41-'Set UP'!$Z$13)/('Set UP'!$Z$13))*1000)","v":""}]
[null,36,{"$f":"IF(OR('Set UP'!$C42=0,'Set UP'!$D42=0,'Set UP'!$E42=0,'Set UP'!F42=0),\"  --\",'Set UP'!C42)","v":"  --"},{"$f":"IF(OR('Set UP'!$C42=0,'Set UP'!$D42=0,'Set UP'!$E42=0,'Set UP'!F42=0),\"  --\",'Set UP'!D42&\" \"&'Set UP'!E42)","v":"  --"},{"$f":"IF(OR('Set UP'!$C42=0,'Set UP'!$D42=0,'Set UP'!$E42=0,'Set UP'!F42=0),\" --\",'Set UP'!F42)","v":" --"},null,null,null,"",null,null,"",{"$f":"IF('Set UP'!K42<>1,\"\",$L42)","v":""},{"$f":"IF('Set UP'!K42<>2,\"\",$L42)","v":""},{"$f":"IF('Set UP'!F42<>\"F\",\"\",$L42)","v":""},{"$f":"IF('Set UP'!F42<>\"NS\",\"\",$L42)","v":""},"","","","","","","","","","","","","",{"$f":"IF(OR(J42<>\"Finished\",U42=\"\"),\"\",(1-(L42-'Set UP'!$Z$13)/('Set UP'!$Z$13))*1000)","v":""}]
[null,37,{"$f":"IF(OR('Set UP'!$C43=0,'Set UP'!$D43=0,'Set UP'!$E43=0,'Set UP'!F43=0),\"  --\",'Set UP'!C43)","v":"  --"},{"$f":"IF(OR('Set UP'!$C43=0,'Set UP'!$D43=0,'Set UP'!$E43=0,'Set UP'!F43=0),\"  --\",'Set UP'!D43&\" \"&'Set UP'!E43)","v":"  --"},{"$f":"IF(OR('Set UP'!$C43=0,'Set UP'!$D43=0,'Set UP'!$E43=0,'Set UP'!F43=0),\" --\",'Set UP'!F43)","v":" --"},null,null,null,"",null,null,"",{"$f":"IF('Set UP'!K43<>1,\"\",$L43)","v":""},{"$f":"IF('Set UP'!K43<>2,\"\",$L43)","v":""},{"$f":"IF('Set UP'!F43<>\"F\",\"\",$L43)","v":""},{"$f":"IF('Set UP'!F43<>\"NS\",\"\",$L43)","v":""},"","","","","","","","","","","","","",{"$f":"IF(OR(J43<>\"Finished\",U43=\"\"),\"\",(1-(L43-'Set UP'!$Z$13)/('Set UP'!$Z$13))*1000)","v":""}]
[null,38,{"$f":"IF(OR('Set UP'!$C44=0,'Set UP'!$D44=0,'Set UP'!$E44=0,'Set UP'!F44=0),\"  --\",'Set UP'!C44)","v":"  --"},{"$f":"IF(OR('Set UP'!$C44=0,'Set UP'!$D44=0,'Set UP'!$E44=0,'Set UP'!F44=0),\"  --\",'Set UP'!D44&\" \"&'Set UP'!E44)","v":"  --"},{"$f":"IF(OR('Set UP'!$C44=0,'Set UP'!$D44=0,'Set UP'!$E44=0,'Set UP'!F44=0),\" --\",'Set UP'!F44)","v":" --"},null,null,null,"",null,null,"",{"$f":"IF('Set UP'!K44<>1,\"\",$L44)","v":""},{"$f":"IF('Set UP'!K44<>2,\"\",$L44)","v":""},{"$f":"IF('Set UP'!F44<>\"F\",\"\",$L44)","v":""},{"$f":"IF('Set UP'!F44<>\"NS\",\"\",$L44)","v":""},"","","","","","","","","","","","","",{"$f":"IF(OR(J44<>\"Finished\",U44=\"\"),\"\",(1-(L44-'Set UP'!$Z$13)/('Set UP'!$Z$13))*1000)","v":""}]
[null,39,{"$f":"IF(OR('Set UP'!$C45=0,'Set UP'!$D45=0,'Set UP'!$E45=0,'Set UP'!F45=0),\"  --\",'Set UP'!C45)","v":"  --"},{"$f":"IF(OR('Set UP'!$C45=0,'Set UP'!$D45=0,'Set UP'!$E45=0,'Set UP'!F45=0),\"  --\",'Set UP'!D45&\" \"&'Set UP'!E45)","v":"  --"},{"$f":"IF(OR('Set UP'!$C45=0,'Set UP'!$D45=0,'Set UP'!$E45=0,'Set UP'!F45=0),\" --\",'Set UP'!F45)","v":" --"},null,null,null,"",null,null,"",{"$f":"IF('Set UP'!K45<>1,\"\",$L45)","v":""},{"$f":"IF('Set UP'!K45<>2,\"\",$L45)","v":""},{"$f":"IF('Set UP'!F45<>\"F\",\"\",$L45)","v":""},{"$f":"IF('Set UP'!F45<>\"NS\",\"\",$L45)","v":""},"","","","","","","","","","","","","",{"$f":"IF(OR(J45<>\"Finished\",U45=\"\"),\"\",(1-(L45-'Set UP'!$Z$13)/('Set UP'!$Z$13))*1000)","v":""}]
[null,40,{"$f":"IF(OR('Set UP'!$C46=0,'Set UP'!$D46=0,'Set UP'!$E46=0,'Set UP'!F46=0),\"  --\",'Set UP'!C46)","v":"  --"},{"$f":"IF(OR('Set UP'!$C46=0,'Set UP'!$D46=0,'Set UP'!$E46=0,'Set UP'!F46=0),\"  --\",'Set UP'!D46&\" \"&'Set UP'!E46)","v":"  --"},{"$f":"IF(OR('Set UP'!$C46=0,'Set UP'!$D46=0,'Set UP'!$E46=0,'Set UP'!F46=0),\" --\",'Set UP'!F46)","v":" --"},null,null,null,"",null,null,"",{"$f":"IF('Set UP'!K46<>1,\"\",$L46)","v":""},{"$f":"IF('Set UP'!K46<>2,\"\",$L46)","v":""},{"$f":"IF('Set UP'!F46<>\"F\",\"\",$L46)","v":""},{"$f":"IF('Set UP'!F46<>\"NS\",\"\",$L46)","v":""},"","","","","","","","","","","","","",{"$f":"IF(OR(J46<>\"Finished\",U46=\"\"),\"\",(1-(L46-'Set UP'!$Z$13)/('Set UP'!$Z$13))*1000)","v":""}]
[null,null,null,null,null,null,null,null,null,null,null,null,null,null,null,null,null,null,null,null,null,null,null,null,null,"",null,null,null,{"$f":"IF(OR(J47<>\"Finished\",U47=\"\"),\"\",(1-(L47-'Set UP'!$Z$13)/('Set UP'!$Z$13))*1000)","v":""}]
[]
[]
[]
[]
[]
[]
[]
[]
[]
[]
[]
[]
[]
[null,null,null,null,null,null,null,null,null,"Finished"]
[null,null,null,null,null,null,null,null,null,"Disqualified"]

{"sheet":"Manikin Carry","index":19,"n_rows":62,"n_cols":30,"rows_kept":62,"cut":false,"hidden":true,"merged":[[2,4,2,5],[3,4,3,5],[4,25,5,25],[4,26,5,26],[4,10,5,10],[4,11,5,11],[4,8,5,8],[4,9,5,9],[4,12,5,12],[4,24,5,24],[4,20,5,20],[4,21,5,21],[4,22,5,22],[4,19,5,19],[4,23,5,23],[4,16,4,18],[4,29,5,29],[4,13,5,13],[4,14,5,14],[4,1,5,1],[4,2,5,2],[4,3,5,3],[4,4,5,4],[4,5,4,7],[4,15,5,15],[4,27,5,27],[4,28,5,28]]}
[]
[null,null,null,null,null,null,null,null,null,null,"Penalty Time (seconds)"]
[null,null,null,{"$f":"'Set UP'!Q12","v":"Manikin Carry"},"Club to Highlight",null,null,null,null,null,15]
[]
[null,null,"Web","Team","Class","Stopwatch Time",null,null,null,"Finish Status","No. \nPenalties","Total\n(Competition)","Total\n(A)","Total\n(B)","Total\n(FRESHERS)","Total\n(Non-Students)","Total Time",null,null,"Competition Position\nExcluding DQ's","Position\n(Competition)","A League Position\nExcluding DQ's","Position\n(A League)","B League Position\nExcluding DQ's","Position\n(B League)","FRESHERS League Position\nExcluding DQ's","Position\n(FRESHERS League)","Non-Student Position\nExcluding DQ's","Position\n(Non-Student)","Lifesaving Points"]
[null,null,null,null,null,"mins","secs","1/100\nsec",null,null,null,null,null,null,null,null,"mins","secs","1/100 sec"]
[null,1,{"$f":"IF(OR('Set UP'!$C7=0,'Set UP'!$D7=0,'Set UP'!$E7=0,'Set UP'!F7=0),\"  --\",'Set UP'!C7)","v":1418},{"$f":"IF(OR('Set UP'!$C7=0,'Set UP'!$D7=0,'Set UP'!$E7=0,'Set UP'!F7=0),\"  --\",'Set UP'!D7&\" \"&'Set UP'!E7)","v":"Bradford On Avon Lifesaving Club  B"},{"$f":"IF(OR('Set UP'!$C7=0,'Set UP'!$D7=0,'Set UP'!$E7=0,'Set UP'!F7=0,),\" --\",'Set UP'!F7)","v":"NS"},null,null,null,{"$f":"IF(AND(ISBLANK(F7),ISBLANK(G7),ISBLANK(H7)),\"\",(F7*60)+G7+(H7/100))","v":""},null,null,{"$f":"IF(D7=\"  --\",\"\",IF(J7=\"Disqualified\",J7,IF(J7=\"Finished\",IF(OR(G7=\"\",H7=\"\"),\"\",I7+(K7*$K$3)),\"\")))","v":""},{"$f":"IF('Set UP'!K7<>1,\"\",$L7)","v":""},{"$f":"IF('Set UP'!K7<>2,\"\",$L7)","v":""},{"$f":"IF('Set UP'!F7<>\"F\",\"\",$L7)","v":""},{"$f":"IF('Set UP'!F7<>\"NS\",\"\",$L7)","v":""},{"$f":"IF(D7=\"  --\",\"\",IF(L7=\"Disqualified\",\"DQ\",IF(L7=\"\",\"\",INT(L7/60))))","v":""},{"$f":"IF(D7=\"  --\",\"\", IF(L7=\"Disqualified\",\"\",IF(L7=\"\",\"\",INT(L7-(Q7*60)))))","v":""},{"$f":"IF(D7=\"  --\",\"\", IF(L7=\"Disqualified\",\"\",IF(L7=\"\",\"\",100*(L7-((Q7*60)+R7)))))","v":""},{"$f":"IF(OR(L7=\"Disqualified\",L7=\"\"),\"\",RANK(L7,$L$7:$L$46,1))","v":""},{"$f":"IF(L7=\"Disqualified\",MAX($T$7:$T$46)+1,T7)","v":""},{"$f":"IF(OR($M7=\"Disqualified\",$M7=\"\"),\"\",RANK($M7,$M$7:$M$46,1))","v":""},{"$f":"IF($M7=\"Disqualified\",MAX($V$7:$V$46)+1,V7)","v":""},{"$f":"IF(OR($N7=\"Disqualified\",$N7=\"\"),\"\",RANK($N7,$N$7:$N$46,1))","v":""},{"$f":"IF($N7=\"Disqualified\",MAX($X$7:$X$46)+1,X7)","v":""},{"$f":"IF(OR($O7=\"Disqualified\",$O7=\"\"),\"\",RANK($O7,$O$7:$O$46,1))","v":""},{"$f":"IF($O7=\"Disqualified\",MAX($Z$7:$Z$46)+1,Z7)","v":""},{"$f":"IF(OR($P7=\"Disqualified\",$P7=\"\"),\"\",RANK($P7,$P$7:$P$46,1))","v":""},{"$f":"IF($P7=\"Disqualified\",MAX($AB$7:$AB$46)+1,AB7)","v":""},{"$f":"IF(OR(J7<>\"Finished\",U7=\"\"),\"\",(1-(L7-'Set UP'!$Z$12)/('Set UP'!$Z$12))*1000)","v":""}]
[null,2,{"$f":"IF(OR('Set UP'!$C8=0,'Set UP'!$D8=0,'Set UP'!$E8=0,'Set UP'!F8=0),\"  --\",'Set UP'!C8)","v":1419},{"$f":"IF(OR('Set UP'!$C8=0,'Set UP'!$D8=0,'Set UP'!$E8=0,'Set UP'!F8=0),\"  --\",'Set UP'!D8&\" \"&'Set UP'!E8)","v":"Bradford On Avon Lifesaving Club  A"},{"$f":"IF(OR('Set UP'!$C8=0,'Set UP'!$D8=0,'Set UP'!$E8=0,'Set UP'!F8=0,),\" --\",'Set UP'!F8)","v":"NS"},null,null,null,"",null,null,{"$f":"IF(D8=\"  --\",\"\",IF(J8=\"Disqualified\",J8,IF(J8=\"Finished\",IF(OR(G8=\"\",H8=\"\"),\"\",I8+(K8*$K$3)),\"\")))","v":""},{"$f":"IF('Set UP'!K8<>1,\"\",$L8)","v":""},{"$f":"IF('Set UP'!K8<>2,\"\",$L8)","v":""},{"$f":"IF('Set UP'!F8<>\"F\",\"\",$L8)","v":""},{"$f":"IF('Set UP'!F8<>\"NS\",\"\",$L8)","v":""},"","","","","","","",{"$f":"IF(OR($N8=\"Disqualified\",$N8=\"\"),\"\",RANK($N8,$N$7:$N$46,1))","v":""},{"$f":"IF($N8=\"Disqualified\",MAX($X$7:$X$46)+1,X8)","v":""},{"$f":"IF(OR($O8=\"Disqualified\",$O8=\"\"),\"\",RANK($O8,$O$7:$O$46,1))","v":""},{"$f":"IF($O8=\"Disqualified\",MAX($Z$7:$Z$46)+1,Z8)","v":""},{"$f":"IF(OR($P8=\"Disqualified\",$P8=\"\"),\"\",RANK($P8,$P$7:$P$46,1))","v":""},{"$f":"IF($P8=\"Disqualified\",MAX($AB$7:$AB$46)+1,AB8)","v":""},{"$f":"IF(OR(J8<>\"Finished\",U8=\"\"),\"\",(1-(L8-'Set UP'!$Z$12)/('Set UP'!$Z$12))*1000)","v":""}]
[null,3,{"$f":"IF(OR('Set UP'!$C9=0,'Set UP'!$D9=0,'Set UP'!$E9=0,'Set UP'!F9=0),\"  --\",'Set UP'!C9)","v":1417},{"$f":"IF(OR('Set UP'!$C9=0,'Set UP'!$D9=0,'Set UP'!$E9=0,'Set UP'!F9=0),\"  --\",'Set UP'!D9&\" \"&'Set UP'!E9)","v":"Bradford On Avon Lifesaving Club  C"},{"$f":"IF(OR('Set UP'!$C9=0,'Set UP'!$D9=0,'Set UP'!$E9=0,'Set UP'!F9=0,),\" --\",'Set UP'!F9)","v":"NS"},null,null,null,"",null,null,"",{"$f":"IF('Set UP'!K9<>1,\"\",$L9)","v":""},{"$f":"IF('Set UP'!K9<>2,\"\",$L9)","v":""},{"$f":"IF('Set UP'!F9<>\"F\",\"\",$L9)","v":""},{"$f":"IF('Set UP'!F9<>\"NS\",\"\",$L9)","v":""},"","","","","","","","","","","","","",{"$f":"IF(OR(J9<>\"Finished\",U9=\"\"),\"\",(1-(L9-'Set UP'!$Z$12)/('Set UP'!$Z$12))*1000)","v":""}]
[null,4,{"$f":"IF(OR('Set UP'!$C10=0,'Set UP'!$D10=0,'Set UP'!$E10=0,'Set UP'!F10=0),\"  --\",'Set UP'!C10)","v":"  --"},{"$f":"IF(OR('Set UP'!$C10=0,'Set UP'!$D10=0,'Set UP'!$E10=0,'Set UP'!F10=0),\"  --\",'Set UP'!D10&\" \"&'Set UP'!E10)","v":"  --"},{"$f":"IF(OR('Set UP'!$C10=0,'Set UP'!$D10=0,'Set UP'!$E10=0,'Set UP'!F10=0,),\" --\",'Set UP'!F10)","v":" --"},null,null,null,"",null,null,"",{"$f":"IF('Set UP'!K10<>1,\"\",$L10)","v":""},{"$f":"IF('Set UP'!K10<>2,\"\",$L10)","v":""},{"$f":"IF('Set UP'!F10<>\"F\",\"\",$L10)","v":""},{"$f":"IF('Set UP'!F10<>\"NS\",\"\",$L10)","v":""},"","","","","","","","","","","","","",{"$f":"IF(OR(J10<>\"Finished\",U10=\"\"),\"\",(1-(L10-'Set UP'!$Z$12)/('Set UP'!$Z$12))*1000)","v":""}]
[null,5,{"$f":"IF(OR('Set UP'!$C11=0,'Set UP'!$D11=0,'Set UP'!$E11=0,'Set UP'!F11=0),\"  --\",'Set UP'!C11)","v":1424},{"$f":"IF(OR('Set UP'!$C11=0,'Set UP'!$D11=0,'Set UP'!$E11=0,'Set UP'!F11=0),\"  --\",'Set UP'!D11&\" \"&'Set UP'!E11)","v":"Keynsham B"},{"$f":"IF(OR('Set UP'!$C11=0,'Set UP'!$D11=0,'Set UP'!$E11=0,'Set UP'!F11=0,),\" --\",'Set UP'!F11)","v":"NS"},null,null,null,"",null,null,"",{"$f":"IF('Set UP'!K11<>1,\"\",$L11)","v":""},{"$f":"IF('Set UP'!K11<>2,\"\",$L11)","v":""},{"$f":"IF('Set UP'!F11<>\"F\",\"\",$L11)","v":""},{"$f":"IF('Set UP'!F11<>\"NS\",\"\",$L11)","v":""},"","","","","","","","","","","","","",{"$f":"IF(OR(J11<>\"Finished\",U11=\"\"),\"\",(1-(L11-'Set UP'!$Z$12)/('Set UP'!$Z$12))*1000)","v":""}]
[null,6,{"$f":"IF(OR('Set UP'!$C12=0,'Set UP'!$D12=0,'Set UP'!$E12=0,'Set UP'!F12=0),\"  --\",'Set UP'!C12)","v":1423},{"$f":"IF(OR('Set UP'!$C12=0,'Set UP'!$D12=0,'Set UP'!$E12=0,'Set UP'!F12=0),\"  --\",'Set UP'!D12&\" \"&'Set UP'!E12)","v":"Keynsham A"},{"$f":"IF(OR('Set UP'!$C12=0,'Set UP'!$D12=0,'Set UP'!$E12=0,'Set UP'!F12=0,),\" --\",'Set UP'!F12)","v":"NS"},null,null,null,"",null,null,"",{"$f":"IF('Set UP'!K12<>1,\"\",$L12)","v":""},{"$f":"IF('Set UP'!K12<>2,\"\",$L12)","v":""},{"$f":"IF('Set UP'!F12<>\"F\",\"\",$L12)","v":""},{"$f":"IF('Set UP'!F12<>\"NS\",\"\",$L12)","v":""},"","","","","","","","","","","","","",{"$f":"IF(OR(J12<>\"Finished\",U12=\"\"),\"\",(1-(L12-'Set UP'!$Z$12)/('Set UP'!$Z$12))*1000)","v":""}]
[null,7,{"$f":"IF(OR('Set UP'!$C13=0,'Set UP'!$D13=0,'Set UP'!$E13=0,'Set UP'!F13=0),\"  --\",'Set UP'!C13)","v":1433},{"$f":"IF(OR('Set UP'!$C13=0,'Set UP'!$D13=0,'Set UP'!$E13=0,'Set UP'!F13=0),\"  --\",'Set UP'!D13&\" \"&'Set UP'!E13)","v":"University of Nottingham B"},{"$f":"IF(OR('Set UP'!$C13=0,'Set UP'!$D13=0,'Set UP'!$E13=0,'Set UP'!F13=0,),\" --\",'Set UP'!F13)","v":"S"},null,null,null,"",null,null,"",{"$f":"IF('Set UP'!K13<>1,\"\",$L13)","v":""},{"$f":"IF('Set UP'!K13<>2,\"\",$L13)","v":""},{"$f":"IF('Set UP'!F13<>\"F\",\"\",$L13)","v":""},{"$f":"IF('Set UP'!F13<>\"NS\",\"\",$L13)","v":""},"","","","","","","","","","","","","",{"$f":"IF(OR(J13<>\"Finished\",U13=\"\"),\"\",(1-(L13-'Set UP'!$Z$12)/('Set UP'!$Z$12))*1000)","v":""}]
[null,8,{"$f":"IF(OR('Set UP'!$C14=0,'Set UP'!$D14=0,'Set UP'!$E14=0,'Set UP'!F14=0),\"  --\",'Set UP'!C14)","v":1441},{"$f":"IF(OR('Set UP'!$C14=0,'Set UP'!$D14=0,'Set UP'!$E14=0,'Set UP'!F14=0),\"  --\",'Set UP'!D14&\" \"&'Set UP'!E14)","v":"University of Plymouth C"},{"$f":"IF(OR('Set UP'!$C14=0,'Set UP'!$D14=0,'Set UP'!$E14=0,'Set UP'!F14=0,),\" --\",'Set UP'!F14)","v":"NC"},null,null,null,"",null,null,"",{"$f":"IF('Set UP'!K14<>1,\"\",$L14)","v":""},{"$f":"IF('Set UP'!K14<>2,\"\",$L14)","v":""},{"$f":"IF('Set UP'!F14<>\"F\",\"\",$L14)","v":""},{"$f":"IF('Set UP'!F14<>\"NS\",\"\",$L14)","v":""},"","","","","","","","","","","","","",{"$f":"IF(OR(J14<>\"Finished\",U14=\"\"),\"\",(1-(L14-'Set UP'!$Z$12)/('Set UP'!$Z$12))*1000)","v":""}]
[null,9,{"$f":"IF(OR('Set UP'!$C15=0,'Set UP'!$D15=0,'Set UP'!$E15=0,'Set UP'!F15=0),\"  --\",'Set UP'!C15)","v":1440},{"$f":"IF(OR('Set UP'!$C15=0,'Set UP'!$D15=0,'Set UP'!$E15=0,'Set UP'!F15=0),\"  --\",'Set UP'!D15&\" \"&'Set UP'!E15)","v":"University of Plymouth B"},{"$f":"IF(OR('Set UP'!$C15=0,'Set UP'!$D15=0,'Set UP'!$E15=0,'Set UP'!F15=0,),\" --\",'Set UP'!F15)","v":"S"},null,null,null,"",null,null,"",{"$f":"IF('Set UP'!K15<>1,\"\",$L15)","v":""},{"$f":"IF('Set UP'!K15<>2,\"\",$L15)","v":""},{"$f":"IF('Set UP'!F15<>\"F\",\"\",$L15)","v":""},{"$f":"IF('Set UP'!F15<>\"NS\",\"\",$L15)","v":""},"","","","","","","","","","","","","",{"$f":"IF(OR(J15<>\"Finished\",U15=\"\"),\"\",(1-(L15-'Set UP'!$Z$12)/('Set UP'!$Z$12))*1000)","v":""}]
[null,10,{"$f":"IF(OR('Set UP'!$C16=0,'Set UP'!$D16=0,'Set UP'!$E16=0,'Set UP'!F16=0),\"  --\",'Set UP'!C16)","v":1431},{"$f":"IF(OR('Set UP'!$C16=0,'Set UP'!$D16=0,'Set UP'!$E16=0,'Set UP'!F16=0),\"  --\",'Set UP'!D16&\" \"&'Set UP'!E16)","v":"University of Nottingham C"},{"$f":"IF(OR('Set UP'!$C16=0,'Set UP'!$D16=0,'Set UP'!$E16=0,'Set UP'!F16=0,),\" --\",'Set UP'!F16)","v":"S"},null,null,null,"",null,null,"",{"$f":"IF('Set UP'!K16<>1,\"\",$L16)","v":""},{"$f":"IF('Set UP'!K16<>2,\"\",$L16)","v":""},{"$f":"IF('Set UP'!F16<>\"F\",\"\",$L16)","v":""},{"$f":"IF('Set UP'!F16<>\"NS\",\"\",$L16)","v":""},"","","","","","","","","","","","","",{"$f":"IF(OR(J16<>\"Finished\",U16=\"\"),\"\",(1-(L16-'Set UP'!$Z$12)/('Set UP'!$Z$12))*1000)","v":""}]
[null,11,{"$f":"IF(OR('Set UP'!$C17=0,'Set UP'!$D17=0,'Set UP'!$E17=0,'Set UP'!F17=0),\"  --\",'Set UP'!C17)","v":1445},{"$f":"IF(OR('Set UP'!$C17=0,'Set UP'!$D17=0,'Set UP'!$E17=0,'Set UP'!F17=0),\"  --\",'Set UP'!D17&\" \"&'Set UP'!E17)","v":"University of Birmingham D"},{"$f":"IF(OR('Set UP'!$C17=0,'Set UP'!$D17=0,'Set UP'!$E17=0,'Set UP'!F17=0,),\" --\",'Set UP'!F17)","v":"NC"},null,null,null,"",null,null,"",{"$f":"IF('Set UP'!K17<>1,\"\",$L17)","v":""},{"$f":"IF('Set UP'!K17<>2,\"\",$L17)","v":""},{"$f":"IF('Set UP'!F17<>\"F\",\"\",$L17)","v":""},{"$f":"IF('Set UP'!F17<>\"NS\",\"\",$L17)","v":""},"","","","","","","","","","","","","",{"$f":"IF(OR(J17<>\"Finished\",U17=\"\"),\"\",(1-(L17-'Set UP'!$Z$12)/('Set UP'!$Z$12))*1000)","v":""}]
[null,12,{"$f":"IF(OR('Set UP'!$C18=0,'Set UP'!$D18=0,'Set UP'!$E18=0,'Set UP'!F18=0),\"  --\",'Set UP'!C18)","v":"  --"},{"$f":"IF(OR('Set UP'!$C18=0,'Set UP'!$D18=0,'Set UP'!$E18=0,'Set UP'!F18=0),\"  --\",'Set UP'!D18&\" \"&'Set UP'!E18)","v":"  --"},{"$f":"IF(OR('Set UP'!$C18=0,'Set UP'!$D18=0,'Set UP'!$E18=0,'Set UP'!F18=0,),\" --\",'Set UP'!F18)","v":" --"},null,null,null,"",null,null,"",{"$f":"IF('Set UP'!K18<>1,\"\",$L18)","v":""},{"$f":"IF('Set UP'!K18<>2,\"\",$L18)","v":""},{"$f":"IF('Set UP'!F18<>\"F\",\"\",$L18)","v":""},{"$f":"IF('Set UP'!F18<>\"NS\",\"\",$L18)","v":""},"","","","","","","","","","","","","",{"$f":"IF(OR(J18<>\"Finished\",U18=\"\"),\"\",(1-(L18-'Set UP'!$Z$12)/('Set UP'!$Z$12))*1000)","v":""}]
[null,13,{"$f":"IF(OR('Set UP'!$C19=0,'Set UP'!$D19=0,'Set UP'!$E19=0,'Set UP'!F19=0),\"  --\",'Set UP'!C19)","v":1426},{"$f":"IF(OR('Set UP'!$C19=0,'Set UP'!$D19=0,'Set UP'!$E19=0,'Set UP'!F19=0),\"  --\",'Set UP'!D19&\" \"&'Set UP'!E19)","v":"London Universities B"},{"$f":"IF(OR('Set UP'!$C19=0,'Set UP'!$D19=0,'Set UP'!$E19=0,'Set UP'!F19=0,),\" --\",'Set UP'!F19)","v":"S"},null,null,null,"",null,null,"",{"$f":"IF('Set UP'!K19<>1,\"\",$L19)","v":""},{"$f":"IF('Set UP'!K19<>2,\"\",$L19)","v":""},{"$f":"IF('Set UP'!F19<>\"F\",\"\",$L19)","v":""},{"$f":"IF('Set UP'!F19<>\"NS\",\"\",$L19)","v":""},"","","","","","","","","","","","","",{"$f":"IF(OR(J19<>\"Finished\",U19=\"\"),\"\",(1-(L19-'Set UP'!$Z$12)/('Set UP'!$Z$12))*1000)","v":""}]
[null,14,{"$f":"IF(OR('Set UP'!$C20=0,'Set UP'!$D20=0,'Set UP'!$E20=0,'Set UP'!F20=0),\"  --\",'Set UP'!C20)","v":"  --"},{"$f":"IF(OR('Set UP'!$C20=0,'Set UP'!$D20=0,'Set UP'!$E20=0,'Set UP'!F20=0),\"  --\",'Set UP'!D20&\" \"&'Set UP'!E20)","v":"  --"},{"$f":"IF(OR('Set UP'!$C20=0,'Set UP'!$D20=0,'Set UP'!$E20=0,'Set UP'!F20=0,),\" --\",'Set UP'!F20)","v":" --"},null,null,null,"",null,null,"",{"$f":"IF('Set UP'!K20<>1,\"\",$L20)","v":""},{"$f":"IF('Set UP'!K20<>2,\"\",$L20)","v":""},{"$f":"IF('Set UP'!F20<>\"F\",\"\",$L20)","v":""},{"$f":"IF('Set UP'!F20<>\"NS\",\"\",$L20)","v":""},"","","","","","","","","","","","","",{"$f":"IF(OR(J20<>\"Finished\",U20=\"\"),\"\",(1-(L20-'Set UP'!$Z$12)/('Set UP'!$Z$12))*1000)","v":""}]
[null,15,{"$f":"IF(OR('Set UP'!$C21=0,'Set UP'!$D21=0,'Set UP'!$E21=0,'Set UP'!F21=0),\"  --\",'Set UP'!C21)","v":1427},{"$f":"IF(OR('Set UP'!$C21=0,'Set UP'!$D21=0,'Set UP'!$E21=0,'Set UP'!F21=0),\"  --\",'Set UP'!D21&\" \"&'Set UP'!E21)","v":"University of Southampton A"},{"$f":"IF(OR('Set UP'!$C21=0,'Set UP'!$D21=0,'Set UP'!$E21=0,'Set UP'!F21=0,),\" --\",'Set UP'!F21)","v":"S"},null,null,null,"",null,null,"",{"$f":"IF('Set UP'!K21<>1,\"\",$L21)","v":""},{"$f":"IF('Set UP'!K21<>2,\"\",$L21)","v":""},{"$f":"IF('Set UP'!F21<>\"F\",\"\",$L21)","v":""},{"$f":"IF('Set UP'!F21<>\"NS\",\"\",$L21)","v":""},"","","","","","","","","","","","","",{"$f":"IF(OR(J21<>\"Finished\",U21=\"\"),\"\",(1-(L21-'Set UP'!$Z$12)/('Set UP'!$Z$12))*1000)","v":""}]
[null,16,{"$f":"IF(OR('Set UP'!$C22=0,'Set UP'!$D22=0,'Set UP'!$E22=0,'Set UP'!F22=0),\"  --\",'Set UP'!C22)","v":1444},{"$f":"IF(OR('Set UP'!$C22=0,'Set UP'!$D22=0,'Set UP'!$E22=0,'Set UP'!F22=0),\"  --\",'Set UP'!D22&\" \"&'Set UP'!E22)","v":"University of Birmingham C"},{"$f":"IF(OR('Set UP'!$C22=0,'Set UP'!$D22=0,'Set UP'!$E22=0,'Set UP'!F22=0,),\" --\",'Set UP'!F22)","v":"S"},null,null,null,"",null,null,"",{"$f":"IF('Set UP'!K22<>1,\"\",$L22)","v":""},{"$f":"IF('Set UP'!K22<>2,\"\",$L22)","v":""},{"$f":"IF('Set UP'!F22<>\"F\",\"\",$L22)","v":""},{"$f":"IF('Set UP'!F22<>\"NS\",\"\",$L22)","v":""},"","","","","","","","","","","","","",{"$f":"IF(OR(J22<>\"Finished\",U22=\"\"),\"\",(1-(L22-'Set UP'!$Z$12)/('Set UP'!$Z$12))*1000)","v":""}]
[null,17,{"$f":"IF(OR('Set UP'!$C23=0,'Set UP'!$D23=0,'Set UP'!$E23=0,'Set UP'!F23=0),\"  --\",'Set UP'!C23)","v":1439},{"$f":"IF(OR('Set UP'!$C23=0,'Set UP'!$D23=0,'Set UP'!$E23=0,'Set UP'!F23=0),\"  --\",'Set UP'!D23&\" \"&'Set UP'!E23)","v":"University of Plymouth A"},{"$f":"IF(OR('Set UP'!$C23=0,'Set UP'!$D23=0,'Set UP'!$E23=0,'Set UP'!F23=0,),\" --\",'Set UP'!F23)","v":"S"},null,null,null,"",null,null,"",{"$f":"IF('Set UP'!K23<>1,\"\",$L23)","v":""},{"$f":"IF('Set UP'!K23<>2,\"\",$L23)","v":""},{"$f":"IF('Set UP'!F23<>\"F\",\"\",$L23)","v":""},{"$f":"IF('Set UP'!F23<>\"NS\",\"\",$L23)","v":""},"","","","","","","","","","","","","",{"$f":"IF(OR(J23<>\"Finished\",U23=\"\"),\"\",(1-(L23-'Set UP'!$Z$12)/('Set UP'!$Z$12))*1000)","v":""}]
[null,18,{"$f":"IF(OR('Set UP'!$C24=0,'Set UP'!$D24=0,'Set UP'!$E24=0,'Set UP'!F24=0),\"  --\",'Set UP'!C24)","v":1461},{"$f":"IF(OR('Set UP'!$C24=0,'Set UP'!$D24=0,'Set UP'!$E24=0,'Set UP'!F24=0),\"  --\",'Set UP'!D24&\" \"&'Set UP'!E24)","v":"Bristol University B"},{"$f":"IF(OR('Set UP'!$C24=0,'Set UP'!$D24=0,'Set UP'!$E24=0,'Set UP'!F24=0,),\" --\",'Set UP'!F24)","v":"S"},null,null,null,"",null,null,"",{"$f":"IF('Set UP'!K24<>1,\"\",$L24)","v":""},{"$f":"IF('Set UP'!K24<>2,\"\",$L24)","v":""},{"$f":"IF('Set UP'!F24<>\"F\",\"\",$L24)","v":""},{"$f":"IF('Set UP'!F24<>\"NS\",\"\",$L24)","v":""},"","","","","","","","","","","","","",{"$f":"IF(OR(J24<>\"Finished\",U24=\"\"),\"\",(1-(L24-'Set UP'!$Z$12)/('Set UP'!$Z$12))*1000)","v":""}]
[null,19,{"$f":"IF(OR('Set UP'!$C25=0,'Set UP'!$D25=0,'Set UP'!$E25=0,'Set UP'!F25=0),\"  --\",'Set UP'!C25)","v":1436},{"$f":"IF(OR('Set UP'!$C25=0,'Set UP'!$D25=0,'Set UP'!$E25=0,'Set UP'!F25=0),\"  --\",'Set UP'!D25&\" \"&'Set UP'!E25)","v":"Loughborough University C"},{"$f":"IF(OR('Set UP'!$C25=0,'Set UP'!$D25=0,'Set UP'!$E25=0,'Set UP'!F25=0,),\" --\",'Set UP'!F25)","v":"S"},null,null,null,"",null,null,"",{"$f":"IF('Set UP'!K25<>1,\"\",$L25)","v":""},{"$f":"IF('Set UP'!K25<>2,\"\",$L25)","v":""},{"$f":"IF('Set UP'!F25<>\"F\",\"\",$L25)","v":""},{"$f":"IF('Set UP'!F25<>\"NS\",\"\",$L25)","v":""},"","","","","","","","","","","","","",{"$f":"IF(OR(J25<>\"Finished\",U25=\"\"),\"\",(1-(L25-'Set UP'!$Z$12)/('Set UP'!$Z$12))*1000)","v":""}]
[null,20,{"$f":"IF(OR('Set UP'!$C26=0,'Set UP'!$D26=0,'Set UP'!$E26=0,'Set UP'!F26=0),\"  --\",'Set UP'!C26)","v":1443},{"$f":"IF(OR('Set UP'!$C26=0,'Set UP'!$D26=0,'Set UP'!$E26=0,'Set UP'!F26=0),\"  --\",'Set UP'!D26&\" \"&'Set UP'!E26)","v":"University of Birmingham B"},{"$f":"IF(OR('Set UP'!$C26=0,'Set UP'!$D26=0,'Set UP'!$E26=0,'Set UP'!F26=0,),\" --\",'Set UP'!F26)","v":"S"},null,null,null,"",null,null,"",{"$f":"IF('Set UP'!K26<>1,\"\",$L26)","v":""},{"$f":"IF('Set UP'!K26<>2,\"\",$L26)","v":""},{"$f":"IF('Set UP'!F26<>\"F\",\"\",$L26)","v":""},{"$f":"IF('Set UP'!F26<>\"NS\",\"\",$L26)","v":""},"","","","","","","","","","","","","",{"$f":"IF(OR(J26<>\"Finished\",U26=\"\"),\"\",(1-(L26-'Set UP'!$Z$12)/('Set UP'!$Z$12))*1000)","v":""}]
[null,21,{"$f":"IF(OR('Set UP'!$C27=0,'Set UP'!$D27=0,'Set UP'!$E27=0,'Set UP'!F27=0),\"  --\",'Set UP'!C27)","v":1434},{"$f":"IF(OR('Set UP'!$C27=0,'Set UP'!$D27=0,'Set UP'!$E27=0,'Set UP'!F27=0),\"  --\",'Set UP'!D27&\" \"&'Set UP'!E27)","v":"Loughborough University A"},{"$f":"IF(OR('Set UP'!$C27=0,'Set UP'!$D27=0,'Set UP'!$E27=0,'Set UP'!F27=0,),\" --\",'Set UP'!F27)","v":"S"},null,null,null,"",null,null,"",{"$f":"IF('Set UP'!K27<>1,\"\",$L27)","v":""},{"$f":"IF('Set UP'!K27<>2,\"\",$L27)","v":""},{"$f":"IF('Set UP'!F27<>\"F\",\"\",$L27)","v":""},{"$f":"IF('Set UP'!F27<>\"NS\",\"\",$L27)","v":""},"","","","","","","","","","","","","",{"$f":"IF(OR(J27<>\"Finished\",U27=\"\"),\"\",(1-(L27-'Set UP'!$Z$12)/('Set UP'!$Z$12))*1000)","v":""}]
[null,22,{"$f":"IF(OR('Set UP'!$C28=0,'Set UP'!$D28=0,'Set UP'!$E28=0,'Set UP'!F28=0),\"  --\",'Set UP'!C28)","v":1435},{"$f":"IF(OR('Set UP'!$C28=0,'Set UP'!$D28=0,'Set UP'!$E28=0,'Set UP'!F28=0),\"  --\",'Set UP'!D28&\" \"&'Set UP'!E28)","v":"Loughborough University B"},{"$f":"IF(OR('Set UP'!$C28=0,'Set UP'!$D28=0,'Set UP'!$E28=0,'Set UP'!F28=0,),\" --\",'Set UP'!F28)","v":"S"},null,null,null,"",null,null,"",{"$f":"IF('Set UP'!K28<>1,\"\",$L28)","v":""},{"$f":"IF('Set UP'!K28<>2,\"\",$L28)","v":""},{"$f":"IF('Set UP'!F28<>\"F\",\"\",$L28)","v":""},{"$f":"IF('Set UP'!F28<>\"NS\",\"\",$L28)","v":""},"","","","","","","","","","","","","",{"$f":"IF(OR(J28<>\"Finished\",U28=\"\"),\"\",(1-(L28-'Set UP'!$Z$12)/('Set UP'!$Z$12))*1000)","v":""}]
[null,23,{"$f":"IF(OR('Set UP'!$C29=0,'Set UP'!$D29=0,'Set UP'!$E29=0,'Set UP'!F29=0),\"  --\",'Set UP'!C29)","v":1457},{"$f":"IF(OR('Set UP'!$C29=0,'Set UP'!$D29=0,'Set UP'!$E29=0,'Set UP'!F29=0),\"  --\",'Set UP'!D29&\" \"&'Set UP'!E29)","v":"University of Warwick B"},{"$f":"IF(OR('Set UP'!$C29=0,'Set UP'!$D29=0,'Set UP'!$E29=0,'Set UP'!F29=0,),\" --\",'Set UP'!F29)","v":"S"},null,null,null,"",null,null,"",{"$f":"IF('Set UP'!K29<>1,\"\",$L29)","v":""},{"$f":"IF('Set UP'!K29<>2,\"\",$L29)","v":""},{"$f":"IF('Set UP'!F29<>\"F\",\"\",$L29)","v":""},{"$f":"IF('Set UP'!F29<>\"NS\",\"\",$L29)","v":""},"","","","","","","","","","","","","",{"$f":"IF(OR(J29<>\"Finished\",U29=\"\"),\"\",(1-(L29-'Set UP'!$Z$12)/('Set UP'!$Z$12))*1000)","v":""}]
[null,24,{"$f":"IF(OR('Set UP'!$C30=0,'Set UP'!$D30=0,'Set UP'!$E30=0,'Set UP'!F30=0),\"  --\",'Set UP'!C30)","v":1429},{"$f":"IF(OR('Set UP'!$C30=0,'Set UP'!$D30=0,'Set UP'!$E30=0,'Set UP'!F30=0),\"  --\",'Set UP'!D30&\" \"&'Set UP'!E30)","v":"University of Nottingham A"},{"$f":"IF(OR('Set UP'!$C30=0,'Set UP'!$D30=0,'Set UP'!$E30=0,'Set UP'!F30=0,),\" --\",'Set UP'!F30)","v":"S"},null,null,null,"",null,null,"",{"$f":"IF('Set UP'!K30<>1,\"\",$L30)","v":""},{"$f":"IF('Set UP'!K30<>2,\"\",$L30)","v":""},{"$f":"IF('Set UP'!F30<>\"F\",\"\",$L30)","v":""},{"$f":"IF('Set UP'!F30<>\"NS\",\"\",$L30)","v":""},"","","","","","","","","","","","","",{"$f":"IF(OR(J30<>\"Finished\",U30=\"\"),\"\",(1-(L30-'Set UP'!$Z$12)/('Set UP'!$Z$12))*1000)","v":""}]
[null,25,{"$f":"IF(OR('Set UP'!$C31=0,'Set UP'!$D31=0,'Set UP'!$E31=0,'Set UP'!F31=0),\"  --\",'Set UP'!C31)","v":1438},{"$f":"IF(OR('Set UP'!$C31=0,'Set UP'!$D31=0,'Set UP'!$E31=0,'Set UP'!F31=0),\"  --\",'Set UP'!D31&\" \"&'Set UP'!E31)","v":"Swansea Universities Lifesaving B"},{"$f":"IF(OR('Set UP'!$C31=0,'Set UP'!$D31=0,'Set UP'!$E31=0,'Set UP'!F31=0,),\" --\",'Set UP'!F31)","v":"S"},null,null,null,"",null,null,"",{"$f":"IF('Set UP'!K31<>1,\"\",$L31)","v":""},{"$f":"IF('Set UP'!K31<>2,\"\",$L31)","v":""},{"$f":"IF('Set UP'!F31<>\"F\",\"\",$L31)","v":""},{"$f":"IF('Set UP'!F31<>\"NS\",\"\",$L31)","v":""},"","","","","","","","","","","","","",{"$f":"IF(OR(J31<>\"Finished\",U31=\"\"),\"\",(1-(L31-'Set UP'!$Z$12)/('Set UP'!$Z$12))*1000)","v":""}]
[null,26,{"$f":"IF(OR('Set UP'!$C32=0,'Set UP'!$D32=0,'Set UP'!$E32=0,'Set UP'!F32=0),\"  --\",'Set UP'!C32)","v":1442},{"$f":"IF(OR('Set UP'!$C32=0,'Set UP'!$D32=0,'Set UP'!$E32=0,'Set UP'!F32=0),\"  --\",'Set UP'!D32&\" \"&'Set UP'!E32)","v":"University of Birmingham A"},{"$f":"IF(OR('Set UP'!$C32=0,'Set UP'!$D32=0,'Set UP'!$E32=0,'Set UP'!F32=0,),\" --\",'Set UP'!F32)","v":"S"},null,null,null,"",null,null,"",{"$f":"IF('Set UP'!K32<>1,\"\",$L32)","v":""},{"$f":"IF('Set UP'!K32<>2,\"\",$L32)","v":""},{"$f":"IF('Set UP'!F32<>\"F\",\"\",$L32)","v":""},{"$f":"IF('Set UP'!F32<>\"NS\",\"\",$L32)","v":""},"","","","","","","","","","","","","",{"$f":"IF(OR(J32<>\"Finished\",U32=\"\"),\"\",(1-(L32-'Set UP'!$Z$12)/('Set UP'!$Z$12))*1000)","v":""}]
[null,27,{"$f":"IF(OR('Set UP'!$C33=0,'Set UP'!$D33=0,'Set UP'!$E33=0,'Set UP'!F33=0),\"  --\",'Set UP'!C33)","v":1456},{"$f":"IF(OR('Set UP'!$C33=0,'Set UP'!$D33=0,'Set UP'!$E33=0,'Set UP'!F33=0),\"  --\",'Set UP'!D33&\" \"&'Set UP'!E33)","v":"University of Warwick A"},{"$f":"IF(OR('Set UP'!$C33=0,'Set UP'!$D33=0,'Set UP'!$E33=0,'Set UP'!F33=0,),\" --\",'Set UP'!F33)","v":"S"},null,null,null,"",null,null,"",{"$f":"IF('Set UP'!K33<>1,\"\",$L33)","v":""},{"$f":"IF('Set UP'!K33<>2,\"\",$L33)","v":""},{"$f":"IF('Set UP'!F33<>\"F\",\"\",$L33)","v":""},{"$f":"IF('Set UP'!F33<>\"NS\",\"\",$L33)","v":""},"","","","","","","","","","","","","",{"$f":"IF(OR(J33<>\"Finished\",U33=\"\"),\"\",(1-(L33-'Set UP'!$Z$12)/('Set UP'!$Z$12))*1000)","v":""}]
[null,28,{"$f":"IF(OR('Set UP'!$C34=0,'Set UP'!$D34=0,'Set UP'!$E34=0,'Set UP'!F34=0),\"  --\",'Set UP'!C34)","v":1460},{"$f":"IF(OR('Set UP'!$C34=0,'Set UP'!$D34=0,'Set UP'!$E34=0,'Set UP'!F34=0),\"  --\",'Set UP'!D34&\" \"&'Set UP'!E34)","v":"Bristol University A"},{"$f":"IF(OR('Set UP'!$C34=0,'Set UP'!$D34=0,'Set UP'!$E34=0,'Set UP'!F34=0,),\" --\",'Set UP'!F34)","v":"S"},null,null,null,"",null,null,"",{"$f":"IF('Set UP'!K34<>1,\"\",$L34)","v":""},{"$f":"IF('Set UP'!K34<>2,\"\",$L34)","v":""},{"$f":"IF('Set UP'!F34<>\"F\",\"\",$L34)","v":""},{"$f":"IF('Set UP'!F34<>\"NS\",\"\",$L34)","v":""},"","","","","","","","","","","","","",{"$f":"IF(OR(J34<>\"Finished\",U34=\"\"),\"\",(1-(L34-'Set UP'!$Z$12)/('Set UP'!$Z$12))*1000)","v":""}]
[null,29,{"$f":"IF(OR('Set UP'!$C35=0,'Set UP'!$D35=0,'Set UP'!$E35=0,'Set UP'!F35=0),\"  --\",'Set UP'!C35)","v":1437},{"$f":"IF(OR('Set UP'!$C35=0,'Set UP'!$D35=0,'Set UP'!$E35=0,'Set UP'!F35=0),\"  --\",'Set UP'!D35&\" \"&'Set UP'!E35)","v":"Swansea Universities Lifesaving A"},{"$f":"IF(OR('Set UP'!$C35=0,'Set UP'!$D35=0,'Set UP'!$E35=0,'Set UP'!F35=0,),\" --\",'Set UP'!F35)","v":"S"},null,null,null,"",null,null,"",{"$f":"IF('Set UP'!K35<>1,\"\",$L35)","v":""},{"$f":"IF('Set UP'!K35<>2,\"\",$L35)","v":""},{"$f":"IF('Set UP'!F35<>\"F\",\"\",$L35)","v":""},{"$f":"IF('Set UP'!F35<>\"NS\",\"\",$L35)","v":""},"","","","","","","","","","","","","",{"$f":"IF(OR(J35<>\"Finished\",U35=\"\"),\"\",(1-(L35-'Set UP'!$Z$12)/('Set UP'!$Z$12))*1000)","v":""}]
[null,30,{"$f":"IF(OR('Set UP'!$C36=0,'Set UP'!$D36=0,'Set UP'!$E36=0,'Set UP'!F36=0),\"  --\",'Set UP'!C36)","v":1425},{"$f":"IF(OR('Set UP'!$C36=0,'Set UP'!$D36=0,'Set UP'!$E36=0,'Set UP'!F36=0),\"  --\",'Set UP'!D36&\" \"&'Set UP'!E36)","v":"London Universities A"},{"$f":"IF(OR('Set UP'!$C36=0,'Set UP'!$D36=0,'Set UP'!$E36=0,'Set UP'!F36=0,),\" --\",'Set UP'!F36)","v":"S"},null,null,null,"",null,null,"",{"$f":"IF('Set UP'!K36<>1,\"\",$L36)","v":""},{"$f":"IF('Set UP'!K36<>2,\"\",$L36)","v":""},{"$f":"IF('Set UP'!F36<>\"F\",\"\",$L36)","v":""},{"$f":"IF('Set UP'!F36<>\"NS\",\"\",$L36)","v":""},"","","","","","","","","","","","","",{"$f":"IF(OR(J36<>\"Finished\",U36=\"\"),\"\",(1-(L36-'Set UP'!$Z$12)/('Set UP'!$Z$12))*1000)","v":""}]
[null,31,{"$f":"IF(OR('Set UP'!$C37=0,'Set UP'!$D37=0,'Set UP'!$E37=0,'Set UP'!F37=0),\"  --\",'Set UP'!C37)","v":"  --"},{"$f":"IF(OR('Set UP'!$C37=0,'Set UP'!$D37=0,'Set UP'!$E37=0,'Set UP'!F37=0),\"  --\",'Set UP'!D37&\" \"&'Set UP'!E37)","v":"  --"},{"$f":"IF(OR('Set UP'!$C37=0,'Set UP'!$D37=0,'Set UP'!$E37=0,'Set UP'!F37=0,),\" --\",'Set UP'!F37)","v":" --"},null,null,null,"",null,null,"",{"$f":"IF('Set UP'!K37<>1,\"\",$L37)","v":""},{"$f":"IF('Set UP'!K37<>2,\"\",$L37)","v":""},{"$f":"IF('Set UP'!F37<>\"F\",\"\",$L37)","v":""},{"$f":"IF('Set UP'!F37<>\"NS\",\"\",$L37)","v":""},"","","","","","","","","","","","","",{"$f":"IF(OR(J37<>\"Finished\",U37=\"\"),\"\",(1-(L37-'Set UP'!$Z$12)/('Set UP'!$Z$12))*1000)","v":""}]
[null,32,{"$f":"IF(OR('Set UP'!$C38=0,'Set UP'!$D38=0,'Set UP'!$E38=0,'Set UP'!F38=0),\"  --\",'Set UP'!C38)","v":"  --"},{"$f":"IF(OR('Set UP'!$C38=0,'Set UP'!$D38=0,'Set UP'!$E38=0,'Set UP'!F38=0),\"  --\",'Set UP'!D38&\" \"&'Set UP'!E38)","v":"  --"},{"$f":"IF(OR('Set UP'!$C38=0,'Set UP'!$D38=0,'Set UP'!$E38=0,'Set UP'!F38=0,),\" --\",'Set UP'!F38)","v":" --"},null,null,null,"",null,null,"",{"$f":"IF('Set UP'!K38<>1,\"\",$L38)","v":""},{"$f":"IF('Set UP'!K38<>2,\"\",$L38)","v":""},{"$f":"IF('Set UP'!F38<>\"F\",\"\",$L38)","v":""},{"$f":"IF('Set UP'!F38<>\"NS\",\"\",$L38)","v":""},"","","","","","","","","","","","","",{"$f":"IF(OR(J38<>\"Finished\",U38=\"\"),\"\",(1-(L38-'Set UP'!$Z$12)/('Set UP'!$Z$12))*1000)","v":""}]
[null,33,{"$f":"IF(OR('Set UP'!$C39=0,'Set UP'!$D39=0,'Set UP'!$E39=0,'Set UP'!F39=0),\"  --\",'Set UP'!C39)","v":"  --"},{"$f":"IF(OR('Set UP'!$C39=0,'Set UP'!$D39=0,'Set UP'!$E39=0,'Set UP'!F39=0),\"  --\",'Set UP'!D39&\" \"&'Set UP'!E39)","v":"  --"},{"$f":"IF(OR('Set UP'!$C39=0,'Set UP'!$D39=0,'Set UP'!$E39=0,'Set UP'!F39=0,),\" --\",'Set UP'!F39)","v":" --"},null,null,null,"",null,null,"",{"$f":"IF('Set UP'!K39<>1,\"\",$L39)","v":""},{"$f":"IF('Set UP'!K39<>2,\"\",$L39)","v":""},{"$f":"IF('Set UP'!F39<>\"F\",\"\",$L39)","v":""},{"$f":"IF('Set UP'!F39<>\"NS\",\"\",$L39)","v":""},"","","","","","","","","","","","","",{"$f":"IF(OR(J39<>\"Finished\",U39=\"\"),\"\",(1-(L39-'Set UP'!$Z$12)/('Set UP'!$Z$12))*1000)","v":""}]
[null,34,{"$f":"IF(OR('Set UP'!$C40=0,'Set UP'!$D40=0,'Set UP'!$E40=0,'Set UP'!F40=0),\"  --\",'Set UP'!C40)","v":"  --"},{"$f":"IF(OR('Set UP'!$C40=0,'Set UP'!$D40=0,'Set UP'!$E40=0,'Set UP'!F40=0),\"  --\",'Set UP'!D40&\" \"&'Set UP'!E40)","v":"  --"},{"$f":"IF(OR('Set UP'!$C40=0,'Set UP'!$D40=0,'Set UP'!$E40=0,'Set UP'!F40=0,),\" --\",'Set UP'!F40)","v":" --"},null,null,null,"",null,null,"",{"$f":"IF('Set UP'!K40<>1,\"\",$L40)","v":""},{"$f":"IF('Set UP'!K40<>2,\"\",$L40)","v":""},{"$f":"IF('Set UP'!F40<>\"F\",\"\",$L40)","v":""},{"$f":"IF('Set UP'!F40<>\"NS\",\"\",$L40)","v":""},"","","","","","","","","","","","","",{"$f":"IF(OR(J40<>\"Finished\",U40=\"\"),\"\",(1-(L40-'Set UP'!$Z$12)/('Set UP'!$Z$12))*1000)","v":""}]
[null,35,{"$f":"IF(OR('Set UP'!$C41=0,'Set UP'!$D41=0,'Set UP'!$E41=0,'Set UP'!F41=0),\"  --\",'Set UP'!C41)","v":"  --"},{"$f":"IF(OR('Set UP'!$C41=0,'Set UP'!$D41=0,'Set UP'!$E41=0,'Set UP'!F41=0),\"  --\",'Set UP'!D41&\" \"&'Set UP'!E41)","v":"  --"},{"$f":"IF(OR('Set UP'!$C41=0,'Set UP'!$D41=0,'Set UP'!$E41=0,'Set UP'!F41=0,),\" --\",'Set UP'!F41)","v":" --"},null,null,null,"",null,null,"",{"$f":"IF('Set UP'!K41<>1,\"\",$L41)","v":""},{"$f":"IF('Set UP'!K41<>2,\"\",$L41)","v":""},{"$f":"IF('Set UP'!F41<>\"F\",\"\",$L41)","v":""},{"$f":"IF('Set UP'!F41<>\"NS\",\"\",$L41)","v":""},"","","","","","","","","","","","","",{"$f":"IF(OR(J41<>\"Finished\",U41=\"\"),\"\",(1-(L41-'Set UP'!$Z$12)/('Set UP'!$Z$12))*1000)","v":""}]
[null,36,{"$f":"IF(OR('Set UP'!$C42=0,'Set UP'!$D42=0,'Set UP'!$E42=0,'Set UP'!F42=0),\"  --\",'Set UP'!C42)","v":"  --"},{"$f":"IF(OR('Set UP'!$C42=0,'Set UP'!$D42=0,'Set UP'!$E42=0,'Set UP'!F42=0),\"  --\",'Set UP'!D42&\" \"&'Set UP'!E42)","v":"  --"},{"$f":"IF(OR('Set UP'!$C42=0,'Set UP'!$D42=0,'Set UP'!$E42=0,'Set UP'!F42=0,),\" --\",'Set UP'!F42)","v":" --"},null,null,null,"",null,null,"",{"$f":"IF('Set UP'!K42<>1,\"\",$L42)","v":""},{"$f":"IF('Set UP'!K42<>2,\"\",$L42)","v":""},{"$f":"IF('Set UP'!F42<>\"F\",\"\",$L42)","v":""},{"$f":"IF('Set UP'!F42<>\"NS\",\"\",$L42)","v":""},"","","","","","","","","","","","","",{"$f":"IF(OR(J42<>\"Finished\",U42=\"\"),\"\",(1-(L42-'Set UP'!$Z$12)/('Set UP'!$Z$12))*1000)","v":""}]
[null,37,{"$f":"IF(OR('Set UP'!$C43=0,'Set UP'!$D43=0,'Set UP'!$E43=0,'Set UP'!F43=0),\"  --\",'Set UP'!C43)","v":"  --"},{"$f":"IF(OR('Set UP'!$C43=0,'Set UP'!$D43=0,'Set UP'!$E43=0,'Set UP'!F43=0),\"  --\",'Set UP'!D43&\" \"&'Set UP'!E43)","v":"  --"},{"$f":"IF(OR('Set UP'!$C43=0,'Set UP'!$D43=0,'Set UP'!$E43=0,'Set UP'!F43=0,),\" --\",'Set UP'!F43)","v":" --"},null,null,null,"",null,null,"",{"$f":"IF('Set UP'!K43<>1,\"\",$L43)","v":""},{"$f":"IF('Set UP'!K43<>2,\"\",$L43)","v":""},{"$f":"IF('Set UP'!F43<>\"F\",\"\",$L43)","v":""},{"$f":"IF('Set UP'!F43<>\"NS\",\"\",$L43)","v":""},"","","","","","","","","","","","","",{"$f":"IF(OR(J43<>\"Finished\",U43=\"\"),\"\",(1-(L43-'Set UP'!$Z$12)/('Set UP'!$Z$12))*1000)","v":""}]
[null,38,{"$f":"IF(OR('Set UP'!$C44=0,'Set UP'!$D44=0,'Set UP'!$E44=0,'Set UP'!F44=0),\"  --\",'Set UP'!C44)","v":"  --"},{"$f":"IF(OR('Set UP'!$C44=0,'Set UP'!$D44=0,'Set UP'!$E44=0,'Set UP'!F44=0),\"  --\",'Set UP'!D44&\" \"&'Set UP'!E44)","v":"  --"},{"$f":"IF(OR('Set UP'!$C44=0,'Set UP'!$D44=0,'Set UP'!$E44=0,'Set UP'!F44=0,),\" --\",'Set UP'!F44)","v":" --"},null,null,null,"",null,null,"",{"$f":"IF('Set UP'!K44<>1,\"\",$L44)","v":""},{"$f":"IF('Set UP'!K44<>2,\"\",$L44)","v":""},{"$f":"IF('Set UP'!F44<>\"F\",\"\",$L44)","v":""},{"$f":"IF('Set UP'!F44<>\"NS\",\"\",$L44)","v":""},"","","","","","","","","","","","","",{"$f":"IF(OR(J44<>\"Finished\",U44=\"\"),\"\",(1-(L44-'Set UP'!$Z$12)/('Set UP'!$Z$12))*1000)","v":""}]
[null,39,{"$f":"IF(OR('Set UP'!$C45=0,'Set UP'!$D45=0,'Set UP'!$E45=0,'Set UP'!F45=0),\"  --\",'Set UP'!C45)","v":"  --"},{"$f":"IF(OR('Set UP'!$C45=0,'Set UP'!$D45=0,'Set UP'!$E45=0,'Set UP'!F45=0),\"  --\",'Set UP'!D45&\" \"&'Set UP'!E45)","v":"  --"},{"$f":"IF(OR('Set UP'!$C45=0,'Set UP'!$D45=0,'Set UP'!$E45=0,'Set UP'!F45=0,),\" --\",'Set UP'!F45)","v":" --"},null,null,null,"",null,null,"",{"$f":"IF('Set UP'!K45<>1,\"\",$L45)","v":""},{"$f":"IF('Set UP'!K45<>2,\"\",$L45)","v":""},{"$f":"IF('Set UP'!F45<>\"F\",\"\",$L45)","v":""},{"$f":"IF('Set UP'!F45<>\"NS\",\"\",$L45)","v":""},"","","","","","","","","","","","","",{"$f":"IF(OR(J45<>\"Finished\",U45=\"\"),\"\",(1-(L45-'Set UP'!$Z$12)/('Set UP'!$Z$12))*1000)","v":""}]
[null,40,{"$f":"IF(OR('Set UP'!$C46=0,'Set UP'!$D46=0,'Set UP'!$E46=0,'Set UP'!F46=0),\"  --\",'Set UP'!C46)","v":"  --"},{"$f":"IF(OR('Set UP'!$C46=0,'Set UP'!$D46=0,'Set UP'!$E46=0,'Set UP'!F46=0),\"  --\",'Set UP'!D46&\" \"&'Set UP'!E46)","v":"  --"},{"$f":"IF(OR('Set UP'!$C46=0,'Set UP'!$D46=0,'Set UP'!$E46=0,'Set UP'!F46=0,),\" --\",'Set UP'!F46)","v":" --"},null,null,null,"",null,null,"",{"$f":"IF('Set UP'!K46<>1,\"\",$L46)","v":""},{"$f":"IF('Set UP'!K46<>2,\"\",$L46)","v":""},{"$f":"IF('Set UP'!F46<>\"F\",\"\",$L46)","v":""},{"$f":"IF('Set UP'!F46<>\"NS\",\"\",$L46)","v":""},"","","","","","","","","","","","","",{"$f":"IF(OR(J46<>\"Finished\",U46=\"\"),\"\",(1-(L46-'Set UP'!$Z$12)/('Set UP'!$Z$12))*1000)","v":""}]
[null,null,null,null,null,null,null,null,null,null,null,null,null,null,null,null,null,null,null,null,null,null,null,null,null,"",null,null,null,{"$f":"IF(OR(J47<>\"Finished\",U47=\"\"),\"\",(1-(L47-'Set UP'!$Z$12)/('Set UP'!$Z$12))*1000)","v":""}]
[]
[]
[]
[]
[]
[]
[]
[]
[]
[]
[]
[]
[]
[null,null,null,null,null,null,null,null,null,"Finished"]
[null,null,null,null,null,null,null,null,null,"Disqualified"]

{"sheet":"Freshers Places","index":20,"n_rows":47,"n_cols":6,"rows_kept":47,"cut":false,"hidden":true,"merged":[[2,2,2,3],[46,1,46,4],[47,1,47,6]]}
[]
[]
[null,null,"Freshers Places",null,null,"Club to Highlight"]
[]
[null,null,"Place","Team"]
[]
[]
[]
[]
[]
[]
[]
[]
[]
[]
[]
[]
[]
[]
[]
[]
[]
[]
[]
[]
[]
[]
[]
[]
[]
[]
[]
[]
[]
[]
[]
[]
[]
[]
[]
[]
[]
[]
[]
[]
[]
[null,"Copyright Simon Harrison 2008, Oliver Coleman 2009"]

{"sheet":"Extra Incident","index":21,"n_rows":61,"n_cols":286,"rows_kept":61,"cut":false,"hidden":true,"merged":[[15,285,19,285],[15,283,19,283],[15,284,19,284],[15,5,15,31],[15,32,15,58],[15,59,15,85],[15,86,15,112],[15,113,15,139],[15,281,19,281],[15,282,19,282],[15,167,15,193],[15,194,15,220],[15,221,15,247],[15,248,15,274],[15,275,19,275],[15,276,19,276],[16,167,16,193],[15,278,19,278],[15,279,19,279],[15,280,19,280],[15,140,15,166],[17,193,19,193],[17,220,19,220],[17,247,19,247],[17,274,19,274],[17,166,19,166],[16,194,16,220],[16,221,16,247],[16,248,16,274],[16,140,16,166],[15,277,19,277],[16,5,16,31],[16,32,16,58],[16,59,16,85],[16,86,16,112],[16,113,16,139],[17,31,19,31],[17,58,19,58],[17,85,19,85],[17,112,19,112],[17,139,19,139]]}
[null,null,null,null,"JUDGE START HIDE ROW",1,null,null,null,null,null,null,null,null,null,null,null,null,null,null,null,null,null,null,null,null,null,null,null,null,null,null,2,null,null,null,null,null,null,null,null,null,null,null,null,null,null,null,null,null,null,null,null,null,null,null,null,null,null,3,null,null,null,null,null,null,null,null,null,null,null,null,null,null,null,null,null,null,null,null,null,null,null,null,null,null,4,null,null,null,null,null,null,null,null,null,null,null,null,null,null,null,null,null,null,null,null,null,null,null,null,null,null,5,null,null,null,null,null,null,null,null,null,null,null,null,null,null,null,null,null,null,null,null,null,null,null,null,null,null,6,null,null,null,null,null,null,null,null,null,null,null,null,null,null,null,null,null,null,null,null,null,null,null,null,null,null,7,null,null,null,null,null,null,null,null,null,null,null,null,null,null,null,null,null,null,null,null,null,null,null,null,null,null,8,null,null,null,null,null,null,null,null,null,null,null,null,null,null,null,null,null,null,null,null,null,null,null,null,null,null,9,null,null,null,null,null,null,null,null,null,null,null,null,null,null,null,null,null,null,null,null,null,null,null,null,null,null,10,null,null,null,null,null,null,null,null,null,null,null,null,null,null,null,null,null,null,null,null,null,null,null,null,null,null,11,null,"h",null,"h",null,"h",null,"h",null,"e"]
[null,null,null,"No. Judges Required(1 to 10)",1]
[null,null,null,"Judge 1 Citeria (1 to 25)",10]
[null,null,null,"Judge 2 Citeria (1 to 25)",10]
[null,null,null,"Judge 3 Citeria (1 to 25)",10]
[null,null,null,"Judge 4 Citeria (1 to 25)",10]
[null,null,null,"Judge 5 Citeria (1 to 25)",10]
[null,null,null,"Judge 6 Citeria (1 to 25)",10]
[null,null,null,"Judge 7 Citeria (1 to 25)",10]
[null,null,null,"Judge 8 Citeria (1 to 25)",10]
[null,null,null,"Judge 9 Citeria (1 to 25)",10]
[null,null,null,"Judge 10 Citeria (1 to 25)",10]
[]
[]
[null,null,null,{"$f":"'Set UP'!Q8","v":"Extra Incident"}]
[null,null,null,"Club to Highlight",null,"JUDGE 1",null,null,null,null,null,null,null,null,null,null,null,null,null,null,null,null,null,null,null,null,null,null,null,null,null,null,"JUDGE 2",null,null,null,null,null,null,null,null,null,null,null,null,null,null,null,null,null,null,null,null,null,null,null,null,null,null,"JUDGE 3",null,null,null,null,null,null,null,null,null,null,null,null,null,null,null,null,null,null,null,null,null,null,null,null,null,null,"JUDGE 4",null,null,null,null,null,null,null,null,null,null,null,null,null,null,null,null,null,null,null,null,null,null,null,null,null,null,"JUDGE 5",null,null,null,null,null,null,null,null,null,null,null,null,null,null,null,null,null,null,null,null,null,null,null,null,null,null,"JUDGE 6",null,null,null,null,null,null,null,null,null,null,null,null,null,null,null,null,null,null,null,null,null,null,null,null,null,null,"Judge 7",null,null,null,null,null,null,null,null,null,null,null,null,null,null,null,null,null,null,null,null,null,null,null,null,null,null,"Judge 8 ",null,null,null,null,null,null,null,null,null,null,null,null,null,null,null,null,null,null,null,null,null,null,null,null,null,null,"Judge 9",null,null,null,null,null,null,null,null,null,null,null,null,null,null,null,null,null,null,null,null,null,null,null,null,null,null,"Judge 10",null,null,null,null,null,null,null,null,null,null,null,null,null,null,null,null,null,null,null,null,null,null,null,null,null,null,"¬ OVERALL TOTAL","¬ POSITION (COMPETITION)","¬ OVERALL (A LEAGUE RANK)","¬ POSITION ( A LEAGUE)","¬ OVERALL (B LEAGUE RANK)","POSITION ( BLEAGUE)","¬ OVERALL (FRESHERS LEAGUE RANK)","POSITION ( FRESHERS LEAGUE)","¬ OVERALL (Non- Student RANK)","POSITION ( Non-Students LEAGUE)","Lifesaving Points (Competition)"]
[null,null,null,null,null,"Judge 1 Description <Enter Here>",null,null,null,null,null,null,null,null,null,null,null,null,null,null,null,null,null,null,null,null,null,null,null,null,null,null,"Judge 2 Description <Enter Here>",null,null,null,null,null,null,null,null,null,null,null,null,null,null,null,null,null,null,null,null,null,null,null,null,null,null,"Judge 3 Description <Enter Here>",null,null,null,null,null,null,null,null,null,null,null,null,null,null,null,null,null,null,null,null,null,null,null,null,null,null,"Judge 4 Description <Enter Here>",null,null,null,null,null,null,null,null,null,null,null,null,null,null,null,null,null,null,null,null,null,null,null,null,null,null,"Judge 5 Description <Enter Here>",null,null,null,null,null,null,null,null,null,null,null,null,null,null,null,null,null,null,null,null,null,null,null,null,null,null,"Judge 6 Description <Enter Here>",null,null,null,null,null,null,null,null,null,null,null,null,null,null,null,null,null,null,null,null,null,null,null,null,null,null,"Judge 7 Description <Enter Here>",null,null,null,null,null,null,null,null,null,null,null,null,null,null,null,null,null,null,null,null,null,null,null,null,null,null,"Judge 8 Description <Enter Here>",null,null,null,null,null,null,null,null,null,null,null,null,null,null,null,null,null,null,null,null,null,null,null,null,null,null,"Judge 9 Description <Enter Here>",null,null,null,null,null,null,null,null,null,null,null,null,null,null,null,null,null,null,null,null,null,null,null,null,null,null,"Judge 10 Description <Enter Here>"]
[null,null,null,null,null,"Mark Category 1 <Enter Here>","Mark Category 2 <Enter Here>","Mark Category 3 <Enter Here>","Mark Category 4 <Enter Here>","Mark Category 5 <Enter Here>","Mark Category 6 <Enter Here>","Mark Category 7 <Enter Here>","Mark Category 8 <Enter Here>","Mark Category 9 <Enter Here>","Mark Category 10 <Enter Here>","Mark Category 11 <Enter Here>","Mark Category 12 <Enter Here>","Mark Category 13 <Enter Here>","Mark Category 14<Enter Here>","Mark Category 15 <Enter Here>","Mark Category 16<Enter Here>","Mark Category 17<Enter Here>","Mark Category 18<Enter Here>","Mark Category 19 <Enter Here>","Mark Category 20 <Enter Here>","Mark Category 21 <Enter Here>","Mark Category 22<Enter Here>","Mark Category 23 <Enter Here>","Mark Category 24<Enter Here>","Mark Category 25 <Enter Here>","Do not fill in required for hidding process","¬ JUDGE 1  TOTAL","Mark Category 1 <Enter Here>","Mark Category 2 <Enter Here>","Mark Category 3 <Enter Here>","Mark Category 4 <Enter Here>","Mark Category 5 <Enter Here>","Mark Category 6 <Enter Here>","Mark Category 7 <Enter Here>","Mark Category 8 <Enter Here>","Mark Category 9 <Enter Here>","Mark Category 10 <Enter Here>","Mark Category 11 <Enter Here>","Mark Category 12 <Enter Here>","Mark Category 13 <Enter Here>","Mark Category 14<Enter Here>","Mark Category 15 <Enter Here>","Mark Category 16<Enter Here>","Mark Category 17<Enter Here>","Mark Category 18<Enter Here>","Mark Category 19 <Enter Here>","Mark Category 20 <Enter Here>","Mark Category 21 <Enter Here>","Mark Category 22<Enter Here>","Mark Category 23 <Enter Here>","Mark Category 24<Enter Here>","Mark Category 25 <Enter Here>","Do not fill in required for hidding process","¬ JUDGE 2  TOTAL","Mark Category 1 <Enter Here>","Mark Category 2 <Enter Here>","Mark Category 3 <Enter Here>","Mark Category 4 <Enter Here>","Mark Category 5 <Enter Here>","Mark Category 6 <Enter Here>","Mark Category 7 <Enter Here>","Mark Category 8 <Enter Here>","Mark Category 9 <Enter Here>","Mark Category 10 <Enter Here>","Mark Category 11 <Enter Here>","Mark Category 12 <Enter Here>","Mark Category 13 <Enter Here>","Mark Category 14<Enter Here>","Mark Category 15 <Enter Here>","Mark Category 16<Enter Here>","Mark Category 17<Enter Here>","Mark Category 18<Enter Here>","Mark Category 19 <Enter Here>","Mark Category 20 <Enter Here>","Mark Category 21 <Enter Here>","Mark Category 22<Enter Here>","Mark Category 23 <Enter Here>","Mark Category 24<Enter Here>","Mark Category 25 <Enter Here>","Do not fill in required for hidding process","¬ JUDGE 3  TOTAL","Mark Category 1 <Enter Here>","Mark Category 2 <Enter Here>","Mark Category 3 <Enter Here>","Mark Category 4 <Enter Here>","Mark Category 5 <Enter Here>","Mark Category 6 <Enter Here>","Mark Category 7 <Enter Here>","Mark Category 8 <Enter Here>","Mark Category 9 <Enter Here>","Mark Category 10 <Enter Here>","Mark Category 11 <Enter Here>","Mark Category 12 <Enter Here>","Mark Category 13 <Enter Here>","Mark Category 14<Enter Here>","Mark Category 15 <Enter Here>","Mark Category 16<Enter Here>","Mark Category 17<Enter Here>","Mark Category 18<Enter Here>","Mark Category 19 <Enter Here>","Mark Category 20 <Enter Here>","Mark Category 21 <Enter Here>","Mark Category 22<Enter Here>","Mark Category 23 <Enter Here>","Mark Category 24<Enter Here>","Mark Category 25 <Enter Here>","Do not fill in required for hidding process","¬ JUDGE 4  TOTAL","Mark Category 1 <Enter Here>","Mark Category 2 <Enter Here>","Mark Category 3 <Enter Here>","Mark Category 4 <Enter Here>","Mark Category 5 <Enter Here>","Mark Category 6 <Enter Here>","Mark Category 7 <Enter Here>","Mark Category 8 <Enter Here>","Mark Category 9 <Enter Here>","Mark Category 10 <Enter Here>","Mark Category 11 <Enter Here>","Mark Category 12 <Enter Here>","Mark Category 13 <Enter Here>","Mark Category 14<Enter Here>","Mark Category 15 <Enter Here>","Mark Category 16<Enter Here>","Mark Category 17<Enter Here>","Mark Category 18<Enter Here>","Mark Category 19 <Enter Here>","Mark Category 20 <Enter Here>","Mark Category 21 <Enter Here>","Mark Category 22<Enter Here>","Mark Category 23 <Enter Here>","Mark Category 24<Enter Here>","Mark Category 25 <Enter Here>","Do not fill in required for hidding process","¬ JUDGE 5  TOTAL","Mark Category 1 <Enter Here>","Mark Category 2 <Enter Here>","Mark Category 3 <Enter Here>","Mark Category 4 <Enter Here>","Mark Category 5 <Enter Here>","Mark Category 6 <Enter Here>","Mark Category 7 <Enter Here>","Mark Category 8 <Enter Here>","Mark Category 9 <Enter Here>","Mark Category 10 <Enter Here>","Mark Category 11 <Enter Here>","Mark Category 12 <Enter Here>","Mark Category 13 <Enter Here>","Mark Category 14<Enter Here>","Mark Category 15 <Enter Here>","Mark Category 16<Enter Here>","Mark Category 17<Enter Here>","Mark Category 18<Enter Here>","Mark Category 19 <Enter Here>","Mark Category 20 <Enter Here>","Mark Category 21 <Enter Here>","Mark Category 22<Enter Here>","Mark Category 23 <Enter Here>","Mark Category 24<Enter Here>","Mark Category 25 <Enter Here>","Do not fill in required for hidding process","¬ JUDGE 6  TOTAL","Mark Category 1 <Enter Here>","Mark Category 2 <Enter Here>","Mark Category 3 <Enter Here>","Mark Category 4 <Enter Here>","Mark Category 5 <Enter Here>","Mark Category 6 <Enter Here>","Mark Category 7 <Enter Here>","Mark Category 8 <Enter Here>","Mark Category 9 <Enter Here>","Mark Category 10 <Enter Here>","Mark Category 11 <Enter Here>","Mark Category 12 <Enter Here>","Mark Category 13 <Enter Here>","Mark Category 14<Enter Here>","Mark Category 15 <Enter Here>","Mark Category 16<Enter Here>","Mark Category 17<Enter Here>","Mark Category 18<Enter Here>","Mark Category 19 <Enter Here>","Mark Category 20 <Enter Here>","Mark Category 21 <Enter Here>","Mark Category 22<Enter Here>","Mark Category 23 <Enter Here>","Mark Category 24<Enter Here>","Mark Category 25 <Enter Here>","Do not fill in required for hidding process","¬ JUDGE 7  TOTAL","Mark Category 1 <Enter Here>","Mark Category 2 <Enter Here>","Mark Category 3 <Enter Here>","Mark Category 4 <Enter Here>","Mark Category 5 <Enter Here>","Mark Category 6 <Enter Here>","Mark Category 7 <Enter Here>","Mark Category 8 <Enter Here>","Mark Category 9 <Enter Here>","Mark Category 10 <Enter Here>","Mark Category 11 <Enter Here>","Mark Category 12 <Enter Here>","Mark Category 13 <Enter Here>","Mark Category 14<Enter Here>","Mark Category 15 <Enter Here>","Mark Category 16<Enter Here>","Mark Category 17<Enter Here>","Mark Category 18<Enter Here>","Mark Category 19 <Enter Here>","Mark Category 20 <Enter Here>","Mark Category 21 <Enter Here>","Mark Category 22<Enter Here>","Mark Category 23 <Enter Here>","Mark Category 24<Enter Here>","Mark Category 25 <Enter Here>","Do not fill in required for hidding process","¬ JUDGE 8  TOTAL","Mark Category 1 <Enter Here>","Mark Category 2 <Enter Here>","Mark Category 3 <Enter Here>","Mark Category 4 <Enter Here>","Mark Category 5 <Enter Here>","Mark Category 6 <Enter Here>","Mark Category 7 <Enter Here>","Mark Category 8 <Enter Here>","Mark Category 9 <Enter Here>","Mark Category 10 <Enter Here>","Mark Category 11 <Enter Here>","Mark Category 12 <Enter Here>","Mark Category 13 <Enter Here>","Mark Category 14<Enter Here>","Mark Category 15 <Enter Here>","Mark Category 16<Enter Here>","Mark Category 17<Enter Here>","Mark Category 18<Enter Here>","Mark Category 19 <Enter Here>","Mark Category 20 <Enter Here>","Mark Category 21 <Enter Here>","Mark Category 22<Enter Here>","Mark Category 23 <Enter Here>","Mark Category 24<Enter Here>","Mark Category 25 <Enter Here>","Do not fill in required for hidding process","¬ JUDGE 9  TOTAL","Mark Category 1 <Enter Here>","Mark Category 2 <Enter Here>","Mark Category 3 <Enter Here>","Mark Category 4 <Enter Here>","Mark Category 5 <Enter Here>","Mark Category 6 <Enter Here>","Mark Category 7 <Enter Here>","Mark Category 8 <Enter Here>","Mark Category 9 <Enter Here>","Mark Category 10 <Enter Here>","Mark Category 11 <Enter Here>","Mark Category 12 <Enter Here>","Mark Category 13 <Enter Here>","Mark Category 14<Enter Here>","Mark Category 15 <Enter Here>","Mark Category 16<Enter Here>","Mark Category 17<Enter Here>","Mark Category 18<Enter Here>","Mark Category 19 <Enter Here>","Mark Category 20 <Enter Here>","Mark Category 21 <Enter Here>","Mark Category 22<Enter Here>","Mark Category 23 <Enter Here>","Mark Category 24<Enter Here>","Mark Category 25 <Enter Here>","Do not fill in required for hidding process","¬ JUDGE 10 TOTAL"]
[null,null,null,null,"MARK WEIGHTING →"]
[null,null,"WEB","TEAM","CLASS"]
[null,1,{"$f":"IF(OR('Set UP'!$C7=0,'Set UP'!$D7=0,'Set UP'!$E7=0,'Set UP'!F7=0),\"  --\",'Set UP'!C7)","v":1418},{"$f":"IF(OR('Set UP'!$C7=0,'Set UP'!$D7=0,'Set UP'!$E7=0,'Set UP'!F7=0),\"  --\",'Set UP'!D7&\" \"&'Set UP'!E7)","v":"Bradford On Avon Lifesaving Club  B"},{"$f":"IF(OR('Set UP'!$C7=0,'Set UP'!$D7=0,'Set UP'!$E7=0,'Set UP'!F7=0),\"  --\",'Set UP'!F7)","v":"NS"},null,null,null,null,null,null,null,null,null,null,null,null,null,null,null,null,null,null,null,null,null,null,null,null,null,null,{"$f":"IF(OR('Set UP'!$C7=0,'Set UP'!$D7=0,'Set UP'!$E7=0),\"\",(F$19*F21)+(G$19*G21)+(H$19*H21)+(I$19*I21)+(J$19*J21)+(K$19*K21)+(L$19*L21)+(M$19*M21)+(N$19*N21)+(O$19*O21)+(P$19*P21)+(Q$19*Q21)+(R$19*R21)+(S$19*S21)+(T$19*T21)+(U$19*U21)+(V$19*V21)+(W$19*W21)+(X$19*X21)+(Y$19*Y21)+(Z$19*Z21)+(AA$19*AA21)+(AB$19*AB21)+(AC$19*AC21)+(AD$19*AD21))","v":0},null,null,null,null,null,null,null,null,null,null,null,null,null,null,null,null,null,null,null,null,null,null,null,null,null,null,{"$f":"IF(OR('Set UP'!$C7=0,'Set UP'!$D7=0,'Set UP'!$E7=0),\"\",(AG$19*AG21)+(AH$19*AH21)+(AI$19*AI21)+(AJ$19*AJ21)+(AK$19*AK21)+(AL$19*AL21)+(AM$19*AM21)+(AN$19*AN21)+(AO$19*AO21)+(AP$19*AP21)+(AQ$19*AQ21)+(AR$19*AR21)+(AS$19*AS21)+(AT$19*AT21)+(AU$19*AU21)+(AV$19*AV21)+(AW$19*AW21)+(AX$19*AX21)+(AY$19*AY21)+(AZ$19*AZ21)+(BA$19*BA21)+(BB$19*BB21)+(BC$19*BC21)+(BD$19*BD21)+(BE$19*BE21))","v":0},null,null,null,null,null,null,null,null,null,null,null,null,null,null,null,null,null,null,null,null,null,null,null,null,null,null,{"$f":"IF(OR('Set UP'!$C7=0,'Set UP'!$D7=0,'Set UP'!$E7=0),\"\",(BH$19*BH21)+(BI$19*BI21)+(BJ$19*BJ21)+(BK$19*BK21)+(BL$19*BL21)+(BM$19*BM21)+(BN$19*BN21)+(BO$19*BO21)+(BP$19*BP21)+(BQ$19*BQ21)+(BR$19*BR21)+(BS$19*BS21)+(BT$19*BT21)+(BU$19*BU21)+(BV$19*BV21)+(BW$19*BW21)+(BX$19*BX21)+(BY$19*BY21)+(BZ$19*BZ21)+(CA$19*CA21)+(CB$19*CB21)+(CC$19*CC21)+(CD$19*CD21)+(CE$19*CE21)+(CF$19*CF21))","v":0},null,null,null,null,null,null,null,null,null,null,null,null,null,null,null,null,null,null,null,null,null,null,null,null,null,null,{"$f":"IF(OR('Set UP'!$C7=0,'Set UP'!$D7=0,'Set UP'!$E7=0),\"\",(CI$19*CI21)+(CJ$19*CJ21)+(CK$19*CK21)+(CL$19*CL21)+(CM$19*CM21)+(CN$19*CN21)+(CO$19*CO21)+(CP$19*CP21)+(CQ$19*CQ21)+(CR$19*CR21)+(CS$19*CS21)+(CT$19*CT21)+(CU$19*CU21)+(CV$19*CV21)+(CW$19*CW21)+(CX$19*CX21)+(CY$19*CY21)+(CZ$19*CZ21)+(DA$19*DA21)+(DB$19*DB21)+(DC$19*DC21)+(DD$19*DD21)+(DE$19*DE21)+(DF$19*DF21)+(DG$19*DG21))","v":0},null,null,null,null,null,null,null,null,null,null,null,null,null,null,null,null,null,null,null,null,null,null,null,null,null,null,{"$f":"IF(OR('Set UP'!$C7=0,'Set UP'!$D7=0,'Set UP'!$E7=0),\"\",(DJ$19*DJ21)+(DK$19*DK21)+(DL$19*DL21)+(DM$19*DM21)+(DN$19*DN21)+(DO$19*DO21)+(DP$19*DP21)+(DQ$19*DQ21)+(DR$19*DR21)+(DS$19*DS21)+(DT$19*DT21)+(DU$19*DU21)+(DV$19*DV21)+(DW$19*DW21)+(DX$19*DX21)+(DY$19*DY21)+(DZ$19*DZ21)+(EA$19*EA21)+(EB$19*EB21)+(EC$19*EC21)+(ED$19*ED21)+(EE$19*EE21)+(EF$19*EF21)+(EG$19*EG21)+(EH$19*EH21))","v":0},null,null,null,null,null,null,null,null,null,null,null,null,null,null,null,null,null,null,null,null,null,null,null,null,null,null,{"$f":"IF(OR('Set UP'!$C7=0,'Set UP'!$D7=0,'Set UP'!$E7=0),\"\",(EK$19*EK21)+(EL$19*EL21)+(EM$19*EM21)+(EN$19*EN21)+(EO$19*EO21)+(EP$19*EP21)+(EQ$19*EQ21)+(ER$19*ER21)+(ES$19*ES21)+(ET$19*ET21)+(EU$19*EU21)+(EV$19*EV21)+(EW$19*EW21)+(EX$19*EX21)+(EY$19*EY21)+(EZ$19*EZ21)+(FA$19*FA21)+(FB$19*FB21)+(FC$19*FC21)+(FD$19*FD21)+(FE$19*FE21)+(FF$19*FF21)+(FG$19*FG21)+(FH$19*FH21)+(FI$19*FI21))","v":0},null,null,null,null,null,null,null,null,null,null,null,null,null,null,null,null,null,null,null,null,null,null,null,null,null,null,{"$f":"IF(OR('Set UP'!$C7=0,'Set UP'!$D7=0,'Set UP'!$E7=0),\"\",(FL$19*FL21)+(FM$19*FM21)+(FN$19*FN21)+(FO$19*FO21)+(FP$19*FP21)+(FQ$19*FQ21)+(FR$19*FR21)+(FS$19*FS21)+(FT$19*FT21)+(FU$19*FU21)+(FV$19*FV21)+(FW$19*FW21)+(FX$19*FX21)+(FY$19*FY21)+(FZ$19*FZ21)+(GA$19*GA21)+(GB$19*GB21)+(GC$19*GC21)+(GD$19*GD21)+(GE$19*GE21)+(GF$19*GF21)+(GG$19*GG21)+(GH$19*GH21)+(GI$19*GI21)+(GJ$19*GJ21))","v":0},null,null,null,null,null,null,null,null,null,null,null,null,null,null,null,null,null,null,null,null,null,null,null,null,null,null,{"$f":"IF(OR('Set UP'!$C7=0,'Set UP'!$D7=0,'Set UP'!$E7=0),\"\",(GM$19*GM21)+(GN$19*GN21)+(GO$19*GO21)+(GP$19*GP21)+(GQ$19*GQ21)+(GR$19*GR21)+(GS$19*GS21)+(GT$19*GT21)+(GU$19*GU21)+(GV$19*GV21)+(GW$19*GW21)+(GX$19*GX21)+(GY$19*GY21)+(GZ$19*GZ21)+(HA$19*HA21)+(HB$19*HB21)+(HC$19*HC21)+(HD$19*HD21)+(HE$19*HE21)+(HF$19*HF21)+(HG$19*HG21)+(HH$19*HH21)+(HI$19*HI21)+(HJ$19*HJ21)+(HK$19*HK21))","v":0},null,null,null,null,null,null,null,null,null,null,null,null,null,null,null,null,null,null,null,null,null,null,null,null,null,null,{"$f":"IF(OR('Set UP'!$C7=0,'Set UP'!$D7=0,'Set UP'!$E7=0),\"\",(HN$19*HN21)+(HO$19*HO21)+(HP$19*HP21)+(HQ$19*HQ21)+(HR$19*HR21)+(HS$19*HS21)+(HT$19*HT21)+(HU$19*HU21)+(HV$19*HV21)+(HW$19*HW21)+(HX$19*HX21)+(HY$19*HY21)+(HZ$19*HZ21)+(IA$19*IA21)+(IB$19*IB21)+(IC$19*IC21)+(ID$19*ID21)+(IE$19*IE21)+(IF$19*IF21)+(IG$19*IG21)+(IH$19*IH21)+(II$19*II21)+(IJ$19*IJ21)+(IK$19*IK21)+(IL$19*IL21))","v":0},null,null,null,null,null,null,null,null,null,null,null,null,null,null,null,null,null,null,null,null,null,null,null,null,null,null,{"$f":"IF(OR('Set UP'!$C7=0,'Set UP'!$D7=0,'Set UP'!$E7=0),\"\",(IO$19*IO21)+(IP$19*IP21)+(IQ$19*IQ21)+(IR$19*IR21)+(IS$19*IS21)+(IT$19*IT21)+(IU$19*IU21)+(IV$19*IV21)+(IW$19*IW21)+(IX$19*IX21)+(IY$19*IY21)+(IZ$19*IZ21)+(JA$19*JA21)+(JB$19*JB21)+(JC$19*JC21)+(JD$19*JD21)+(JE$19*JE21)+(JF$19*JF21)+(JG$19*JG21)+(JH$19*JH21)+(JI$19*JI21)+(JJ$19*JJ21)+(JK$19*JK21)+(JL$19*JL21)+(JM$19*JM21))","v":0},{"$f":"IF(OR('Set UP'!$C7=0,'Set UP'!$D7=0,'Set UP'!$E7=0),\"\",(AF21+BG21+CH21+DI21+EJ21+FK21+GL21+HM21+JO21+IN21))","v":0},{"$f":"IF(OR('Set UP'!$C7=0,'Set UP'!$D7=0,'Set UP'!$E7=0),\"\",RANK(JP21,$JP$21:$JP$60,0))","v":1},{"$f":"IF(OR('Set UP'!K7<>1,'Set UP'!C7=0,'Set UP'!D7=0,'Set UP'!E7=0,'Set UP'!F7=0),\"\",$JP21)","v":""},{"$f":"IF(OR('Set UP'!K7<>1,'Set UP'!C7=0,'Set UP'!D7=0,'Set UP'!E7=0,'Set UP'!F7=0),\"\",RANK(JR21,$JR$21:$JR$60,0))","v":""},{"$f":"IF(OR('Set UP'!K7<>2,'Set UP'!C7=0,'Set UP'!D7=0,'Set UP'!E7=0,'Set UP'!F7=0),\"\",$JP21)","v":""},{"$f":"IF(OR('Set UP'!K7<>2,'Set UP'!C7=0,'Set UP'!D7=0,'Set UP'!E7=0,'Set UP'!F7=0),\"\",RANK(JT21,$JT$21:$JT$60,0))","v":""},{"$f":"IF(OR('Set UP'!F7<>\"F\",'Set UP'!C7=0,'Set UP'!D7=0,'Set UP'!E7=0),\"\",$JP21)","v":""},{"$f":"IF(OR('Set UP'!F7<>\"F\",'Set UP'!C7=0,'Set UP'!D7=0,'Set UP'!E7=0),\"\",RANK(JV21,$JV$21:$JV$60,0))","v":""},{"$f":"IF(OR('Set UP'!F7<>\"NS\",'Set UP'!C7=0,'Set UP'!D7=0,'Set UP'!E7=0),\"\",$JP21)","v":0},{"$f":"IF(OR('Set UP'!F7<>\"NS\",'Set UP'!C7=0,'Set UP'!D7=0,'Set UP'!E7=0),\"\",RANK(JX21,$JX$21:$JX$60,0))","v":1},{"$f":"IF(OR('Set UP'!$C7=0,'Set UP'!$D7=0,'Set UP'!$E7=0,JP21=0),\"\",JP21/MAX(JP$21:JP$60)*1000)","v":""}]
[null,2,{"$f":"IF(OR('Set UP'!$C8=0,'Set UP'!$D8=0,'Set UP'!$E8=0,'Set UP'!F8=0),\"  --\",'Set UP'!C8)","v":1419},{"$f":"IF(OR('Set UP'!$C8=0,'Set UP'!$D8=0,'Set UP'!$E8=0,'Set UP'!F8=0),\"  --\",'Set UP'!D8&\" \"&'Set UP'!E8)","v":"Bradford On Avon Lifesaving Club  A"},{"$f":"IF(OR('Set UP'!$C8=0,'Set UP'!$D8=0,'Set UP'!$E8=0,'Set UP'!F8=0),\"  --\",'Set UP'!F8)","v":"NS"},null,null,null,null,null,null,null,null,null,null,null,null,null,null,null,null,null,null,null,null,null,null,null,null,null,null,{"$f":"IF(OR('Set UP'!$C8=0,'Set UP'!$D8=0,'Set UP'!$E8=0),\"\",(F$19*F22)+(G$19*G22)+(H$19*H22)+(I$19*I22)+(J$19*J22)+(K$19*K22)+(L$19*L22)+(M$19*M22)+(N$19*N22)+(O$19*O22)+(P$19*P22)+(Q$19*Q22)+(R$19*R22)+(S$19*S22)+(T$19*T22)+(U$19*U22)+(V$19*V22)+(W$19*W22)+(X$19*X22)+(Y$19*Y22)+(Z$19*Z22)+(AA$19*AA22)+(AB$19*AB22)+(AC$19*AC22)+(AD$19*AD22))","v":0},null,null,null,null,null,null,null,null,null,null,null,null,null,null,null,null,null,null,null,null,null,null,null,null,null,null,{"$f":"IF(OR('Set UP'!$C8=0,'Set UP'!$D8=0,'Set UP'!$E8=0),\"\",(AG$19*AG22)+(AH$19*AH22)+(AI$19*AI22)+(AJ$19*AJ22)+(AK$19*AK22)+(AL$19*AL22)+(AM$19*AM22)+(AN$19*AN22)+(AO$19*AO22)+(AP$19*AP22)+(AQ$19*AQ22)+(AR$19*AR22)+(AS$19*AS22)+(AT$19*AT22)+(AU$19*AU22)+(AV$19*AV22)+(AW$19*AW22)+(AX$19*AX22)+(AY$19*AY22)+(AZ$19*AZ22)+(BA$19*BA22)+(BB$19*BB22)+(BC$19*BC22)+(BD$19*BD22)+(BE$19*BE22))","v":0},null,null,null,null,null,null,null,null,null,null,null,null,null,null,null,null,null,null,null,null,null,null,null,null,null,null,{"$f":"IF(OR('Set UP'!$C8=0,'Set UP'!$D8=0,'Set UP'!$E8=0),\"\",(BH$19*BH22)+(BI$19*BI22)+(BJ$19*BJ22)+(BK$19*BK22)+(BL$19*BL22)+(BM$19*BM22)+(BN$19*BN22)+(BO$19*BO22)+(BP$19*BP22)+(BQ$19*BQ22)+(BR$19*BR22)+(BS$19*BS22)+(BT$19*BT22)+(BU$19*BU22)+(BV$19*BV22)+(BW$19*BW22)+(BX$19*BX22)+(BY$19*BY22)+(BZ$19*BZ22)+(CA$19*CA22)+(CB$19*CB22)+(CC$19*CC22)+(CD$19*CD22)+(CE$19*CE22)+(CF$19*CF22))","v":0},null,null,null,null,null,null,null,null,null,null,null,null,null,null,null,null,null,null,null,null,null,null,null,null,null,null,{"$f":"IF(OR('Set UP'!$C8=0,'Set UP'!$D8=0,'Set UP'!$E8=0),\"\",(CI$19*CI22)+(CJ$19*CJ22)+(CK$19*CK22)+(CL$19*CL22)+(CM$19*CM22)+(CN$19*CN22)+(CO$19*CO22)+(CP$19*CP22)+(CQ$19*CQ22)+(CR$19*CR22)+(CS$19*CS22)+(CT$19*CT22)+(CU$19*CU22)+(CV$19*CV22)+(CW$19*CW22)+(CX$19*CX22)+(CY$19*CY22)+(CZ$19*CZ22)+(DA$19*DA22)+(DB$19*DB22)+(DC$19*DC22)+(DD$19*DD22)+(DE$19*DE22)+(DF$19*DF22)+(DG$19*DG22))","v":0},null,null,null,null,null,null,null,null,null,null,null,null,null,null,null,null,null,null,null,null,null,null,null,null,null,null,{"$f":"IF(OR('Set UP'!$C8=0,'Set UP'!$D8=0,'Set UP'!$E8=0),\"\",(DJ$19*DJ22)+(DK$19*DK22)+(DL$19*DL22)+(DM$19*DM22)+(DN$19*DN22)+(DO$19*DO22)+(DP$19*DP22)+(DQ$19*DQ22)+(DR$19*DR22)+(DS$19*DS22)+(DT$19*DT22)+(DU$19*DU22)+(DV$19*DV22)+(DW$19*DW22)+(DX$19*DX22)+(DY$19*DY22)+(DZ$19*DZ22)+(EA$19*EA22)+(EB$19*EB22)+(EC$19*EC22)+(ED$19*ED22)+(EE$19*EE22)+(EF$19*EF22)+(EG$19*EG22)+(EH$19*EH22))","v":0},null,null,null,null,null,null,null,null,null,null,null,null,null,null,null,null,null,null,null,null,null,null,null,null,null,null,{"$f":"IF(OR('Set UP'!$C8=0,'Set UP'!$D8=0,'Set UP'!$E8=0),\"\",(EK$19*EK22)+(EL$19*EL22)+(EM$19*EM22)+(EN$19*EN22)+(EO$19*EO22)+(EP$19*EP22)+(EQ$19*EQ22)+(ER$19*ER22)+(ES$19*ES22)+(ET$19*ET22)+(EU$19*EU22)+(EV$19*EV22)+(EW$19*EW22)+(EX$19*EX22)+(EY$19*EY22)+(EZ$19*EZ22)+(FA$19*FA22)+(FB$19*FB22)+(FC$19*FC22)+(FD$19*FD22)+(FE$19*FE22)+(FF$19*FF22)+(FG$19*FG22)+(FH$19*FH22)+(FI$19*FI22))","v":0},null,null,null,null,null,null,null,null,null,null,null,null,null,null,null,null,null,null,null,null,null,null,null,null,null,null,{"$f":"IF(OR('Set UP'!$C8=0,'Set UP'!$D8=0,'Set UP'!$E8=0),\"\",(FL$19*FL22)+(FM$19*FM22)+(FN$19*FN22)+(FO$19*FO22)+(FP$19*FP22)+(FQ$19*FQ22)+(FR$19*FR22)+(FS$19*FS22)+(FT$19*FT22)+(FU$19*FU22)+(FV$19*FV22)+(FW$19*FW22)+(FX$19*FX22)+(FY$19*FY22)+(FZ$19*FZ22)+(GA$19*GA22)+(GB$19*GB22)+(GC$19*GC22)+(GD$19*GD22)+(GE$19*GE22)+(GF$19*GF22)+(GG$19*GG22)+(GH$19*GH22)+(GI$19*GI22)+(GJ$19*GJ22))","v":0},null,null,null,null,null,null,null,null,null,null,null,null,null,null,null,null,null,null,null,null,null,null,null,null,null,null,{"$f":"IF(OR('Set UP'!$C8=0,'Set UP'!$D8=0,'Set UP'!$E8=0),\"\",(GM$19*GM22)+(GN$19*GN22)+(GO$19*GO22)+(GP$19*GP22)+(GQ$19*GQ22)+(GR$19*GR22)+(GS$19*GS22)+(GT$19*GT22)+(GU$19*GU22)+(GV$19*GV22)+(GW$19*GW22)+(GX$19*GX22)+(GY$19*GY22)+(GZ$19*GZ22)+(HA$19*HA22)+(HB$19*HB22)+(HC$19*HC22)+(HD$19*HD22)+(HE$19*HE22)+(HF$19*HF22)+(HG$19*HG22)+(HH$19*HH22)+(HI$19*HI22)+(HJ$19*HJ22)+(HK$19*HK22))","v":0},null,null,null,null,null,null,null,null,null,null,null,null,null,null,null,null,null,null,null,null,null,null,null,null,null,null,{"$f":"IF(OR('Set UP'!$C8=0,'Set UP'!$D8=0,'Set UP'!$E8=0),\"\",(HN$19*HN22)+(HO$19*HO22)+(HP$19*HP22)+(HQ$19*HQ22)+(HR$19*HR22)+(HS$19*HS22)+(HT$19*HT22)+(HU$19*HU22)+(HV$19*HV22)+(HW$19*HW22)+(HX$19*HX22)+(HY$19*HY22)+(HZ$19*HZ22)+(IA$19*IA22)+(IB$19*IB22)+(IC$19*IC22)+(ID$19*ID22)+(IE$19*IE22)+(IF$19*IF22)+(IG$19*IG22)+(IH$19*IH22)+(II$19*II22)+(IJ$19*IJ22)+(IK$19*IK22)+(IL$19*IL22))","v":0},null,null,null,null,null,null,null,null,null,null,null,null,null,null,null,null,null,null,null,null,null,null,null,null,null,null,{"$f":"IF(OR('Set UP'!$C8=0,'Set UP'!$D8=0,'Set UP'!$E8=0),\"\",(IO$19*IO22)+(IP$19*IP22)+(IQ$19*IQ22)+(IR$19*IR22)+(IS$19*IS22)+(IT$19*IT22)+(IU$19*IU22)+(IV$19*IV22)+(IW$19*IW22)+(IX$19*IX22)+(IY$19*IY22)+(IZ$19*IZ22)+(JA$19*JA22)+(JB$19*JB22)+(JC$19*JC22)+(JD$19*JD22)+(JE$19*JE22)+(JF$19*JF22)+(JG$19*JG22)+(JH$19*JH22)+(JI$19*JI22)+(JJ$19*JJ22)+(JK$19*JK22)+(JL$19*JL22)+(JM$19*JM22))","v":0},{"$f":"IF(OR('Set UP'!$C8=0,'Set UP'!$D8=0,'Set UP'!$E8=0),\"\",(AF22+BG22+CH22+DI22+EJ22+FK22+GL22+HM22+JO22+IN22))","v":0},{"$f":"IF(OR('Set UP'!$C8=0,'Set UP'!$D8=0,'Set UP'!$E8=0),\"\",RANK(JP22,$JP$21:$JP$60,0))","v":1},{"$f":"IF(OR('Set UP'!K8<>1,'Set UP'!C8=0,'Set UP'!D8=0,'Set UP'!E8=0,'Set UP'!F8=0),\"\",$JP22)","v":""},{"$f":"IF(OR('Set UP'!K8<>1,'Set UP'!C8=0,'Set UP'!D8=0,'Set UP'!E8=0,'Set UP'!F8=0),\"\",RANK(JR22,$JR$21:$JR$60,0))","v":""},{"$f":"IF(OR('Set UP'!K8<>2,'Set UP'!C8=0,'Set UP'!D8=0,'Set UP'!E8=0,'Set UP'!F8=0),\"\",$JP22)","v":""},{"$f":"IF(OR('Set UP'!K8<>2,'Set UP'!C8=0,'Set UP'!D8=0,'Set UP'!E8=0,'Set UP'!F8=0),\"\",RANK(JT22,$JT$21:$JT$60,0))","v":""},{"$f":"IF(OR('Set UP'!F8<>\"F\",'Set UP'!C8=0,'Set UP'!D8=0,'Set UP'!E8=0),\"\",$JP22)","v":""},{"$f":"IF(OR('Set UP'!F8<>\"F\",'Set UP'!C8=0,'Set UP'!D8=0,'Set UP'!E8=0),\"\",RANK(JV22,$JV$21:$JV$60,0))","v":""},{"$f":"IF(OR('Set UP'!F8<>\"NS\",'Set UP'!C8=0,'Set UP'!D8=0,'Set UP'!E8=0),\"\",$JP22)","v":0},{"$f":"IF(OR('Set UP'!F8<>\"NS\",'Set UP'!C8=0,'Set UP'!D8=0,'Set UP'!E8=0),\"\",RANK(JX22,$JX$21:$JX$60,0))","v":1},{"$f":"IF(OR('Set UP'!$C8=0,'Set UP'!$D8=0,'Set UP'!$E8=0,JP22=0),\"\",JP22/MAX(JP$21:JP$60)*1000)","v":""}]
[null,3,{"$f":"IF(OR('Set UP'!$C9=0,'Set UP'!$D9=0,'Set UP'!$E9=0,'Set UP'!F9=0),\"  --\",'Set UP'!C9)","v":1417},{"$f":"IF(OR('Set UP'!$C9=0,'Set UP'!$D9=0,'Set UP'!$E9=0,'Set UP'!F9=0),\"  --\",'Set UP'!D9&\" \"&'Set UP'!E9)","v":"Bradford On Avon Lifesaving Club  C"},{"$f":"IF(OR('Set UP'!$C9=0,'Set UP'!$D9=0,'Set UP'!$E9=0,'Set UP'!F9=0),\"  --\",'Set UP'!F9)","v":"NS"},null,null,null,null,null,null,null,null,null,null,null,null,null,null,null,null,null,null,null,null,null,null,null,null,null,null,{"$f":"IF(OR('Set UP'!$C9=0,'Set UP'!$D9=0,'Set UP'!$E9=0),\"\",(F$19*F23)+(G$19*G23)+(H$19*H23)+(I$19*I23)+(J$19*J23)+(K$19*K23)+(L$19*L23)+(M$19*M23)+(N$19*N23)+(O$19*O23)+(P$19*P23)+(Q$19*Q23)+(R$19*R23)+(S$19*S23)+(T$19*T23)+(U$19*U23)+(V$19*V23)+(W$19*W23)+(X$19*X23)+(Y$19*Y23)+(Z$19*Z23)+(AA$19*AA23)+(AB$19*AB23)+(AC$19*AC23)+(AD$19*AD23))","v":0},null,null,null,null,null,null,null,null,null,null,null,null,null,null,null,null,null,null,null,null,null,null,null,null,null,null,{"$f":"IF(OR('Set UP'!$C9=0,'Set UP'!$D9=0,'Set UP'!$E9=0),\"\",(AG$19*AG23)+(AH$19*AH23)+(AI$19*AI23)+(AJ$19*AJ23)+(AK$19*AK23)+(AL$19*AL23)+(AM$19*AM23)+(AN$19*AN23)+(AO$19*AO23)+(AP$19*AP23)+(AQ$19*AQ23)+(AR$19*AR23)+(AS$19*AS23)+(AT$19*AT23)+(AU$19*AU23)+(AV$19*AV23)+(AW$19*AW23)+(AX$19*AX23)+(AY$19*AY23)+(AZ$19*AZ23)+(BA$19*BA23)+(BB$19*BB23)+(BC$19*BC23)+(BD$19*BD23)+(BE$19*BE23))","v":0},null,null,null,null,null,null,null,null,null,null,null,null,null,null,null,null,null,null,null,null,null,null,null,null,null,null,{"$f":"IF(OR('Set UP'!$C9=0,'Set UP'!$D9=0,'Set UP'!$E9=0),\"\",(BH$19*BH23)+(BI$19*BI23)+(BJ$19*BJ23)+(BK$19*BK23)+(BL$19*BL23)+(BM$19*BM23)+(BN$19*BN23)+(BO$19*BO23)+(BP$19*BP23)+(BQ$19*BQ23)+(BR$19*BR23)+(BS$19*BS23)+(BT$19*BT23)+(BU$19*BU23)+(BV$19*BV23)+(BW$19*BW23)+(BX$19*BX23)+(BY$19*BY23)+(BZ$19*BZ23)+(CA$19*CA23)+(CB$19*CB23)+(CC$19*CC23)+(CD$19*CD23)+(CE$19*CE23)+(CF$19*CF23))","v":0},null,null,null,null,null,null,null,null,null,null,null,null,null,null,null,null,null,null,null,null,null,null,null,null,null,null,{"$f":"IF(OR('Set UP'!$C9=0,'Set UP'!$D9=0,'Set UP'!$E9=0),\"\",(CI$19*CI23)+(CJ$19*CJ23)+(CK$19*CK23)+(CL$19*CL23)+(CM$19*CM23)+(CN$19*CN23)+(CO$19*CO23)+(CP$19*CP23)+(CQ$19*CQ23)+(CR$19*CR23)+(CS$19*CS23)+(CT$19*CT23)+(CU$19*CU23)+(CV$19*CV23)+(CW$19*CW23)+(CX$19*CX23)+(CY$19*CY23)+(CZ$19*CZ23)+(DA$19*DA23)+(DB$19*DB23)+(DC$19*DC23)+(DD$19*DD23)+(DE$19*DE23)+(DF$19*DF23)+(DG$19*DG23))","v":0},null,null,null,null,null,null,null,null,null,null,null,null,null,null,null,null,null,null,null,null,null,null,null,null,null,null,{"$f":"IF(OR('Set UP'!$C9=0,'Set UP'!$D9=0,'Set UP'!$E9=0),\"\",(DJ$19*DJ23)+(DK$19*DK23)+(DL$19*DL23)+(DM$19*DM23)+(DN$19*DN23)+(DO$19*DO23)+(DP$19*DP23)+(DQ$19*DQ23)+(DR$19*DR23)+(DS$19*DS23)+(DT$19*DT23)+(DU$19*DU23)+(DV$19*DV23)+(DW$19*DW23)+(DX$19*DX23)+(DY$19*DY23)+(DZ$19*DZ23)+(EA$19*EA23)+(EB$19*EB23)+(EC$19*EC23)+(ED$19*ED23)+(EE$19*EE23)+(EF$19*EF23)+(EG$19*EG23)+(EH$19*EH23))","v":0},null,null,null,null,null,null,null,null,null,null,null,null,null,null,null,null,null,null,null,null,null,null,null,null,null,null,{"$f":"IF(OR('Set UP'!$C9=0,'Set UP'!$D9=0,'Set UP'!$E9=0),\"\",(EK$19*EK23)+(EL$19*EL23)+(EM$19*EM23)+(EN$19*EN23)+(EO$19*EO23)+(EP$19*EP23)+(EQ$19*EQ23)+(ER$19*ER23)+(ES$19*ES23)+(ET$19*ET23)+(EU$19*EU23)+(EV$19*EV23)+(EW$19*EW23)+(EX$19*EX23)+(EY$19*EY23)+(EZ$19*EZ23)+(FA$19*FA23)+(FB$19*FB23)+(FC$19*FC23)+(FD$19*FD23)+(FE$19*FE23)+(FF$19*FF23)+(FG$19*FG23)+(FH$19*FH23)+(FI$19*FI23))","v":0},null,null,null,null,null,null,null,null,null,null,null,null,null,null,null,null,null,null,null,null,null,null,null,null,null,null,{"$f":"IF(OR('Set UP'!$C9=0,'Set UP'!$D9=0,'Set UP'!$E9=0),\"\",(FL$19*FL23)+(FM$19*FM23)+(FN$19*FN23)+(FO$19*FO23)+(FP$19*FP23)+(FQ$19*FQ23)+(FR$19*FR23)+(FS$19*FS23)+(FT$19*FT23)+(FU$19*FU23)+(FV$19*FV23)+(FW$19*FW23)+(FX$19*FX23)+(FY$19*FY23)+(FZ$19*FZ23)+(GA$19*GA23)+(GB$19*GB23)+(GC$19*GC23)+(GD$19*GD23)+(GE$19*GE23)+(GF$19*GF23)+(GG$19*GG23)+(GH$19*GH23)+(GI$19*GI23)+(GJ$19*GJ23))","v":0},null,null,null,null,null,null,null,null,null,null,null,null,null,null,null,null,null,null,null,null,null,null,null,null,null,null,{"$f":"IF(OR('Set UP'!$C9=0,'Set UP'!$D9=0,'Set UP'!$E9=0),\"\",(GM$19*GM23)+(GN$19*GN23)+(GO$19*GO23)+(GP$19*GP23)+(GQ$19*GQ23)+(GR$19*GR23)+(GS$19*GS23)+(GT$19*GT23)+(GU$19*GU23)+(GV$19*GV23)+(GW$19*GW23)+(GX$19*GX23)+(GY$19*GY23)+(GZ$19*GZ23)+(HA$19*HA23)+(HB$19*HB23)+(HC$19*HC23)+(HD$19*HD23)+(HE$19*HE23)+(HF$19*HF23)+(HG$19*HG23)+(HH$19*HH23)+(HI$19*HI23)+(HJ$19*HJ23)+(HK$19*HK23))","v":0},null,null,null,null,null,null,null,null,null,null,null,null,null,null,null,null,null,null,null,null,null,null,null,null,null,null,{"$f":"IF(OR('Set UP'!$C9=0,'Set UP'!$D9=0,'Set UP'!$E9=0),\"\",(HN$19*HN23)+(HO$19*HO23)+(HP$19*HP23)+(HQ$19*HQ23)+(HR$19*HR23)+(HS$19*HS23)+(HT$19*HT23)+(HU$19*HU23)+(HV$19*HV23)+(HW$19*HW23)+(HX$19*HX23)+(HY$19*HY23)+(HZ$19*HZ23)+(IA$19*IA23)+(IB$19*IB23)+(IC$19*IC23)+(ID$19*ID23)+(IE$19*IE23)+(IF$19*IF23)+(IG$19*IG23)+(IH$19*IH23)+(II$19*II23)+(IJ$19*IJ23)+(IK$19*IK23)+(IL$19*IL23))","v":0},null,null,null,null,null,null,null,null,null,null,null,null,null,null,null,null,null,null,null,null,null,null,null,null,null,null,{"$f":"IF(OR('Set UP'!$C9=0,'Set UP'!$D9=0,'Set UP'!$E9=0),\"\",(IO$19*IO23)+(IP$19*IP23)+(IQ$19*IQ23)+(IR$19*IR23)+(IS$19*IS23)+(IT$19*IT23)+(IU$19*IU23)+(IV$19*IV23)+(IW$19*IW23)+(IX$19*IX23)+(IY$19*IY23)+(IZ$19*IZ23)+(JA$19*JA23)+(JB$19*JB23)+(JC$19*JC23)+(JD$19*JD23)+(JE$19*JE23)+(JF$19*JF23)+(JG$19*JG23)+(JH$19*JH23)+(JI$19*JI23)+(JJ$19*JJ23)+(JK$19*JK23)+(JL$19*JL23)+(JM$19*JM23))","v":0},{"$f":"IF(OR('Set UP'!$C9=0,'Set UP'!$D9=0,'Set UP'!$E9=0),\"\",(AF23+BG23+CH23+DI23+EJ23+FK23+GL23+HM23+JO23+IN23))","v":0},{"$f":"IF(OR('Set UP'!$C9=0,'Set UP'!$D9=0,'Set UP'!$E9=0),\"\",RANK(JP23,$JP$21:$JP$60,0))","v":1},{"$f":"IF(OR('Set UP'!K9<>1,'Set UP'!C9=0,'Set UP'!D9=0,'Set UP'!E9=0,'Set UP'!F9=0),\"\",$JP23)","v":""},{"$f":"IF(OR('Set UP'!K9<>1,'Set UP'!C9=0,'Set UP'!D9=0,'Set UP'!E9=0,'Set UP'!F9=0),\"\",RANK(JR23,$JR$21:$JR$60,0))","v":""},{"$f":"IF(OR('Set UP'!K9<>2,'Set UP'!C9=0,'Set UP'!D9=0,'Set UP'!E9=0,'Set UP'!F9=0),\"\",$JP23)","v":""},{"$f":"IF(OR('Set UP'!K9<>2,'Set UP'!C9=0,'Set UP'!D9=0,'Set UP'!E9=0,'Set UP'!F9=0),\"\",RANK(JT23,$JT$21:$JT$60,0))","v":""},{"$f":"IF(OR('Set UP'!F9<>\"F\",'Set UP'!C9=0,'Set UP'!D9=0,'Set UP'!E9=0),\"\",$JP23)","v":""},{"$f":"IF(OR('Set UP'!F9<>\"F\",'Set UP'!C9=0,'Set UP'!D9=0,'Set UP'!E9=0),\"\",RANK(JV23,$JV$21:$JV$60,0))","v":""},{"$f":"IF(OR('Set UP'!F9<>\"NS\",'Set UP'!C9=0,'Set UP'!D9=0,'Set UP'!E9=0),\"\",$JP23)","v":0},{"$f":"IF(OR('Set UP'!F9<>\"NS\",'Set UP'!C9=0,'Set UP'!D9=0,'Set UP'!E9=0),\"\",RANK(JX23,$JX$21:$JX$60,0))","v":1},{"$f":"IF(OR('Set UP'!$C9=0,'Set UP'!$D9=0,'Set UP'!$E9=0,JP23=0),\"\",JP23/MAX(JP$21:JP$60)*1000)","v":""}]
[null,4,{"$f":"IF(OR('Set UP'!$C10=0,'Set UP'!$D10=0,'Set UP'!$E10=0,'Set UP'!F10=0),\"  --\",'Set UP'!C10)","v":"  --"},{"$f":"IF(OR('Set UP'!$C10=0,'Set UP'!$D10=0,'Set UP'!$E10=0,'Set UP'!F10=0),\"  --\",'Set UP'!D10&\" \"&'Set UP'!E10)","v":"  --"},{"$f":"IF(OR('Set UP'!$C10=0,'Set UP'!$D10=0,'Set UP'!$E10=0,'Set UP'!F10=0),\"  --\",'Set UP'!F10)","v":"  --"},null,null,null,null,null,null,null,null,null,null,null,null,null,null,null,null,null,null,null,null,null,null,null,null,null,null,{"$f":"IF(OR('Set UP'!$C10=0,'Set UP'!$D10=0,'Set UP'!$E10=0),\"\",(F$19*F24)+(G$19*G24)+(H$19*H24)+(I$19*I24)+(J$19*J24)+(K$19*K24)+(L$19*L24)+(M$19*M24)+(N$19*N24)+(O$19*O24)+(P$19*P24)+(Q$19*Q24)+(R$19*R24)+(S$19*S24)+(T$19*T24)+(U$19*U24)+(V$19*V24)+(W$19*W24)+(X$19*X24)+(Y$19*Y24)+(Z$19*Z24)+(AA$19*AA24)+(AB$19*AB24)+(AC$19*AC24)+(AD$19*AD24))","v":""},null,null,null,null,null,null,null,null,null,null,null,null,null,null,null,null,null,null,null,null,null,null,null,null,null,null,{"$f":"IF(OR('Set UP'!$C10=0,'Set UP'!$D10=0,'Set UP'!$E10=0),\"\",(AG$19*AG24)+(AH$19*AH24)+(AI$19*AI24)+(AJ$19*AJ24)+(AK$19*AK24)+(AL$19*AL24)+(AM$19*AM24)+(AN$19*AN24)+(AO$19*AO24)+(AP$19*AP24)+(AQ$19*AQ24)+(AR$19*AR24)+(AS$19*AS24)+(AT$19*AT24)+(AU$19*AU24)+(AV$19*AV24)+(AW$19*AW24)+(AX$19*AX24)+(AY$19*AY24)+(AZ$19*AZ24)+(BA$19*BA24)+(BB$19*BB24)+(BC$19*BC24)+(BD$19*BD24)+(BE$19*BE24))","v":""},null,null,null,null,null,null,null,null,null,null,null,null,null,null,null,null,null,null,null,null,null,null,null,null,null,null,{"$f":"IF(OR('Set UP'!$C10=0,'Set UP'!$D10=0,'Set UP'!$E10=0),\"\",(BH$19*BH24)+(BI$19*BI24)+(BJ$19*BJ24)+(BK$19*BK24)+(BL$19*BL24)+(BM$19*BM24)+(BN$19*BN24)+(BO$19*BO24)+(BP$19*BP24)+(BQ$19*BQ24)+(BR$19*BR24)+(BS$19*BS24)+(BT$19*BT24)+(BU$19*BU24)+(BV$19*BV24)+(BW$19*BW24)+(BX$19*BX24)+(BY$19*BY24)+(BZ$19*BZ24)+(CA$19*CA24)+(CB$19*CB24)+(CC$19*CC24)+(CD$19*CD24)+(CE$19*CE24)+(CF$19*CF24))","v":""},null,null,null,null,null,null,null,null,null,null,null,null,null,null,null,null,null,null,null,null,null,null,null,null,null,null,{"$f":"IF(OR('Set UP'!$C10=0,'Set UP'!$D10=0,'Set UP'!$E10=0),\"\",(CI$19*CI24)+(CJ$19*CJ24)+(CK$19*CK24)+(CL$19*CL24)+(CM$19*CM24)+(CN$19*CN24)+(CO$19*CO24)+(CP$19*CP24)+(CQ$19*CQ24)+(CR$19*CR24)+(CS$19*CS24)+(CT$19*CT24)+(CU$19*CU24)+(CV$19*CV24)+(CW$19*CW24)+(CX$19*CX24)+(CY$19*CY24)+(CZ$19*CZ24)+(DA$19*DA24)+(DB$19*DB24)+(DC$19*DC24)+(DD$19*DD24)+(DE$19*DE24)+(DF$19*DF24)+(DG$19*DG24))","v":""},null,null,null,null,null,null,null,null,null,null,null,null,null,null,null,null,null,null,null,null,null,null,null,null,null,null,{"$f":"IF(OR('Set UP'!$C10=0,'Set UP'!$D10=0,'Set UP'!$E10=0),\"\",(DJ$19*DJ24)+(DK$19*DK24)+(DL$19*DL24)+(DM$19*DM24)+(DN$19*DN24)+(DO$19*DO24)+(DP$19*DP24)+(DQ$19*DQ24)+(DR$19*DR24)+(DS$19*DS24)+(DT$19*DT24)+(DU$19*DU24)+(DV$19*DV24)+(DW$19*DW24)+(DX$19*DX24)+(DY$19*DY24)+(DZ$19*DZ24)+(EA$19*EA24)+(EB$19*EB24)+(EC$19*EC24)+(ED$19*ED24)+(EE$19*EE24)+(EF$19*EF24)+(EG$19*EG24)+(EH$19*EH24))","v":""},null,null,null,null,null,null,null,null,null,null,null,null,null,null,null,null,null,null,null,null,null,null,null,null,null,null,{"$f":"IF(OR('Set UP'!$C10=0,'Set UP'!$D10=0,'Set UP'!$E10=0),\"\",(EK$19*EK24)+(EL$19*EL24)+(EM$19*EM24)+(EN$19*EN24)+(EO$19*EO24)+(EP$19*EP24)+(EQ$19*EQ24)+(ER$19*ER24)+(ES$19*ES24)+(ET$19*ET24)+(EU$19*EU24)+(EV$19*EV24)+(EW$19*EW24)+(EX$19*EX24)+(EY$19*EY24)+(EZ$19*EZ24)+(FA$19*FA24)+(FB$19*FB24)+(FC$19*FC24)+(FD$19*FD24)+(FE$19*FE24)+(FF$19*FF24)+(FG$19*FG24)+(FH$19*FH24)+(FI$19*FI24))","v":""},null,null,null,null,null,null,null,null,null,null,null,null,null,null,null,null,null,null,null,null,null,null,null,null,null,null,{"$f":"IF(OR('Set UP'!$C10=0,'Set UP'!$D10=0,'Set UP'!$E10=0),\"\",(FL$19*FL24)+(FM$19*FM24)+(FN$19*FN24)+(FO$19*FO24)+(FP$19*FP24)+(FQ$19*FQ24)+(FR$19*FR24)+(FS$19*FS24)+(FT$19*FT24)+(FU$19*FU24)+(FV$19*FV24)+(FW$19*FW24)+(FX$19*FX24)+(FY$19*FY24)+(FZ$19*FZ24)+(GA$19*GA24)+(GB$19*GB24)+(GC$19*GC24)+(GD$19*GD24)+(GE$19*GE24)+(GF$19*GF24)+(GG$19*GG24)+(GH$19*GH24)+(GI$19*GI24)+(GJ$19*GJ24))","v":""},null,null,null,null,null,null,null,null,null,null,null,null,null,null,null,null,null,null,null,null,null,null,null,null,null,null,{"$f":"IF(OR('Set UP'!$C10=0,'Set UP'!$D10=0,'Set UP'!$E10=0),\"\",(GM$19*GM24)+(GN$19*GN24)+(GO$19*GO24)+(GP$19*GP24)+(GQ$19*GQ24)+(GR$19*GR24)+(GS$19*GS24)+(GT$19*GT24)+(GU$19*GU24)+(GV$19*GV24)+(GW$19*GW24)+(GX$19*GX24)+(GY$19*GY24)+(GZ$19*GZ24)+(HA$19*HA24)+(HB$19*HB24)+(HC$19*HC24)+(HD$19*HD24)+(HE$19*HE24)+(HF$19*HF24)+(HG$19*HG24)+(HH$19*HH24)+(HI$19*HI24)+(HJ$19*HJ24)+(HK$19*HK24))","v":""},null,null,null,null,null,null,null,null,null,null,null,null,null,null,null,null,null,null,null,null,null,null,null,null,null,null,{"$f":"IF(OR('Set UP'!$C10=0,'Set UP'!$D10=0,'Set UP'!$E10=0),\"\",(HN$19*HN24)+(HO$19*HO24)+(HP$19*HP24)+(HQ$19*HQ24)+(HR$19*HR24)+(HS$19*HS24)+(HT$19*HT24)+(HU$19*HU24)+(HV$19*HV24)+(HW$19*HW24)+(HX$19*HX24)+(HY$19*HY24)+(HZ$19*HZ24)+(IA$19*IA24)+(IB$19*IB24)+(IC$19*IC24)+(ID$19*ID24)+(IE$19*IE24)+(IF$19*IF24)+(IG$19*IG24)+(IH$19*IH24)+(II$19*II24)+(IJ$19*IJ24)+(IK$19*IK24)+(IL$19*IL24))","v":""},null,null,null,null,null,null,null,null,null,null,null,null,null,null,null,null,null,null,null,null,null,null,null,null,null,null,{"$f":"IF(OR('Set UP'!$C10=0,'Set UP'!$D10=0,'Set UP'!$E10=0),\"\",(IO$19*IO24)+(IP$19*IP24)+(IQ$19*IQ24)+(IR$19*IR24)+(IS$19*IS24)+(IT$19*IT24)+(IU$19*IU24)+(IV$19*IV24)+(IW$19*IW24)+(IX$19*IX24)+(IY$19*IY24)+(IZ$19*IZ24)+(JA$19*JA24)+(JB$19*JB24)+(JC$19*JC24)+(JD$19*JD24)+(JE$19*JE24)+(JF$19*JF24)+(JG$19*JG24)+(JH$19*JH24)+(JI$19*JI24)+(JJ$19*JJ24)+(JK$19*JK24)+(JL$19*JL24)+(JM$19*JM24))","v":""},{"$f":"IF(OR('Set UP'!$C10=0,'Set UP'!$D10=0,'Set UP'!$E10=0),\"\",(AF24+BG24+CH24+DI24+EJ24+FK24+GL24+HM24+JO24+IN24))","v":""},{"$f":"IF(OR('Set UP'!$C10=0,'Set UP'!$D10=0,'Set UP'!$E10=0),\"\",RANK(JP24,$JP$21:$JP$60,0))","v":""},{"$f":"IF(OR('Set UP'!K10<>1,'Set UP'!C10=0,'Set UP'!D10=0,'Set UP'!E10=0,'Set UP'!F10=0),\"\",$JP24)","v":""},{"$f":"IF(OR('Set UP'!K10<>1,'Set UP'!C10=0,'Set UP'!D10=0,'Set UP'!E10=0,'Set UP'!F10=0),\"\",RANK(JR24,$JR$21:$JR$60,0))","v":""},{"$f":"IF(OR('Set UP'!K10<>2,'Set UP'!C10=0,'Set UP'!D10=0,'Set UP'!E10=0,'Set UP'!F10=0),\"\",$JP24)","v":""},{"$f":"IF(OR('Set UP'!K10<>2,'Set UP'!C10=0,'Set UP'!D10=0,'Set UP'!E10=0,'Set UP'!F10=0),\"\",RANK(JT24,$JT$21:$JT$60,0))","v":""},{"$f":"IF(OR('Set UP'!F10<>\"F\",'Set UP'!C10=0,'Set UP'!D10=0,'Set UP'!E10=0),\"\",$JP24)","v":""},{"$f":"IF(OR('Set UP'!F10<>\"F\",'Set UP'!C10=0,'Set UP'!D10=0,'Set UP'!E10=0),\"\",RANK(JV24,$JV$21:$JV$60,0))","v":""},{"$f":"IF(OR('Set UP'!F10<>\"NS\",'Set UP'!C10=0,'Set UP'!D10=0,'Set UP'!E10=0),\"\",$JP24)","v":""},{"$f":"IF(OR('Set UP'!F10<>\"NS\",'Set UP'!C10=0,'Set UP'!D10=0,'Set UP'!E10=0),\"\",RANK(JX24,$JX$21:$JX$60,0))","v":""},{"$f":"IF(OR('Set UP'!$C10=0,'Set UP'!$D10=0,'Set UP'!$E10=0,JP24=0),\"\",JP24/MAX(JP$21:JP$60)*1000)","v":""}]
[null,5,{"$f":"IF(OR('Set UP'!$C11=0,'Set UP'!$D11=0,'Set UP'!$E11=0,'Set UP'!F11=0),\"  --\",'Set UP'!C11)","v":1424},{"$f":"IF(OR('Set UP'!$C11=0,'Set UP'!$D11=0,'Set UP'!$E11=0,'Set UP'!F11=0),\"  --\",'Set UP'!D11&\" \"&'Set UP'!E11)","v":"Keynsham B"},{"$f":"IF(OR('Set UP'!$C11=0,'Set UP'!$D11=0,'Set UP'!$E11=0,'Set UP'!F11=0),\"  --\",'Set UP'!F11)","v":"NS"},null,null,null,null,null,null,null,null,null,null,null,null,null,null,null,null,null,null,null,null,null,null,null,null,null,null,{"$f":"IF(OR('Set UP'!$C11=0,'Set UP'!$D11=0,'Set UP'!$E11=0),\"\",(F$19*F25)+(G$19*G25)+(H$19*H25)+(I$19*I25)+(J$19*J25)+(K$19*K25)+(L$19*L25)+(M$19*M25)+(N$19*N25)+(O$19*O25)+(P$19*P25)+(Q$19*Q25)+(R$19*R25)+(S$19*S25)+(T$19*T25)+(U$19*U25)+(V$19*V25)+(W$19*W25)+(X$19*X25)+(Y$19*Y25)+(Z$19*Z25)+(AA$19*AA25)+(AB$19*AB25)+(AC$19*AC25)+(AD$19*AD25))","v":0},null,null,null,null,null,null,null,null,null,null,null,null,null,null,null,null,null,null,null,null,null,null,null,null,null,null,{"$f":"IF(OR('Set UP'!$C11=0,'Set UP'!$D11=0,'Set UP'!$E11=0),\"\",(AG$19*AG25)+(AH$19*AH25)+(AI$19*AI25)+(AJ$19*AJ25)+(AK$19*AK25)+(AL$19*AL25)+(AM$19*AM25)+(AN$19*AN25)+(AO$19*AO25)+(AP$19*AP25)+(AQ$19*AQ25)+(AR$19*AR25)+(AS$19*AS25)+(AT$19*AT25)+(AU$19*AU25)+(AV$19*AV25)+(AW$19*AW25)+(AX$19*AX25)+(AY$19*AY25)+(AZ$19*AZ25)+(BA$19*BA25)+(BB$19*BB25)+(BC$19*BC25)+(BD$19*BD25)+(BE$19*BE25))","v":0},null,null,null,null,null,null,null,null,null,null,null,null,null,null,null,null,null,null,null,null,null,null,null,null,null,null,{"$f":"IF(OR('Set UP'!$C11=0,'Set UP'!$D11=0,'Set UP'!$E11=0),\"\",(BH$19*BH25)+(BI$19*BI25)+(BJ$19*BJ25)+(BK$19*BK25)+(BL$19*BL25)+(BM$19*BM25)+(BN$19*BN25)+(BO$19*BO25)+(BP$19*BP25)+(BQ$19*BQ25)+(BR$19*BR25)+(BS$19*BS25)+(BT$19*BT25)+(BU$19*BU25)+(BV$19*BV25)+(BW$19*BW25)+(BX$19*BX25)+(BY$19*BY25)+(BZ$19*BZ25)+(CA$19*CA25)+(CB$19*CB25)+(CC$19*CC25)+(CD$19*CD25)+(CE$19*CE25)+(CF$19*CF25))","v":0},null,null,null,null,null,null,null,null,null,null,null,null,null,null,null,null,null,null,null,null,null,null,null,null,null,null,{"$f":"IF(OR('Set UP'!$C11=0,'Set UP'!$D11=0,'Set UP'!$E11=0),\"\",(CI$19*CI25)+(CJ$19*CJ25)+(CK$19*CK25)+(CL$19*CL25)+(CM$19*CM25)+(CN$19*CN25)+(CO$19*CO25)+(CP$19*CP25)+(CQ$19*CQ25)+(CR$19*CR25)+(CS$19*CS25)+(CT$19*CT25)+(CU$19*CU25)+(CV$19*CV25)+(CW$19*CW25)+(CX$19*CX25)+(CY$19*CY25)+(CZ$19*CZ25)+(DA$19*DA25)+(DB$19*DB25)+(DC$19*DC25)+(DD$19*DD25)+(DE$19*DE25)+(DF$19*DF25)+(DG$19*DG25))","v":0},null,null,null,null,null,null,null,null,null,null,null,null,null,null,null,null,null,null,null,null,null,null,null,null,null,null,{"$f":"IF(OR('Set UP'!$C11=0,'Set UP'!$D11=0,'Set UP'!$E11=0),\"\",(DJ$19*DJ25)+(DK$19*DK25)+(DL$19*DL25)+(DM$19*DM25)+(DN$19*DN25)+(DO$19*DO25)+(DP$19*DP25)+(DQ$19*DQ25)+(DR$19*DR25)+(DS$19*DS25)+(DT$19*DT25)+(DU$19*DU25)+(DV$19*DV25)+(DW$19*DW25)+(DX$19*DX25)+(DY$19*DY25)+(DZ$19*DZ25)+(EA$19*EA25)+(EB$19*EB25)+(EC$19*EC25)+(ED$19*ED25)+(EE$19*EE25)+(EF$19*EF25)+(EG$19*EG25)+(EH$19*EH25))","v":0},null,null,null,null,null,null,null,null,null,null,null,null,null,null,null,null,null,null,null,null,null,null,null,null,null,null,{"$f":"IF(OR('Set UP'!$C11=0,'Set UP'!$D11=0,'Set UP'!$E11=0),\"\",(EK$19*EK25)+(EL$19*EL25)+(EM$19*EM25)+(EN$19*EN25)+(EO$19*EO25)+(EP$19*EP25)+(EQ$19*EQ25)+(ER$19*ER25)+(ES$19*ES25)+(ET$19*ET25)+(EU$19*EU25)+(EV$19*EV25)+(EW$19*EW25)+(EX$19*EX25)+(EY$19*EY25)+(EZ$19*EZ25)+(FA$19*FA25)+(FB$19*FB25)+(FC$19*FC25)+(FD$19*FD25)+(FE$19*FE25)+(FF$19*FF25)+(FG$19*FG25)+(FH$19*FH25)+(FI$19*FI25))","v":0},null,null,null,null,null,null,null,null,null,null,null,null,null,null,null,null,null,null,null,null,null,null,null,null,null,null,{"$f":"IF(OR('Set UP'!$C11=0,'Set UP'!$D11=0,'Set UP'!$E11=0),\"\",(FL$19*FL25)+(FM$19*FM25)+(FN$19*FN25)+(FO$19*FO25)+(FP$19*FP25)+(FQ$19*FQ25)+(FR$19*FR25)+(FS$19*FS25)+(FT$19*FT25)+(FU$19*FU25)+(FV$19*FV25)+(FW$19*FW25)+(FX$19*FX25)+(FY$19*FY25)+(FZ$19*FZ25)+(GA$19*GA25)+(GB$19*GB25)+(GC$19*GC25)+(GD$19*GD25)+(GE$19*GE25)+(GF$19*GF25)+(GG$19*GG25)+(GH$19*GH25)+(GI$19*GI25)+(GJ$19*GJ25))","v":0},null,null,null,null,null,null,null,null,null,null,null,null,null,null,null,null,null,null,null,null,null,null,null,null,null,null,{"$f":"IF(OR('Set UP'!$C11=0,'Set UP'!$D11=0,'Set UP'!$E11=0),\"\",(GM$19*GM25)+(GN$19*GN25)+(GO$19*GO25)+(GP$19*GP25)+(GQ$19*GQ25)+(GR$19*GR25)+(GS$19*GS25)+(GT$19*GT25)+(GU$19*GU25)+(GV$19*GV25)+(GW$19*GW25)+(GX$19*GX25)+(GY$19*GY25)+(GZ$19*GZ25)+(HA$19*HA25)+(HB$19*HB25)+(HC$19*HC25)+(HD$19*HD25)+(HE$19*HE25)+(HF$19*HF25)+(HG$19*HG25)+(HH$19*HH25)+(HI$19*HI25)+(HJ$19*HJ25)+(HK$19*HK25))","v":0},null,null,null,null,null,null,null,null,null,null,null,null,null,null,null,null,null,null,null,null,null,null,null,null,null,null,{"$f":"IF(OR('Set UP'!$C11=0,'Set UP'!$D11=0,'Set UP'!$E11=0),\"\",(HN$19*HN25)+(HO$19*HO25)+(HP$19*HP25)+(HQ$19*HQ25)+(HR$19*HR25)+(HS$19*HS25)+(HT$19*HT25)+(HU$19*HU25)+(HV$19*HV25)+(HW$19*HW25)+(HX$19*HX25)+(HY$19*HY25)+(HZ$19*HZ25)+(IA$19*IA25)+(IB$19*IB25)+(IC$19*IC25)+(ID$19*ID25)+(IE$19*IE25)+(IF$19*IF25)+(IG$19*IG25)+(IH$19*IH25)+(II$19*II25)+(IJ$19*IJ25)+(IK$19*IK25)+(IL$19*IL25))","v":0},null,null,null,null,null,null,null,null,null,null,null,null,null,null,null,null,null,null,null,null,null,null,null,null,null,null,{"$f":"IF(OR('Set UP'!$C11=0,'Set UP'!$D11=0,'Set UP'!$E11=0),\"\",(IO$19*IO25)+(IP$19*IP25)+(IQ$19*IQ25)+(IR$19*IR25)+(IS$19*IS25)+(IT$19*IT25)+(IU$19*IU25)+(IV$19*IV25)+(IW$19*IW25)+(IX$19*IX25)+(IY$19*IY25)+(IZ$19*IZ25)+(JA$19*JA25)+(JB$19*JB25)+(JC$19*JC25)+(JD$19*JD25)+(JE$19*JE25)+(JF$19*JF25)+(JG$19*JG25)+(JH$19*JH25)+(JI$19*JI25)+(JJ$19*JJ25)+(JK$19*JK25)+(JL$19*JL25)+(JM$19*JM25))","v":0},{"$f":"IF(OR('Set UP'!$C11=0,'Set UP'!$D11=0,'Set UP'!$E11=0),\"\",(AF25+BG25+CH25+DI25+EJ25+FK25+GL25+HM25+JO25+IN25))","v":0},{"$f":"IF(OR('Set UP'!$C11=0,'Set UP'!$D11=0,'Set UP'!$E11=0),\"\",RANK(JP25,$JP$21:$JP$60,0))","v":1},{"$f":"IF(OR('Set UP'!K11<>1,'Set UP'!C11=0,'Set UP'!D11=0,'Set UP'!E11=0,'Set UP'!F11=0),\"\",$JP25)","v":""},{"$f":"IF(OR('Set UP'!K11<>1,'Set UP'!C11=0,'Set UP'!D11=0,'Set UP'!E11=0,'Set UP'!F11=0),\"\",RANK(JR25,$JR$21:$JR$60,0))","v":""},{"$f":"IF(OR('Set UP'!K11<>2,'Set UP'!C11=0,'Set UP'!D11=0,'Set UP'!E11=0,'Set UP'!F11=0),\"\",$JP25)","v":""},{"$f":"IF(OR('Set UP'!K11<>2,'Set UP'!C11=0,'Set UP'!D11=0,'Set UP'!E11=0,'Set UP'!F11=0),\"\",RANK(JT25,$JT$21:$JT$60,0))","v":""},{"$f":"IF(OR('Set UP'!F11<>\"F\",'Set UP'!C11=0,'Set UP'!D11=0,'Set UP'!E11=0),\"\",$JP25)","v":""},{"$f":"IF(OR('Set UP'!F11<>\"F\",'Set UP'!C11=0,'Set UP'!D11=0,'Set UP'!E11=0),\"\",RANK(JV25,$JV$21:$JV$60,0))","v":""},{"$f":"IF(OR('Set UP'!F11<>\"NS\",'Set UP'!C11=0,'Set UP'!D11=0,'Set UP'!E11=0),\"\",$JP25)","v":0},{"$f":"IF(OR('Set UP'!F11<>\"NS\",'Set UP'!C11=0,'Set UP'!D11=0,'Set UP'!E11=0),\"\",RANK(JX25,$JX$21:$JX$60,0))","v":1},{"$f":"IF(OR('Set UP'!$C11=0,'Set UP'!$D11=0,'Set UP'!$E11=0,JP25=0),\"\",JP25/MAX(JP$21:JP$60)*1000)","v":""}]
[null,6,{"$f":"IF(OR('Set UP'!$C12=0,'Set UP'!$D12=0,'Set UP'!$E12=0,'Set UP'!F12=0),\"  --\",'Set UP'!C12)","v":1423},{"$f":"IF(OR('Set UP'!$C12=0,'Set UP'!$D12=0,'Set UP'!$E12=0,'Set UP'!F12=0),\"  --\",'Set UP'!D12&\" \"&'Set UP'!E12)","v":"Keynsham A"},{"$f":"IF(OR('Set UP'!$C12=0,'Set UP'!$D12=0,'Set UP'!$E12=0,'Set UP'!F12=0),\"  --\",'Set UP'!F12)","v":"NS"},null,null,null,null,null,null,null,null,null,null,null,null,null,null,null,null,null,null,null,null,null,null,null,null,null,null,{"$f":"IF(OR('Set UP'!$C12=0,'Set UP'!$D12=0,'Set UP'!$E12=0),\"\",(F$19*F26)+(G$19*G26)+(H$19*H26)+(I$19*I26)+(J$19*J26)+(K$19*K26)+(L$19*L26)+(M$19*M26)+(N$19*N26)+(O$19*O26)+(P$19*P26)+(Q$19*Q26)+(R$19*R26)+(S$19*S26)+(T$19*T26)+(U$19*U26)+(V$19*V26)+(W$19*W26)+(X$19*X26)+(Y$19*Y26)+(Z$19*Z26)+(AA$19*AA26)+(AB$19*AB26)+(AC$19*AC26)+(AD$19*AD26))","v":0},null,null,null,null,null,null,null,null,null,null,null,null,null,null,null,null,null,null,null,null,null,null,null,null,null,null,{"$f":"IF(OR('Set UP'!$C12=0,'Set UP'!$D12=0,'Set UP'!$E12=0),\"\",(AG$19*AG26)+(AH$19*AH26)+(AI$19*AI26)+(AJ$19*AJ26)+(AK$19*AK26)+(AL$19*AL26)+(AM$19*AM26)+(AN$19*AN26)+(AO$19*AO26)+(AP$19*AP26)+(AQ$19*AQ26)+(AR$19*AR26)+(AS$19*AS26)+(AT$19*AT26)+(AU$19*AU26)+(AV$19*AV26)+(AW$19*AW26)+(AX$19*AX26)+(AY$19*AY26)+(AZ$19*AZ26)+(BA$19*BA26)+(BB$19*BB26)+(BC$19*BC26)+(BD$19*BD26)+(BE$19*BE26))","v":0},null,null,null,null,null,null,null,null,null,null,null,null,null,null,null,null,null,null,null,null,null,null,null,null,null,null,{"$f":"IF(OR('Set UP'!$C12=0,'Set UP'!$D12=0,'Set UP'!$E12=0),\"\",(BH$19*BH26)+(BI$19*BI26)+(BJ$19*BJ26)+(BK$19*BK26)+(BL$19*BL26)+(BM$19*BM26)+(BN$19*BN26)+(BO$19*BO26)+(BP$19*BP26)+(BQ$19*BQ26)+(BR$19*BR26)+(BS$19*BS26)+(BT$19*BT26)+(BU$19*BU26)+(BV$19*BV26)+(BW$19*BW26)+(BX$19*BX26)+(BY$19*BY26)+(BZ$19*BZ26)+(CA$19*CA26)+(CB$19*CB26)+(CC$19*CC26)+(CD$19*CD26)+(CE$19*CE26)+(CF$19*CF26))","v":0},null,null,null,null,null,null,null,null,null,null,null,null,null,null,null,null,null,null,null,null,null,null,null,null,null,null,{"$f":"IF(OR('Set UP'!$C12=0,'Set UP'!$D12=0,'Set UP'!$E12=0),\"\",(CI$19*CI26)+(CJ$19*CJ26)+(CK$19*CK26)+(CL$19*CL26)+(CM$19*CM26)+(CN$19*CN26)+(CO$19*CO26)+(CP$19*CP26)+(CQ$19*CQ26)+(CR$19*CR26)+(CS$19*CS26)+(CT$19*CT26)+(CU$19*CU26)+(CV$19*CV26)+(CW$19*CW26)+(CX$19*CX26)+(CY$19*CY26)+(CZ$19*CZ26)+(DA$19*DA26)+(DB$19*DB26)+(DC$19*DC26)+(DD$19*DD26)+(DE$19*DE26)+(DF$19*DF26)+(DG$19*DG26))","v":0},null,null,null,null,null,null,null,null,null,null,null,null,null,null,null,null,null,null,null,null,null,null,null,null,null,null,{"$f":"IF(OR('Set UP'!$C12=0,'Set UP'!$D12=0,'Set UP'!$E12=0),\"\",(DJ$19*DJ26)+(DK$19*DK26)+(DL$19*DL26)+(DM$19*DM26)+(DN$19*DN26)+(DO$19*DO26)+(DP$19*DP26)+(DQ$19*DQ26)+(DR$19*DR26)+(DS$19*DS26)+(DT$19*DT26)+(DU$19*DU26)+(DV$19*DV26)+(DW$19*DW26)+(DX$19*DX26)+(DY$19*DY26)+(DZ$19*DZ26)+(EA$19*EA26)+(EB$19*EB26)+(EC$19*EC26)+(ED$19*ED26)+(EE$19*EE26)+(EF$19*EF26)+(EG$19*EG26)+(EH$19*EH26))","v":0},null,null,null,null,null,null,null,null,null,null,null,null,null,null,null,null,null,null,null,null,null,null,null,null,null,null,{"$f":"IF(OR('Set UP'!$C12=0,'Set UP'!$D12=0,'Set UP'!$E12=0),\"\",(EK$19*EK26)+(EL$19*EL26)+(EM$19*EM26)+(EN$19*EN26)+(EO$19*EO26)+(EP$19*EP26)+(EQ$19*EQ26)+(ER$19*ER26)+(ES$19*ES26)+(ET$19*ET26)+(EU$19*EU26)+(EV$19*EV26)+(EW$19*EW26)+(EX$19*EX26)+(EY$19*EY26)+(EZ$19*EZ26)+(FA$19*FA26)+(FB$19*FB26)+(FC$19*FC26)+(FD$19*FD26)+(FE$19*FE26)+(FF$19*FF26)+(FG$19*FG26)+(FH$19*FH26)+(FI$19*FI26))","v":0},null,null,null,null,null,null,null,null,null,null,null,null,null,null,null,null,null,null,null,null,null,null,null,null,null,null,{"$f":"IF(OR('Set UP'!$C12=0,'Set UP'!$D12=0,'Set UP'!$E12=0),\"\",(FL$19*FL26)+(FM$19*FM26)+(FN$19*FN26)+(FO$19*FO26)+(FP$19*FP26)+(FQ$19*FQ26)+(FR$19*FR26)+(FS$19*FS26)+(FT$19*FT26)+(FU$19*FU26)+(FV$19*FV26)+(FW$19*FW26)+(FX$19*FX26)+(FY$19*FY26)+(FZ$19*FZ26)+(GA$19*GA26)+(GB$19*GB26)+(GC$19*GC26)+(GD$19*GD26)+(GE$19*GE26)+(GF$19*GF26)+(GG$19*GG26)+(GH$19*GH26)+(GI$19*GI26)+(GJ$19*GJ26))","v":0},null,null,null,null,null,null,null,null,null,null,null,null,null,null,null,null,null,null,null,null,null,null,null,null,null,null,{"$f":"IF(OR('Set UP'!$C12=0,'Set UP'!$D12=0,'Set UP'!$E12=0),\"\",(GM$19*GM26)+(GN$19*GN26)+(GO$19*GO26)+(GP$19*GP26)+(GQ$19*GQ26)+(GR$19*GR26)+(GS$19*GS26)+(GT$19*GT26)+(GU$19*GU26)+(GV$19*GV26)+(GW$19*GW26)+(GX$19*GX26)+(GY$19*GY26)+(GZ$19*GZ26)+(HA$19*HA26)+(HB$19*HB26)+(HC$19*HC26)+(HD$19*HD26)+(HE$19*HE26)+(HF$19*HF26)+(HG$19*HG26)+(HH$19*HH26)+(HI$19*HI26)+(HJ$19*HJ26)+(HK$19*HK26))","v":0},null,null,null,null,null,null,null,null,null,null,null,null,null,null,null,null,null,null,null,null,null,null,null,null,null,null,{"$f":"IF(OR('Set UP'!$C12=0,'Set UP'!$D12=0,'Set UP'!$E12=0),\"\",(HN$19*HN26)+(HO$19*HO26)+(HP$19*HP26)+(HQ$19*HQ26)+(HR$19*HR26)+(HS$19*HS26)+(HT$19*HT26)+(HU$19*HU26)+(HV$19*HV26)+(HW$19*HW26)+(HX$19*HX26)+(HY$19*HY26)+(HZ$19*HZ26)+(IA$19*IA26)+(IB$19*IB26)+(IC$19*IC26)+(ID$19*ID26)+(IE$19*IE26)+(IF$19*IF26)+(IG$19*IG26)+(IH$19*IH26)+(II$19*II26)+(IJ$19*IJ26)+(IK$19*IK26)+(IL$19*IL26))","v":0},null,null,null,null,null,null,null,null,null,null,null,null,null,null,null,null,null,null,null,null,null,null,null,null,null,null,{"$f":"IF(OR('Set UP'!$C12=0,'Set UP'!$D12=0,'Set UP'!$E12=0),\"\",(IO$19*IO26)+(IP$19*IP26)+(IQ$19*IQ26)+(IR$19*IR26)+(IS$19*IS26)+(IT$19*IT26)+(IU$19*IU26)+(IV$19*IV26)+(IW$19*IW26)+(IX$19*IX26)+(IY$19*IY26)+(IZ$19*IZ26)+(JA$19*JA26)+(JB$19*JB26)+(JC$19*JC26)+(JD$19*JD26)+(JE$19*JE26)+(JF$19*JF26)+(JG$19*JG26)+(JH$19*JH26)+(JI$19*JI26)+(JJ$19*JJ26)+(JK$19*JK26)+(JL$19*JL26)+(JM$19*JM26))","v":0},{"$f":"IF(OR('Set UP'!$C12=0,'Set UP'!$D12=0,'Set UP'!$E12=0),\"\",(AF26+BG26+CH26+DI26+EJ26+FK26+GL26+HM26+JO26+IN26))","v":0},{"$f":"IF(OR('Set UP'!$C12=0,'Set UP'!$D12=0,'Set UP'!$E12=0),\"\",RANK(JP26,$JP$21:$JP$60,0))","v":1},{"$f":"IF(OR('Set UP'!K12<>1,'Set UP'!C12=0,'Set UP'!D12=0,'Set UP'!E12=0,'Set UP'!F12=0),\"\",$JP26)","v":""},{"$f":"IF(OR('Set UP'!K12<>1,'Set UP'!C12=0,'Set UP'!D12=0,'Set UP'!E12=0,'Set UP'!F12=0),\"\",RANK(JR26,$JR$21:$JR$60,0))","v":""},{"$f":"IF(OR('Set UP'!K12<>2,'Set UP'!C12=0,'Set UP'!D12=0,'Set UP'!E12=0,'Set UP'!F12=0),\"\",$JP26)","v":""},{"$f":"IF(OR('Set UP'!K12<>2,'Set UP'!C12=0,'Set UP'!D12=0,'Set UP'!E12=0,'Set UP'!F12=0),\"\",RANK(JT26,$JT$21:$JT$60,0))","v":""},{"$f":"IF(OR('Set UP'!F12<>\"F\",'Set UP'!C12=0,'Set UP'!D12=0,'Set UP'!E12=0),\"\",$JP26)","v":""},{"$f":"IF(OR('Set UP'!F12<>\"F\",'Set UP'!C12=0,'Set UP'!D12=0,'Set UP'!E12=0),\"\",RANK(JV26,$JV$21:$JV$60,0))","v":""},{"$f":"IF(OR('Set UP'!F12<>\"NS\",'Set UP'!C12=0,'Set UP'!D12=0,'Set UP'!E12=0),\"\",$JP26)","v":0},{"$f":"IF(OR('Set UP'!F12<>\"NS\",'Set UP'!C12=0,'Set UP'!D12=0,'Set UP'!E12=0),\"\",RANK(JX26,$JX$21:$JX$60,0))","v":1},{"$f":"IF(OR('Set UP'!$C12=0,'Set UP'!$D12=0,'Set UP'!$E12=0,JP26=0),\"\",JP26/MAX(JP$21:JP$60)*1000)","v":""}]
[null,7,{"$f":"IF(OR('Set UP'!$C13=0,'Set UP'!$D13=0,'Set UP'!$E13=0,'Set UP'!F13=0),\"  --\",'Set UP'!C13)","v":1433},{"$f":"IF(OR('Set UP'!$C13=0,'Set UP'!$D13=0,'Set UP'!$E13=0,'Set UP'!F13=0),\"  --\",'Set UP'!D13&\" \"&'Set UP'!E13)","v":"University of Nottingham B"},{"$f":"IF(OR('Set UP'!$C13=0,'Set UP'!$D13=0,'Set UP'!$E13=0,'Set UP'!F13=0),\"  --\",'Set UP'!F13)","v":"S"},null,null,null,null,null,null,null,null,null,null,null,null,null,null,null,null,null,null,null,null,null,null,null,null,null,null,{"$f":"IF(OR('Set UP'!$C13=0,'Set UP'!$D13=0,'Set UP'!$E13=0),\"\",(F$19*F27)+(G$19*G27)+(H$19*H27)+(I$19*I27)+(J$19*J27)+(K$19*K27)+(L$19*L27)+(M$19*M27)+(N$19*N27)+(O$19*O27)+(P$19*P27)+(Q$19*Q27)+(R$19*R27)+(S$19*S27)+(T$19*T27)+(U$19*U27)+(V$19*V27)+(W$19*W27)+(X$19*X27)+(Y$19*Y27)+(Z$19*Z27)+(AA$19*AA27)+(AB$19*AB27)+(AC$19*AC27)+(AD$19*AD27))","v":0},null,null,null,null,null,null,null,null,null,null,null,null,null,null,null,null,null,null,null,null,null,null,null,null,null,null,{"$f":"IF(OR('Set UP'!$C13=0,'Set UP'!$D13=0,'Set UP'!$E13=0),\"\",(AG$19*AG27)+(AH$19*AH27)+(AI$19*AI27)+(AJ$19*AJ27)+(AK$19*AK27)+(AL$19*AL27)+(AM$19*AM27)+(AN$19*AN27)+(AO$19*AO27)+(AP$19*AP27)+(AQ$19*AQ27)+(AR$19*AR27)+(AS$19*AS27)+(AT$19*AT27)+(AU$19*AU27)+(AV$19*AV27)+(AW$19*AW27)+(AX$19*AX27)+(AY$19*AY27)+(AZ$19*AZ27)+(BA$19*BA27)+(BB$19*BB27)+(BC$19*BC27)+(BD$19*BD27)+(BE$19*BE27))","v":0},null,null,null,null,null,null,null,null,null,null,null,null,null,null,null,null,null,null,null,null,null,null,null,null,null,null,{"$f":"IF(OR('Set UP'!$C13=0,'Set UP'!$D13=0,'Set UP'!$E13=0),\"\",(BH$19*BH27)+(BI$19*BI27)+(BJ$19*BJ27)+(BK$19*BK27)+(BL$19*BL27)+(BM$19*BM27)+(BN$19*BN27)+(BO$19*BO27)+(BP$19*BP27)+(BQ$19*BQ27)+(BR$19*BR27)+(BS$19*BS27)+(BT$19*BT27)+(BU$19*BU27)+(BV$19*BV27)+(BW$19*BW27)+(BX$19*BX27)+(BY$19*BY27)+(BZ$19*BZ27)+(CA$19*CA27)+(CB$19*CB27)+(CC$19*CC27)+(CD$19*CD27)+(CE$19*CE27)+(CF$19*CF27))","v":0},null,null,null,null,null,null,null,null,null,null,null,null,null,null,null,null,null,null,null,null,null,null,null,null,null,null,{"$f":"IF(OR('Set UP'!$C13=0,'Set UP'!$D13=0,'Set UP'!$E13=0),\"\",(CI$19*CI27)+(CJ$19*CJ27)+(CK$19*CK27)+(CL$19*CL27)+(CM$19*CM27)+(CN$19*CN27)+(CO$19*CO27)+(CP$19*CP27)+(CQ$19*CQ27)+(CR$19*CR27)+(CS$19*CS27)+(CT$19*CT27)+(CU$19*CU27)+(CV$19*CV27)+(CW$19*CW27)+(CX$19*CX27)+(CY$19*CY27)+(CZ$19*CZ27)+(DA$19*DA27)+(DB$19*DB27)+(DC$19*DC27)+(DD$19*DD27)+(DE$19*DE27)+(DF$19*DF27)+(DG$19*DG27))","v":0},null,null,null,null,null,null,null,null,null,null,null,null,null,null,null,null,null,null,null,null,null,null,null,null,null,null,{"$f":"IF(OR('Set UP'!$C13=0,'Set UP'!$D13=0,'Set UP'!$E13=0),\"\",(DJ$19*DJ27)+(DK$19*DK27)+(DL$19*DL27)+(DM$19*DM27)+(DN$19*DN27)+(DO$19*DO27)+(DP$19*DP27)+(DQ$19*DQ27)+(DR$19*DR27)+(DS$19*DS27)+(DT$19*DT27)+(DU$19*DU27)+(DV$19*DV27)+(DW$19*DW27)+(DX$19*DX27)+(DY$19*DY27)+(DZ$19*DZ27)+(EA$19*EA27)+(EB$19*EB27)+(EC$19*EC27)+(ED$19*ED27)+(EE$19*EE27)+(EF$19*EF27)+(EG$19*EG27)+(EH$19*EH27))","v":0},null,null,null,null,null,null,null,null,null,null,null,null,null,null,null,null,null,null,null,null,null,null,null,null,null,null,{"$f":"IF(OR('Set UP'!$C13=0,'Set UP'!$D13=0,'Set UP'!$E13=0),\"\",(EK$19*EK27)+(EL$19*EL27)+(EM$19*EM27)+(EN$19*EN27)+(EO$19*EO27)+(EP$19*EP27)+(EQ$19*EQ27)+(ER$19*ER27)+(ES$19*ES27)+(ET$19*ET27)+(EU$19*EU27)+(EV$19*EV27)+(EW$19*EW27)+(EX$19*EX27)+(EY$19*EY27)+(EZ$19*EZ27)+(FA$19*FA27)+(FB$19*FB27)+(FC$19*FC27)+(FD$19*FD27)+(FE$19*FE27)+(FF$19*FF27)+(FG$19*FG27)+(FH$19*FH27)+(FI$19*FI27))","v":0},null,null,null,null,null,null,null,null,null,null,null,null,null,null,null,null,null,null,null,null,null,null,null,null,null,null,{"$f":"IF(OR('Set UP'!$C13=0,'Set UP'!$D13=0,'Set UP'!$E13=0),\"\",(FL$19*FL27)+(FM$19*FM27)+(FN$19*FN27)+(FO$19*FO27)+(FP$19*FP27)+(FQ$19*FQ27)+(FR$19*FR27)+(FS$19*FS27)+(FT$19*FT27)+(FU$19*FU27)+(FV$19*FV27)+(FW$19*FW27)+(FX$19*FX27)+(FY$19*FY27)+(FZ$19*FZ27)+(GA$19*GA27)+(GB$19*GB27)+(GC$19*GC27)+(GD$19*GD27)+(GE$19*GE27)+(GF$19*GF27)+(GG$19*GG27)+(GH$19*GH27)+(GI$19*GI27)+(GJ$19*GJ27))","v":0},null,null,null,null,null,null,null,null,null,null,null,null,null,null,null,null,null,null,null,null,null,null,null,null,null,null,{"$f":"IF(OR('Set UP'!$C13=0,'Set UP'!$D13=0,'Set UP'!$E13=0),\"\",(GM$19*GM27)+(GN$19*GN27)+(GO$19*GO27)+(GP$19*GP27)+(GQ$19*GQ27)+(GR$19*GR27)+(GS$19*GS27)+(GT$19*GT27)+(GU$19*GU27)+(GV$19*GV27)+(GW$19*GW27)+(GX$19*GX27)+(GY$19*GY27)+(GZ$19*GZ27)+(HA$19*HA27)+(HB$19*HB27)+(HC$19*HC27)+(HD$19*HD27)+(HE$19*HE27)+(HF$19*HF27)+(HG$19*HG27)+(HH$19*HH27)+(HI$19*HI27)+(HJ$19*HJ27)+(HK$19*HK27))","v":0},null,null,null,null,null,null,null,null,null,null,null,null,null,null,null,null,null,null,null,null,null,null,null,null,null,null,{"$f":"IF(OR('Set UP'!$C13=0,'Set UP'!$D13=0,'Set UP'!$E13=0),\"\",(HN$19*HN27)+(HO$19*HO27)+(HP$19*HP27)+(HQ$19*HQ27)+(HR$19*HR27)+(HS$19*HS27)+(HT$19*HT27)+(HU$19*HU27)+(HV$19*HV27)+(HW$19*HW27)+(HX$19*HX27)+(HY$19*HY27)+(HZ$19*HZ27)+(IA$19*IA27)+(IB$19*IB27)+(IC$19*IC27)+(ID$19*ID27)+(IE$19*IE27)+(IF$19*IF27)+(IG$19*IG27)+(IH$19*IH27)+(II$19*II27)+(IJ$19*IJ27)+(IK$19*IK27)+(IL$19*IL27))","v":0},null,null,null,null,null,null,null,null,null,null,null,null,null,null,null,null,null,null,null,null,null,null,null,null,null,null,{"$f":"IF(OR('Set UP'!$C13=0,'Set UP'!$D13=0,'Set UP'!$E13=0),\"\",(IO$19*IO27)+(IP$19*IP27)+(IQ$19*IQ27)+(IR$19*IR27)+(IS$19*IS27)+(IT$19*IT27)+(IU$19*IU27)+(IV$19*IV27)+(IW$19*IW27)+(IX$19*IX27)+(IY$19*IY27)+(IZ$19*IZ27)+(JA$19*JA27)+(JB$19*JB27)+(JC$19*JC27)+(JD$19*JD27)+(JE$19*JE27)+(JF$19*JF27)+(JG$19*JG27)+(JH$19*JH27)+(JI$19*JI27)+(JJ$19*JJ27)+(JK$19*JK27)+(JL$19*JL27)+(JM$19*JM27))","v":0},{"$f":"IF(OR('Set UP'!$C13=0,'Set UP'!$D13=0,'Set UP'!$E13=0),\"\",(AF27+BG27+CH27+DI27+EJ27+FK27+GL27+HM27+JO27+IN27))","v":0},{"$f":"IF(OR('Set UP'!$C13=0,'Set UP'!$D13=0,'Set UP'!$E13=0),\"\",RANK(JP27,$JP$21:$JP$60,0))","v":1},{"$f":"IF(OR('Set UP'!K13<>1,'Set UP'!C13=0,'Set UP'!D13=0,'Set UP'!E13=0,'Set UP'!F13=0),\"\",$JP27)","v":""},{"$f":"IF(OR('Set UP'!K13<>1,'Set UP'!C13=0,'Set UP'!D13=0,'Set UP'!E13=0,'Set UP'!F13=0),\"\",RANK(JR27,$JR$21:$JR$60,0))","v":""},{"$f":"IF(OR('Set UP'!K13<>2,'Set UP'!C13=0,'Set UP'!D13=0,'Set UP'!E13=0,'Set UP'!F13=0),\"\",$JP27)","v":0},{"$f":"IF(OR('Set UP'!K13<>2,'Set UP'!C13=0,'Set UP'!D13=0,'Set UP'!E13=0,'Set UP'!F13=0),\"\",RANK(JT27,$JT$21:$JT$60,0))","v":1},{"$f":"IF(OR('Set UP'!F13<>\"F\",'Set UP'!C13=0,'Set UP'!D13=0,'Set UP'!E13=0),\"\",$JP27)","v":""},{"$f":"IF(OR('Set UP'!F13<>\"F\",'Set UP'!C13=0,'Set UP'!D13=0,'Set UP'!E13=0),\"\",RANK(JV27,$JV$21:$JV$60,0))","v":""},{"$f":"IF(OR('Set UP'!F13<>\"NS\",'Set UP'!C13=0,'Set UP'!D13=0,'Set UP'!E13=0),\"\",$JP27)","v":""},{"$f":"IF(OR('Set UP'!F13<>\"NS\",'Set UP'!C13=0,'Set UP'!D13=0,'Set UP'!E13=0),\"\",RANK(JX27,$JX$21:$JX$60,0))","v":""},{"$f":"IF(OR('Set UP'!$C13=0,'Set UP'!$D13=0,'Set UP'!$E13=0,JP27=0),\"\",JP27/MAX(JP$21:JP$60)*1000)","v":""}]
[null,8,{"$f":"IF(OR('Set UP'!$C14=0,'Set UP'!$D14=0,'Set UP'!$E14=0,'Set UP'!F14=0),\"  --\",'Set UP'!C14)","v":1441},{"$f":"IF(OR('Set UP'!$C14=0,'Set UP'!$D14=0,'Set UP'!$E14=0,'Set UP'!F14=0),\"  --\",'Set UP'!D14&\" \"&'Set UP'!E14)","v":"University of Plymouth C"},{"$f":"IF(OR('Set UP'!$C14=0,'Set UP'!$D14=0,'Set UP'!$E14=0,'Set UP'!F14=0),\"  --\",'Set UP'!F14)","v":"NC"},null,null,null,null,null,null,null,null,null,null,null,null,null,null,null,null,null,null,null,null,null,null,null,null,null,null,{"$f":"IF(OR('Set UP'!$C14=0,'Set UP'!$D14=0,'Set UP'!$E14=0),\"\",(F$19*F28)+(G$19*G28)+(H$19*H28)+(I$19*I28)+(J$19*J28)+(K$19*K28)+(L$19*L28)+(M$19*M28)+(N$19*N28)+(O$19*O28)+(P$19*P28)+(Q$19*Q28)+(R$19*R28)+(S$19*S28)+(T$19*T28)+(U$19*U28)+(V$19*V28)+(W$19*W28)+(X$19*X28)+(Y$19*Y28)+(Z$19*Z28)+(AA$19*AA28)+(AB$19*AB28)+(AC$19*AC28)+(AD$19*AD28))","v":0},null,null,null,null,null,null,null,null,null,null,null,null,null,null,null,null,null,null,null,null,null,null,null,null,null,null,{"$f":"IF(OR('Set UP'!$C14=0,'Set UP'!$D14=0,'Set UP'!$E14=0),\"\",(AG$19*AG28)+(AH$19*AH28)+(AI$19*AI28)+(AJ$19*AJ28)+(AK$19*AK28)+(AL$19*AL28)+(AM$19*AM28)+(AN$19*AN28)+(AO$19*AO28)+(AP$19*AP28)+(AQ$19*AQ28)+(AR$19*AR28)+(AS$19*AS28)+(AT$19*AT28)+(AU$19*AU28)+(AV$19*AV28)+(AW$19*AW28)+(AX$19*AX28)+(AY$19*AY28)+(AZ$19*AZ28)+(BA$19*BA28)+(BB$19*BB28)+(BC$19*BC28)+(BD$19*BD28)+(BE$19*BE28))","v":0},null,null,null,null,null,null,null,null,null,null,null,null,null,null,null,null,null,null,null,null,null,null,null,null,null,null,{"$f":"IF(OR('Set UP'!$C14=0,'Set UP'!$D14=0,'Set UP'!$E14=0),\"\",(BH$19*BH28)+(BI$19*BI28)+(BJ$19*BJ28)+(BK$19*BK28)+(BL$19*BL28)+(BM$19*BM28)+(BN$19*BN28)+(BO$19*BO28)+(BP$19*BP28)+(BQ$19*BQ28)+(BR$19*BR28)+(BS$19*BS28)+(BT$19*BT28)+(BU$19*BU28)+(BV$19*BV28)+(BW$19*BW28)+(BX$19*BX28)+(BY$19*BY28)+(BZ$19*BZ28)+(CA$19*CA28)+(CB$19*CB28)+(CC$19*CC28)+(CD$19*CD28)+(CE$19*CE28)+(CF$19*CF28))","v":0},null,null,null,null,null,null,null,null,null,null,null,null,null,null,null,null,null,null,null,null,null,null,null,null,null,null,{"$f":"IF(OR('Set UP'!$C14=0,'Set UP'!$D14=0,'Set UP'!$E14=0),\"\",(CI$19*CI28)+(CJ$19*CJ28)+(CK$19*CK28)+(CL$19*CL28)+(CM$19*CM28)+(CN$19*CN28)+(CO$19*CO28)+(CP$19*CP28)+(CQ$19*CQ28)+(CR$19*CR28)+(CS$19*CS28)+(CT$19*CT28)+(CU$19*CU28)+(CV$19*CV28)+(CW$19*CW28)+(CX$19*CX28)+(CY$19*CY28)+(CZ$19*CZ28)+(DA$19*DA28)+(DB$19*DB28)+(DC$19*DC28)+(DD$19*DD28)+(DE$19*DE28)+(DF$19*DF28)+(DG$19*DG28))","v":0},null,null,null,null,null,null,null,null,null,null,null,null,null,null,null,null,null,null,null,null,null,null,null,null,null,null,{"$f":"IF(OR('Set UP'!$C14=0,'Set UP'!$D14=0,'Set UP'!$E14=0),\"\",(DJ$19*DJ28)+(DK$19*DK28)+(DL$19*DL28)+(DM$19*DM28)+(DN$19*DN28)+(DO$19*DO28)+(DP$19*DP28)+(DQ$19*DQ28)+(DR$19*DR28)+(DS$19*DS28)+(DT$19*DT28)+(DU$19*DU28)+(DV$19*DV28)+(DW$19*DW28)+(DX$19*DX28)+(DY$19*DY28)+(DZ$19*DZ28)+(EA$19*EA28)+(EB$19*EB28)+(EC$19*EC28)+(ED$19*ED28)+(EE$19*EE28)+(EF$19*EF28)+(EG$19*EG28)+(EH$19*EH28))","v":0},null,null,null,null,null,null,null,null,null,null,null,null,null,null,null,null,null,null,null,null,null,null,null,null,null,null,{"$f":"IF(OR('Set UP'!$C14=0,'Set UP'!$D14=0,'Set UP'!$E14=0),\"\",(EK$19*EK28)+(EL$19*EL28)+(EM$19*EM28)+(EN$19*EN28)+(EO$19*EO28)+(EP$19*EP28)+(EQ$19*EQ28)+(ER$19*ER28)+(ES$19*ES28)+(ET$19*ET28)+(EU$19*EU28)+(EV$19*EV28)+(EW$19*EW28)+(EX$19*EX28)+(EY$19*EY28)+(EZ$19*EZ28)+(FA$19*FA28)+(FB$19*FB28)+(FC$19*FC28)+(FD$19*FD28)+(FE$19*FE28)+(FF$19*FF28)+(FG$19*FG28)+(FH$19*FH28)+(FI$19*FI28))","v":0},null,null,null,null,null,null,null,null,null,null,null,null,null,null,null,null,null,null,null,null,null,null,null,null,null,null,{"$f":"IF(OR('Set UP'!$C14=0,'Set UP'!$D14=0,'Set UP'!$E14=0),\"\",(FL$19*FL28)+(FM$19*FM28)+(FN$19*FN28)+(FO$19*FO28)+(FP$19*FP28)+(FQ$19*FQ28)+(FR$19*FR28)+(FS$19*FS28)+(FT$19*FT28)+(FU$19*FU28)+(FV$19*FV28)+(FW$19*FW28)+(FX$19*FX28)+(FY$19*FY28)+(FZ$19*FZ28)+(GA$19*GA28)+(GB$19*GB28)+(GC$19*GC28)+(GD$19*GD28)+(GE$19*GE28)+(GF$19*GF28)+(GG$19*GG28)+(GH$19*GH28)+(GI$19*GI28)+(GJ$19*GJ28))","v":0},null,null,null,null,null,null,null,null,null,null,null,null,null,null,null,null,null,null,null,null,null,null,null,null,null,null,{"$f":"IF(OR('Set UP'!$C14=0,'Set UP'!$D14=0,'Set UP'!$E14=0),\"\",(GM$19*GM28)+(GN$19*GN28)+(GO$19*GO28)+(GP$19*GP28)+(GQ$19*GQ28)+(GR$19*GR28)+(GS$19*GS28)+(GT$19*GT28)+(GU$19*GU28)+(GV$19*GV28)+(GW$19*GW28)+(GX$19*GX28)+(GY$19*GY28)+(GZ$19*GZ28)+(HA$19*HA28)+(HB$19*HB28)+(HC$19*HC28)+(HD$19*HD28)+(HE$19*HE28)+(HF$19*HF28)+(HG$19*HG28)+(HH$19*HH28)+(HI$19*HI28)+(HJ$19*HJ28)+(HK$19*HK28))","v":0},null,null,null,null,null,null,null,null,null,null,null,null,null,null,null,null,null,null,null,null,null,null,null,null,null,null,{"$f":"IF(OR('Set UP'!$C14=0,'Set UP'!$D14=0,'Set UP'!$E14=0),\"\",(HN$19*HN28)+(HO$19*HO28)+(HP$19*HP28)+(HQ$19*HQ28)+(HR$19*HR28)+(HS$19*HS28)+(HT$19*HT28)+(HU$19*HU28)+(HV$19*HV28)+(HW$19*HW28)+(HX$19*HX28)+(HY$19*HY28)+(HZ$19*HZ28)+(IA$19*IA28)+(IB$19*IB28)+(IC$19*IC28)+(ID$19*ID28)+(IE$19*IE28)+(IF$19*IF28)+(IG$19*IG28)+(IH$19*IH28)+(II$19*II28)+(IJ$19*IJ28)+(IK$19*IK28)+(IL$19*IL28))","v":0},null,null,null,null,null,null,null,null,null,null,null,null,null,null,null,null,null,null,null,null,null,null,null,null,null,null,{"$f":"IF(OR('Set UP'!$C14=0,'Set UP'!$D14=0,'Set UP'!$E14=0),\"\",(IO$19*IO28)+(IP$19*IP28)+(IQ$19*IQ28)+(IR$19*IR28)+(IS$19*IS28)+(IT$19*IT28)+(IU$19*IU28)+(IV$19*IV28)+(IW$19*IW28)+(IX$19*IX28)+(IY$19*IY28)+(IZ$19*IZ28)+(JA$19*JA28)+(JB$19*JB28)+(JC$19*JC28)+(JD$19*JD28)+(JE$19*JE28)+(JF$19*JF28)+(JG$19*JG28)+(JH$19*JH28)+(JI$19*JI28)+(JJ$19*JJ28)+(JK$19*JK28)+(JL$19*JL28)+(JM$19*JM28))","v":0},{"$f":"IF(OR('Set UP'!$C14=0,'Set UP'!$D14=0,'Set UP'!$E14=0),\"\",(AF28+BG28+CH28+DI28+EJ28+FK28+GL28+HM28+JO28+IN28))","v":0},{"$f":"IF(OR('Set UP'!$C14=0,'Set UP'!$D14=0,'Set UP'!$E14=0),\"\",RANK(JP28,$JP$21:$JP$60,0))","v":1},{"$f":"IF(OR('Set UP'!K14<>1,'Set UP'!C14=0,'Set UP'!D14=0,'Set UP'!E14=0,'Set UP'!F14=0),\"\",$JP28)","v":""},{"$f":"IF(OR('Set UP'!K14<>1,'Set UP'!C14=0,'Set UP'!D14=0,'Set UP'!E14=0,'Set UP'!F14=0),\"\",RANK(JR28,$JR$21:$JR$60,0))","v":""},{"$f":"IF(OR('Set UP'!K14<>2,'Set UP'!C14=0,'Set UP'!D14=0,'Set UP'!E14=0,'Set UP'!F14=0),\"\",$JP28)","v":""},{"$f":"IF(OR('Set UP'!K14<>2,'Set UP'!C14=0,'Set UP'!D14=0,'Set UP'!E14=0,'Set UP'!F14=0),\"\",RANK(JT28,$JT$21:$JT$60,0))","v":""},{"$f":"IF(OR('Set UP'!F14<>\"F\",'Set UP'!C14=0,'Set UP'!D14=0,'Set UP'!E14=0),\"\",$JP28)","v":""},{"$f":"IF(OR('Set UP'!F14<>\"F\",'Set UP'!C14=0,'Set UP'!D14=0,'Set UP'!E14=0),\"\",RANK(JV28,$JV$21:$JV$60,0))","v":""},{"$f":"IF(OR('Set UP'!F14<>\"NS\",'Set UP'!C14=0,'Set UP'!D14=0,'Set UP'!E14=0),\"\",$JP28)","v":""},{"$f":"IF(OR('Set UP'!F14<>\"NS\",'Set UP'!C14=0,'Set UP'!D14=0,'Set UP'!E14=0),\"\",RANK(JX28,$JX$21:$JX$60,0))","v":""},{"$f":"IF(OR('Set UP'!$C14=0,'Set UP'!$D14=0,'Set UP'!$E14=0,JP28=0),\"\",JP28/MAX(JP$21:JP$60)*1000)","v":""}]
[null,9,{"$f":"IF(OR('Set UP'!$C15=0,'Set UP'!$D15=0,'Set UP'!$E15=0,'Set UP'!F15=0),\"  --\",'Set UP'!C15)","v":1440},{"$f":"IF(OR('Set UP'!$C15=0,'Set UP'!$D15=0,'Set UP'!$E15=0,'Set UP'!F15=0),\"  --\",'Set UP'!D15&\" \"&'Set UP'!E15)","v":"University of Plymouth B"},{"$f":"IF(OR('Set UP'!$C15=0,'Set UP'!$D15=0,'Set UP'!$E15=0,'Set UP'!F15=0),\"  --\",'Set UP'!F15)","v":"S"},null,null,null,null,null,null,null,null,null,null,null,null,null,null,null,null,null,null,null,null,null,null,null,null,null,null,{"$f":"IF(OR('Set UP'!$C15=0,'Set UP'!$D15=0,'Set UP'!$E15=0),\"\",(F$19*F29)+(G$19*G29)+(H$19*H29)+(I$19*I29)+(J$19*J29)+(K$19*K29)+(L$19*L29)+(M$19*M29)+(N$19*N29)+(O$19*O29)+(P$19*P29)+(Q$19*Q29)+(R$19*R29)+(S$19*S29)+(T$19*T29)+(U$19*U29)+(V$19*V29)+(W$19*W29)+(X$19*X29)+(Y$19*Y29)+(Z$19*Z29)+(AA$19*AA29)+(AB$19*AB29)+(AC$19*AC29)+(AD$19*AD29))","v":0},null,null,null,null,null,null,null,null,null,null,null,null,null,null,null,null,null,null,null,null,null,null,null,null,null,null,{"$f":"IF(OR('Set UP'!$C15=0,'Set UP'!$D15=0,'Set UP'!$E15=0),\"\",(AG$19*AG29)+(AH$19*AH29)+(AI$19*AI29)+(AJ$19*AJ29)+(AK$19*AK29)+(AL$19*AL29)+(AM$19*AM29)+(AN$19*AN29)+(AO$19*AO29)+(AP$19*AP29)+(AQ$19*AQ29)+(AR$19*AR29)+(AS$19*AS29)+(AT$19*AT29)+(AU$19*AU29)+(AV$19*AV29)+(AW$19*AW29)+(AX$19*AX29)+(AY$19*AY29)+(AZ$19*AZ29)+(BA$19*BA29)+(BB$19*BB29)+(BC$19*BC29)+(BD$19*BD29)+(BE$19*BE29))","v":0},null,null,null,null,null,null,null,null,null,null,null,null,null,null,null,null,null,null,null,null,null,null,null,null,null,null,{"$f":"IF(OR('Set UP'!$C15=0,'Set UP'!$D15=0,'Set UP'!$E15=0),\"\",(BH$19*BH29)+(BI$19*BI29)+(BJ$19*BJ29)+(BK$19*BK29)+(BL$19*BL29)+(BM$19*BM29)+(BN$19*BN29)+(BO$19*BO29)+(BP$19*BP29)+(BQ$19*BQ29)+(BR$19*BR29)+(BS$19*BS29)+(BT$19*BT29)+(BU$19*BU29)+(BV$19*BV29)+(BW$19*BW29)+(BX$19*BX29)+(BY$19*BY29)+(BZ$19*BZ29)+(CA$19*CA29)+(CB$19*CB29)+(CC$19*CC29)+(CD$19*CD29)+(CE$19*CE29)+(CF$19*CF29))","v":0},null,null,null,null,null,null,null,null,null,null,null,null,null,null,null,null,null,null,null,null,null,null,null,null,null,null,{"$f":"IF(OR('Set UP'!$C15=0,'Set UP'!$D15=0,'Set UP'!$E15=0),\"\",(CI$19*CI29)+(CJ$19*CJ29)+(CK$19*CK29)+(CL$19*CL29)+(CM$19*CM29)+(CN$19*CN29)+(CO$19*CO29)+(CP$19*CP29)+(CQ$19*CQ29)+(CR$19*CR29)+(CS$19*CS29)+(CT$19*CT29)+(CU$19*CU29)+(CV$19*CV29)+(CW$19*CW29)+(CX$19*CX29)+(CY$19*CY29)+(CZ$19*CZ29)+(DA$19*DA29)+(DB$19*DB29)+(DC$19*DC29)+(DD$19*DD29)+(DE$19*DE29)+(DF$19*DF29)+(DG$19*DG29))","v":0},null,null,null,null,null,null,null,null,null,null,null,null,null,null,null,null,null,null,null,null,null,null,null,null,null,null,{"$f":"IF(OR('Set UP'!$C15=0,'Set UP'!$D15=0,'Set UP'!$E15=0),\"\",(DJ$19*DJ29)+(DK$19*DK29)+(DL$19*DL29)+(DM$19*DM29)+(DN$19*DN29)+(DO$19*DO29)+(DP$19*DP29)+(DQ$19*DQ29)+(DR$19*DR29)+(DS$19*DS29)+(DT$19*DT29)+(DU$19*DU29)+(DV$19*DV29)+(DW$19*DW29)+(DX$19*DX29)+(DY$19*DY29)+(DZ$19*DZ29)+(EA$19*EA29)+(EB$19*EB29)+(EC$19*EC29)+(ED$19*ED29)+(EE$19*EE29)+(EF$19*EF29)+(EG$19*EG29)+(EH$19*EH29))","v":0},null,null,null,null,null,null,null,null,null,null,null,null,null,null,null,null,null,null,null,null,null,null,null,null,null,null,{"$f":"IF(OR('Set UP'!$C15=0,'Set UP'!$D15=0,'Set UP'!$E15=0),\"\",(EK$19*EK29)+(EL$19*EL29)+(EM$19*EM29)+(EN$19*EN29)+(EO$19*EO29)+(EP$19*EP29)+(EQ$19*EQ29)+(ER$19*ER29)+(ES$19*ES29)+(ET$19*ET29)+(EU$19*EU29)+(EV$19*EV29)+(EW$19*EW29)+(EX$19*EX29)+(EY$19*EY29)+(EZ$19*EZ29)+(FA$19*FA29)+(FB$19*FB29)+(FC$19*FC29)+(FD$19*FD29)+(FE$19*FE29)+(FF$19*FF29)+(FG$19*FG29)+(FH$19*FH29)+(FI$19*FI29))","v":0},null,null,null,null,null,null,null,null,null,null,null,null,null,null,null,null,null,null,null,null,null,null,null,null,null,null,{"$f":"IF(OR('Set UP'!$C15=0,'Set UP'!$D15=0,'Set UP'!$E15=0),\"\",(FL$19*FL29)+(FM$19*FM29)+(FN$19*FN29)+(FO$19*FO29)+(FP$19*FP29)+(FQ$19*FQ29)+(FR$19*FR29)+(FS$19*FS29)+(FT$19*FT29)+(FU$19*FU29)+(FV$19*FV29)+(FW$19*FW29)+(FX$19*FX29)+(FY$19*FY29)+(FZ$19*FZ29)+(GA$19*GA29)+(GB$19*GB29)+(GC$19*GC29)+(GD$19*GD29)+(GE$19*GE29)+(GF$19*GF29)+(GG$19*GG29)+(GH$19*GH29)+(GI$19*GI29)+(GJ$19*GJ29))","v":0},null,null,null,null,null,null,null,null,null,null,null,null,null,null,null,null,null,null,null,null,null,null,null,null,null,null,{"$f":"IF(OR('Set UP'!$C15=0,'Set UP'!$D15=0,'Set UP'!$E15=0),\"\",(GM$19*GM29)+(GN$19*GN29)+(GO$19*GO29)+(GP$19*GP29)+(GQ$19*GQ29)+(GR$19*GR29)+(GS$19*GS29)+(GT$19*GT29)+(GU$19*GU29)+(GV$19*GV29)+(GW$19*GW29)+(GX$19*GX29)+(GY$19*GY29)+(GZ$19*GZ29)+(HA$19*HA29)+(HB$19*HB29)+(HC$19*HC29)+(HD$19*HD29)+(HE$19*HE29)+(HF$19*HF29)+(HG$19*HG29)+(HH$19*HH29)+(HI$19*HI29)+(HJ$19*HJ29)+(HK$19*HK29))","v":0},null,null,null,null,null,null,null,null,null,null,null,null,null,null,null,null,null,null,null,null,null,null,null,null,null,null,{"$f":"IF(OR('Set UP'!$C15=0,'Set UP'!$D15=0,'Set UP'!$E15=0),\"\",(HN$19*HN29)+(HO$19*HO29)+(HP$19*HP29)+(HQ$19*HQ29)+(HR$19*HR29)+(HS$19*HS29)+(HT$19*HT29)+(HU$19*HU29)+(HV$19*HV29)+(HW$19*HW29)+(HX$19*HX29)+(HY$19*HY29)+(HZ$19*HZ29)+(IA$19*IA29)+(IB$19*IB29)+(IC$19*IC29)+(ID$19*ID29)+(IE$19*IE29)+(IF$19*IF29)+(IG$19*IG29)+(IH$19*IH29)+(II$19*II29)+(IJ$19*IJ29)+(IK$19*IK29)+(IL$19*IL29))","v":0},null,null,null,null,null,null,null,null,null,null,null,null,null,null,null,null,null,null,null,null,null,null,null,null,null,null,{"$f":"IF(OR('Set UP'!$C15=0,'Set UP'!$D15=0,'Set UP'!$E15=0),\"\",(IO$19*IO29)+(IP$19*IP29)+(IQ$19*IQ29)+(IR$19*IR29)+(IS$19*IS29)+(IT$19*IT29)+(IU$19*IU29)+(IV$19*IV29)+(IW$19*IW29)+(IX$19*IX29)+(IY$19*IY29)+(IZ$19*IZ29)+(JA$19*JA29)+(JB$19*JB29)+(JC$19*JC29)+(JD$19*JD29)+(JE$19*JE29)+(JF$19*JF29)+(JG$19*JG29)+(JH$19*JH29)+(JI$19*JI29)+(JJ$19*JJ29)+(JK$19*JK29)+(JL$19*JL29)+(JM$19*JM29))","v":0},{"$f":"IF(OR('Set UP'!$C15=0,'Set UP'!$D15=0,'Set UP'!$E15=0),\"\",(AF29+BG29+CH29+DI29+EJ29+FK29+GL29+HM29+JO29+IN29))","v":0},{"$f":"IF(OR('Set UP'!$C15=0,'Set UP'!$D15=0,'Set UP'!$E15=0),\"\",RANK(JP29,$JP$21:$JP$60,0))","v":1},{"$f":"IF(OR('Set UP'!K15<>1,'Set UP'!C15=0,'Set UP'!D15=0,'Set UP'!E15=0,'Set UP'!F15=0),\"\",$JP29)","v":""},{"$f":"IF(OR('Set UP'!K15<>1,'Set UP'!C15=0,'Set UP'!D15=0,'Set UP'!E15=0,'Set UP'!F15=0),\"\",RANK(JR29,$JR$21:$JR$60,0))","v":""},{"$f":"IF(OR('Set UP'!K15<>2,'Set UP'!C15=0,'Set UP'!D15=0,'Set UP'!E15=0,'Set UP'!F15=0),\"\",$JP29)","v":0},{"$f":"IF(OR('Set UP'!K15<>2,'Set UP'!C15=0,'Set UP'!D15=0,'Set UP'!E15=0,'Set UP'!F15=0),\"\",RANK(JT29,$JT$21:$JT$60,0))","v":1},{"$f":"IF(OR('Set UP'!F15<>\"F\",'Set UP'!C15=0,'Set UP'!D15=0,'Set UP'!E15=0),\"\",$JP29)","v":""},{"$f":"IF(OR('Set UP'!F15<>\"F\",'Set UP'!C15=0,'Set UP'!D15=0,'Set UP'!E15=0),\"\",RANK(JV29,$JV$21:$JV$60,0))","v":""},{"$f":"IF(OR('Set UP'!F15<>\"NS\",'Set UP'!C15=0,'Set UP'!D15=0,'Set UP'!E15=0),\"\",$JP29)","v":""},{"$f":"IF(OR('Set UP'!F15<>\"NS\",'Set UP'!C15=0,'Set UP'!D15=0,'Set UP'!E15=0),\"\",RANK(JX29,$JX$21:$JX$60,0))","v":""},{"$f":"IF(OR('Set UP'!$C15=0,'Set UP'!$D15=0,'Set UP'!$E15=0,JP29=0),\"\",JP29/MAX(JP$21:JP$60)*1000)","v":""}]
[null,10,{"$f":"IF(OR('Set UP'!$C16=0,'Set UP'!$D16=0,'Set UP'!$E16=0,'Set UP'!F16=0),\"  --\",'Set UP'!C16)","v":1431},{"$f":"IF(OR('Set UP'!$C16=0,'Set UP'!$D16=0,'Set UP'!$E16=0,'Set UP'!F16=0),\"  --\",'Set UP'!D16&\" \"&'Set UP'!E16)","v":"University of Nottingham C"},{"$f":"IF(OR('Set UP'!$C16=0,'Set UP'!$D16=0,'Set UP'!$E16=0,'Set UP'!F16=0),\"  --\",'Set UP'!F16)","v":"S"},null,null,null,null,null,null,null,null,null,null,null,null,null,null,null,null,null,null,null,null,null,null,null,null,null,null,{"$f":"IF(OR('Set UP'!$C16=0,'Set UP'!$D16=0,'Set UP'!$E16=0),\"\",(F$19*F30)+(G$19*G30)+(H$19*H30)+(I$19*I30)+(J$19*J30)+(K$19*K30)+(L$19*L30)+(M$19*M30)+(N$19*N30)+(O$19*O30)+(P$19*P30)+(Q$19*Q30)+(R$19*R30)+(S$19*S30)+(T$19*T30)+(U$19*U30)+(V$19*V30)+(W$19*W30)+(X$19*X30)+(Y$19*Y30)+(Z$19*Z30)+(AA$19*AA30)+(AB$19*AB30)+(AC$19*AC30)+(AD$19*AD30))","v":0},null,null,null,null,null,null,null,null,null,null,null,null,null,null,null,null,null,null,null,null,null,null,null,null,null,null,{"$f":"IF(OR('Set UP'!$C16=0,'Set UP'!$D16=0,'Set UP'!$E16=0),\"\",(AG$19*AG30)+(AH$19*AH30)+(AI$19*AI30)+(AJ$19*AJ30)+(AK$19*AK30)+(AL$19*AL30)+(AM$19*AM30)+(AN$19*AN30)+(AO$19*AO30)+(AP$19*AP30)+(AQ$19*AQ30)+(AR$19*AR30)+(AS$19*AS30)+(AT$19*AT30)+(AU$19*AU30)+(AV$19*AV30)+(AW$19*AW30)+(AX$19*AX30)+(AY$19*AY30)+(AZ$19*AZ30)+(BA$19*BA30)+(BB$19*BB30)+(BC$19*BC30)+(BD$19*BD30)+(BE$19*BE30))","v":0},null,null,null,null,null,null,null,null,null,null,null,null,null,null,null,null,null,null,null,null,null,null,null,null,null,null,{"$f":"IF(OR('Set UP'!$C16=0,'Set UP'!$D16=0,'Set UP'!$E16=0),\"\",(BH$19*BH30)+(BI$19*BI30)+(BJ$19*BJ30)+(BK$19*BK30)+(BL$19*BL30)+(BM$19*BM30)+(BN$19*BN30)+(BO$19*BO30)+(BP$19*BP30)+(BQ$19*BQ30)+(BR$19*BR30)+(BS$19*BS30)+(BT$19*BT30)+(BU$19*BU30)+(BV$19*BV30)+(BW$19*BW30)+(BX$19*BX30)+(BY$19*BY30)+(BZ$19*BZ30)+(CA$19*CA30)+(CB$19*CB30)+(CC$19*CC30)+(CD$19*CD30)+(CE$19*CE30)+(CF$19*CF30))","v":0},null,null,null,null,null,null,null,null,null,null,null,null,null,null,null,null,null,null,null,null,null,null,null,null,null,null,{"$f":"IF(OR('Set UP'!$C16=0,'Set UP'!$D16=0,'Set UP'!$E16=0),\"\",(CI$19*CI30)+(CJ$19*CJ30)+(CK$19*CK30)+(CL$19*CL30)+(CM$19*CM30)+(CN$19*CN30)+(CO$19*CO30)+(CP$19*CP30)+(CQ$19*CQ30)+(CR$19*CR30)+(CS$19*CS30)+(CT$19*CT30)+(CU$19*CU30)+(CV$19*CV30)+(CW$19*CW30)+(CX$19*CX30)+(CY$19*CY30)+(CZ$19*CZ30)+(DA$19*DA30)+(DB$19*DB30)+(DC$19*DC30)+(DD$19*DD30)+(DE$19*DE30)+(DF$19*DF30)+(DG$19*DG30))","v":0},null,null,null,null,null,null,null,null,null,null,null,null,null,null,null,null,null,null,null,null,null,null,null,null,null,null,{"$f":"IF(OR('Set UP'!$C16=0,'Set UP'!$D16=0,'Set UP'!$E16=0),\"\",(DJ$19*DJ30)+(DK$19*DK30)+(DL$19*DL30)+(DM$19*DM30)+(DN$19*DN30)+(DO$19*DO30)+(DP$19*DP30)+(DQ$19*DQ30)+(DR$19*DR30)+(DS$19*DS30)+(DT$19*DT30)+(DU$19*DU30)+(DV$19*DV30)+(DW$19*DW30)+(DX$19*DX30)+(DY$19*DY30)+(DZ$19*DZ30)+(EA$19*EA30)+(EB$19*EB30)+(EC$19*EC30)+(ED$19*ED30)+(EE$19*EE30)+(EF$19*EF30)+(EG$19*EG30)+(EH$19*EH30))","v":0},null,null,null,null,null,null,null,null,null,null,null,null,null,null,null,null,null,null,null,null,null,null,null,null,null,null,{"$f":"IF(OR('Set UP'!$C16=0,'Set UP'!$D16=0,'Set UP'!$E16=0),\"\",(EK$19*EK30)+(EL$19*EL30)+(EM$19*EM30)+(EN$19*EN30)+(EO$19*EO30)+(EP$19*EP30)+(EQ$19*EQ30)+(ER$19*ER30)+(ES$19*ES30)+(ET$19*ET30)+(EU$19*EU30)+(EV$19*EV30)+(EW$19*EW30)+(EX$19*EX30)+(EY$19*EY30)+(EZ$19*EZ30)+(FA$19*FA30)+(FB$19*FB30)+(FC$19*FC30)+(FD$19*FD30)+(FE$19*FE30)+(FF$19*FF30)+(FG$19*FG30)+(FH$19*FH30)+(FI$19*FI30))","v":0},null,null,null,null,null,null,null,null,null,null,null,null,null,null,null,null,null,null,null,null,null,null,null,null,null,null,{"$f":"IF(OR('Set UP'!$C16=0,'Set UP'!$D16=0,'Set UP'!$E16=0),\"\",(FL$19*FL30)+(FM$19*FM30)+(FN$19*FN30)+(FO$19*FO30)+(FP$19*FP30)+(FQ$19*FQ30)+(FR$19*FR30)+(FS$19*FS30)+(FT$19*FT30)+(FU$19*FU30)+(FV$19*FV30)+(FW$19*FW30)+(FX$19*FX30)+(FY$19*FY30)+(FZ$19*FZ30)+(GA$19*GA30)+(GB$19*GB30)+(GC$19*GC30)+(GD$19*GD30)+(GE$19*GE30)+(GF$19*GF30)+(GG$19*GG30)+(GH$19*GH30)+(GI$19*GI30)+(GJ$19*GJ30))","v":0},null,null,null,null,null,null,null,null,null,null,null,null,null,null,null,null,null,null,null,null,null,null,null,null,null,null,{"$f":"IF(OR('Set UP'!$C16=0,'Set UP'!$D16=0,'Set UP'!$E16=0),\"\",(GM$19*GM30)+(GN$19*GN30)+(GO$19*GO30)+(GP$19*GP30)+(GQ$19*GQ30)+(GR$19*GR30)+(GS$19*GS30)+(GT$19*GT30)+(GU$19*GU30)+(GV$19*GV30)+(GW$19*GW30)+(GX$19*GX30)+(GY$19*GY30)+(GZ$19*GZ30)+(HA$19*HA30)+(HB$19*HB30)+(HC$19*HC30)+(HD$19*HD30)+(HE$19*HE30)+(HF$19*HF30)+(HG$19*HG30)+(HH$19*HH30)+(HI$19*HI30)+(HJ$19*HJ30)+(HK$19*HK30))","v":0},null,null,null,null,null,null,null,null,null,null,null,null,null,null,null,null,null,null,null,null,null,null,null,null,null,null,{"$f":"IF(OR('Set UP'!$C16=0,'Set UP'!$D16=0,'Set UP'!$E16=0),\"\",(HN$19*HN30)+(HO$19*HO30)+(HP$19*HP30)+(HQ$19*HQ30)+(HR$19*HR30)+(HS$19*HS30)+(HT$19*HT30)+(HU$19*HU30)+(HV$19*HV30)+(HW$19*HW30)+(HX$19*HX30)+(HY$19*HY30)+(HZ$19*HZ30)+(IA$19*IA30)+(IB$19*IB30)+(IC$19*IC30)+(ID$19*ID30)+(IE$19*IE30)+(IF$19*IF30)+(IG$19*IG30)+(IH$19*IH30)+(II$19*II30)+(IJ$19*IJ30)+(IK$19*IK30)+(IL$19*IL30))","v":0},null,null,null,null,null,null,null,null,null,null,null,null,null,null,null,null,null,null,null,null,null,null,null,null,null,null,{"$f":"IF(OR('Set UP'!$C16=0,'Set UP'!$D16=0,'Set UP'!$E16=0),\"\",(IO$19*IO30)+(IP$19*IP30)+(IQ$19*IQ30)+(IR$19*IR30)+(IS$19*IS30)+(IT$19*IT30)+(IU$19*IU30)+(IV$19*IV30)+(IW$19*IW30)+(IX$19*IX30)+(IY$19*IY30)+(IZ$19*IZ30)+(JA$19*JA30)+(JB$19*JB30)+(JC$19*JC30)+(JD$19*JD30)+(JE$19*JE30)+(JF$19*JF30)+(JG$19*JG30)+(JH$19*JH30)+(JI$19*JI30)+(JJ$19*JJ30)+(JK$19*JK30)+(JL$19*JL30)+(JM$19*JM30))","v":0},{"$f":"IF(OR('Set UP'!$C16=0,'Set UP'!$D16=0,'Set UP'!$E16=0),\"\",(AF30+BG30+CH30+DI30+EJ30+FK30+GL30+HM30+JO30+IN30))","v":0},{"$f":"IF(OR('Set UP'!$C16=0,'Set UP'!$D16=0,'Set UP'!$E16=0),\"\",RANK(JP30,$JP$21:$JP$60,0))","v":1},{"$f":"IF(OR('Set UP'!K16<>1,'Set UP'!C16=0,'Set UP'!D16=0,'Set UP'!E16=0,'Set UP'!F16=0),\"\",$JP30)","v":""},{"$f":"IF(OR('Set UP'!K16<>1,'Set UP'!C16=0,'Set UP'!D16=0,'Set UP'!E16=0,'Set UP'!F16=0),\"\",RANK(JR30,$JR$21:$JR$60,0))","v":""},{"$f":"IF(OR('Set UP'!K16<>2,'Set UP'!C16=0,'Set UP'!D16=0,'Set UP'!E16=0,'Set UP'!F16=0),\"\",$JP30)","v":0},{"$f":"IF(OR('Set UP'!K16<>2,'Set UP'!C16=0,'Set UP'!D16=0,'Set UP'!E16=0,'Set UP'!F16=0),\"\",RANK(JT30,$JT$21:$JT$60,0))","v":1},{"$f":"IF(OR('Set UP'!F16<>\"F\",'Set UP'!C16=0,'Set UP'!D16=0,'Set UP'!E16=0),\"\",$JP30)","v":""},{"$f":"IF(OR('Set UP'!F16<>\"F\",'Set UP'!C16=0,'Set UP'!D16=0,'Set UP'!E16=0),\"\",RANK(JV30,$JV$21:$JV$60,0))","v":""},{"$f":"IF(OR('Set UP'!F16<>\"NS\",'Set UP'!C16=0,'Set UP'!D16=0,'Set UP'!E16=0),\"\",$JP30)","v":""},{"$f":"IF(OR('Set UP'!F16<>\"NS\",'Set UP'!C16=0,'Set UP'!D16=0,'Set UP'!E16=0),\"\",RANK(JX30,$JX$21:$JX$60,0))","v":""},{"$f":"IF(OR('Set UP'!$C16=0,'Set UP'!$D16=0,'Set UP'!$E16=0,JP30=0),\"\",JP30/MAX(JP$21:JP$60)*1000)","v":""}]
[null,11,{"$f":"IF(OR('Set UP'!$C17=0,'Set UP'!$D17=0,'Set UP'!$E17=0,'Set UP'!F17=0),\"  --\",'Set UP'!C17)","v":1445},{"$f":"IF(OR('Set UP'!$C17=0,'Set UP'!$D17=0,'Set UP'!$E17=0,'Set UP'!F17=0),\"  --\",'Set UP'!D17&\" \"&'Set UP'!E17)","v":"University of Birmingham D"},{"$f":"IF(OR('Set UP'!$C17=0,'Set UP'!$D17=0,'Set UP'!$E17=0,'Set UP'!F17=0),\"  --\",'Set UP'!F17)","v":"NC"},null,null,null,null,null,null,null,null,null,null,null,null,null,null,null,null,null,null,null,null,null,null,null,null,null,null,{"$f":"IF(OR('Set UP'!$C17=0,'Set UP'!$D17=0,'Set UP'!$E17=0),\"\",(F$19*F31)+(G$19*G31)+(H$19*H31)+(I$19*I31)+(J$19*J31)+(K$19*K31)+(L$19*L31)+(M$19*M31)+(N$19*N31)+(O$19*O31)+(P$19*P31)+(Q$19*Q31)+(R$19*R31)+(S$19*S31)+(T$19*T31)+(U$19*U31)+(V$19*V31)+(W$19*W31)+(X$19*X31)+(Y$19*Y31)+(Z$19*Z31)+(AA$19*AA31)+(AB$19*AB31)+(AC$19*AC31)+(AD$19*AD31))","v":0},null,null,null,null,null,null,null,null,null,null,null,null,null,null,null,null,null,null,null,null,null,null,null,null,null,null,{"$f":"IF(OR('Set UP'!$C17=0,'Set UP'!$D17=0,'Set UP'!$E17=0),\"\",(AG$19*AG31)+(AH$19*AH31)+(AI$19*AI31)+(AJ$19*AJ31)+(AK$19*AK31)+(AL$19*AL31)+(AM$19*AM31)+(AN$19*AN31)+(AO$19*AO31)+(AP$19*AP31)+(AQ$19*AQ31)+(AR$19*AR31)+(AS$19*AS31)+(AT$19*AT31)+(AU$19*AU31)+(AV$19*AV31)+(AW$19*AW31)+(AX$19*AX31)+(AY$19*AY31)+(AZ$19*AZ31)+(BA$19*BA31)+(BB$19*BB31)+(BC$19*BC31)+(BD$19*BD31)+(BE$19*BE31))","v":0},null,null,null,null,null,null,null,null,null,null,null,null,null,null,null,null,null,null,null,null,null,null,null,null,null,null,{"$f":"IF(OR('Set UP'!$C17=0,'Set UP'!$D17=0,'Set UP'!$E17=0),\"\",(BH$19*BH31)+(BI$19*BI31)+(BJ$19*BJ31)+(BK$19*BK31)+(BL$19*BL31)+(BM$19*BM31)+(BN$19*BN31)+(BO$19*BO31)+(BP$19*BP31)+(BQ$19*BQ31)+(BR$19*BR31)+(BS$19*BS31)+(BT$19*BT31)+(BU$19*BU31)+(BV$19*BV31)+(BW$19*BW31)+(BX$19*BX31)+(BY$19*BY31)+(BZ$19*BZ31)+(CA$19*CA31)+(CB$19*CB31)+(CC$19*CC31)+(CD$19*CD31)+(CE$19*CE31)+(CF$19*CF31))","v":0},null,null,null,null,null,null,null,null,null,null,null,null,null,null,null,null,null,null,null,null,null,null,null,null,null,null,{"$f":"IF(OR('Set UP'!$C17=0,'Set UP'!$D17=0,'Set UP'!$E17=0),\"\",(CI$19*CI31)+(CJ$19*CJ31)+(CK$19*CK31)+(CL$19*CL31)+(CM$19*CM31)+(CN$19*CN31)+(CO$19*CO31)+(CP$19*CP31)+(CQ$19*CQ31)+(CR$19*CR31)+(CS$19*CS31)+(CT$19*CT31)+(CU$19*CU31)+(CV$19*CV31)+(CW$19*CW31)+(CX$19*CX31)+(CY$19*CY31)+(CZ$19*CZ31)+(DA$19*DA31)+(DB$19*DB31)+(DC$19*DC31)+(DD$19*DD31)+(DE$19*DE31)+(DF$19*DF31)+(DG$19*DG31))","v":0},null,null,null,null,null,null,null,null,null,null,null,null,null,null,null,null,null,null,null,null,null,null,null,null,null,null,{"$f":"IF(OR('Set UP'!$C17=0,'Set UP'!$D17=0,'Set UP'!$E17=0),\"\",(DJ$19*DJ31)+(DK$19*DK31)+(DL$19*DL31)+(DM$19*DM31)+(DN$19*DN31)+(DO$19*DO31)+(DP$19*DP31)+(DQ$19*DQ31)+(DR$19*DR31)+(DS$19*DS31)+(DT$19*DT31)+(DU$19*DU31)+(DV$19*DV31)+(DW$19*DW31)+(DX$19*DX31)+(DY$19*DY31)+(DZ$19*DZ31)+(EA$19*EA31)+(EB$19*EB31)+(EC$19*EC31)+(ED$19*ED31)+(EE$19*EE31)+(EF$19*EF31)+(EG$19*EG31)+(EH$19*EH31))","v":0},null,null,null,null,null,null,null,null,null,null,null,null,null,null,null,null,null,null,null,null,null,null,null,null,null,null,{"$f":"IF(OR('Set UP'!$C17=0,'Set UP'!$D17=0,'Set UP'!$E17=0),\"\",(EK$19*EK31)+(EL$19*EL31)+(EM$19*EM31)+(EN$19*EN31)+(EO$19*EO31)+(EP$19*EP31)+(EQ$19*EQ31)+(ER$19*ER31)+(ES$19*ES31)+(ET$19*ET31)+(EU$19*EU31)+(EV$19*EV31)+(EW$19*EW31)+(EX$19*EX31)+(EY$19*EY31)+(EZ$19*EZ31)+(FA$19*FA31)+(FB$19*FB31)+(FC$19*FC31)+(FD$19*FD31)+(FE$19*FE31)+(FF$19*FF31)+(FG$19*FG31)+(FH$19*FH31)+(FI$19*FI31))","v":0},null,null,null,null,null,null,null,null,null,null,null,null,null,null,null,null,null,null,null,null,null,null,null,null,null,null,{"$f":"IF(OR('Set UP'!$C17=0,'Set UP'!$D17=0,'Set UP'!$E17=0),\"\",(FL$19*FL31)+(FM$19*FM31)+(FN$19*FN31)+(FO$19*FO31)+(FP$19*FP31)+(FQ$19*FQ31)+(FR$19*FR31)+(FS$19*FS31)+(FT$19*FT31)+(FU$19*FU31)+(FV$19*FV31)+(FW$19*FW31)+(FX$19*FX31)+(FY$19*FY31)+(FZ$19*FZ31)+(GA$19*GA31)+(GB$19*GB31)+(GC$19*GC31)+(GD$19*GD31)+(GE$19*GE31)+(GF$19*GF31)+(GG$19*GG31)+(GH$19*GH31)+(GI$19*GI31)+(GJ$19*GJ31))","v":0},null,null,null,null,null,null,null,null,null,null,null,null,null,null,null,null,null,null,null,null,null,null,null,null,null,null,{"$f":"IF(OR('Set UP'!$C17=0,'Set UP'!$D17=0,'Set UP'!$E17=0),\"\",(GM$19*GM31)+(GN$19*GN31)+(GO$19*GO31)+(GP$19*GP31)+(GQ$19*GQ31)+(GR$19*GR31)+(GS$19*GS31)+(GT$19*GT31)+(GU$19*GU31)+(GV$19*GV31)+(GW$19*GW31)+(GX$19*GX31)+(GY$19*GY31)+(GZ$19*GZ31)+(HA$19*HA31)+(HB$19*HB31)+(HC$19*HC31)+(HD$19*HD31)+(HE$19*HE31)+(HF$19*HF31)+(HG$19*HG31)+(HH$19*HH31)+(HI$19*HI31)+(HJ$19*HJ31)+(HK$19*HK31))","v":0},null,null,null,null,null,null,null,null,null,null,null,null,null,null,null,null,null,null,null,null,null,null,null,null,null,null,{"$f":"IF(OR('Set UP'!$C17=0,'Set UP'!$D17=0,'Set UP'!$E17=0),\"\",(HN$19*HN31)+(HO$19*HO31)+(HP$19*HP31)+(HQ$19*HQ31)+(HR$19*HR31)+(HS$19*HS31)+(HT$19*HT31)+(HU$19*HU31)+(HV$19*HV31)+(HW$19*HW31)+(HX$19*HX31)+(HY$19*HY31)+(HZ$19*HZ31)+(IA$19*IA31)+(IB$19*IB31)+(IC$19*IC31)+(ID$19*ID31)+(IE$19*IE31)+(IF$19*IF31)+(IG$19*IG31)+(IH$19*IH31)+(II$19*II31)+(IJ$19*IJ31)+(IK$19*IK31)+(IL$19*IL31))","v":0},null,null,null,null,null,null,null,null,null,null,null,null,null,null,null,null,null,null,null,null,null,null,null,null,null,null,{"$f":"IF(OR('Set UP'!$C17=0,'Set UP'!$D17=0,'Set UP'!$E17=0),\"\",(IO$19*IO31)+(IP$19*IP31)+(IQ$19*IQ31)+(IR$19*IR31)+(IS$19*IS31)+(IT$19*IT31)+(IU$19*IU31)+(IV$19*IV31)+(IW$19*IW31)+(IX$19*IX31)+(IY$19*IY31)+(IZ$19*IZ31)+(JA$19*JA31)+(JB$19*JB31)+(JC$19*JC31)+(JD$19*JD31)+(JE$19*JE31)+(JF$19*JF31)+(JG$19*JG31)+(JH$19*JH31)+(JI$19*JI31)+(JJ$19*JJ31)+(JK$19*JK31)+(JL$19*JL31)+(JM$19*JM31))","v":0},{"$f":"IF(OR('Set UP'!$C17=0,'Set UP'!$D17=0,'Set UP'!$E17=0),\"\",(AF31+BG31+CH31+DI31+EJ31+FK31+GL31+HM31+JO31+IN31))","v":0},{"$f":"IF(OR('Set UP'!$C17=0,'Set UP'!$D17=0,'Set UP'!$E17=0),\"\",RANK(JP31,$JP$21:$JP$60,0))","v":1},{"$f":"IF(OR('Set UP'!K17<>1,'Set UP'!C17=0,'Set UP'!D17=0,'Set UP'!E17=0,'Set UP'!F17=0),\"\",$JP31)","v":""},{"$f":"IF(OR('Set UP'!K17<>1,'Set UP'!C17=0,'Set UP'!D17=0,'Set UP'!E17=0,'Set UP'!F17=0),\"\",RANK(JR31,$JR$21:$JR$60,0))","v":""},{"$f":"IF(OR('Set UP'!K17<>2,'Set UP'!C17=0,'Set UP'!D17=0,'Set UP'!E17=0,'Set UP'!F17=0),\"\",$JP31)","v":""},{"$f":"IF(OR('Set UP'!K17<>2,'Set UP'!C17=0,'Set UP'!D17=0,'Set UP'!E17=0,'Set UP'!F17=0),\"\",RANK(JT31,$JT$21:$JT$60,0))","v":""},{"$f":"IF(OR('Set UP'!F17<>\"F\",'Set UP'!C17=0,'Set UP'!D17=0,'Set UP'!E17=0),\"\",$JP31)","v":""},{"$f":"IF(OR('Set UP'!F17<>\"F\",'Set UP'!C17=0,'Set UP'!D17=0,'Set UP'!E17=0),\"\",RANK(JV31,$JV$21:$JV$60,0))","v":""},{"$f":"IF(OR('Set UP'!F17<>\"NS\",'Set UP'!C17=0,'Set UP'!D17=0,'Set UP'!E17=0),\"\",$JP31)","v":""},{"$f":"IF(OR('Set UP'!F17<>\"NS\",'Set UP'!C17=0,'Set UP'!D17=0,'Set UP'!E17=0),\"\",RANK(JX31,$JX$21:$JX$60,0))","v":""},{"$f":"IF(OR('Set UP'!$C17=0,'Set UP'!$D17=0,'Set UP'!$E17=0,JP31=0),\"\",JP31/MAX(JP$21:JP$60)*1000)","v":""}]
[null,12,{"$f":"IF(OR('Set UP'!$C18=0,'Set UP'!$D18=0,'Set UP'!$E18=0,'Set UP'!F18=0),\"  --\",'Set UP'!C18)","v":"  --"},{"$f":"IF(OR('Set UP'!$C18=0,'Set UP'!$D18=0,'Set UP'!$E18=0,'Set UP'!F18=0),\"  --\",'Set UP'!D18&\" \"&'Set UP'!E18)","v":"  --"},{"$f":"IF(OR('Set UP'!$C18=0,'Set UP'!$D18=0,'Set UP'!$E18=0,'Set UP'!F18=0),\"  --\",'Set UP'!F18)","v":"  --"},null,null,null,null,null,null,null,null,null,null,null,null,null,null,null,null,null,null,null,null,null,null,null,null,null,null,{"$f":"IF(OR('Set UP'!$C18=0,'Set UP'!$D18=0,'Set UP'!$E18=0),\"\",(F$19*F32)+(G$19*G32)+(H$19*H32)+(I$19*I32)+(J$19*J32)+(K$19*K32)+(L$19*L32)+(M$19*M32)+(N$19*N32)+(O$19*O32)+(P$19*P32)+(Q$19*Q32)+(R$19*R32)+(S$19*S32)+(T$19*T32)+(U$19*U32)+(V$19*V32)+(W$19*W32)+(X$19*X32)+(Y$19*Y32)+(Z$19*Z32)+(AA$19*AA32)+(AB$19*AB32)+(AC$19*AC32)+(AD$19*AD32))","v":""},null,null,null,null,null,null,null,null,null,null,null,null,null,null,null,null,null,null,null,null,null,null,null,null,null,null,{"$f":"IF(OR('Set UP'!$C18=0,'Set UP'!$D18=0,'Set UP'!$E18=0),\"\",(AG$19*AG32)+(AH$19*AH32)+(AI$19*AI32)+(AJ$19*AJ32)+(AK$19*AK32)+(AL$19*AL32)+(AM$19*AM32)+(AN$19*AN32)+(AO$19*AO32)+(AP$19*AP32)+(AQ$19*AQ32)+(AR$19*AR32)+(AS$19*AS32)+(AT$19*AT32)+(AU$19*AU32)+(AV$19*AV32)+(AW$19*AW32)+(AX$19*AX32)+(AY$19*AY32)+(AZ$19*AZ32)+(BA$19*BA32)+(BB$19*BB32)+(BC$19*BC32)+(BD$19*BD32)+(BE$19*BE32))","v":""},null,null,null,null,null,null,null,null,null,null,null,null,null,null,null,null,null,null,null,null,null,null,null,null,null,null,{"$f":"IF(OR('Set UP'!$C18=0,'Set UP'!$D18=0,'Set UP'!$E18=0),\"\",(BH$19*BH32)+(BI$19*BI32)+(BJ$19*BJ32)+(BK$19*BK32)+(BL$19*BL32)+(BM$19*BM32)+(BN$19*BN32)+(BO$19*BO32)+(BP$19*BP32)+(BQ$19*BQ32)+(BR$19*BR32)+(BS$19*BS32)+(BT$19*BT32)+(BU$19*BU32)+(BV$19*BV32)+(BW$19*BW32)+(BX$19*BX32)+(BY$19*BY32)+(BZ$19*BZ32)+(CA$19*CA32)+(CB$19*CB32)+(CC$19*CC32)+(CD$19*CD32)+(CE$19*CE32)+(CF$19*CF32))","v":""},null,null,null,null,null,null,null,null,null,null,null,null,null,null,null,null,null,null,null,null,null,null,null,null,null,null,{"$f":"IF(OR('Set UP'!$C18=0,'Set UP'!$D18=0,'Set UP'!$E18=0),\"\",(CI$19*CI32)+(CJ$19*CJ32)+(CK$19*CK32)+(CL$19*CL32)+(CM$19*CM32)+(CN$19*CN32)+(CO$19*CO32)+(CP$19*CP32)+(CQ$19*CQ32)+(CR$19*CR32)+(CS$19*CS32)+(CT$19*CT32)+(CU$19*CU32)+(CV$19*CV32)+(CW$19*CW32)+(CX$19*CX32)+(CY$19*CY32)+(CZ$19*CZ32)+(DA$19*DA32)+(DB$19*DB32)+(DC$19*DC32)+(DD$19*DD32)+(DE$19*DE32)+(DF$19*DF32)+(DG$19*DG32))","v":""},null,null,null,null,null,null,null,null,null,null,null,null,null,null,null,null,null,null,null,null,null,null,null,null,null,null,{"$f":"IF(OR('Set UP'!$C18=0,'Set UP'!$D18=0,'Set UP'!$E18=0),\"\",(DJ$19*DJ32)+(DK$19*DK32)+(DL$19*DL32)+(DM$19*DM32)+(DN$19*DN32)+(DO$19*DO32)+(DP$19*DP32)+(DQ$19*DQ32)+(DR$19*DR32)+(DS$19*DS32)+(DT$19*DT32)+(DU$19*DU32)+(DV$19*DV32)+(DW$19*DW32)+(DX$19*DX32)+(DY$19*DY32)+(DZ$19*DZ32)+(EA$19*EA32)+(EB$19*EB32)+(EC$19*EC32)+(ED$19*ED32)+(EE$19*EE32)+(EF$19*EF32)+(EG$19*EG32)+(EH$19*EH32))","v":""},null,null,null,null,null,null,null,null,null,null,null,null,null,null,null,null,null,null,null,null,null,null,null,null,null,null,{"$f":"IF(OR('Set UP'!$C18=0,'Set UP'!$D18=0,'Set UP'!$E18=0),\"\",(EK$19*EK32)+(EL$19*EL32)+(EM$19*EM32)+(EN$19*EN32)+(EO$19*EO32)+(EP$19*EP32)+(EQ$19*EQ32)+(ER$19*ER32)+(ES$19*ES32)+(ET$19*ET32)+(EU$19*EU32)+(EV$19*EV32)+(EW$19*EW32)+(EX$19*EX32)+(EY$19*EY32)+(EZ$19*EZ32)+(FA$19*FA32)+(FB$19*FB32)+(FC$19*FC32)+(FD$19*FD32)+(FE$19*FE32)+(FF$19*FF32)+(FG$19*FG32)+(FH$19*FH32)+(FI$19*FI32))","v":""},null,null,null,null,null,null,null,null,null,null,null,null,null,null,null,null,null,null,null,null,null,null,null,null,null,null,{"$f":"IF(OR('Set UP'!$C18=0,'Set UP'!$D18=0,'Set UP'!$E18=0),\"\",(FL$19*FL32)+(FM$19*FM32)+(FN$19*FN32)+(FO$19*FO32)+(FP$19*FP32)+(FQ$19*FQ32)+(FR$19*FR32)+(FS$19*FS32)+(FT$19*FT32)+(FU$19*FU32)+(FV$19*FV32)+(FW$19*FW32)+(FX$19*FX32)+(FY$19*FY32)+(FZ$19*FZ32)+(GA$19*GA32)+(GB$19*GB32)+(GC$19*GC32)+(GD$19*GD32)+(GE$19*GE32)+(GF$19*GF32)+(GG$19*GG32)+(GH$19*GH32)+(GI$19*GI32)+(GJ$19*GJ32))","v":""},null,null,null,null,null,null,null,null,null,null,null,null,null,null,null,null,null,null,null,null,null,null,null,null,null,null,{"$f":"IF(OR('Set UP'!$C18=0,'Set UP'!$D18=0,'Set UP'!$E18=0),\"\",(GM$19*GM32)+(GN$19*GN32)+(GO$19*GO32)+(GP$19*GP32)+(GQ$19*GQ32)+(GR$19*GR32)+(GS$19*GS32)+(GT$19*GT32)+(GU$19*GU32)+(GV$19*GV32)+(GW$19*GW32)+(GX$19*GX32)+(GY$19*GY32)+(GZ$19*GZ32)+(HA$19*HA32)+(HB$19*HB32)+(HC$19*HC32)+(HD$19*HD32)+(HE$19*HE32)+(HF$19*HF32)+(HG$19*HG32)+(HH$19*HH32)+(HI$19*HI32)+(HJ$19*HJ32)+(HK$19*HK32))","v":""},null,null,null,null,null,null,null,null,null,null,null,null,null,null,null,null,null,null,null,null,null,null,null,null,null,null,{"$f":"IF(OR('Set UP'!$C18=0,'Set UP'!$D18=0,'Set UP'!$E18=0),\"\",(HN$19*HN32)+(HO$19*HO32)+(HP$19*HP32)+(HQ$19*HQ32)+(HR$19*HR32)+(HS$19*HS32)+(HT$19*HT32)+(HU$19*HU32)+(HV$19*HV32)+(HW$19*HW32)+(HX$19*HX32)+(HY$19*HY32)+(HZ$19*HZ32)+(IA$19*IA32)+(IB$19*IB32)+(IC$19*IC32)+(ID$19*ID32)+(IE$19*IE32)+(IF$19*IF32)+(IG$19*IG32)+(IH$19*IH32)+(II$19*II32)+(IJ$19*IJ32)+(IK$19*IK32)+(IL$19*IL32))","v":""},null,null,null,null,null,null,null,null,null,null,null,null,null,null,null,null,null,null,null,null,null,null,null,null,null,null,{"$f":"IF(OR('Set UP'!$C18=0,'Set UP'!$D18=0,'Set UP'!$E18=0),\"\",(IO$19*IO32)+(IP$19*IP32)+(IQ$19*IQ32)+(IR$19*IR32)+(IS$19*IS32)+(IT$19*IT32)+(IU$19*IU32)+(IV$19*IV32)+(IW$19*IW32)+(IX$19*IX32)+(IY$19*IY32)+(IZ$19*IZ32)+(JA$19*JA32)+(JB$19*JB32)+(JC$19*JC32)+(JD$19*JD32)+(JE$19*JE32)+(JF$19*JF32)+(JG$19*JG32)+(JH$19*JH32)+(JI$19*JI32)+(JJ$19*JJ32)+(JK$19*JK32)+(JL$19*JL32)+(JM$19*JM32))","v":""},{"$f":"IF(OR('Set UP'!$C18=0,'Set UP'!$D18=0,'Set UP'!$E18=0),\"\",(AF32+BG32+CH32+DI32+EJ32+FK32+GL32+HM32+JO32+IN32))","v":""},{"$f":"IF(OR('Set UP'!$C18=0,'Set UP'!$D18=0,'Set UP'!$E18=0),\"\",RANK(JP32,$JP$21:$JP$60,0))","v":""},{"$f":"IF(OR('Set UP'!K18<>1,'Set UP'!C18=0,'Set UP'!D18=0,'Set UP'!E18=0,'Set UP'!F18=0),\"\",$JP32)","v":""},{"$f":"IF(OR('Set UP'!K18<>1,'Set UP'!C18=0,'Set UP'!D18=0,'Set UP'!E18=0,'Set UP'!F18=0),\"\",RANK(JR32,$JR$21:$JR$60,0))","v":""},{"$f":"IF(OR('Set UP'!K18<>2,'Set UP'!C18=0,'Set UP'!D18=0,'Set UP'!E18=0,'Set UP'!F18=0),\"\",$JP32)","v":""},{"$f":"IF(OR('Set UP'!K18<>2,'Set UP'!C18=0,'Set UP'!D18=0,'Set UP'!E18=0,'Set UP'!F18=0),\"\",RANK(JT32,$JT$21:$JT$60,0))","v":""},{"$f":"IF(OR('Set UP'!F18<>\"F\",'Set UP'!C18=0,'Set UP'!D18=0,'Set UP'!E18=0),\"\",$JP32)","v":""},{"$f":"IF(OR('Set UP'!F18<>\"F\",'Set UP'!C18=0,'Set UP'!D18=0,'Set UP'!E18=0),\"\",RANK(JV32,$JV$21:$JV$60,0))","v":""},{"$f":"IF(OR('Set UP'!F18<>\"NS\",'Set UP'!C18=0,'Set UP'!D18=0,'Set UP'!E18=0),\"\",$JP32)","v":""},{"$f":"IF(OR('Set UP'!F18<>\"NS\",'Set UP'!C18=0,'Set UP'!D18=0,'Set UP'!E18=0),\"\",RANK(JX32,$JX$21:$JX$60,0))","v":""},{"$f":"IF(OR('Set UP'!$C18=0,'Set UP'!$D18=0,'Set UP'!$E18=0,JP32=0),\"\",JP32/MAX(JP$21:JP$60)*1000)","v":""}]
[null,13,{"$f":"IF(OR('Set UP'!$C19=0,'Set UP'!$D19=0,'Set UP'!$E19=0,'Set UP'!F19=0),\"  --\",'Set UP'!C19)","v":1426},{"$f":"IF(OR('Set UP'!$C19=0,'Set UP'!$D19=0,'Set UP'!$E19=0,'Set UP'!F19=0),\"  --\",'Set UP'!D19&\" \"&'Set UP'!E19)","v":"London Universities B"},{"$f":"IF(OR('Set UP'!$C19=0,'Set UP'!$D19=0,'Set UP'!$E19=0,'Set UP'!F19=0),\"  --\",'Set UP'!F19)","v":"S"},null,null,null,null,null,null,null,null,null,null,null,null,null,null,null,null,null,null,null,null,null,null,null,null,null,null,{"$f":"IF(OR('Set UP'!$C19=0,'Set UP'!$D19=0,'Set UP'!$E19=0),\"\",(F$19*F33)+(G$19*G33)+(H$19*H33)+(I$19*I33)+(J$19*J33)+(K$19*K33)+(L$19*L33)+(M$19*M33)+(N$19*N33)+(O$19*O33)+(P$19*P33)+(Q$19*Q33)+(R$19*R33)+(S$19*S33)+(T$19*T33)+(U$19*U33)+(V$19*V33)+(W$19*W33)+(X$19*X33)+(Y$19*Y33)+(Z$19*Z33)+(AA$19*AA33)+(AB$19*AB33)+(AC$19*AC33)+(AD$19*AD33))","v":0},null,null,null,null,null,null,null,null,null,null,null,null,null,null,null,null,null,null,null,null,null,null,null,null,null,null,{"$f":"IF(OR('Set UP'!$C19=0,'Set UP'!$D19=0,'Set UP'!$E19=0),\"\",(AG$19*AG33)+(AH$19*AH33)+(AI$19*AI33)+(AJ$19*AJ33)+(AK$19*AK33)+(AL$19*AL33)+(AM$19*AM33)+(AN$19*AN33)+(AO$19*AO33)+(AP$19*AP33)+(AQ$19*AQ33)+(AR$19*AR33)+(AS$19*AS33)+(AT$19*AT33)+(AU$19*AU33)+(AV$19*AV33)+(AW$19*AW33)+(AX$19*AX33)+(AY$19*AY33)+(AZ$19*AZ33)+(BA$19*BA33)+(BB$19*BB33)+(BC$19*BC33)+(BD$19*BD33)+(BE$19*BE33))","v":0},null,null,null,null,null,null,null,null,null,null,null,null,null,null,null,null,null,null,null,null,null,null,null,null,null,null,{"$f":"IF(OR('Set UP'!$C19=0,'Set UP'!$D19=0,'Set UP'!$E19=0),\"\",(BH$19*BH33)+(BI$19*BI33)+(BJ$19*BJ33)+(BK$19*BK33)+(BL$19*BL33)+(BM$19*BM33)+(BN$19*BN33)+(BO$19*BO33)+(BP$19*BP33)+(BQ$19*BQ33)+(BR$19*BR33)+(BS$19*BS33)+(BT$19*BT33)+(BU$19*BU33)+(BV$19*BV33)+(BW$19*BW33)+(BX$19*BX33)+(BY$19*BY33)+(BZ$19*BZ33)+(CA$19*CA33)+(CB$19*CB33)+(CC$19*CC33)+(CD$19*CD33)+(CE$19*CE33)+(CF$19*CF33))","v":0},null,null,null,null,null,null,null,null,null,null,null,null,null,null,null,null,null,null,null,null,null,null,null,null,null,null,{"$f":"IF(OR('Set UP'!$C19=0,'Set UP'!$D19=0,'Set UP'!$E19=0),\"\",(CI$19*CI33)+(CJ$19*CJ33)+(CK$19*CK33)+(CL$19*CL33)+(CM$19*CM33)+(CN$19*CN33)+(CO$19*CO33)+(CP$19*CP33)+(CQ$19*CQ33)+(CR$19*CR33)+(CS$19*CS33)+(CT$19*CT33)+(CU$19*CU33)+(CV$19*CV33)+(CW$19*CW33)+(CX$19*CX33)+(CY$19*CY33)+(CZ$19*CZ33)+(DA$19*DA33)+(DB$19*DB33)+(DC$19*DC33)+(DD$19*DD33)+(DE$19*DE33)+(DF$19*DF33)+(DG$19*DG33))","v":0},null,null,null,null,null,null,null,null,null,null,null,null,null,null,null,null,null,null,null,null,null,null,null,null,null,null,{"$f":"IF(OR('Set UP'!$C19=0,'Set UP'!$D19=0,'Set UP'!$E19=0),\"\",(DJ$19*DJ33)+(DK$19*DK33)+(DL$19*DL33)+(DM$19*DM33)+(DN$19*DN33)+(DO$19*DO33)+(DP$19*DP33)+(DQ$19*DQ33)+(DR$19*DR33)+(DS$19*DS33)+(DT$19*DT33)+(DU$19*DU33)+(DV$19*DV33)+(DW$19*DW33)+(DX$19*DX33)+(DY$19*DY33)+(DZ$19*DZ33)+(EA$19*EA33)+(EB$19*EB33)+(EC$19*EC33)+(ED$19*ED33)+(EE$19*EE33)+(EF$19*EF33)+(EG$19*EG33)+(EH$19*EH33))","v":0},null,null,null,null,null,null,null,null,null,null,null,null,null,null,null,null,null,null,null,null,null,null,null,null,null,null,{"$f":"IF(OR('Set UP'!$C19=0,'Set UP'!$D19=0,'Set UP'!$E19=0),\"\",(EK$19*EK33)+(EL$19*EL33)+(EM$19*EM33)+(EN$19*EN33)+(EO$19*EO33)+(EP$19*EP33)+(EQ$19*EQ33)+(ER$19*ER33)+(ES$19*ES33)+(ET$19*ET33)+(EU$19*EU33)+(EV$19*EV33)+(EW$19*EW33)+(EX$19*EX33)+(EY$19*EY33)+(EZ$19*EZ33)+(FA$19*FA33)+(FB$19*FB33)+(FC$19*FC33)+(FD$19*FD33)+(FE$19*FE33)+(FF$19*FF33)+(FG$19*FG33)+(FH$19*FH33)+(FI$19*FI33))","v":0},null,null,null,null,null,null,null,null,null,null,null,null,null,null,null,null,null,null,null,null,null,null,null,null,null,null,{"$f":"IF(OR('Set UP'!$C19=0,'Set UP'!$D19=0,'Set UP'!$E19=0),\"\",(FL$19*FL33)+(FM$19*FM33)+(FN$19*FN33)+(FO$19*FO33)+(FP$19*FP33)+(FQ$19*FQ33)+(FR$19*FR33)+(FS$19*FS33)+(FT$19*FT33)+(FU$19*FU33)+(FV$19*FV33)+(FW$19*FW33)+(FX$19*FX33)+(FY$19*FY33)+(FZ$19*FZ33)+(GA$19*GA33)+(GB$19*GB33)+(GC$19*GC33)+(GD$19*GD33)+(GE$19*GE33)+(GF$19*GF33)+(GG$19*GG33)+(GH$19*GH33)+(GI$19*GI33)+(GJ$19*GJ33))","v":0},null,null,null,null,null,null,null,null,null,null,null,null,null,null,null,null,null,null,null,null,null,null,null,null,null,null,{"$f":"IF(OR('Set UP'!$C19=0,'Set UP'!$D19=0,'Set UP'!$E19=0),\"\",(GM$19*GM33)+(GN$19*GN33)+(GO$19*GO33)+(GP$19*GP33)+(GQ$19*GQ33)+(GR$19*GR33)+(GS$19*GS33)+(GT$19*GT33)+(GU$19*GU33)+(GV$19*GV33)+(GW$19*GW33)+(GX$19*GX33)+(GY$19*GY33)+(GZ$19*GZ33)+(HA$19*HA33)+(HB$19*HB33)+(HC$19*HC33)+(HD$19*HD33)+(HE$19*HE33)+(HF$19*HF33)+(HG$19*HG33)+(HH$19*HH33)+(HI$19*HI33)+(HJ$19*HJ33)+(HK$19*HK33))","v":0},null,null,null,null,null,null,null,null,null,null,null,null,null,null,null,null,null,null,null,null,null,null,null,null,null,null,{"$f":"IF(OR('Set UP'!$C19=0,'Set UP'!$D19=0,'Set UP'!$E19=0),\"\",(HN$19*HN33)+(HO$19*HO33)+(HP$19*HP33)+(HQ$19*HQ33)+(HR$19*HR33)+(HS$19*HS33)+(HT$19*HT33)+(HU$19*HU33)+(HV$19*HV33)+(HW$19*HW33)+(HX$19*HX33)+(HY$19*HY33)+(HZ$19*HZ33)+(IA$19*IA33)+(IB$19*IB33)+(IC$19*IC33)+(ID$19*ID33)+(IE$19*IE33)+(IF$19*IF33)+(IG$19*IG33)+(IH$19*IH33)+(II$19*II33)+(IJ$19*IJ33)+(IK$19*IK33)+(IL$19*IL33))","v":0},null,null,null,null,null,null,null,null,null,null,null,null,null,null,null,null,null,null,null,null,null,null,null,null,null,null,{"$f":"IF(OR('Set UP'!$C19=0,'Set UP'!$D19=0,'Set UP'!$E19=0),\"\",(IO$19*IO33)+(IP$19*IP33)+(IQ$19*IQ33)+(IR$19*IR33)+(IS$19*IS33)+(IT$19*IT33)+(IU$19*IU33)+(IV$19*IV33)+(IW$19*IW33)+(IX$19*IX33)+(IY$19*IY33)+(IZ$19*IZ33)+(JA$19*JA33)+(JB$19*JB33)+(JC$19*JC33)+(JD$19*JD33)+(JE$19*JE33)+(JF$19*JF33)+(JG$19*JG33)+(JH$19*JH33)+(JI$19*JI33)+(JJ$19*JJ33)+(JK$19*JK33)+(JL$19*JL33)+(JM$19*JM33))","v":0},{"$f":"IF(OR('Set UP'!$C19=0,'Set UP'!$D19=0,'Set UP'!$E19=0),\"\",(AF33+BG33+CH33+DI33+EJ33+FK33+GL33+HM33+JO33+IN33))","v":0},{"$f":"IF(OR('Set UP'!$C19=0,'Set UP'!$D19=0,'Set UP'!$E19=0),\"\",RANK(JP33,$JP$21:$JP$60,0))","v":1},{"$f":"IF(OR('Set UP'!K19<>1,'Set UP'!C19=0,'Set UP'!D19=0,'Set UP'!E19=0,'Set UP'!F19=0),\"\",$JP33)","v":""},{"$f":"IF(OR('Set UP'!K19<>1,'Set UP'!C19=0,'Set UP'!D19=0,'Set UP'!E19=0,'Set UP'!F19=0),\"\",RANK(JR33,$JR$21:$JR$60,0))","v":""},{"$f":"IF(OR('Set UP'!K19<>2,'Set UP'!C19=0,'Set UP'!D19=0,'Set UP'!E19=0,'Set UP'!F19=0),\"\",$JP33)","v":0},{"$f":"IF(OR('Set UP'!K19<>2,'Set UP'!C19=0,'Set UP'!D19=0,'Set UP'!E19=0,'Set UP'!F19=0),\"\",RANK(JT33,$JT$21:$JT$60,0))","v":1},{"$f":"IF(OR('Set UP'!F19<>\"F\",'Set UP'!C19=0,'Set UP'!D19=0,'Set UP'!E19=0),\"\",$JP33)","v":""},{"$f":"IF(OR('Set UP'!F19<>\"F\",'Set UP'!C19=0,'Set UP'!D19=0,'Set UP'!E19=0),\"\",RANK(JV33,$JV$21:$JV$60,0))","v":""},{"$f":"IF(OR('Set UP'!F19<>\"NS\",'Set UP'!C19=0,'Set UP'!D19=0,'Set UP'!E19=0),\"\",$JP33)","v":""},{"$f":"IF(OR('Set UP'!F19<>\"NS\",'Set UP'!C19=0,'Set UP'!D19=0,'Set UP'!E19=0),\"\",RANK(JX33,$JX$21:$JX$60,0))","v":""},{"$f":"IF(OR('Set UP'!$C19=0,'Set UP'!$D19=0,'Set UP'!$E19=0,JP33=0),\"\",JP33/MAX(JP$21:JP$60)*1000)","v":""}]
[null,14,{"$f":"IF(OR('Set UP'!$C20=0,'Set UP'!$D20=0,'Set UP'!$E20=0,'Set UP'!F20=0),\"  --\",'Set UP'!C20)","v":"  --"},{"$f":"IF(OR('Set UP'!$C20=0,'Set UP'!$D20=0,'Set UP'!$E20=0,'Set UP'!F20=0),\"  --\",'Set UP'!D20&\" \"&'Set UP'!E20)","v":"  --"},{"$f":"IF(OR('Set UP'!$C20=0,'Set UP'!$D20=0,'Set UP'!$E20=0,'Set UP'!F20=0),\"  --\",'Set UP'!F20)","v":"  --"},null,null,null,null,null,null,null,null,null,null,null,null,null,null,null,null,null,null,null,null,null,null,null,null,null,null,{"$f":"IF(OR('Set UP'!$C20=0,'Set UP'!$D20=0,'Set UP'!$E20=0),\"\",(F$19*F34)+(G$19*G34)+(H$19*H34)+(I$19*I34)+(J$19*J34)+(K$19*K34)+(L$19*L34)+(M$19*M34)+(N$19*N34)+(O$19*O34)+(P$19*P34)+(Q$19*Q34)+(R$19*R34)+(S$19*S34)+(T$19*T34)+(U$19*U34)+(V$19*V34)+(W$19*W34)+(X$19*X34)+(Y$19*Y34)+(Z$19*Z34)+(AA$19*AA34)+(AB$19*AB34)+(AC$19*AC34)+(AD$19*AD34))","v":""},null,null,null,null,null,null,null,null,null,null,null,null,null,null,null,null,null,null,null,null,null,null,null,null,null,null,{"$f":"IF(OR('Set UP'!$C20=0,'Set UP'!$D20=0,'Set UP'!$E20=0),\"\",(AG$19*AG34)+(AH$19*AH34)+(AI$19*AI34)+(AJ$19*AJ34)+(AK$19*AK34)+(AL$19*AL34)+(AM$19*AM34)+(AN$19*AN34)+(AO$19*AO34)+(AP$19*AP34)+(AQ$19*AQ34)+(AR$19*AR34)+(AS$19*AS34)+(AT$19*AT34)+(AU$19*AU34)+(AV$19*AV34)+(AW$19*AW34)+(AX$19*AX34)+(AY$19*AY34)+(AZ$19*AZ34)+(BA$19*BA34)+(BB$19*BB34)+(BC$19*BC34)+(BD$19*BD34)+(BE$19*BE34))","v":""},null,null,null,null,null,null,null,null,null,null,null,null,null,null,null,null,null,null,null,null,null,null,null,null,null,null,{"$f":"IF(OR('Set UP'!$C20=0,'Set UP'!$D20=0,'Set UP'!$E20=0),\"\",(BH$19*BH34)+(BI$19*BI34)+(BJ$19*BJ34)+(BK$19*BK34)+(BL$19*BL34)+(BM$19*BM34)+(BN$19*BN34)+(BO$19*BO34)+(BP$19*BP34)+(BQ$19*BQ34)+(BR$19*BR34)+(BS$19*BS34)+(BT$19*BT34)+(BU$19*BU34)+(BV$19*BV34)+(BW$19*BW34)+(BX$19*BX34)+(BY$19*BY34)+(BZ$19*BZ34)+(CA$19*CA34)+(CB$19*CB34)+(CC$19*CC34)+(CD$19*CD34)+(CE$19*CE34)+(CF$19*CF34))","v":""},null,null,null,null,null,null,null,null,null,null,null,null,null,null,null,null,null,null,null,null,null,null,null,null,null,null,{"$f":"IF(OR('Set UP'!$C20=0,'Set UP'!$D20=0,'Set UP'!$E20=0),\"\",(CI$19*CI34)+(CJ$19*CJ34)+(CK$19*CK34)+(CL$19*CL34)+(CM$19*CM34)+(CN$19*CN34)+(CO$19*CO34)+(CP$19*CP34)+(CQ$19*CQ34)+(CR$19*CR34)+(CS$19*CS34)+(CT$19*CT34)+(CU$19*CU34)+(CV$19*CV34)+(CW$19*CW34)+(CX$19*CX34)+(CY$19*CY34)+(CZ$19*CZ34)+(DA$19*DA34)+(DB$19*DB34)+(DC$19*DC34)+(DD$19*DD34)+(DE$19*DE34)+(DF$19*DF34)+(DG$19*DG34))","v":""},null,null,null,null,null,null,null,null,null,null,null,null,null,null,null,null,null,null,null,null,null,null,null,null,null,null,{"$f":"IF(OR('Set UP'!$C20=0,'Set UP'!$D20=0,'Set UP'!$E20=0),\"\",(DJ$19*DJ34)+(DK$19*DK34)+(DL$19*DL34)+(DM$19*DM34)+(DN$19*DN34)+(DO$19*DO34)+(DP$19*DP34)+(DQ$19*DQ34)+(DR$19*DR34)+(DS$19*DS34)+(DT$19*DT34)+(DU$19*DU34)+(DV$19*DV34)+(DW$19*DW34)+(DX$19*DX34)+(DY$19*DY34)+(DZ$19*DZ34)+(EA$19*EA34)+(EB$19*EB34)+(EC$19*EC34)+(ED$19*ED34)+(EE$19*EE34)+(EF$19*EF34)+(EG$19*EG34)+(EH$19*EH34))","v":""},null,null,null,null,null,null,null,null,null,null,null,null,null,null,null,null,null,null,null,null,null,null,null,null,null,null,{"$f":"IF(OR('Set UP'!$C20=0,'Set UP'!$D20=0,'Set UP'!$E20=0),\"\",(EK$19*EK34)+(EL$19*EL34)+(EM$19*EM34)+(EN$19*EN34)+(EO$19*EO34)+(EP$19*EP34)+(EQ$19*EQ34)+(ER$19*ER34)+(ES$19*ES34)+(ET$19*ET34)+(EU$19*EU34)+(EV$19*EV34)+(EW$19*EW34)+(EX$19*EX34)+(EY$19*EY34)+(EZ$19*EZ34)+(FA$19*FA34)+(FB$19*FB34)+(FC$19*FC34)+(FD$19*FD34)+(FE$19*FE34)+(FF$19*FF34)+(FG$19*FG34)+(FH$19*FH34)+(FI$19*FI34))","v":""},null,null,null,null,null,null,null,null,null,null,null,null,null,null,null,null,null,null,null,null,null,null,null,null,null,null,{"$f":"IF(OR('Set UP'!$C20=0,'Set UP'!$D20=0,'Set UP'!$E20=0),\"\",(FL$19*FL34)+(FM$19*FM34)+(FN$19*FN34)+(FO$19*FO34)+(FP$19*FP34)+(FQ$19*FQ34)+(FR$19*FR34)+(FS$19*FS34)+(FT$19*FT34)+(FU$19*FU34)+(FV$19*FV34)+(FW$19*FW34)+(FX$19*FX34)+(FY$19*FY34)+(FZ$19*FZ34)+(GA$19*GA34)+(GB$19*GB34)+(GC$19*GC34)+(GD$19*GD34)+(GE$19*GE34)+(GF$19*GF34)+(GG$19*GG34)+(GH$19*GH34)+(GI$19*GI34)+(GJ$19*GJ34))","v":""},null,null,null,null,null,null,null,null,null,null,null,null,null,null,null,null,null,null,null,null,null,null,null,null,null,null,{"$f":"IF(OR('Set UP'!$C20=0,'Set UP'!$D20=0,'Set UP'!$E20=0),\"\",(GM$19*GM34)+(GN$19*GN34)+(GO$19*GO34)+(GP$19*GP34)+(GQ$19*GQ34)+(GR$19*GR34)+(GS$19*GS34)+(GT$19*GT34)+(GU$19*GU34)+(GV$19*GV34)+(GW$19*GW34)+(GX$19*GX34)+(GY$19*GY34)+(GZ$19*GZ34)+(HA$19*HA34)+(HB$19*HB34)+(HC$19*HC34)+(HD$19*HD34)+(HE$19*HE34)+(HF$19*HF34)+(HG$19*HG34)+(HH$19*HH34)+(HI$19*HI34)+(HJ$19*HJ34)+(HK$19*HK34))","v":""},null,null,null,null,null,null,null,null,null,null,null,null,null,null,null,null,null,null,null,null,null,null,null,null,null,null,{"$f":"IF(OR('Set UP'!$C20=0,'Set UP'!$D20=0,'Set UP'!$E20=0),\"\",(HN$19*HN34)+(HO$19*HO34)+(HP$19*HP34)+(HQ$19*HQ34)+(HR$19*HR34)+(HS$19*HS34)+(HT$19*HT34)+(HU$19*HU34)+(HV$19*HV34)+(HW$19*HW34)+(HX$19*HX34)+(HY$19*HY34)+(HZ$19*HZ34)+(IA$19*IA34)+(IB$19*IB34)+(IC$19*IC34)+(ID$19*ID34)+(IE$19*IE34)+(IF$19*IF34)+(IG$19*IG34)+(IH$19*IH34)+(II$19*II34)+(IJ$19*IJ34)+(IK$19*IK34)+(IL$19*IL34))","v":""},null,null,null,null,null,null,null,null,null,null,null,null,null,null,null,null,null,null,null,null,null,null,null,null,null,null,{"$f":"IF(OR('Set UP'!$C20=0,'Set UP'!$D20=0,'Set UP'!$E20=0),\"\",(IO$19*IO34)+(IP$19*IP34)+(IQ$19*IQ34)+(IR$19*IR34)+(IS$19*IS34)+(IT$19*IT34)+(IU$19*IU34)+(IV$19*IV34)+(IW$19*IW34)+(IX$19*IX34)+(IY$19*IY34)+(IZ$19*IZ34)+(JA$19*JA34)+(JB$19*JB34)+(JC$19*JC34)+(JD$19*JD34)+(JE$19*JE34)+(JF$19*JF34)+(JG$19*JG34)+(JH$19*JH34)+(JI$19*JI34)+(JJ$19*JJ34)+(JK$19*JK34)+(JL$19*JL34)+(JM$19*JM34))","v":""},{"$f":"IF(OR('Set UP'!$C20=0,'Set UP'!$D20=0,'Set UP'!$E20=0),\"\",(AF34+BG34+CH34+DI34+EJ34+FK34+GL34+HM34+JO34+IN34))","v":""},{"$f":"IF(OR('Set UP'!$C20=0,'Set UP'!$D20=0,'Set UP'!$E20=0),\"\",RANK(JP34,$JP$21:$JP$60,0))","v":""},{"$f":"IF(OR('Set UP'!K20<>1,'Set UP'!C20=0,'Set UP'!D20=0,'Set UP'!E20=0,'Set UP'!F20=0),\"\",$JP34)","v":""},{"$f":"IF(OR('Set UP'!K20<>1,'Set UP'!C20=0,'Set UP'!D20=0,'Set UP'!E20=0,'Set UP'!F20=0),\"\",RANK(JR34,$JR$21:$JR$60,0))","v":""},{"$f":"IF(OR('Set UP'!K20<>2,'Set UP'!C20=0,'Set UP'!D20=0,'Set UP'!E20=0,'Set UP'!F20=0),\"\",$JP34)","v":""},{"$f":"IF(OR('Set UP'!K20<>2,'Set UP'!C20=0,'Set UP'!D20=0,'Set UP'!E20=0,'Set UP'!F20=0),\"\",RANK(JT34,$JT$21:$JT$60,0))","v":""},{"$f":"IF(OR('Set UP'!F20<>\"F\",'Set UP'!C20=0,'Set UP'!D20=0,'Set UP'!E20=0),\"\",$JP34)","v":""},{"$f":"IF(OR('Set UP'!F20<>\"F\",'Set UP'!C20=0,'Set UP'!D20=0,'Set UP'!E20=0),\"\",RANK(JV34,$JV$21:$JV$60,0))","v":""},{"$f":"IF(OR('Set UP'!F20<>\"NS\",'Set UP'!C20=0,'Set UP'!D20=0,'Set UP'!E20=0),\"\",$JP34)","v":""},{"$f":"IF(OR('Set UP'!F20<>\"NS\",'Set UP'!C20=0,'Set UP'!D20=0,'Set UP'!E20=0),\"\",RANK(JX34,$JX$21:$JX$60,0))","v":""},{"$f":"IF(OR('Set UP'!$C20=0,'Set UP'!$D20=0,'Set UP'!$E20=0,JP34=0),\"\",JP34/MAX(JP$21:JP$60)*1000)","v":""}]
[null,15,{"$f":"IF(OR('Set UP'!$C21=0,'Set UP'!$D21=0,'Set UP'!$E21=0,'Set UP'!F21=0),\"  --\",'Set UP'!C21)","v":1427},{"$f":"IF(OR('Set UP'!$C21=0,'Set UP'!$D21=0,'Set UP'!$E21=0,'Set UP'!F21=0),\"  --\",'Set UP'!D21&\" \"&'Set UP'!E21)","v":"University of Southampton A"},{"$f":"IF(OR('Set UP'!$C21=0,'Set UP'!$D21=0,'Set UP'!$E21=0,'Set UP'!F21=0),\"  --\",'Set UP'!F21)","v":"S"},null,null,null,null,null,null,null,null,null,null,null,null,null,null,null,null,null,null,null,null,null,null,null,null,null,null,{"$f":"IF(OR('Set UP'!$C21=0,'Set UP'!$D21=0,'Set UP'!$E21=0),\"\",(F$19*F35)+(G$19*G35)+(H$19*H35)+(I$19*I35)+(J$19*J35)+(K$19*K35)+(L$19*L35)+(M$19*M35)+(N$19*N35)+(O$19*O35)+(P$19*P35)+(Q$19*Q35)+(R$19*R35)+(S$19*S35)+(T$19*T35)+(U$19*U35)+(V$19*V35)+(W$19*W35)+(X$19*X35)+(Y$19*Y35)+(Z$19*Z35)+(AA$19*AA35)+(AB$19*AB35)+(AC$19*AC35)+(AD$19*AD35))","v":0},null,null,null,null,null,null,null,null,null,null,null,null,null,null,null,null,null,null,null,null,null,null,null,null,null,null,{"$f":"IF(OR('Set UP'!$C21=0,'Set UP'!$D21=0,'Set UP'!$E21=0),\"\",(AG$19*AG35)+(AH$19*AH35)+(AI$19*AI35)+(AJ$19*AJ35)+(AK$19*AK35)+(AL$19*AL35)+(AM$19*AM35)+(AN$19*AN35)+(AO$19*AO35)+(AP$19*AP35)+(AQ$19*AQ35)+(AR$19*AR35)+(AS$19*AS35)+(AT$19*AT35)+(AU$19*AU35)+(AV$19*AV35)+(AW$19*AW35)+(AX$19*AX35)+(AY$19*AY35)+(AZ$19*AZ35)+(BA$19*BA35)+(BB$19*BB35)+(BC$19*BC35)+(BD$19*BD35)+(BE$19*BE35))","v":0},null,null,null,null,null,null,null,null,null,null,null,null,null,null,null,null,null,null,null,null,null,null,null,null,null,null,{"$f":"IF(OR('Set UP'!$C21=0,'Set UP'!$D21=0,'Set UP'!$E21=0),\"\",(BH$19*BH35)+(BI$19*BI35)+(BJ$19*BJ35)+(BK$19*BK35)+(BL$19*BL35)+(BM$19*BM35)+(BN$19*BN35)+(BO$19*BO35)+(BP$19*BP35)+(BQ$19*BQ35)+(BR$19*BR35)+(BS$19*BS35)+(BT$19*BT35)+(BU$19*BU35)+(BV$19*BV35)+(BW$19*BW35)+(BX$19*BX35)+(BY$19*BY35)+(BZ$19*BZ35)+(CA$19*CA35)+(CB$19*CB35)+(CC$19*CC35)+(CD$19*CD35)+(CE$19*CE35)+(CF$19*CF35))","v":0},null,null,null,null,null,null,null,null,null,null,null,null,null,null,null,null,null,null,null,null,null,null,null,null,null,null,{"$f":"IF(OR('Set UP'!$C21=0,'Set UP'!$D21=0,'Set UP'!$E21=0),\"\",(CI$19*CI35)+(CJ$19*CJ35)+(CK$19*CK35)+(CL$19*CL35)+(CM$19*CM35)+(CN$19*CN35)+(CO$19*CO35)+(CP$19*CP35)+(CQ$19*CQ35)+(CR$19*CR35)+(CS$19*CS35)+(CT$19*CT35)+(CU$19*CU35)+(CV$19*CV35)+(CW$19*CW35)+(CX$19*CX35)+(CY$19*CY35)+(CZ$19*CZ35)+(DA$19*DA35)+(DB$19*DB35)+(DC$19*DC35)+(DD$19*DD35)+(DE$19*DE35)+(DF$19*DF35)+(DG$19*DG35))","v":0},null,null,null,null,null,null,null,null,null,null,null,null,null,null,null,null,null,null,null,null,null,null,null,null,null,null,{"$f":"IF(OR('Set UP'!$C21=0,'Set UP'!$D21=0,'Set UP'!$E21=0),\"\",(DJ$19*DJ35)+(DK$19*DK35)+(DL$19*DL35)+(DM$19*DM35)+(DN$19*DN35)+(DO$19*DO35)+(DP$19*DP35)+(DQ$19*DQ35)+(DR$19*DR35)+(DS$19*DS35)+(DT$19*DT35)+(DU$19*DU35)+(DV$19*DV35)+(DW$19*DW35)+(DX$19*DX35)+(DY$19*DY35)+(DZ$19*DZ35)+(EA$19*EA35)+(EB$19*EB35)+(EC$19*EC35)+(ED$19*ED35)+(EE$19*EE35)+(EF$19*EF35)+(EG$19*EG35)+(EH$19*EH35))","v":0},null,null,null,null,null,null,null,null,null,null,null,null,null,null,null,null,null,null,null,null,null,null,null,null,null,null,{"$f":"IF(OR('Set UP'!$C21=0,'Set UP'!$D21=0,'Set UP'!$E21=0),\"\",(EK$19*EK35)+(EL$19*EL35)+(EM$19*EM35)+(EN$19*EN35)+(EO$19*EO35)+(EP$19*EP35)+(EQ$19*EQ35)+(ER$19*ER35)+(ES$19*ES35)+(ET$19*ET35)+(EU$19*EU35)+(EV$19*EV35)+(EW$19*EW35)+(EX$19*EX35)+(EY$19*EY35)+(EZ$19*EZ35)+(FA$19*FA35)+(FB$19*FB35)+(FC$19*FC35)+(FD$19*FD35)+(FE$19*FE35)+(FF$19*FF35)+(FG$19*FG35)+(FH$19*FH35)+(FI$19*FI35))","v":0},null,null,null,null,null,null,null,null,null,null,null,null,null,null,null,null,null,null,null,null,null,null,null,null,null,null,{"$f":"IF(OR('Set UP'!$C21=0,'Set UP'!$D21=0,'Set UP'!$E21=0),\"\",(FL$19*FL35)+(FM$19*FM35)+(FN$19*FN35)+(FO$19*FO35)+(FP$19*FP35)+(FQ$19*FQ35)+(FR$19*FR35)+(FS$19*FS35)+(FT$19*FT35)+(FU$19*FU35)+(FV$19*FV35)+(FW$19*FW35)+(FX$19*FX35)+(FY$19*FY35)+(FZ$19*FZ35)+(GA$19*GA35)+(GB$19*GB35)+(GC$19*GC35)+(GD$19*GD35)+(GE$19*GE35)+(GF$19*GF35)+(GG$19*GG35)+(GH$19*GH35)+(GI$19*GI35)+(GJ$19*GJ35))","v":0},null,null,null,null,null,null,null,null,null,null,null,null,null,null,null,null,null,null,null,null,null,null,null,null,null,null,{"$f":"IF(OR('Set UP'!$C21=0,'Set UP'!$D21=0,'Set UP'!$E21=0),\"\",(GM$19*GM35)+(GN$19*GN35)+(GO$19*GO35)+(GP$19*GP35)+(GQ$19*GQ35)+(GR$19*GR35)+(GS$19*GS35)+(GT$19*GT35)+(GU$19*GU35)+(GV$19*GV35)+(GW$19*GW35)+(GX$19*GX35)+(GY$19*GY35)+(GZ$19*GZ35)+(HA$19*HA35)+(HB$19*HB35)+(HC$19*HC35)+(HD$19*HD35)+(HE$19*HE35)+(HF$19*HF35)+(HG$19*HG35)+(HH$19*HH35)+(HI$19*HI35)+(HJ$19*HJ35)+(HK$19*HK35))","v":0},null,null,null,null,null,null,null,null,null,null,null,null,null,null,null,null,null,null,null,null,null,null,null,null,null,null,{"$f":"IF(OR('Set UP'!$C21=0,'Set UP'!$D21=0,'Set UP'!$E21=0),\"\",(HN$19*HN35)+(HO$19*HO35)+(HP$19*HP35)+(HQ$19*HQ35)+(HR$19*HR35)+(HS$19*HS35)+(HT$19*HT35)+(HU$19*HU35)+(HV$19*HV35)+(HW$19*HW35)+(HX$19*HX35)+(HY$19*HY35)+(HZ$19*HZ35)+(IA$19*IA35)+(IB$19*IB35)+(IC$19*IC35)+(ID$19*ID35)+(IE$19*IE35)+(IF$19*IF35)+(IG$19*IG35)+(IH$19*IH35)+(II$19*II35)+(IJ$19*IJ35)+(IK$19*IK35)+(IL$19*IL35))","v":0},null,null,null,null,null,null,null,null,null,null,null,null,null,null,null,null,null,null,null,null,null,null,null,null,null,null,{"$f":"IF(OR('Set UP'!$C21=0,'Set UP'!$D21=0,'Set UP'!$E21=0),\"\",(IO$19*IO35)+(IP$19*IP35)+(IQ$19*IQ35)+(IR$19*IR35)+(IS$19*IS35)+(IT$19*IT35)+(IU$19*IU35)+(IV$19*IV35)+(IW$19*IW35)+(IX$19*IX35)+(IY$19*IY35)+(IZ$19*IZ35)+(JA$19*JA35)+(JB$19*JB35)+(JC$19*JC35)+(JD$19*JD35)+(JE$19*JE35)+(JF$19*JF35)+(JG$19*JG35)+(JH$19*JH35)+(JI$19*JI35)+(JJ$19*JJ35)+(JK$19*JK35)+(JL$19*JL35)+(JM$19*JM35))","v":0},{"$f":"IF(OR('Set UP'!$C21=0,'Set UP'!$D21=0,'Set UP'!$E21=0),\"\",(AF35+BG35+CH35+DI35+EJ35+FK35+GL35+HM35+JO35+IN35))","v":0},{"$f":"IF(OR('Set UP'!$C21=0,'Set UP'!$D21=0,'Set UP'!$E21=0),\"\",RANK(JP35,$JP$21:$JP$60,0))","v":1},{"$f":"IF(OR('Set UP'!K21<>1,'Set UP'!C21=0,'Set UP'!D21=0,'Set UP'!E21=0,'Set UP'!F21=0),\"\",$JP35)","v":0},{"$f":"IF(OR('Set UP'!K21<>1,'Set UP'!C21=0,'Set UP'!D21=0,'Set UP'!E21=0,'Set UP'!F21=0),\"\",RANK(JR35,$JR$21:$JR$60,0))","v":1},{"$f":"IF(OR('Set UP'!K21<>2,'Set UP'!C21=0,'Set UP'!D21=0,'Set UP'!E21=0,'Set UP'!F21=0),\"\",$JP35)","v":""},{"$f":"IF(OR('Set UP'!K21<>2,'Set UP'!C21=0,'Set UP'!D21=0,'Set UP'!E21=0,'Set UP'!F21=0),\"\",RANK(JT35,$JT$21:$JT$60,0))","v":""},{"$f":"IF(OR('Set UP'!F21<>\"F\",'Set UP'!C21=0,'Set UP'!D21=0,'Set UP'!E21=0),\"\",$JP35)","v":""},{"$f":"IF(OR('Set UP'!F21<>\"F\",'Set UP'!C21=0,'Set UP'!D21=0,'Set UP'!E21=0),\"\",RANK(JV35,$JV$21:$JV$60,0))","v":""},{"$f":"IF(OR('Set UP'!F21<>\"NS\",'Set UP'!C21=0,'Set UP'!D21=0,'Set UP'!E21=0),\"\",$JP35)","v":""},{"$f":"IF(OR('Set UP'!F21<>\"NS\",'Set UP'!C21=0,'Set UP'!D21=0,'Set UP'!E21=0),\"\",RANK(JX35,$JX$21:$JX$60,0))","v":""},{"$f":"IF(OR('Set UP'!$C21=0,'Set UP'!$D21=0,'Set UP'!$E21=0,JP35=0),\"\",JP35/MAX(JP$21:JP$60)*1000)","v":""}]
[null,16,{"$f":"IF(OR('Set UP'!$C22=0,'Set UP'!$D22=0,'Set UP'!$E22=0,'Set UP'!F22=0),\"  --\",'Set UP'!C22)","v":1444},{"$f":"IF(OR('Set UP'!$C22=0,'Set UP'!$D22=0,'Set UP'!$E22=0,'Set UP'!F22=0),\"  --\",'Set UP'!D22&\" \"&'Set UP'!E22)","v":"University of Birmingham C"},{"$f":"IF(OR('Set UP'!$C22=0,'Set UP'!$D22=0,'Set UP'!$E22=0,'Set UP'!F22=0),\"  --\",'Set UP'!F22)","v":"S"},null,null,null,null,null,null,null,null,null,null,null,null,null,null,null,null,null,null,null,null,null,null,null,null,null,null,{"$f":"IF(OR('Set UP'!$C22=0,'Set UP'!$D22=0,'Set UP'!$E22=0),\"\",(F$19*F36)+(G$19*G36)+(H$19*H36)+(I$19*I36)+(J$19*J36)+(K$19*K36)+(L$19*L36)+(M$19*M36)+(N$19*N36)+(O$19*O36)+(P$19*P36)+(Q$19*Q36)+(R$19*R36)+(S$19*S36)+(T$19*T36)+(U$19*U36)+(V$19*V36)+(W$19*W36)+(X$19*X36)+(Y$19*Y36)+(Z$19*Z36)+(AA$19*AA36)+(AB$19*AB36)+(AC$19*AC36)+(AD$19*AD36))","v":0},null,null,null,null,null,null,null,null,null,null,null,null,null,null,null,null,null,null,null,null,null,null,null,null,null,null,{"$f":"IF(OR('Set UP'!$C22=0,'Set UP'!$D22=0,'Set UP'!$E22=0),\"\",(AG$19*AG36)+(AH$19*AH36)+(AI$19*AI36)+(AJ$19*AJ36)+(AK$19*AK36)+(AL$19*AL36)+(AM$19*AM36)+(AN$19*AN36)+(AO$19*AO36)+(AP$19*AP36)+(AQ$19*AQ36)+(AR$19*AR36)+(AS$19*AS36)+(AT$19*AT36)+(AU$19*AU36)+(AV$19*AV36)+(AW$19*AW36)+(AX$19*AX36)+(AY$19*AY36)+(AZ$19*AZ36)+(BA$19*BA36)+(BB$19*BB36)+(BC$19*BC36)+(BD$19*BD36)+(BE$19*BE36))","v":0},null,null,null,null,null,null,null,null,null,null,null,null,null,null,null,null,null,null,null,null,null,null,null,null,null,null,{"$f":"IF(OR('Set UP'!$C22=0,'Set UP'!$D22=0,'Set UP'!$E22=0),\"\",(BH$19*BH36)+(BI$19*BI36)+(BJ$19*BJ36)+(BK$19*BK36)+(BL$19*BL36)+(BM$19*BM36)+(BN$19*BN36)+(BO$19*BO36)+(BP$19*BP36)+(BQ$19*BQ36)+(BR$19*BR36)+(BS$19*BS36)+(BT$19*BT36)+(BU$19*BU36)+(BV$19*BV36)+(BW$19*BW36)+(BX$19*BX36)+(BY$19*BY36)+(BZ$19*BZ36)+(CA$19*CA36)+(CB$19*CB36)+(CC$19*CC36)+(CD$19*CD36)+(CE$19*CE36)+(CF$19*CF36))","v":0},null,null,null,null,null,null,null,null,null,null,null,null,null,null,null,null,null,null,null,null,null,null,null,null,null,null,{"$f":"IF(OR('Set UP'!$C22=0,'Set UP'!$D22=0,'Set UP'!$E22=0),\"\",(CI$19*CI36)+(CJ$19*CJ36)+(CK$19*CK36)+(CL$19*CL36)+(CM$19*CM36)+(CN$19*CN36)+(CO$19*CO36)+(CP$19*CP36)+(CQ$19*CQ36)+(CR$19*CR36)+(CS$19*CS36)+(CT$19*CT36)+(CU$19*CU36)+(CV$19*CV36)+(CW$19*CW36)+(CX$19*CX36)+(CY$19*CY36)+(CZ$19*CZ36)+(DA$19*DA36)+(DB$19*DB36)+(DC$19*DC36)+(DD$19*DD36)+(DE$19*DE36)+(DF$19*DF36)+(DG$19*DG36))","v":0},null,null,null,null,null,null,null,null,null,null,null,null,null,null,null,null,null,null,null,null,null,null,null,null,null,null,{"$f":"IF(OR('Set UP'!$C22=0,'Set UP'!$D22=0,'Set UP'!$E22=0),\"\",(DJ$19*DJ36)+(DK$19*DK36)+(DL$19*DL36)+(DM$19*DM36)+(DN$19*DN36)+(DO$19*DO36)+(DP$19*DP36)+(DQ$19*DQ36)+(DR$19*DR36)+(DS$19*DS36)+(DT$19*DT36)+(DU$19*DU36)+(DV$19*DV36)+(DW$19*DW36)+(DX$19*DX36)+(DY$19*DY36)+(DZ$19*DZ36)+(EA$19*EA36)+(EB$19*EB36)+(EC$19*EC36)+(ED$19*ED36)+(EE$19*EE36)+(EF$19*EF36)+(EG$19*EG36)+(EH$19*EH36))","v":0},null,null,null,null,null,null,null,null,null,null,null,null,null,null,null,null,null,null,null,null,null,null,null,null,null,null,{"$f":"IF(OR('Set UP'!$C22=0,'Set UP'!$D22=0,'Set UP'!$E22=0),\"\",(EK$19*EK36)+(EL$19*EL36)+(EM$19*EM36)+(EN$19*EN36)+(EO$19*EO36)+(EP$19*EP36)+(EQ$19*EQ36)+(ER$19*ER36)+(ES$19*ES36)+(ET$19*ET36)+(EU$19*EU36)+(EV$19*EV36)+(EW$19*EW36)+(EX$19*EX36)+(EY$19*EY36)+(EZ$19*EZ36)+(FA$19*FA36)+(FB$19*FB36)+(FC$19*FC36)+(FD$19*FD36)+(FE$19*FE36)+(FF$19*FF36)+(FG$19*FG36)+(FH$19*FH36)+(FI$19*FI36))","v":0},null,null,null,null,null,null,null,null,null,null,null,null,null,null,null,null,null,null,null,null,null,null,null,null,null,null,{"$f":"IF(OR('Set UP'!$C22=0,'Set UP'!$D22=0,'Set UP'!$E22=0),\"\",(FL$19*FL36)+(FM$19*FM36)+(FN$19*FN36)+(FO$19*FO36)+(FP$19*FP36)+(FQ$19*FQ36)+(FR$19*FR36)+(FS$19*FS36)+(FT$19*FT36)+(FU$19*FU36)+(FV$19*FV36)+(FW$19*FW36)+(FX$19*FX36)+(FY$19*FY36)+(FZ$19*FZ36)+(GA$19*GA36)+(GB$19*GB36)+(GC$19*GC36)+(GD$19*GD36)+(GE$19*GE36)+(GF$19*GF36)+(GG$19*GG36)+(GH$19*GH36)+(GI$19*GI36)+(GJ$19*GJ36))","v":0},null,null,null,null,null,null,null,null,null,null,null,null,null,null,null,null,null,null,null,null,null,null,null,null,null,null,{"$f":"IF(OR('Set UP'!$C22=0,'Set UP'!$D22=0,'Set UP'!$E22=0),\"\",(GM$19*GM36)+(GN$19*GN36)+(GO$19*GO36)+(GP$19*GP36)+(GQ$19*GQ36)+(GR$19*GR36)+(GS$19*GS36)+(GT$19*GT36)+(GU$19*GU36)+(GV$19*GV36)+(GW$19*GW36)+(GX$19*GX36)+(GY$19*GY36)+(GZ$19*GZ36)+(HA$19*HA36)+(HB$19*HB36)+(HC$19*HC36)+(HD$19*HD36)+(HE$19*HE36)+(HF$19*HF36)+(HG$19*HG36)+(HH$19*HH36)+(HI$19*HI36)+(HJ$19*HJ36)+(HK$19*HK36))","v":0},null,null,null,null,null,null,null,null,null,null,null,null,null,null,null,null,null,null,null,null,null,null,null,null,null,null,{"$f":"IF(OR('Set UP'!$C22=0,'Set UP'!$D22=0,'Set UP'!$E22=0),\"\",(HN$19*HN36)+(HO$19*HO36)+(HP$19*HP36)+(HQ$19*HQ36)+(HR$19*HR36)+(HS$19*HS36)+(HT$19*HT36)+(HU$19*HU36)+(HV$19*HV36)+(HW$19*HW36)+(HX$19*HX36)+(HY$19*HY36)+(HZ$19*HZ36)+(IA$19*IA36)+(IB$19*IB36)+(IC$19*IC36)+(ID$19*ID36)+(IE$19*IE36)+(IF$19*IF36)+(IG$19*IG36)+(IH$19*IH36)+(II$19*II36)+(IJ$19*IJ36)+(IK$19*IK36)+(IL$19*IL36))","v":0},null,null,null,null,null,null,null,null,null,null,null,null,null,null,null,null,null,null,null,null,null,null,null,null,null,null,{"$f":"IF(OR('Set UP'!$C22=0,'Set UP'!$D22=0,'Set UP'!$E22=0),\"\",(IO$19*IO36)+(IP$19*IP36)+(IQ$19*IQ36)+(IR$19*IR36)+(IS$19*IS36)+(IT$19*IT36)+(IU$19*IU36)+(IV$19*IV36)+(IW$19*IW36)+(IX$19*IX36)+(IY$19*IY36)+(IZ$19*IZ36)+(JA$19*JA36)+(JB$19*JB36)+(JC$19*JC36)+(JD$19*JD36)+(JE$19*JE36)+(JF$19*JF36)+(JG$19*JG36)+(JH$19*JH36)+(JI$19*JI36)+(JJ$19*JJ36)+(JK$19*JK36)+(JL$19*JL36)+(JM$19*JM36))","v":0},{"$f":"IF(OR('Set UP'!$C22=0,'Set UP'!$D22=0,'Set UP'!$E22=0),\"\",(AF36+BG36+CH36+DI36+EJ36+FK36+GL36+HM36+JO36+IN36))","v":0},{"$f":"IF(OR('Set UP'!$C22=0,'Set UP'!$D22=0,'Set UP'!$E22=0),\"\",RANK(JP36,$JP$21:$JP$60,0))","v":1},{"$f":"IF(OR('Set UP'!K22<>1,'Set UP'!C22=0,'Set UP'!D22=0,'Set UP'!E22=0,'Set UP'!F22=0),\"\",$JP36)","v":""},{"$f":"IF(OR('Set UP'!K22<>1,'Set UP'!C22=0,'Set UP'!D22=0,'Set UP'!E22=0,'Set UP'!F22=0),\"\",RANK(JR36,$JR$21:$JR$60,0))","v":""},{"$f":"IF(OR('Set UP'!K22<>2,'Set UP'!C22=0,'Set UP'!D22=0,'Set UP'!E22=0,'Set UP'!F22=0),\"\",$JP36)","v":0},{"$f":"IF(OR('Set UP'!K22<>2,'Set UP'!C22=0,'Set UP'!D22=0,'Set UP'!E22=0,'Set UP'!F22=0),\"\",RANK(JT36,$JT$21:$JT$60,0))","v":1},{"$f":"IF(OR('Set UP'!F22<>\"F\",'Set UP'!C22=0,'Set UP'!D22=0,'Set UP'!E22=0),\"\",$JP36)","v":""},{"$f":"IF(OR('Set UP'!F22<>\"F\",'Set UP'!C22=0,'Set UP'!D22=0,'Set UP'!E22=0),\"\",RANK(JV36,$JV$21:$JV$60,0))","v":""},{"$f":"IF(OR('Set UP'!F22<>\"NS\",'Set UP'!C22=0,'Set UP'!D22=0,'Set UP'!E22=0),\"\",$JP36)","v":""},{"$f":"IF(OR('Set UP'!F22<>\"NS\",'Set UP'!C22=0,'Set UP'!D22=0,'Set UP'!E22=0),\"\",RANK(JX36,$JX$21:$JX$60,0))","v":""},{"$f":"IF(OR('Set UP'!$C22=0,'Set UP'!$D22=0,'Set UP'!$E22=0,JP36=0),\"\",JP36/MAX(JP$21:JP$60)*1000)","v":""}]
[null,17,{"$f":"IF(OR('Set UP'!$C23=0,'Set UP'!$D23=0,'Set UP'!$E23=0,'Set UP'!F23=0),\"  --\",'Set UP'!C23)","v":1439},{"$f":"IF(OR('Set UP'!$C23=0,'Set UP'!$D23=0,'Set UP'!$E23=0,'Set UP'!F23=0),\"  --\",'Set UP'!D23&\" \"&'Set UP'!E23)","v":"University of Plymouth A"},{"$f":"IF(OR('Set UP'!$C23=0,'Set UP'!$D23=0,'Set UP'!$E23=0,'Set UP'!F23=0),\"  --\",'Set UP'!F23)","v":"S"},null,null,null,null,null,null,null,null,null,null,null,null,null,null,null,null,null,null,null,null,null,null,null,null,null,null,{"$f":"IF(OR('Set UP'!$C23=0,'Set UP'!$D23=0,'Set UP'!$E23=0),\"\",(F$19*F37)+(G$19*G37)+(H$19*H37)+(I$19*I37)+(J$19*J37)+(K$19*K37)+(L$19*L37)+(M$19*M37)+(N$19*N37)+(O$19*O37)+(P$19*P37)+(Q$19*Q37)+(R$19*R37)+(S$19*S37)+(T$19*T37)+(U$19*U37)+(V$19*V37)+(W$19*W37)+(X$19*X37)+(Y$19*Y37)+(Z$19*Z37)+(AA$19*AA37)+(AB$19*AB37)+(AC$19*AC37)+(AD$19*AD37))","v":0},null,null,null,null,null,null,null,null,null,null,null,null,null,null,null,null,null,null,null,null,null,null,null,null,null,null,{"$f":"IF(OR('Set UP'!$C23=0,'Set UP'!$D23=0,'Set UP'!$E23=0),\"\",(AG$19*AG37)+(AH$19*AH37)+(AI$19*AI37)+(AJ$19*AJ37)+(AK$19*AK37)+(AL$19*AL37)+(AM$19*AM37)+(AN$19*AN37)+(AO$19*AO37)+(AP$19*AP37)+(AQ$19*AQ37)+(AR$19*AR37)+(AS$19*AS37)+(AT$19*AT37)+(AU$19*AU37)+(AV$19*AV37)+(AW$19*AW37)+(AX$19*AX37)+(AY$19*AY37)+(AZ$19*AZ37)+(BA$19*BA37)+(BB$19*BB37)+(BC$19*BC37)+(BD$19*BD37)+(BE$19*BE37))","v":0},null,null,null,null,null,null,null,null,null,null,null,null,null,null,null,null,null,null,null,null,null,null,null,null,null,null,{"$f":"IF(OR('Set UP'!$C23=0,'Set UP'!$D23=0,'Set UP'!$E23=0),\"\",(BH$19*BH37)+(BI$19*BI37)+(BJ$19*BJ37)+(BK$19*BK37)+(BL$19*BL37)+(BM$19*BM37)+(BN$19*BN37)+(BO$19*BO37)+(BP$19*BP37)+(BQ$19*BQ37)+(BR$19*BR37)+(BS$19*BS37)+(BT$19*BT37)+(BU$19*BU37)+(BV$19*BV37)+(BW$19*BW37)+(BX$19*BX37)+(BY$19*BY37)+(BZ$19*BZ37)+(CA$19*CA37)+(CB$19*CB37)+(CC$19*CC37)+(CD$19*CD37)+(CE$19*CE37)+(CF$19*CF37))","v":0},null,null,null,null,null,null,null,null,null,null,null,null,null,null,null,null,null,null,null,null,null,null,null,null,null,null,{"$f":"IF(OR('Set UP'!$C23=0,'Set UP'!$D23=0,'Set UP'!$E23=0),\"\",(CI$19*CI37)+(CJ$19*CJ37)+(CK$19*CK37)+(CL$19*CL37)+(CM$19*CM37)+(CN$19*CN37)+(CO$19*CO37)+(CP$19*CP37)+(CQ$19*CQ37)+(CR$19*CR37)+(CS$19*CS37)+(CT$19*CT37)+(CU$19*CU37)+(CV$19*CV37)+(CW$19*CW37)+(CX$19*CX37)+(CY$19*CY37)+(CZ$19*CZ37)+(DA$19*DA37)+(DB$19*DB37)+(DC$19*DC37)+(DD$19*DD37)+(DE$19*DE37)+(DF$19*DF37)+(DG$19*DG37))","v":0},null,null,null,null,null,null,null,null,null,null,null,null,null,null,null,null,null,null,null,null,null,null,null,null,null,null,{"$f":"IF(OR('Set UP'!$C23=0,'Set UP'!$D23=0,'Set UP'!$E23=0),\"\",(DJ$19*DJ37)+(DK$19*DK37)+(DL$19*DL37)+(DM$19*DM37)+(DN$19*DN37)+(DO$19*DO37)+(DP$19*DP37)+(DQ$19*DQ37)+(DR$19*DR37)+(DS$19*DS37)+(DT$19*DT37)+(DU$19*DU37)+(DV$19*DV37)+(DW$19*DW37)+(DX$19*DX37)+(DY$19*DY37)+(DZ$19*DZ37)+(EA$19*EA37)+(EB$19*EB37)+(EC$19*EC37)+(ED$19*ED37)+(EE$19*EE37)+(EF$19*EF37)+(EG$19*EG37)+(EH$19*EH37))","v":0},null,null,null,null,null,null,null,null,null,null,null,null,null,null,null,null,null,null,null,null,null,null,null,null,null,null,{"$f":"IF(OR('Set UP'!$C23=0,'Set UP'!$D23=0,'Set UP'!$E23=0),\"\",(EK$19*EK37)+(EL$19*EL37)+(EM$19*EM37)+(EN$19*EN37)+(EO$19*EO37)+(EP$19*EP37)+(EQ$19*EQ37)+(ER$19*ER37)+(ES$19*ES37)+(ET$19*ET37)+(EU$19*EU37)+(EV$19*EV37)+(EW$19*EW37)+(EX$19*EX37)+(EY$19*EY37)+(EZ$19*EZ37)+(FA$19*FA37)+(FB$19*FB37)+(FC$19*FC37)+(FD$19*FD37)+(FE$19*FE37)+(FF$19*FF37)+(FG$19*FG37)+(FH$19*FH37)+(FI$19*FI37))","v":0},null,null,null,null,null,null,null,null,null,null,null,null,null,null,null,null,null,null,null,null,null,null,null,null,null,null,{"$f":"IF(OR('Set UP'!$C23=0,'Set UP'!$D23=0,'Set UP'!$E23=0),\"\",(FL$19*FL37)+(FM$19*FM37)+(FN$19*FN37)+(FO$19*FO37)+(FP$19*FP37)+(FQ$19*FQ37)+(FR$19*FR37)+(FS$19*FS37)+(FT$19*FT37)+(FU$19*FU37)+(FV$19*FV37)+(FW$19*FW37)+(FX$19*FX37)+(FY$19*FY37)+(FZ$19*FZ37)+(GA$19*GA37)+(GB$19*GB37)+(GC$19*GC37)+(GD$19*GD37)+(GE$19*GE37)+(GF$19*GF37)+(GG$19*GG37)+(GH$19*GH37)+(GI$19*GI37)+(GJ$19*GJ37))","v":0},null,null,null,null,null,null,null,null,null,null,null,null,null,null,null,null,null,null,null,null,null,null,null,null,null,null,{"$f":"IF(OR('Set UP'!$C23=0,'Set UP'!$D23=0,'Set UP'!$E23=0),\"\",(GM$19*GM37)+(GN$19*GN37)+(GO$19*GO37)+(GP$19*GP37)+(GQ$19*GQ37)+(GR$19*GR37)+(GS$19*GS37)+(GT$19*GT37)+(GU$19*GU37)+(GV$19*GV37)+(GW$19*GW37)+(GX$19*GX37)+(GY$19*GY37)+(GZ$19*GZ37)+(HA$19*HA37)+(HB$19*HB37)+(HC$19*HC37)+(HD$19*HD37)+(HE$19*HE37)+(HF$19*HF37)+(HG$19*HG37)+(HH$19*HH37)+(HI$19*HI37)+(HJ$19*HJ37)+(HK$19*HK37))","v":0},null,null,null,null,null,null,null,null,null,null,null,null,null,null,null,null,null,null,null,null,null,null,null,null,null,null,{"$f":"IF(OR('Set UP'!$C23=0,'Set UP'!$D23=0,'Set UP'!$E23=0),\"\",(HN$19*HN37)+(HO$19*HO37)+(HP$19*HP37)+(HQ$19*HQ37)+(HR$19*HR37)+(HS$19*HS37)+(HT$19*HT37)+(HU$19*HU37)+(HV$19*HV37)+(HW$19*HW37)+(HX$19*HX37)+(HY$19*HY37)+(HZ$19*HZ37)+(IA$19*IA37)+(IB$19*IB37)+(IC$19*IC37)+(ID$19*ID37)+(IE$19*IE37)+(IF$19*IF37)+(IG$19*IG37)+(IH$19*IH37)+(II$19*II37)+(IJ$19*IJ37)+(IK$19*IK37)+(IL$19*IL37))","v":0},null,null,null,null,null,null,null,null,null,null,null,null,null,null,null,null,null,null,null,null,null,null,null,null,null,null,{"$f":"IF(OR('Set UP'!$C23=0,'Set UP'!$D23=0,'Set UP'!$E23=0),\"\",(IO$19*IO37)+(IP$19*IP37)+(IQ$19*IQ37)+(IR$19*IR37)+(IS$19*IS37)+(IT$19*IT37)+(IU$19*IU37)+(IV$19*IV37)+(IW$19*IW37)+(IX$19*IX37)+(IY$19*IY37)+(IZ$19*IZ37)+(JA$19*JA37)+(JB$19*JB37)+(JC$19*JC37)+(JD$19*JD37)+(JE$19*JE37)+(JF$19*JF37)+(JG$19*JG37)+(JH$19*JH37)+(JI$19*JI37)+(JJ$19*JJ37)+(JK$19*JK37)+(JL$19*JL37)+(JM$19*JM37))","v":0},{"$f":"IF(OR('Set UP'!$C23=0,'Set UP'!$D23=0,'Set UP'!$E23=0),\"\",(AF37+BG37+CH37+DI37+EJ37+FK37+GL37+HM37+JO37+IN37))","v":0},{"$f":"IF(OR('Set UP'!$C23=0,'Set UP'!$D23=0,'Set UP'!$E23=0),\"\",RANK(JP37,$JP$21:$JP$60,0))","v":1},{"$f":"IF(OR('Set UP'!K23<>1,'Set UP'!C23=0,'Set UP'!D23=0,'Set UP'!E23=0,'Set UP'!F23=0),\"\",$JP37)","v":0},{"$f":"IF(OR('Set UP'!K23<>1,'Set UP'!C23=0,'Set UP'!D23=0,'Set UP'!E23=0,'Set UP'!F23=0),\"\",RANK(JR37,$JR$21:$JR$60,0))","v":1},{"$f":"IF(OR('Set UP'!K23<>2,'Set UP'!C23=0,'Set UP'!D23=0,'Set UP'!E23=0,'Set UP'!F23=0),\"\",$JP37)","v":""},{"$f":"IF(OR('Set UP'!K23<>2,'Set UP'!C23=0,'Set UP'!D23=0,'Set UP'!E23=0,'Set UP'!F23=0),\"\",RANK(JT37,$JT$21:$JT$60,0))","v":""},{"$f":"IF(OR('Set UP'!F23<>\"F\",'Set UP'!C23=0,'Set UP'!D23=0,'Set UP'!E23=0),\"\",$JP37)","v":""},{"$f":"IF(OR('Set UP'!F23<>\"F\",'Set UP'!C23=0,'Set UP'!D23=0,'Set UP'!E23=0),\"\",RANK(JV37,$JV$21:$JV$60,0))","v":""},{"$f":"IF(OR('Set UP'!F23<>\"NS\",'Set UP'!C23=0,'Set UP'!D23=0,'Set UP'!E23=0),\"\",$JP37)","v":""},{"$f":"IF(OR('Set UP'!F23<>\"NS\",'Set UP'!C23=0,'Set UP'!D23=0,'Set UP'!E23=0),\"\",RANK(JX37,$JX$21:$JX$60,0))","v":""},{"$f":"IF(OR('Set UP'!$C23=0,'Set UP'!$D23=0,'Set UP'!$E23=0,JP37=0),\"\",JP37/MAX(JP$21:JP$60)*1000)","v":""}]
[null,18,{"$f":"IF(OR('Set UP'!$C24=0,'Set UP'!$D24=0,'Set UP'!$E24=0,'Set UP'!F24=0),\"  --\",'Set UP'!C24)","v":1461},{"$f":"IF(OR('Set UP'!$C24=0,'Set UP'!$D24=0,'Set UP'!$E24=0,'Set UP'!F24=0),\"  --\",'Set UP'!D24&\" \"&'Set UP'!E24)","v":"Bristol University B"},{"$f":"IF(OR('Set UP'!$C24=0,'Set UP'!$D24=0,'Set UP'!$E24=0,'Set UP'!F24=0),\"  --\",'Set UP'!F24)","v":"S"},null,null,null,null,null,null,null,null,null,null,null,null,null,null,null,null,null,null,null,null,null,null,null,null,null,null,{"$f":"IF(OR('Set UP'!$C24=0,'Set UP'!$D24=0,'Set UP'!$E24=0),\"\",(F$19*F38)+(G$19*G38)+(H$19*H38)+(I$19*I38)+(J$19*J38)+(K$19*K38)+(L$19*L38)+(M$19*M38)+(N$19*N38)+(O$19*O38)+(P$19*P38)+(Q$19*Q38)+(R$19*R38)+(S$19*S38)+(T$19*T38)+(U$19*U38)+(V$19*V38)+(W$19*W38)+(X$19*X38)+(Y$19*Y38)+(Z$19*Z38)+(AA$19*AA38)+(AB$19*AB38)+(AC$19*AC38)+(AD$19*AD38))","v":0},null,null,null,null,null,null,null,null,null,null,null,null,null,null,null,null,null,null,null,null,null,null,null,null,null,null,{"$f":"IF(OR('Set UP'!$C24=0,'Set UP'!$D24=0,'Set UP'!$E24=0),\"\",(AG$19*AG38)+(AH$19*AH38)+(AI$19*AI38)+(AJ$19*AJ38)+(AK$19*AK38)+(AL$19*AL38)+(AM$19*AM38)+(AN$19*AN38)+(AO$19*AO38)+(AP$19*AP38)+(AQ$19*AQ38)+(AR$19*AR38)+(AS$19*AS38)+(AT$19*AT38)+(AU$19*AU38)+(AV$19*AV38)+(AW$19*AW38)+(AX$19*AX38)+(AY$19*AY38)+(AZ$19*AZ38)+(BA$19*BA38)+(BB$19*BB38)+(BC$19*BC38)+(BD$19*BD38)+(BE$19*BE38))","v":0},null,null,null,null,null,null,null,null,null,null,null,null,null,null,null,null,null,null,null,null,null,null,null,null,null,null,{"$f":"IF(OR('Set UP'!$C24=0,'Set UP'!$D24=0,'Set UP'!$E24=0),\"\",(BH$19*BH38)+(BI$19*BI38)+(BJ$19*BJ38)+(BK$19*BK38)+(BL$19*BL38)+(BM$19*BM38)+(BN$19*BN38)+(BO$19*BO38)+(BP$19*BP38)+(BQ$19*BQ38)+(BR$19*BR38)+(BS$19*BS38)+(BT$19*BT38)+(BU$19*BU38)+(BV$19*BV38)+(BW$19*BW38)+(BX$19*BX38)+(BY$19*BY38)+(BZ$19*BZ38)+(CA$19*CA38)+(CB$19*CB38)+(CC$19*CC38)+(CD$19*CD38)+(CE$19*CE38)+(CF$19*CF38))","v":0},null,null,null,null,null,null,null,null,null,null,null,null,null,null,null,null,null,null,null,null,null,null,null,null,null,null,{"$f":"IF(OR('Set UP'!$C24=0,'Set UP'!$D24=0,'Set UP'!$E24=0),\"\",(CI$19*CI38)+(CJ$19*CJ38)+(CK$19*CK38)+(CL$19*CL38)+(CM$19*CM38)+(CN$19*CN38)+(CO$19*CO38)+(CP$19*CP38)+(CQ$19*CQ38)+(CR$19*CR38)+(CS$19*CS38)+(CT$19*CT38)+(CU$19*CU38)+(CV$19*CV38)+(CW$19*CW38)+(CX$19*CX38)+(CY$19*CY38)+(CZ$19*CZ38)+(DA$19*DA38)+(DB$19*DB38)+(DC$19*DC38)+(DD$19*DD38)+(DE$19*DE38)+(DF$19*DF38)+(DG$19*DG38))","v":0},null,null,null,null,null,null,null,null,null,null,null,null,null,null,null,null,null,null,null,null,null,null,null,null,null,null,{"$f":"IF(OR('Set UP'!$C24=0,'Set UP'!$D24=0,'Set UP'!$E24=0),\"\",(DJ$19*DJ38)+(DK$19*DK38)+(DL$19*DL38)+(DM$19*DM38)+(DN$19*DN38)+(DO$19*DO38)+(DP$19*DP38)+(DQ$19*DQ38)+(DR$19*DR38)+(DS$19*DS38)+(DT$19*DT38)+(DU$19*DU38)+(DV$19*DV38)+(DW$19*DW38)+(DX$19*DX38)+(DY$19*DY38)+(DZ$19*DZ38)+(EA$19*EA38)+(EB$19*EB38)+(EC$19*EC38)+(ED$19*ED38)+(EE$19*EE38)+(EF$19*EF38)+(EG$19*EG38)+(EH$19*EH38))","v":0},null,null,null,null,null,null,null,null,null,null,null,null,null,null,null,null,null,null,null,null,null,null,null,null,null,null,{"$f":"IF(OR('Set UP'!$C24=0,'Set UP'!$D24=0,'Set UP'!$E24=0),\"\",(EK$19*EK38)+(EL$19*EL38)+(EM$19*EM38)+(EN$19*EN38)+(EO$19*EO38)+(EP$19*EP38)+(EQ$19*EQ38)+(ER$19*ER38)+(ES$19*ES38)+(ET$19*ET38)+(EU$19*EU38)+(EV$19*EV38)+(EW$19*EW38)+(EX$19*EX38)+(EY$19*EY38)+(EZ$19*EZ38)+(FA$19*FA38)+(FB$19*FB38)+(FC$19*FC38)+(FD$19*FD38)+(FE$19*FE38)+(FF$19*FF38)+(FG$19*FG38)+(FH$19*FH38)+(FI$19*FI38))","v":0},null,null,null,null,null,null,null,null,null,null,null,null,null,null,null,null,null,null,null,null,null,null,null,null,null,null,{"$f":"IF(OR('Set UP'!$C24=0,'Set UP'!$D24=0,'Set UP'!$E24=0),\"\",(FL$19*FL38)+(FM$19*FM38)+(FN$19*FN38)+(FO$19*FO38)+(FP$19*FP38)+(FQ$19*FQ38)+(FR$19*FR38)+(FS$19*FS38)+(FT$19*FT38)+(FU$19*FU38)+(FV$19*FV38)+(FW$19*FW38)+(FX$19*FX38)+(FY$19*FY38)+(FZ$19*FZ38)+(GA$19*GA38)+(GB$19*GB38)+(GC$19*GC38)+(GD$19*GD38)+(GE$19*GE38)+(GF$19*GF38)+(GG$19*GG38)+(GH$19*GH38)+(GI$19*GI38)+(GJ$19*GJ38))","v":0},null,null,null,null,null,null,null,null,null,null,null,null,null,null,null,null,null,null,null,null,null,null,null,null,null,null,{"$f":"IF(OR('Set UP'!$C24=0,'Set UP'!$D24=0,'Set UP'!$E24=0),\"\",(GM$19*GM38)+(GN$19*GN38)+(GO$19*GO38)+(GP$19*GP38)+(GQ$19*GQ38)+(GR$19*GR38)+(GS$19*GS38)+(GT$19*GT38)+(GU$19*GU38)+(GV$19*GV38)+(GW$19*GW38)+(GX$19*GX38)+(GY$19*GY38)+(GZ$19*GZ38)+(HA$19*HA38)+(HB$19*HB38)+(HC$19*HC38)+(HD$19*HD38)+(HE$19*HE38)+(HF$19*HF38)+(HG$19*HG38)+(HH$19*HH38)+(HI$19*HI38)+(HJ$19*HJ38)+(HK$19*HK38))","v":0},null,null,null,null,null,null,null,null,null,null,null,null,null,null,null,null,null,null,null,null,null,null,null,null,null,null,{"$f":"IF(OR('Set UP'!$C24=0,'Set UP'!$D24=0,'Set UP'!$E24=0),\"\",(HN$19*HN38)+(HO$19*HO38)+(HP$19*HP38)+(HQ$19*HQ38)+(HR$19*HR38)+(HS$19*HS38)+(HT$19*HT38)+(HU$19*HU38)+(HV$19*HV38)+(HW$19*HW38)+(HX$19*HX38)+(HY$19*HY38)+(HZ$19*HZ38)+(IA$19*IA38)+(IB$19*IB38)+(IC$19*IC38)+(ID$19*ID38)+(IE$19*IE38)+(IF$19*IF38)+(IG$19*IG38)+(IH$19*IH38)+(II$19*II38)+(IJ$19*IJ38)+(IK$19*IK38)+(IL$19*IL38))","v":0},null,null,null,null,null,null,null,null,null,null,null,null,null,null,null,null,null,null,null,null,null,null,null,null,null,null,{"$f":"IF(OR('Set UP'!$C24=0,'Set UP'!$D24=0,'Set UP'!$E24=0),\"\",(IO$19*IO38)+(IP$19*IP38)+(IQ$19*IQ38)+(IR$19*IR38)+(IS$19*IS38)+(IT$19*IT38)+(IU$19*IU38)+(IV$19*IV38)+(IW$19*IW38)+(IX$19*IX38)+(IY$19*IY38)+(IZ$19*IZ38)+(JA$19*JA38)+(JB$19*JB38)+(JC$19*JC38)+(JD$19*JD38)+(JE$19*JE38)+(JF$19*JF38)+(JG$19*JG38)+(JH$19*JH38)+(JI$19*JI38)+(JJ$19*JJ38)+(JK$19*JK38)+(JL$19*JL38)+(JM$19*JM38))","v":0},{"$f":"IF(OR('Set UP'!$C24=0,'Set UP'!$D24=0,'Set UP'!$E24=0),\"\",(AF38+BG38+CH38+DI38+EJ38+FK38+GL38+HM38+JO38+IN38))","v":0},{"$f":"IF(OR('Set UP'!$C24=0,'Set UP'!$D24=0,'Set UP'!$E24=0),\"\",RANK(JP38,$JP$21:$JP$60,0))","v":1},{"$f":"IF(OR('Set UP'!K24<>1,'Set UP'!C24=0,'Set UP'!D24=0,'Set UP'!E24=0,'Set UP'!F24=0),\"\",$JP38)","v":""},{"$f":"IF(OR('Set UP'!K24<>1,'Set UP'!C24=0,'Set UP'!D24=0,'Set UP'!E24=0,'Set UP'!F24=0),\"\",RANK(JR38,$JR$21:$JR$60,0))","v":""},{"$f":"IF(OR('Set UP'!K24<>2,'Set UP'!C24=0,'Set UP'!D24=0,'Set UP'!E24=0,'Set UP'!F24=0),\"\",$JP38)","v":0},{"$f":"IF(OR('Set UP'!K24<>2,'Set UP'!C24=0,'Set UP'!D24=0,'Set UP'!E24=0,'Set UP'!F24=0),\"\",RANK(JT38,$JT$21:$JT$60,0))","v":1},{"$f":"IF(OR('Set UP'!F24<>\"F\",'Set UP'!C24=0,'Set UP'!D24=0,'Set UP'!E24=0),\"\",$JP38)","v":""},{"$f":"IF(OR('Set UP'!F24<>\"F\",'Set UP'!C24=0,'Set UP'!D24=0,'Set UP'!E24=0),\"\",RANK(JV38,$JV$21:$JV$60,0))","v":""},{"$f":"IF(OR('Set UP'!F24<>\"NS\",'Set UP'!C24=0,'Set UP'!D24=0,'Set UP'!E24=0),\"\",$JP38)","v":""},{"$f":"IF(OR('Set UP'!F24<>\"NS\",'Set UP'!C24=0,'Set UP'!D24=0,'Set UP'!E24=0),\"\",RANK(JX38,$JX$21:$JX$60,0))","v":""},{"$f":"IF(OR('Set UP'!$C24=0,'Set UP'!$D24=0,'Set UP'!$E24=0,JP38=0),\"\",JP38/MAX(JP$21:JP$60)*1000)","v":""}]
[null,19,{"$f":"IF(OR('Set UP'!$C25=0,'Set UP'!$D25=0,'Set UP'!$E25=0,'Set UP'!F25=0),\"  --\",'Set UP'!C25)","v":1436},{"$f":"IF(OR('Set UP'!$C25=0,'Set UP'!$D25=0,'Set UP'!$E25=0,'Set UP'!F25=0),\"  --\",'Set UP'!D25&\" \"&'Set UP'!E25)","v":"Loughborough University C"},{"$f":"IF(OR('Set UP'!$C25=0,'Set UP'!$D25=0,'Set UP'!$E25=0,'Set UP'!F25=0),\"  --\",'Set UP'!F25)","v":"S"},null,null,null,null,null,null,null,null,null,null,null,null,null,null,null,null,null,null,null,null,null,null,null,null,null,null,{"$f":"IF(OR('Set UP'!$C25=0,'Set UP'!$D25=0,'Set UP'!$E25=0),\"\",(F$19*F39)+(G$19*G39)+(H$19*H39)+(I$19*I39)+(J$19*J39)+(K$19*K39)+(L$19*L39)+(M$19*M39)+(N$19*N39)+(O$19*O39)+(P$19*P39)+(Q$19*Q39)+(R$19*R39)+(S$19*S39)+(T$19*T39)+(U$19*U39)+(V$19*V39)+(W$19*W39)+(X$19*X39)+(Y$19*Y39)+(Z$19*Z39)+(AA$19*AA39)+(AB$19*AB39)+(AC$19*AC39)+(AD$19*AD39))","v":0},null,null,null,null,null,null,null,null,null,null,null,null,null,null,null,null,null,null,null,null,null,null,null,null,null,null,{"$f":"IF(OR('Set UP'!$C25=0,'Set UP'!$D25=0,'Set UP'!$E25=0),\"\",(AG$19*AG39)+(AH$19*AH39)+(AI$19*AI39)+(AJ$19*AJ39)+(AK$19*AK39)+(AL$19*AL39)+(AM$19*AM39)+(AN$19*AN39)+(AO$19*AO39)+(AP$19*AP39)+(AQ$19*AQ39)+(AR$19*AR39)+(AS$19*AS39)+(AT$19*AT39)+(AU$19*AU39)+(AV$19*AV39)+(AW$19*AW39)+(AX$19*AX39)+(AY$19*AY39)+(AZ$19*AZ39)+(BA$19*BA39)+(BB$19*BB39)+(BC$19*BC39)+(BD$19*BD39)+(BE$19*BE39))","v":0},null,null,null,null,null,null,null,null,null,null,null,null,null,null,null,null,null,null,null,null,null,null,null,null,null,null,{"$f":"IF(OR('Set UP'!$C25=0,'Set UP'!$D25=0,'Set UP'!$E25=0),\"\",(BH$19*BH39)+(BI$19*BI39)+(BJ$19*BJ39)+(BK$19*BK39)+(BL$19*BL39)+(BM$19*BM39)+(BN$19*BN39)+(BO$19*BO39)+(BP$19*BP39)+(BQ$19*BQ39)+(BR$19*BR39)+(BS$19*BS39)+(BT$19*BT39)+(BU$19*BU39)+(BV$19*BV39)+(BW$19*BW39)+(BX$19*BX39)+(BY$19*BY39)+(BZ$19*BZ39)+(CA$19*CA39)+(CB$19*CB39)+(CC$19*CC39)+(CD$19*CD39)+(CE$19*CE39)+(CF$19*CF39))","v":0},null,null,null,null,null,null,null,null,null,null,null,null,null,null,null,null,null,null,null,null,null,null,null,null,null,null,{"$f":"IF(OR('Set UP'!$C25=0,'Set UP'!$D25=0,'Set UP'!$E25=0),\"\",(CI$19*CI39)+(CJ$19*CJ39)+(CK$19*CK39)+(CL$19*CL39)+(CM$19*CM39)+(CN$19*CN39)+(CO$19*CO39)+(CP$19*CP39)+(CQ$19*CQ39)+(CR$19*CR39)+(CS$19*CS39)+(CT$19*CT39)+(CU$19*CU39)+(CV$19*CV39)+(CW$19*CW39)+(CX$19*CX39)+(CY$19*CY39)+(CZ$19*CZ39)+(DA$19*DA39)+(DB$19*DB39)+(DC$19*DC39)+(DD$19*DD39)+(DE$19*DE39)+(DF$19*DF39)+(DG$19*DG39))","v":0},null,null,null,null,null,null,null,null,null,null,null,null,null,null,null,null,null,null,null,null,null,null,null,null,null,null,{"$f":"IF(OR('Set UP'!$C25=0,'Set UP'!$D25=0,'Set UP'!$E25=0),\"\",(DJ$19*DJ39)+(DK$19*DK39)+(DL$19*DL39)+(DM$19*DM39)+(DN$19*DN39)+(DO$19*DO39)+(DP$19*DP39)+(DQ$19*DQ39)+(DR$19*DR39)+(DS$19*DS39)+(DT$19*DT39)+(DU$19*DU39)+(DV$19*DV39)+(DW$19*DW39)+(DX$19*DX39)+(DY$19*DY39)+(DZ$19*DZ39)+(EA$19*EA39)+(EB$19*EB39)+(EC$19*EC39)+(ED$19*ED39)+(EE$19*EE39)+(EF$19*EF39)+(EG$19*EG39)+(EH$19*EH39))","v":0},null,null,null,null,null,null,null,null,null,null,null,null,null,null,null,null,null,null,null,null,null,null,null,null,null,null,{"$f":"IF(OR('Set UP'!$C25=0,'Set UP'!$D25=0,'Set UP'!$E25=0),\"\",(EK$19*EK39)+(EL$19*EL39)+(EM$19*EM39)+(EN$19*EN39)+(EO$19*EO39)+(EP$19*EP39)+(EQ$19*EQ39)+(ER$19*ER39)+(ES$19*ES39)+(ET$19*ET39)+(EU$19*EU39)+(EV$19*EV39)+(EW$19*EW39)+(EX$19*EX39)+(EY$19*EY39)+(EZ$19*EZ39)+(FA$19*FA39)+(FB$19*FB39)+(FC$19*FC39)+(FD$19*FD39)+(FE$19*FE39)+(FF$19*FF39)+(FG$19*FG39)+(FH$19*FH39)+(FI$19*FI39))","v":0},null,null,null,null,null,null,null,null,null,null,null,null,null,null,null,null,null,null,null,null,null,null,null,null,null,null,{"$f":"IF(OR('Set UP'!$C25=0,'Set UP'!$D25=0,'Set UP'!$E25=0),\"\",(FL$19*FL39)+(FM$19*FM39)+(FN$19*FN39)+(FO$19*FO39)+(FP$19*FP39)+(FQ$19*FQ39)+(FR$19*FR39)+(FS$19*FS39)+(FT$19*FT39)+(FU$19*FU39)+(FV$19*FV39)+(FW$19*FW39)+(FX$19*FX39)+(FY$19*FY39)+(FZ$19*FZ39)+(GA$19*GA39)+(GB$19*GB39)+(GC$19*GC39)+(GD$19*GD39)+(GE$19*GE39)+(GF$19*GF39)+(GG$19*GG39)+(GH$19*GH39)+(GI$19*GI39)+(GJ$19*GJ39))","v":0},null,null,null,null,null,null,null,null,null,null,null,null,null,null,null,null,null,null,null,null,null,null,null,null,null,null,{"$f":"IF(OR('Set UP'!$C25=0,'Set UP'!$D25=0,'Set UP'!$E25=0),\"\",(GM$19*GM39)+(GN$19*GN39)+(GO$19*GO39)+(GP$19*GP39)+(GQ$19*GQ39)+(GR$19*GR39)+(GS$19*GS39)+(GT$19*GT39)+(GU$19*GU39)+(GV$19*GV39)+(GW$19*GW39)+(GX$19*GX39)+(GY$19*GY39)+(GZ$19*GZ39)+(HA$19*HA39)+(HB$19*HB39)+(HC$19*HC39)+(HD$19*HD39)+(HE$19*HE39)+(HF$19*HF39)+(HG$19*HG39)+(HH$19*HH39)+(HI$19*HI39)+(HJ$19*HJ39)+(HK$19*HK39))","v":0},null,null,null,null,null,null,null,null,null,null,null,null,null,null,null,null,null,null,null,null,null,null,null,null,null,null,{"$f":"IF(OR('Set UP'!$C25=0,'Set UP'!$D25=0,'Set UP'!$E25=0),\"\",(HN$19*HN39)+(HO$19*HO39)+(HP$19*HP39)+(HQ$19*HQ39)+(HR$19*HR39)+(HS$19*HS39)+(HT$19*HT39)+(HU$19*HU39)+(HV$19*HV39)+(HW$19*HW39)+(HX$19*HX39)+(HY$19*HY39)+(HZ$19*HZ39)+(IA$19*IA39)+(IB$19*IB39)+(IC$19*IC39)+(ID$19*ID39)+(IE$19*IE39)+(IF$19*IF39)+(IG$19*IG39)+(IH$19*IH39)+(II$19*II39)+(IJ$19*IJ39)+(IK$19*IK39)+(IL$19*IL39))","v":0},null,null,null,null,null,null,null,null,null,null,null,null,null,null,null,null,null,null,null,null,null,null,null,null,null,null,{"$f":"IF(OR('Set UP'!$C25=0,'Set UP'!$D25=0,'Set UP'!$E25=0),\"\",(IO$19*IO39)+(IP$19*IP39)+(IQ$19*IQ39)+(IR$19*IR39)+(IS$19*IS39)+(IT$19*IT39)+(IU$19*IU39)+(IV$19*IV39)+(IW$19*IW39)+(IX$19*IX39)+(IY$19*IY39)+(IZ$19*IZ39)+(JA$19*JA39)+(JB$19*JB39)+(JC$19*JC39)+(JD$19*JD39)+(JE$19*JE39)+(JF$19*JF39)+(JG$19*JG39)+(JH$19*JH39)+(JI$19*JI39)+(JJ$19*JJ39)+(JK$19*JK39)+(JL$19*JL39)+(JM$19*JM39))","v":0},{"$f":"IF(OR('Set UP'!$C25=0,'Set UP'!$D25=0,'Set UP'!$E25=0),\"\",(AF39+BG39+CH39+DI39+EJ39+FK39+GL39+HM39+JO39+IN39))","v":0},{"$f":"IF(OR('Set UP'!$C25=0,'Set UP'!$D25=0,'Set UP'!$E25=0),\"\",RANK(JP39,$JP$21:$JP$60,0))","v":1},{"$f":"IF(OR('Set UP'!K25<>1,'Set UP'!C25=0,'Set UP'!D25=0,'Set UP'!E25=0,'Set UP'!F25=0),\"\",$JP39)","v":""},{"$f":"IF(OR('Set UP'!K25<>1,'Set UP'!C25=0,'Set UP'!D25=0,'Set UP'!E25=0,'Set UP'!F25=0),\"\",RANK(JR39,$JR$21:$JR$60,0))","v":""},{"$f":"IF(OR('Set UP'!K25<>2,'Set UP'!C25=0,'Set UP'!D25=0,'Set UP'!E25=0,'Set UP'!F25=0),\"\",$JP39)","v":0},{"$f":"IF(OR('Set UP'!K25<>2,'Set UP'!C25=0,'Set UP'!D25=0,'Set UP'!E25=0,'Set UP'!F25=0),\"\",RANK(JT39,$JT$21:$JT$60,0))","v":1},{"$f":"IF(OR('Set UP'!F25<>\"F\",'Set UP'!C25=0,'Set UP'!D25=0,'Set UP'!E25=0),\"\",$JP39)","v":""},{"$f":"IF(OR('Set UP'!F25<>\"F\",'Set UP'!C25=0,'Set UP'!D25=0,'Set UP'!E25=0),\"\",RANK(JV39,$JV$21:$JV$60,0))","v":""},{"$f":"IF(OR('Set UP'!F25<>\"NS\",'Set UP'!C25=0,'Set UP'!D25=0,'Set UP'!E25=0),\"\",$JP39)","v":""},{"$f":"IF(OR('Set UP'!F25<>\"NS\",'Set UP'!C25=0,'Set UP'!D25=0,'Set UP'!E25=0),\"\",RANK(JX39,$JX$21:$JX$60,0))","v":""},{"$f":"IF(OR('Set UP'!$C25=0,'Set UP'!$D25=0,'Set UP'!$E25=0,JP39=0),\"\",JP39/MAX(JP$21:JP$60)*1000)","v":""}]
[null,20,{"$f":"IF(OR('Set UP'!$C26=0,'Set UP'!$D26=0,'Set UP'!$E26=0,'Set UP'!F26=0),\"  --\",'Set UP'!C26)","v":1443},{"$f":"IF(OR('Set UP'!$C26=0,'Set UP'!$D26=0,'Set UP'!$E26=0,'Set UP'!F26=0),\"  --\",'Set UP'!D26&\" \"&'Set UP'!E26)","v":"University of Birmingham B"},{"$f":"IF(OR('Set UP'!$C26=0,'Set UP'!$D26=0,'Set UP'!$E26=0,'Set UP'!F26=0),\"  --\",'Set UP'!F26)","v":"S"},null,null,null,null,null,null,null,null,null,null,null,null,null,null,null,null,null,null,null,null,null,null,null,null,null,null,{"$f":"IF(OR('Set UP'!$C26=0,'Set UP'!$D26=0,'Set UP'!$E26=0),\"\",(F$19*F40)+(G$19*G40)+(H$19*H40)+(I$19*I40)+(J$19*J40)+(K$19*K40)+(L$19*L40)+(M$19*M40)+(N$19*N40)+(O$19*O40)+(P$19*P40)+(Q$19*Q40)+(R$19*R40)+(S$19*S40)+(T$19*T40)+(U$19*U40)+(V$19*V40)+(W$19*W40)+(X$19*X40)+(Y$19*Y40)+(Z$19*Z40)+(AA$19*AA40)+(AB$19*AB40)+(AC$19*AC40)+(AD$19*AD40))","v":0},null,null,null,null,null,null,null,null,null,null,null,null,null,null,null,null,null,null,null,null,null,null,null,null,null,null,{"$f":"IF(OR('Set UP'!$C26=0,'Set UP'!$D26=0,'Set UP'!$E26=0),\"\",(AG$19*AG40)+(AH$19*AH40)+(AI$19*AI40)+(AJ$19*AJ40)+(AK$19*AK40)+(AL$19*AL40)+(AM$19*AM40)+(AN$19*AN40)+(AO$19*AO40)+(AP$19*AP40)+(AQ$19*AQ40)+(AR$19*AR40)+(AS$19*AS40)+(AT$19*AT40)+(AU$19*AU40)+(AV$19*AV40)+(AW$19*AW40)+(AX$19*AX40)+(AY$19*AY40)+(AZ$19*AZ40)+(BA$19*BA40)+(BB$19*BB40)+(BC$19*BC40)+(BD$19*BD40)+(BE$19*BE40))","v":0},null,null,null,null,null,null,null,null,null,null,null,null,null,null,null,null,null,null,null,null,null,null,null,null,null,null,{"$f":"IF(OR('Set UP'!$C26=0,'Set UP'!$D26=0,'Set UP'!$E26=0),\"\",(BH$19*BH40)+(BI$19*BI40)+(BJ$19*BJ40)+(BK$19*BK40)+(BL$19*BL40)+(BM$19*BM40)+(BN$19*BN40)+(BO$19*BO40)+(BP$19*BP40)+(BQ$19*BQ40)+(BR$19*BR40)+(BS$19*BS40)+(BT$19*BT40)+(BU$19*BU40)+(BV$19*BV40)+(BW$19*BW40)+(BX$19*BX40)+(BY$19*BY40)+(BZ$19*BZ40)+(CA$19*CA40)+(CB$19*CB40)+(CC$19*CC40)+(CD$19*CD40)+(CE$19*CE40)+(CF$19*CF40))","v":0},null,null,null,null,null,null,null,null,null,null,null,null,null,null,null,null,null,null,null,null,null,null,null,null,null,null,{"$f":"IF(OR('Set UP'!$C26=0,'Set UP'!$D26=0,'Set UP'!$E26=0),\"\",(CI$19*CI40)+(CJ$19*CJ40)+(CK$19*CK40)+(CL$19*CL40)+(CM$19*CM40)+(CN$19*CN40)+(CO$19*CO40)+(CP$19*CP40)+(CQ$19*CQ40)+(CR$19*CR40)+(CS$19*CS40)+(CT$19*CT40)+(CU$19*CU40)+(CV$19*CV40)+(CW$19*CW40)+(CX$19*CX40)+(CY$19*CY40)+(CZ$19*CZ40)+(DA$19*DA40)+(DB$19*DB40)+(DC$19*DC40)+(DD$19*DD40)+(DE$19*DE40)+(DF$19*DF40)+(DG$19*DG40))","v":0},null,null,null,null,null,null,null,null,null,null,null,null,null,null,null,null,null,null,null,null,null,null,null,null,null,null,{"$f":"IF(OR('Set UP'!$C26=0,'Set UP'!$D26=0,'Set UP'!$E26=0),\"\",(DJ$19*DJ40)+(DK$19*DK40)+(DL$19*DL40)+(DM$19*DM40)+(DN$19*DN40)+(DO$19*DO40)+(DP$19*DP40)+(DQ$19*DQ40)+(DR$19*DR40)+(DS$19*DS40)+(DT$19*DT40)+(DU$19*DU40)+(DV$19*DV40)+(DW$19*DW40)+(DX$19*DX40)+(DY$19*DY40)+(DZ$19*DZ40)+(EA$19*EA40)+(EB$19*EB40)+(EC$19*EC40)+(ED$19*ED40)+(EE$19*EE40)+(EF$19*EF40)+(EG$19*EG40)+(EH$19*EH40))","v":0},null,null,null,null,null,null,null,null,null,null,null,null,null,null,null,null,null,null,null,null,null,null,null,null,null,null,{"$f":"IF(OR('Set UP'!$C26=0,'Set UP'!$D26=0,'Set UP'!$E26=0),\"\",(EK$19*EK40)+(EL$19*EL40)+(EM$19*EM40)+(EN$19*EN40)+(EO$19*EO40)+(EP$19*EP40)+(EQ$19*EQ40)+(ER$19*ER40)+(ES$19*ES40)+(ET$19*ET40)+(EU$19*EU40)+(EV$19*EV40)+(EW$19*EW40)+(EX$19*EX40)+(EY$19*EY40)+(EZ$19*EZ40)+(FA$19*FA40)+(FB$19*FB40)+(FC$19*FC40)+(FD$19*FD40)+(FE$19*FE40)+(FF$19*FF40)+(FG$19*FG40)+(FH$19*FH40)+(FI$19*FI40))","v":0},null,null,null,null,null,null,null,null,null,null,null,null,null,null,null,null,null,null,null,null,null,null,null,null,null,null,{"$f":"IF(OR('Set UP'!$C26=0,'Set UP'!$D26=0,'Set UP'!$E26=0),\"\",(FL$19*FL40)+(FM$19*FM40)+(FN$19*FN40)+(FO$19*FO40)+(FP$19*FP40)+(FQ$19*FQ40)+(FR$19*FR40)+(FS$19*FS40)+(FT$19*FT40)+(FU$19*FU40)+(FV$19*FV40)+(FW$19*FW40)+(FX$19*FX40)+(FY$19*FY40)+(FZ$19*FZ40)+(GA$19*GA40)+(GB$19*GB40)+(GC$19*GC40)+(GD$19*GD40)+(GE$19*GE40)+(GF$19*GF40)+(GG$19*GG40)+(GH$19*GH40)+(GI$19*GI40)+(GJ$19*GJ40))","v":0},null,null,null,null,null,null,null,null,null,null,null,null,null,null,null,null,null,null,null,null,null,null,null,null,null,null,{"$f":"IF(OR('Set UP'!$C26=0,'Set UP'!$D26=0,'Set UP'!$E26=0),\"\",(GM$19*GM40)+(GN$19*GN40)+(GO$19*GO40)+(GP$19*GP40)+(GQ$19*GQ40)+(GR$19*GR40)+(GS$19*GS40)+(GT$19*GT40)+(GU$19*GU40)+(GV$19*GV40)+(GW$19*GW40)+(GX$19*GX40)+(GY$19*GY40)+(GZ$19*GZ40)+(HA$19*HA40)+(HB$19*HB40)+(HC$19*HC40)+(HD$19*HD40)+(HE$19*HE40)+(HF$19*HF40)+(HG$19*HG40)+(HH$19*HH40)+(HI$19*HI40)+(HJ$19*HJ40)+(HK$19*HK40))","v":0},null,null,null,null,null,null,null,null,null,null,null,null,null,null,null,null,null,null,null,null,null,null,null,null,null,null,{"$f":"IF(OR('Set UP'!$C26=0,'Set UP'!$D26=0,'Set UP'!$E26=0),\"\",(HN$19*HN40)+(HO$19*HO40)+(HP$19*HP40)+(HQ$19*HQ40)+(HR$19*HR40)+(HS$19*HS40)+(HT$19*HT40)+(HU$19*HU40)+(HV$19*HV40)+(HW$19*HW40)+(HX$19*HX40)+(HY$19*HY40)+(HZ$19*HZ40)+(IA$19*IA40)+(IB$19*IB40)+(IC$19*IC40)+(ID$19*ID40)+(IE$19*IE40)+(IF$19*IF40)+(IG$19*IG40)+(IH$19*IH40)+(II$19*II40)+(IJ$19*IJ40)+(IK$19*IK40)+(IL$19*IL40))","v":0},null,null,null,null,null,null,null,null,null,null,null,null,null,null,null,null,null,null,null,null,null,null,null,null,null,null,{"$f":"IF(OR('Set UP'!$C26=0,'Set UP'!$D26=0,'Set UP'!$E26=0),\"\",(IO$19*IO40)+(IP$19*IP40)+(IQ$19*IQ40)+(IR$19*IR40)+(IS$19*IS40)+(IT$19*IT40)+(IU$19*IU40)+(IV$19*IV40)+(IW$19*IW40)+(IX$19*IX40)+(IY$19*IY40)+(IZ$19*IZ40)+(JA$19*JA40)+(JB$19*JB40)+(JC$19*JC40)+(JD$19*JD40)+(JE$19*JE40)+(JF$19*JF40)+(JG$19*JG40)+(JH$19*JH40)+(JI$19*JI40)+(JJ$19*JJ40)+(JK$19*JK40)+(JL$19*JL40)+(JM$19*JM40))","v":0},{"$f":"IF(OR('Set UP'!$C26=0,'Set UP'!$D26=0,'Set UP'!$E26=0),\"\",(AF40+BG40+CH40+DI40+EJ40+FK40+GL40+HM40+JO40+IN40))","v":0},{"$f":"IF(OR('Set UP'!$C26=0,'Set UP'!$D26=0,'Set UP'!$E26=0),\"\",RANK(JP40,$JP$21:$JP$60,0))","v":1},{"$f":"IF(OR('Set UP'!K26<>1,'Set UP'!C26=0,'Set UP'!D26=0,'Set UP'!E26=0,'Set UP'!F26=0),\"\",$JP40)","v":""},{"$f":"IF(OR('Set UP'!K26<>1,'Set UP'!C26=0,'Set UP'!D26=0,'Set UP'!E26=0,'Set UP'!F26=0),\"\",RANK(JR40,$JR$21:$JR$60,0))","v":""},{"$f":"IF(OR('Set UP'!K26<>2,'Set UP'!C26=0,'Set UP'!D26=0,'Set UP'!E26=0,'Set UP'!F26=0),\"\",$JP40)","v":0},{"$f":"IF(OR('Set UP'!K26<>2,'Set UP'!C26=0,'Set UP'!D26=0,'Set UP'!E26=0,'Set UP'!F26=0),\"\",RANK(JT40,$JT$21:$JT$60,0))","v":1},{"$f":"IF(OR('Set UP'!F26<>\"F\",'Set UP'!C26=0,'Set UP'!D26=0,'Set UP'!E26=0),\"\",$JP40)","v":""},{"$f":"IF(OR('Set UP'!F26<>\"F\",'Set UP'!C26=0,'Set UP'!D26=0,'Set UP'!E26=0),\"\",RANK(JV40,$JV$21:$JV$60,0))","v":""},{"$f":"IF(OR('Set UP'!F26<>\"NS\",'Set UP'!C26=0,'Set UP'!D26=0,'Set UP'!E26=0),\"\",$JP40)","v":""},{"$f":"IF(OR('Set UP'!F26<>\"NS\",'Set UP'!C26=0,'Set UP'!D26=0,'Set UP'!E26=0),\"\",RANK(JX40,$JX$21:$JX$60,0))","v":""},{"$f":"IF(OR('Set UP'!$C26=0,'Set UP'!$D26=0,'Set UP'!$E26=0,JP40=0),\"\",JP40/MAX(JP$21:JP$60)*1000)","v":""}]
[null,21,{"$f":"IF(OR('Set UP'!$C27=0,'Set UP'!$D27=0,'Set UP'!$E27=0,'Set UP'!F27=0),\"  --\",'Set UP'!C27)","v":1434},{"$f":"IF(OR('Set UP'!$C27=0,'Set UP'!$D27=0,'Set UP'!$E27=0,'Set UP'!F27=0),\"  --\",'Set UP'!D27&\" \"&'Set UP'!E27)","v":"Loughborough University A"},{"$f":"IF(OR('Set UP'!$C27=0,'Set UP'!$D27=0,'Set UP'!$E27=0,'Set UP'!F27=0),\"  --\",'Set UP'!F27)","v":"S"},null,null,null,null,null,null,null,null,null,null,null,null,null,null,null,null,null,null,null,null,null,null,null,null,null,null,{"$f":"IF(OR('Set UP'!$C27=0,'Set UP'!$D27=0,'Set UP'!$E27=0),\"\",(F$19*F41)+(G$19*G41)+(H$19*H41)+(I$19*I41)+(J$19*J41)+(K$19*K41)+(L$19*L41)+(M$19*M41)+(N$19*N41)+(O$19*O41)+(P$19*P41)+(Q$19*Q41)+(R$19*R41)+(S$19*S41)+(T$19*T41)+(U$19*U41)+(V$19*V41)+(W$19*W41)+(X$19*X41)+(Y$19*Y41)+(Z$19*Z41)+(AA$19*AA41)+(AB$19*AB41)+(AC$19*AC41)+(AD$19*AD41))","v":0},null,null,null,null,null,null,null,null,null,null,null,null,null,null,null,null,null,null,null,null,null,null,null,null,null,null,{"$f":"IF(OR('Set UP'!$C27=0,'Set UP'!$D27=0,'Set UP'!$E27=0),\"\",(AG$19*AG41)+(AH$19*AH41)+(AI$19*AI41)+(AJ$19*AJ41)+(AK$19*AK41)+(AL$19*AL41)+(AM$19*AM41)+(AN$19*AN41)+(AO$19*AO41)+(AP$19*AP41)+(AQ$19*AQ41)+(AR$19*AR41)+(AS$19*AS41)+(AT$19*AT41)+(AU$19*AU41)+(AV$19*AV41)+(AW$19*AW41)+(AX$19*AX41)+(AY$19*AY41)+(AZ$19*AZ41)+(BA$19*BA41)+(BB$19*BB41)+(BC$19*BC41)+(BD$19*BD41)+(BE$19*BE41))","v":0},null,null,null,null,null,null,null,null,null,null,null,null,null,null,null,null,null,null,null,null,null,null,null,null,null,null,{"$f":"IF(OR('Set UP'!$C27=0,'Set UP'!$D27=0,'Set UP'!$E27=0),\"\",(BH$19*BH41)+(BI$19*BI41)+(BJ$19*BJ41)+(BK$19*BK41)+(BL$19*BL41)+(BM$19*BM41)+(BN$19*BN41)+(BO$19*BO41)+(BP$19*BP41)+(BQ$19*BQ41)+(BR$19*BR41)+(BS$19*BS41)+(BT$19*BT41)+(BU$19*BU41)+(BV$19*BV41)+(BW$19*BW41)+(BX$19*BX41)+(BY$19*BY41)+(BZ$19*BZ41)+(CA$19*CA41)+(CB$19*CB41)+(CC$19*CC41)+(CD$19*CD41)+(CE$19*CE41)+(CF$19*CF41))","v":0},null,null,null,null,null,null,null,null,null,null,null,null,null,null,null,null,null,null,null,null,null,null,null,null,null,null,{"$f":"IF(OR('Set UP'!$C27=0,'Set UP'!$D27=0,'Set UP'!$E27=0),\"\",(CI$19*CI41)+(CJ$19*CJ41)+(CK$19*CK41)+(CL$19*CL41)+(CM$19*CM41)+(CN$19*CN41)+(CO$19*CO41)+(CP$19*CP41)+(CQ$19*CQ41)+(CR$19*CR41)+(CS$19*CS41)+(CT$19*CT41)+(CU$19*CU41)+(CV$19*CV41)+(CW$19*CW41)+(CX$19*CX41)+(CY$19*CY41)+(CZ$19*CZ41)+(DA$19*DA41)+(DB$19*DB41)+(DC$19*DC41)+(DD$19*DD41)+(DE$19*DE41)+(DF$19*DF41)+(DG$19*DG41))","v":0},null,null,null,null,null,null,null,null,null,null,null,null,null,null,null,null,null,null,null,null,null,null,null,null,null,null,{"$f":"IF(OR('Set UP'!$C27=0,'Set UP'!$D27=0,'Set UP'!$E27=0),\"\",(DJ$19*DJ41)+(DK$19*DK41)+(DL$19*DL41)+(DM$19*DM41)+(DN$19*DN41)+(DO$19*DO41)+(DP$19*DP41)+(DQ$19*DQ41)+(DR$19*DR41)+(DS$19*DS41)+(DT$19*DT41)+(DU$19*DU41)+(DV$19*DV41)+(DW$19*DW41)+(DX$19*DX41)+(DY$19*DY41)+(DZ$19*DZ41)+(EA$19*EA41)+(EB$19*EB41)+(EC$19*EC41)+(ED$19*ED41)+(EE$19*EE41)+(EF$19*EF41)+(EG$19*EG41)+(EH$19*EH41))","v":0},null,null,null,null,null,null,null,null,null,null,null,null,null,null,null,null,null,null,null,null,null,null,null,null,null,null,{"$f":"IF(OR('Set UP'!$C27=0,'Set UP'!$D27=0,'Set UP'!$E27=0),\"\",(EK$19*EK41)+(EL$19*EL41)+(EM$19*EM41)+(EN$19*EN41)+(EO$19*EO41)+(EP$19*EP41)+(EQ$19*EQ41)+(ER$19*ER41)+(ES$19*ES41)+(ET$19*ET41)+(EU$19*EU41)+(EV$19*EV41)+(EW$19*EW41)+(EX$19*EX41)+(EY$19*EY41)+(EZ$19*EZ41)+(FA$19*FA41)+(FB$19*FB41)+(FC$19*FC41)+(FD$19*FD41)+(FE$19*FE41)+(FF$19*FF41)+(FG$19*FG41)+(FH$19*FH41)+(FI$19*FI41))","v":0},null,null,null,null,null,null,null,null,null,null,null,null,null,null,null,null,null,null,null,null,null,null,null,null,null,null,{"$f":"IF(OR('Set UP'!$C27=0,'Set UP'!$D27=0,'Set UP'!$E27=0),\"\",(FL$19*FL41)+(FM$19*FM41)+(FN$19*FN41)+(FO$19*FO41)+(FP$19*FP41)+(FQ$19*FQ41)+(FR$19*FR41)+(FS$19*FS41)+(FT$19*FT41)+(FU$19*FU41)+(FV$19*FV41)+(FW$19*FW41)+(FX$19*FX41)+(FY$19*FY41)+(FZ$19*FZ41)+(GA$19*GA41)+(GB$19*GB41)+(GC$19*GC41)+(GD$19*GD41)+(GE$19*GE41)+(GF$19*GF41)+(GG$19*GG41)+(GH$19*GH41)+(GI$19*GI41)+(GJ$19*GJ41))","v":0},null,null,null,null,null,null,null,null,null,null,null,null,null,null,null,null,null,null,null,null,null,null,null,null,null,null,{"$f":"IF(OR('Set UP'!$C27=0,'Set UP'!$D27=0,'Set UP'!$E27=0),\"\",(GM$19*GM41)+(GN$19*GN41)+(GO$19*GO41)+(GP$19*GP41)+(GQ$19*GQ41)+(GR$19*GR41)+(GS$19*GS41)+(GT$19*GT41)+(GU$19*GU41)+(GV$19*GV41)+(GW$19*GW41)+(GX$19*GX41)+(GY$19*GY41)+(GZ$19*GZ41)+(HA$19*HA41)+(HB$19*HB41)+(HC$19*HC41)+(HD$19*HD41)+(HE$19*HE41)+(HF$19*HF41)+(HG$19*HG41)+(HH$19*HH41)+(HI$19*HI41)+(HJ$19*HJ41)+(HK$19*HK41))","v":0},null,null,null,null,null,null,null,null,null,null,null,null,null,null,null,null,null,null,null,null,null,null,null,null,null,null,{"$f":"IF(OR('Set UP'!$C27=0,'Set UP'!$D27=0,'Set UP'!$E27=0),\"\",(HN$19*HN41)+(HO$19*HO41)+(HP$19*HP41)+(HQ$19*HQ41)+(HR$19*HR41)+(HS$19*HS41)+(HT$19*HT41)+(HU$19*HU41)+(HV$19*HV41)+(HW$19*HW41)+(HX$19*HX41)+(HY$19*HY41)+(HZ$19*HZ41)+(IA$19*IA41)+(IB$19*IB41)+(IC$19*IC41)+(ID$19*ID41)+(IE$19*IE41)+(IF$19*IF41)+(IG$19*IG41)+(IH$19*IH41)+(II$19*II41)+(IJ$19*IJ41)+(IK$19*IK41)+(IL$19*IL41))","v":0},null,null,null,null,null,null,null,null,null,null,null,null,null,null,null,null,null,null,null,null,null,null,null,null,null,null,{"$f":"IF(OR('Set UP'!$C27=0,'Set UP'!$D27=0,'Set UP'!$E27=0),\"\",(IO$19*IO41)+(IP$19*IP41)+(IQ$19*IQ41)+(IR$19*IR41)+(IS$19*IS41)+(IT$19*IT41)+(IU$19*IU41)+(IV$19*IV41)+(IW$19*IW41)+(IX$19*IX41)+(IY$19*IY41)+(IZ$19*IZ41)+(JA$19*JA41)+(JB$19*JB41)+(JC$19*JC41)+(JD$19*JD41)+(JE$19*JE41)+(JF$19*JF41)+(JG$19*JG41)+(JH$19*JH41)+(JI$19*JI41)+(JJ$19*JJ41)+(JK$19*JK41)+(JL$19*JL41)+(JM$19*JM41))","v":0},{"$f":"IF(OR('Set UP'!$C27=0,'Set UP'!$D27=0,'Set UP'!$E27=0),\"\",(AF41+BG41+CH41+DI41+EJ41+FK41+GL41+HM41+JO41+IN41))","v":0},{"$f":"IF(OR('Set UP'!$C27=0,'Set UP'!$D27=0,'Set UP'!$E27=0),\"\",RANK(JP41,$JP$21:$JP$60,0))","v":1},{"$f":"IF(OR('Set UP'!K27<>1,'Set UP'!C27=0,'Set UP'!D27=0,'Set UP'!E27=0,'Set UP'!F27=0),\"\",$JP41)","v":0},{"$f":"IF(OR('Set UP'!K27<>1,'Set UP'!C27=0,'Set UP'!D27=0,'Set UP'!E27=0,'Set UP'!F27=0),\"\",RANK(JR41,$JR$21:$JR$60,0))","v":1},{"$f":"IF(OR('Set UP'!K27<>2,'Set UP'!C27=0,'Set UP'!D27=0,'Set UP'!E27=0,'Set UP'!F27=0),\"\",$JP41)","v":""},{"$f":"IF(OR('Set UP'!K27<>2,'Set UP'!C27=0,'Set UP'!D27=0,'Set UP'!E27=0,'Set UP'!F27=0),\"\",RANK(JT41,$JT$21:$JT$60,0))","v":""},{"$f":"IF(OR('Set UP'!F27<>\"F\",'Set UP'!C27=0,'Set UP'!D27=0,'Set UP'!E27=0),\"\",$JP41)","v":""},{"$f":"IF(OR('Set UP'!F27<>\"F\",'Set UP'!C27=0,'Set UP'!D27=0,'Set UP'!E27=0),\"\",RANK(JV41,$JV$21:$JV$60,0))","v":""},{"$f":"IF(OR('Set UP'!F27<>\"NS\",'Set UP'!C27=0,'Set UP'!D27=0,'Set UP'!E27=0),\"\",$JP41)","v":""},{"$f":"IF(OR('Set UP'!F27<>\"NS\",'Set UP'!C27=0,'Set UP'!D27=0,'Set UP'!E27=0),\"\",RANK(JX41,$JX$21:$JX$60,0))","v":""},{"$f":"IF(OR('Set UP'!$C27=0,'Set UP'!$D27=0,'Set UP'!$E27=0,JP41=0),\"\",JP41/MAX(JP$21:JP$60)*1000)","v":""}]
[null,22,{"$f":"IF(OR('Set UP'!$C28=0,'Set UP'!$D28=0,'Set UP'!$E28=0,'Set UP'!F28=0),\"  --\",'Set UP'!C28)","v":1435},{"$f":"IF(OR('Set UP'!$C28=0,'Set UP'!$D28=0,'Set UP'!$E28=0,'Set UP'!F28=0),\"  --\",'Set UP'!D28&\" \"&'Set UP'!E28)","v":"Loughborough University B"},{"$f":"IF(OR('Set UP'!$C28=0,'Set UP'!$D28=0,'Set UP'!$E28=0,'Set UP'!F28=0),\"  --\",'Set UP'!F28)","v":"S"},null,null,null,null,null,null,null,null,null,null,null,null,null,null,null,null,null,null,null,null,null,null,null,null,null,null,{"$f":"IF(OR('Set UP'!$C28=0,'Set UP'!$D28=0,'Set UP'!$E28=0),\"\",(F$19*F42)+(G$19*G42)+(H$19*H42)+(I$19*I42)+(J$19*J42)+(K$19*K42)+(L$19*L42)+(M$19*M42)+(N$19*N42)+(O$19*O42)+(P$19*P42)+(Q$19*Q42)+(R$19*R42)+(S$19*S42)+(T$19*T42)+(U$19*U42)+(V$19*V42)+(W$19*W42)+(X$19*X42)+(Y$19*Y42)+(Z$19*Z42)+(AA$19*AA42)+(AB$19*AB42)+(AC$19*AC42)+(AD$19*AD42))","v":0},null,null,null,null,null,null,null,null,null,null,null,null,null,null,null,null,null,null,null,null,null,null,null,null,null,null,{"$f":"IF(OR('Set UP'!$C28=0,'Set UP'!$D28=0,'Set UP'!$E28=0),\"\",(AG$19*AG42)+(AH$19*AH42)+(AI$19*AI42)+(AJ$19*AJ42)+(AK$19*AK42)+(AL$19*AL42)+(AM$19*AM42)+(AN$19*AN42)+(AO$19*AO42)+(AP$19*AP42)+(AQ$19*AQ42)+(AR$19*AR42)+(AS$19*AS42)+(AT$19*AT42)+(AU$19*AU42)+(AV$19*AV42)+(AW$19*AW42)+(AX$19*AX42)+(AY$19*AY42)+(AZ$19*AZ42)+(BA$19*BA42)+(BB$19*BB42)+(BC$19*BC42)+(BD$19*BD42)+(BE$19*BE42))","v":0},null,null,null,null,null,null,null,null,null,null,null,null,null,null,null,null,null,null,null,null,null,null,null,null,null,null,{"$f":"IF(OR('Set UP'!$C28=0,'Set UP'!$D28=0,'Set UP'!$E28=0),\"\",(BH$19*BH42)+(BI$19*BI42)+(BJ$19*BJ42)+(BK$19*BK42)+(BL$19*BL42)+(BM$19*BM42)+(BN$19*BN42)+(BO$19*BO42)+(BP$19*BP42)+(BQ$19*BQ42)+(BR$19*BR42)+(BS$19*BS42)+(BT$19*BT42)+(BU$19*BU42)+(BV$19*BV42)+(BW$19*BW42)+(BX$19*BX42)+(BY$19*BY42)+(BZ$19*BZ42)+(CA$19*CA42)+(CB$19*CB42)+(CC$19*CC42)+(CD$19*CD42)+(CE$19*CE42)+(CF$19*CF42))","v":0},null,null,null,null,null,null,null,null,null,null,null,null,null,null,null,null,null,null,null,null,null,null,null,null,null,null,{"$f":"IF(OR('Set UP'!$C28=0,'Set UP'!$D28=0,'Set UP'!$E28=0),\"\",(CI$19*CI42)+(CJ$19*CJ42)+(CK$19*CK42)+(CL$19*CL42)+(CM$19*CM42)+(CN$19*CN42)+(CO$19*CO42)+(CP$19*CP42)+(CQ$19*CQ42)+(CR$19*CR42)+(CS$19*CS42)+(CT$19*CT42)+(CU$19*CU42)+(CV$19*CV42)+(CW$19*CW42)+(CX$19*CX42)+(CY$19*CY42)+(CZ$19*CZ42)+(DA$19*DA42)+(DB$19*DB42)+(DC$19*DC42)+(DD$19*DD42)+(DE$19*DE42)+(DF$19*DF42)+(DG$19*DG42))","v":0},null,null,null,null,null,null,null,null,null,null,null,null,null,null,null,null,null,null,null,null,null,null,null,null,null,null,{"$f":"IF(OR('Set UP'!$C28=0,'Set UP'!$D28=0,'Set UP'!$E28=0),\"\",(DJ$19*DJ42)+(DK$19*DK42)+(DL$19*DL42)+(DM$19*DM42)+(DN$19*DN42)+(DO$19*DO42)+(DP$19*DP42)+(DQ$19*DQ42)+(DR$19*DR42)+(DS$19*DS42)+(DT$19*DT42)+(DU$19*DU42)+(DV$19*DV42)+(DW$19*DW42)+(DX$19*DX42)+(DY$19*DY42)+(DZ$19*DZ42)+(EA$19*EA42)+(EB$19*EB42)+(EC$19*EC42)+(ED$19*ED42)+(EE$19*EE42)+(EF$19*EF42)+(EG$19*EG42)+(EH$19*EH42))","v":0},null,null,null,null,null,null,null,null,null,null,null,null,null,null,null,null,null,null,null,null,null,null,null,null,null,null,{"$f":"IF(OR('Set UP'!$C28=0,'Set UP'!$D28=0,'Set UP'!$E28=0),\"\",(EK$19*EK42)+(EL$19*EL42)+(EM$19*EM42)+(EN$19*EN42)+(EO$19*EO42)+(EP$19*EP42)+(EQ$19*EQ42)+(ER$19*ER42)+(ES$19*ES42)+(ET$19*ET42)+(EU$19*EU42)+(EV$19*EV42)+(EW$19*EW42)+(EX$19*EX42)+(EY$19*EY42)+(EZ$19*EZ42)+(FA$19*FA42)+(FB$19*FB42)+(FC$19*FC42)+(FD$19*FD42)+(FE$19*FE42)+(FF$19*FF42)+(FG$19*FG42)+(FH$19*FH42)+(FI$19*FI42))","v":0},null,null,null,null,null,null,null,null,null,null,null,null,null,null,null,null,null,null,null,null,null,null,null,null,null,null,{"$f":"IF(OR('Set UP'!$C28=0,'Set UP'!$D28=0,'Set UP'!$E28=0),\"\",(FL$19*FL42)+(FM$19*FM42)+(FN$19*FN42)+(FO$19*FO42)+(FP$19*FP42)+(FQ$19*FQ42)+(FR$19*FR42)+(FS$19*FS42)+(FT$19*FT42)+(FU$19*FU42)+(FV$19*FV42)+(FW$19*FW42)+(FX$19*FX42)+(FY$19*FY42)+(FZ$19*FZ42)+(GA$19*GA42)+(GB$19*GB42)+(GC$19*GC42)+(GD$19*GD42)+(GE$19*GE42)+(GF$19*GF42)+(GG$19*GG42)+(GH$19*GH42)+(GI$19*GI42)+(GJ$19*GJ42))","v":0},null,null,null,null,null,null,null,null,null,null,null,null,null,null,null,null,null,null,null,null,null,null,null,null,null,null,{"$f":"IF(OR('Set UP'!$C28=0,'Set UP'!$D28=0,'Set UP'!$E28=0),\"\",(GM$19*GM42)+(GN$19*GN42)+(GO$19*GO42)+(GP$19*GP42)+(GQ$19*GQ42)+(GR$19*GR42)+(GS$19*GS42)+(GT$19*GT42)+(GU$19*GU42)+(GV$19*GV42)+(GW$19*GW42)+(GX$19*GX42)+(GY$19*GY42)+(GZ$19*GZ42)+(HA$19*HA42)+(HB$19*HB42)+(HC$19*HC42)+(HD$19*HD42)+(HE$19*HE42)+(HF$19*HF42)+(HG$19*HG42)+(HH$19*HH42)+(HI$19*HI42)+(HJ$19*HJ42)+(HK$19*HK42))","v":0},null,null,null,null,null,null,null,null,null,null,null,null,null,null,null,null,null,null,null,null,null,null,null,null,null,null,{"$f":"IF(OR('Set UP'!$C28=0,'Set UP'!$D28=0,'Set UP'!$E28=0),\"\",(HN$19*HN42)+(HO$19*HO42)+(HP$19*HP42)+(HQ$19*HQ42)+(HR$19*HR42)+(HS$19*HS42)+(HT$19*HT42)+(HU$19*HU42)+(HV$19*HV42)+(HW$19*HW42)+(HX$19*HX42)+(HY$19*HY42)+(HZ$19*HZ42)+(IA$19*IA42)+(IB$19*IB42)+(IC$19*IC42)+(ID$19*ID42)+(IE$19*IE42)+(IF$19*IF42)+(IG$19*IG42)+(IH$19*IH42)+(II$19*II42)+(IJ$19*IJ42)+(IK$19*IK42)+(IL$19*IL42))","v":0},null,null,null,null,null,null,null,null,null,null,null,null,null,null,null,null,null,null,null,null,null,null,null,null,null,null,{"$f":"IF(OR('Set UP'!$C28=0,'Set UP'!$D28=0,'Set UP'!$E28=0),\"\",(IO$19*IO42)+(IP$19*IP42)+(IQ$19*IQ42)+(IR$19*IR42)+(IS$19*IS42)+(IT$19*IT42)+(IU$19*IU42)+(IV$19*IV42)+(IW$19*IW42)+(IX$19*IX42)+(IY$19*IY42)+(IZ$19*IZ42)+(JA$19*JA42)+(JB$19*JB42)+(JC$19*JC42)+(JD$19*JD42)+(JE$19*JE42)+(JF$19*JF42)+(JG$19*JG42)+(JH$19*JH42)+(JI$19*JI42)+(JJ$19*JJ42)+(JK$19*JK42)+(JL$19*JL42)+(JM$19*JM42))","v":0},{"$f":"IF(OR('Set UP'!$C28=0,'Set UP'!$D28=0,'Set UP'!$E28=0),\"\",(AF42+BG42+CH42+DI42+EJ42+FK42+GL42+HM42+JO42+IN42))","v":0},{"$f":"IF(OR('Set UP'!$C28=0,'Set UP'!$D28=0,'Set UP'!$E28=0),\"\",RANK(JP42,$JP$21:$JP$60,0))","v":1},{"$f":"IF(OR('Set UP'!K28<>1,'Set UP'!C28=0,'Set UP'!D28=0,'Set UP'!E28=0,'Set UP'!F28=0),\"\",$JP42)","v":""},{"$f":"IF(OR('Set UP'!K28<>1,'Set UP'!C28=0,'Set UP'!D28=0,'Set UP'!E28=0,'Set UP'!F28=0),\"\",RANK(JR42,$JR$21:$JR$60,0))","v":""},{"$f":"IF(OR('Set UP'!K28<>2,'Set UP'!C28=0,'Set UP'!D28=0,'Set UP'!E28=0,'Set UP'!F28=0),\"\",$JP42)","v":0},{"$f":"IF(OR('Set UP'!K28<>2,'Set UP'!C28=0,'Set UP'!D28=0,'Set UP'!E28=0,'Set UP'!F28=0),\"\",RANK(JT42,$JT$21:$JT$60,0))","v":1},{"$f":"IF(OR('Set UP'!F28<>\"F\",'Set UP'!C28=0,'Set UP'!D28=0,'Set UP'!E28=0),\"\",$JP42)","v":""},{"$f":"IF(OR('Set UP'!F28<>\"F\",'Set UP'!C28=0,'Set UP'!D28=0,'Set UP'!E28=0),\"\",RANK(JV42,$JV$21:$JV$60,0))","v":""},{"$f":"IF(OR('Set UP'!F28<>\"NS\",'Set UP'!C28=0,'Set UP'!D28=0,'Set UP'!E28=0),\"\",$JP42)","v":""},{"$f":"IF(OR('Set UP'!F28<>\"NS\",'Set UP'!C28=0,'Set UP'!D28=0,'Set UP'!E28=0),\"\",RANK(JX42,$JX$21:$JX$60,0))","v":""},{"$f":"IF(OR('Set UP'!$C28=0,'Set UP'!$D28=0,'Set UP'!$E28=0,JP42=0),\"\",JP42/MAX(JP$21:JP$60)*1000)","v":""}]
[null,23,{"$f":"IF(OR('Set UP'!$C29=0,'Set UP'!$D29=0,'Set UP'!$E29=0,'Set UP'!F29=0),\"  --\",'Set UP'!C29)","v":1457},{"$f":"IF(OR('Set UP'!$C29=0,'Set UP'!$D29=0,'Set UP'!$E29=0,'Set UP'!F29=0),\"  --\",'Set UP'!D29&\" \"&'Set UP'!E29)","v":"University of Warwick B"},{"$f":"IF(OR('Set UP'!$C29=0,'Set UP'!$D29=0,'Set UP'!$E29=0,'Set UP'!F29=0),\"  --\",'Set UP'!F29)","v":"S"},null,null,null,null,null,null,null,null,null,null,null,null,null,null,null,null,null,null,null,null,null,null,null,null,null,null,{"$f":"IF(OR('Set UP'!$C29=0,'Set UP'!$D29=0,'Set UP'!$E29=0),\"\",(F$19*F43)+(G$19*G43)+(H$19*H43)+(I$19*I43)+(J$19*J43)+(K$19*K43)+(L$19*L43)+(M$19*M43)+(N$19*N43)+(O$19*O43)+(P$19*P43)+(Q$19*Q43)+(R$19*R43)+(S$19*S43)+(T$19*T43)+(U$19*U43)+(V$19*V43)+(W$19*W43)+(X$19*X43)+(Y$19*Y43)+(Z$19*Z43)+(AA$19*AA43)+(AB$19*AB43)+(AC$19*AC43)+(AD$19*AD43))","v":0},null,null,null,null,null,null,null,null,null,null,null,null,null,null,null,null,null,null,null,null,null,null,null,null,null,null,{"$f":"IF(OR('Set UP'!$C29=0,'Set UP'!$D29=0,'Set UP'!$E29=0),\"\",(AG$19*AG43)+(AH$19*AH43)+(AI$19*AI43)+(AJ$19*AJ43)+(AK$19*AK43)+(AL$19*AL43)+(AM$19*AM43)+(AN$19*AN43)+(AO$19*AO43)+(AP$19*AP43)+(AQ$19*AQ43)+(AR$19*AR43)+(AS$19*AS43)+(AT$19*AT43)+(AU$19*AU43)+(AV$19*AV43)+(AW$19*AW43)+(AX$19*AX43)+(AY$19*AY43)+(AZ$19*AZ43)+(BA$19*BA43)+(BB$19*BB43)+(BC$19*BC43)+(BD$19*BD43)+(BE$19*BE43))","v":0},null,null,null,null,null,null,null,null,null,null,null,null,null,null,null,null,null,null,null,null,null,null,null,null,null,null,{"$f":"IF(OR('Set UP'!$C29=0,'Set UP'!$D29=0,'Set UP'!$E29=0),\"\",(BH$19*BH43)+(BI$19*BI43)+(BJ$19*BJ43)+(BK$19*BK43)+(BL$19*BL43)+(BM$19*BM43)+(BN$19*BN43)+(BO$19*BO43)+(BP$19*BP43)+(BQ$19*BQ43)+(BR$19*BR43)+(BS$19*BS43)+(BT$19*BT43)+(BU$19*BU43)+(BV$19*BV43)+(BW$19*BW43)+(BX$19*BX43)+(BY$19*BY43)+(BZ$19*BZ43)+(CA$19*CA43)+(CB$19*CB43)+(CC$19*CC43)+(CD$19*CD43)+(CE$19*CE43)+(CF$19*CF43))","v":0},null,null,null,null,null,null,null,null,null,null,null,null,null,null,null,null,null,null,null,null,null,null,null,null,null,null,{"$f":"IF(OR('Set UP'!$C29=0,'Set UP'!$D29=0,'Set UP'!$E29=0),\"\",(CI$19*CI43)+(CJ$19*CJ43)+(CK$19*CK43)+(CL$19*CL43)+(CM$19*CM43)+(CN$19*CN43)+(CO$19*CO43)+(CP$19*CP43)+(CQ$19*CQ43)+(CR$19*CR43)+(CS$19*CS43)+(CT$19*CT43)+(CU$19*CU43)+(CV$19*CV43)+(CW$19*CW43)+(CX$19*CX43)+(CY$19*CY43)+(CZ$19*CZ43)+(DA$19*DA43)+(DB$19*DB43)+(DC$19*DC43)+(DD$19*DD43)+(DE$19*DE43)+(DF$19*DF43)+(DG$19*DG43))","v":0},null,null,null,null,null,null,null,null,null,null,null,null,null,null,null,null,null,null,null,null,null,null,null,null,null,null,{"$f":"IF(OR('Set UP'!$C29=0,'Set UP'!$D29=0,'Set UP'!$E29=0),\"\",(DJ$19*DJ43)+(DK$19*DK43)+(DL$19*DL43)+(DM$19*DM43)+(DN$19*DN43)+(DO$19*DO43)+(DP$19*DP43)+(DQ$19*DQ43)+(DR$19*DR43)+(DS$19*DS43)+(DT$19*DT43)+(DU$19*DU43)+(DV$19*DV43)+(DW$19*DW43)+(DX$19*DX43)+(DY$19*DY43)+(DZ$19*DZ43)+(EA$19*EA43)+(EB$19*EB43)+(EC$19*EC43)+(ED$19*ED43)+(EE$19*EE43)+(EF$19*EF43)+(EG$19*EG43)+(EH$19*EH43))","v":0},null,null,null,null,null,null,null,null,null,null,null,null,null,null,null,null,null,null,null,null,null,null,null,null,null,null,{"$f":"IF(OR('Set UP'!$C29=0,'Set UP'!$D29=0,'Set UP'!$E29=0),\"\",(EK$19*EK43)+(EL$19*EL43)+(EM$19*EM43)+(EN$19*EN43)+(EO$19*EO43)+(EP$19*EP43)+(EQ$19*EQ43)+(ER$19*ER43)+(ES$19*ES43)+(ET$19*ET43)+(EU$19*EU43)+(EV$19*EV43)+(EW$19*EW43)+(EX$19*EX43)+(EY$19*EY43)+(EZ$19*EZ43)+(FA$19*FA43)+(FB$19*FB43)+(FC$19*FC43)+(FD$19*FD43)+(FE$19*FE43)+(FF$19*FF43)+(FG$19*FG43)+(FH$19*FH43)+(FI$19*FI43))","v":0},null,null,null,null,null,null,null,null,null,null,null,null,null,null,null,null,null,null,null,null,null,null,null,null,null,null,{"$f":"IF(OR('Set UP'!$C29=0,'Set UP'!$D29=0,'Set UP'!$E29=0),\"\",(FL$19*FL43)+(FM$19*FM43)+(FN$19*FN43)+(FO$19*FO43)+(FP$19*FP43)+(FQ$19*FQ43)+(FR$19*FR43)+(FS$19*FS43)+(FT$19*FT43)+(FU$19*FU43)+(FV$19*FV43)+(FW$19*FW43)+(FX$19*FX43)+(FY$19*FY43)+(FZ$19*FZ43)+(GA$19*GA43)+(GB$19*GB43)+(GC$19*GC43)+(GD$19*GD43)+(GE$19*GE43)+(GF$19*GF43)+(GG$19*GG43)+(GH$19*GH43)+(GI$19*GI43)+(GJ$19*GJ43))","v":0},null,null,null,null,null,null,null,null,null,null,null,null,null,null,null,null,null,null,null,null,null,null,null,null,null,null,{"$f":"IF(OR('Set UP'!$C29=0,'Set UP'!$D29=0,'Set UP'!$E29=0),\"\",(GM$19*GM43)+(GN$19*GN43)+(GO$19*GO43)+(GP$19*GP43)+(GQ$19*GQ43)+(GR$19*GR43)+(GS$19*GS43)+(GT$19*GT43)+(GU$19*GU43)+(GV$19*GV43)+(GW$19*GW43)+(GX$19*GX43)+(GY$19*GY43)+(GZ$19*GZ43)+(HA$19*HA43)+(HB$19*HB43)+(HC$19*HC43)+(HD$19*HD43)+(HE$19*HE43)+(HF$19*HF43)+(HG$19*HG43)+(HH$19*HH43)+(HI$19*HI43)+(HJ$19*HJ43)+(HK$19*HK43))","v":0},null,null,null,null,null,null,null,null,null,null,null,null,null,null,null,null,null,null,null,null,null,null,null,null,null,null,{"$f":"IF(OR('Set UP'!$C29=0,'Set UP'!$D29=0,'Set UP'!$E29=0),\"\",(HN$19*HN43)+(HO$19*HO43)+(HP$19*HP43)+(HQ$19*HQ43)+(HR$19*HR43)+(HS$19*HS43)+(HT$19*HT43)+(HU$19*HU43)+(HV$19*HV43)+(HW$19*HW43)+(HX$19*HX43)+(HY$19*HY43)+(HZ$19*HZ43)+(IA$19*IA43)+(IB$19*IB43)+(IC$19*IC43)+(ID$19*ID43)+(IE$19*IE43)+(IF$19*IF43)+(IG$19*IG43)+(IH$19*IH43)+(II$19*II43)+(IJ$19*IJ43)+(IK$19*IK43)+(IL$19*IL43))","v":0},null,null,null,null,null,null,null,null,null,null,null,null,null,null,null,null,null,null,null,null,null,null,null,null,null,null,{"$f":"IF(OR('Set UP'!$C29=0,'Set UP'!$D29=0,'Set UP'!$E29=0),\"\",(IO$19*IO43)+(IP$19*IP43)+(IQ$19*IQ43)+(IR$19*IR43)+(IS$19*IS43)+(IT$19*IT43)+(IU$19*IU43)+(IV$19*IV43)+(IW$19*IW43)+(IX$19*IX43)+(IY$19*IY43)+(IZ$19*IZ43)+(JA$19*JA43)+(JB$19*JB43)+(JC$19*JC43)+(JD$19*JD43)+(JE$19*JE43)+(JF$19*JF43)+(JG$19*JG43)+(JH$19*JH43)+(JI$19*JI43)+(JJ$19*JJ43)+(JK$19*JK43)+(JL$19*JL43)+(JM$19*JM43))","v":0},{"$f":"IF(OR('Set UP'!$C29=0,'Set UP'!$D29=0,'Set UP'!$E29=0),\"\",(AF43+BG43+CH43+DI43+EJ43+FK43+GL43+HM43+JO43+IN43))","v":0},{"$f":"IF(OR('Set UP'!$C29=0,'Set UP'!$D29=0,'Set UP'!$E29=0),\"\",RANK(JP43,$JP$21:$JP$60,0))","v":1},{"$f":"IF(OR('Set UP'!K29<>1,'Set UP'!C29=0,'Set UP'!D29=0,'Set UP'!E29=0,'Set UP'!F29=0),\"\",$JP43)","v":""},{"$f":"IF(OR('Set UP'!K29<>1,'Set UP'!C29=0,'Set UP'!D29=0,'Set UP'!E29=0,'Set UP'!F29=0),\"\",RANK(JR43,$JR$21:$JR$60,0))","v":""},{"$f":"IF(OR('Set UP'!K29<>2,'Set UP'!C29=0,'Set UP'!D29=0,'Set UP'!E29=0,'Set UP'!F29=0),\"\",$JP43)","v":0},{"$f":"IF(OR('Set UP'!K29<>2,'Set UP'!C29=0,'Set UP'!D29=0,'Set UP'!E29=0,'Set UP'!F29=0),\"\",RANK(JT43,$JT$21:$JT$60,0))","v":1},{"$f":"IF(OR('Set UP'!F29<>\"F\",'Set UP'!C29=0,'Set UP'!D29=0,'Set UP'!E29=0),\"\",$JP43)","v":""},{"$f":"IF(OR('Set UP'!F29<>\"F\",'Set UP'!C29=0,'Set UP'!D29=0,'Set UP'!E29=0),\"\",RANK(JV43,$JV$21:$JV$60,0))","v":""},{"$f":"IF(OR('Set UP'!F29<>\"NS\",'Set UP'!C29=0,'Set UP'!D29=0,'Set UP'!E29=0),\"\",$JP43)","v":""},{"$f":"IF(OR('Set UP'!F29<>\"NS\",'Set UP'!C29=0,'Set UP'!D29=0,'Set UP'!E29=0),\"\",RANK(JX43,$JX$21:$JX$60,0))","v":""},{"$f":"IF(OR('Set UP'!$C29=0,'Set UP'!$D29=0,'Set UP'!$E29=0,JP43=0),\"\",JP43/MAX(JP$21:JP$60)*1000)","v":""}]
[null,24,{"$f":"IF(OR('Set UP'!$C30=0,'Set UP'!$D30=0,'Set UP'!$E30=0,'Set UP'!F30=0),\"  --\",'Set UP'!C30)","v":1429},{"$f":"IF(OR('Set UP'!$C30=0,'Set UP'!$D30=0,'Set UP'!$E30=0,'Set UP'!F30=0),\"  --\",'Set UP'!D30&\" \"&'Set UP'!E30)","v":"University of Nottingham A"},{"$f":"IF(OR('Set UP'!$C30=0,'Set UP'!$D30=0,'Set UP'!$E30=0,'Set UP'!F30=0),\"  --\",'Set UP'!F30)","v":"S"},null,null,null,null,null,null,null,null,null,null,null,null,null,null,null,null,null,null,null,null,null,null,null,null,null,null,{"$f":"IF(OR('Set UP'!$C30=0,'Set UP'!$D30=0,'Set UP'!$E30=0),\"\",(F$19*F44)+(G$19*G44)+(H$19*H44)+(I$19*I44)+(J$19*J44)+(K$19*K44)+(L$19*L44)+(M$19*M44)+(N$19*N44)+(O$19*O44)+(P$19*P44)+(Q$19*Q44)+(R$19*R44)+(S$19*S44)+(T$19*T44)+(U$19*U44)+(V$19*V44)+(W$19*W44)+(X$19*X44)+(Y$19*Y44)+(Z$19*Z44)+(AA$19*AA44)+(AB$19*AB44)+(AC$19*AC44)+(AD$19*AD44))","v":0},null,null,null,null,null,null,null,null,null,null,null,null,null,null,null,null,null,null,null,null,null,null,null,null,null,null,{"$f":"IF(OR('Set UP'!$C30=0,'Set UP'!$D30=0,'Set UP'!$E30=0),\"\",(AG$19*AG44)+(AH$19*AH44)+(AI$19*AI44)+(AJ$19*AJ44)+(AK$19*AK44)+(AL$19*AL44)+(AM$19*AM44)+(AN$19*AN44)+(AO$19*AO44)+(AP$19*AP44)+(AQ$19*AQ44)+(AR$19*AR44)+(AS$19*AS44)+(AT$19*AT44)+(AU$19*AU44)+(AV$19*AV44)+(AW$19*AW44)+(AX$19*AX44)+(AY$19*AY44)+(AZ$19*AZ44)+(BA$19*BA44)+(BB$19*BB44)+(BC$19*BC44)+(BD$19*BD44)+(BE$19*BE44))","v":0},null,null,null,null,null,null,null,null,null,null,null,null,null,null,null,null,null,null,null,null,null,null,null,null,null,null,{"$f":"IF(OR('Set UP'!$C30=0,'Set UP'!$D30=0,'Set UP'!$E30=0),\"\",(BH$19*BH44)+(BI$19*BI44)+(BJ$19*BJ44)+(BK$19*BK44)+(BL$19*BL44)+(BM$19*BM44)+(BN$19*BN44)+(BO$19*BO44)+(BP$19*BP44)+(BQ$19*BQ44)+(BR$19*BR44)+(BS$19*BS44)+(BT$19*BT44)+(BU$19*BU44)+(BV$19*BV44)+(BW$19*BW44)+(BX$19*BX44)+(BY$19*BY44)+(BZ$19*BZ44)+(CA$19*CA44)+(CB$19*CB44)+(CC$19*CC44)+(CD$19*CD44)+(CE$19*CE44)+(CF$19*CF44))","v":0},null,null,null,null,null,null,null,null,null,null,null,null,null,null,null,null,null,null,null,null,null,null,null,null,null,null,{"$f":"IF(OR('Set UP'!$C30=0,'Set UP'!$D30=0,'Set UP'!$E30=0),\"\",(CI$19*CI44)+(CJ$19*CJ44)+(CK$19*CK44)+(CL$19*CL44)+(CM$19*CM44)+(CN$19*CN44)+(CO$19*CO44)+(CP$19*CP44)+(CQ$19*CQ44)+(CR$19*CR44)+(CS$19*CS44)+(CT$19*CT44)+(CU$19*CU44)+(CV$19*CV44)+(CW$19*CW44)+(CX$19*CX44)+(CY$19*CY44)+(CZ$19*CZ44)+(DA$19*DA44)+(DB$19*DB44)+(DC$19*DC44)+(DD$19*DD44)+(DE$19*DE44)+(DF$19*DF44)+(DG$19*DG44))","v":0},null,null,null,null,null,null,null,null,null,null,null,null,null,null,null,null,null,null,null,null,null,null,null,null,null,null,{"$f":"IF(OR('Set UP'!$C30=0,'Set UP'!$D30=0,'Set UP'!$E30=0),\"\",(DJ$19*DJ44)+(DK$19*DK44)+(DL$19*DL44)+(DM$19*DM44)+(DN$19*DN44)+(DO$19*DO44)+(DP$19*DP44)+(DQ$19*DQ44)+(DR$19*DR44)+(DS$19*DS44)+(DT$19*DT44)+(DU$19*DU44)+(DV$19*DV44)+(DW$19*DW44)+(DX$19*DX44)+(DY$19*DY44)+(DZ$19*DZ44)+(EA$19*EA44)+(EB$19*EB44)+(EC$19*EC44)+(ED$19*ED44)+(EE$19*EE44)+(EF$19*EF44)+(EG$19*EG44)+(EH$19*EH44))","v":0},null,null,null,null,null,null,null,null,null,null,null,null,null,null,null,null,null,null,null,null,null,null,null,null,null,null,{"$f":"IF(OR('Set UP'!$C30=0,'Set UP'!$D30=0,'Set UP'!$E30=0),\"\",(EK$19*EK44)+(EL$19*EL44)+(EM$19*EM44)+(EN$19*EN44)+(EO$19*EO44)+(EP$19*EP44)+(EQ$19*EQ44)+(ER$19*ER44)+(ES$19*ES44)+(ET$19*ET44)+(EU$19*EU44)+(EV$19*EV44)+(EW$19*EW44)+(EX$19*EX44)+(EY$19*EY44)+(EZ$19*EZ44)+(FA$19*FA44)+(FB$19*FB44)+(FC$19*FC44)+(FD$19*FD44)+(FE$19*FE44)+(FF$19*FF44)+(FG$19*FG44)+(FH$19*FH44)+(FI$19*FI44))","v":0},null,null,null,null,null,null,null,null,null,null,null,null,null,null,null,null,null,null,null,null,null,null,null,null,null,null,{"$f":"IF(OR('Set UP'!$C30=0,'Set UP'!$D30=0,'Set UP'!$E30=0),\"\",(FL$19*FL44)+(FM$19*FM44)+(FN$19*FN44)+(FO$19*FO44)+(FP$19*FP44)+(FQ$19*FQ44)+(FR$19*FR44)+(FS$19*FS44)+(FT$19*FT44)+(FU$19*FU44)+(FV$19*FV44)+(FW$19*FW44)+(FX$19*FX44)+(FY$19*FY44)+(FZ$19*FZ44)+(GA$19*GA44)+(GB$19*GB44)+(GC$19*GC44)+(GD$19*GD44)+(GE$19*GE44)+(GF$19*GF44)+(GG$19*GG44)+(GH$19*GH44)+(GI$19*GI44)+(GJ$19*GJ44))","v":0},null,null,null,null,null,null,null,null,null,null,null,null,null,null,null,null,null,null,null,null,null,null,null,null,null,null,{"$f":"IF(OR('Set UP'!$C30=0,'Set UP'!$D30=0,'Set UP'!$E30=0),\"\",(GM$19*GM44)+(GN$19*GN44)+(GO$19*GO44)+(GP$19*GP44)+(GQ$19*GQ44)+(GR$19*GR44)+(GS$19*GS44)+(GT$19*GT44)+(GU$19*GU44)+(GV$19*GV44)+(GW$19*GW44)+(GX$19*GX44)+(GY$19*GY44)+(GZ$19*GZ44)+(HA$19*HA44)+(HB$19*HB44)+(HC$19*HC44)+(HD$19*HD44)+(HE$19*HE44)+(HF$19*HF44)+(HG$19*HG44)+(HH$19*HH44)+(HI$19*HI44)+(HJ$19*HJ44)+(HK$19*HK44))","v":0},null,null,null,null,null,null,null,null,null,null,null,null,null,null,null,null,null,null,null,null,null,null,null,null,null,null,{"$f":"IF(OR('Set UP'!$C30=0,'Set UP'!$D30=0,'Set UP'!$E30=0),\"\",(HN$19*HN44)+(HO$19*HO44)+(HP$19*HP44)+(HQ$19*HQ44)+(HR$19*HR44)+(HS$19*HS44)+(HT$19*HT44)+(HU$19*HU44)+(HV$19*HV44)+(HW$19*HW44)+(HX$19*HX44)+(HY$19*HY44)+(HZ$19*HZ44)+(IA$19*IA44)+(IB$19*IB44)+(IC$19*IC44)+(ID$19*ID44)+(IE$19*IE44)+(IF$19*IF44)+(IG$19*IG44)+(IH$19*IH44)+(II$19*II44)+(IJ$19*IJ44)+(IK$19*IK44)+(IL$19*IL44))","v":0},null,null,null,null,null,null,null,null,null,null,null,null,null,null,null,null,null,null,null,null,null,null,null,null,null,null,{"$f":"IF(OR('Set UP'!$C30=0,'Set UP'!$D30=0,'Set UP'!$E30=0),\"\",(IO$19*IO44)+(IP$19*IP44)+(IQ$19*IQ44)+(IR$19*IR44)+(IS$19*IS44)+(IT$19*IT44)+(IU$19*IU44)+(IV$19*IV44)+(IW$19*IW44)+(IX$19*IX44)+(IY$19*IY44)+(IZ$19*IZ44)+(JA$19*JA44)+(JB$19*JB44)+(JC$19*JC44)+(JD$19*JD44)+(JE$19*JE44)+(JF$19*JF44)+(JG$19*JG44)+(JH$19*JH44)+(JI$19*JI44)+(JJ$19*JJ44)+(JK$19*JK44)+(JL$19*JL44)+(JM$19*JM44))","v":0},{"$f":"IF(OR('Set UP'!$C30=0,'Set UP'!$D30=0,'Set UP'!$E30=0),\"\",(AF44+BG44+CH44+DI44+EJ44+FK44+GL44+HM44+JO44+IN44))","v":0},{"$f":"IF(OR('Set UP'!$C30=0,'Set UP'!$D30=0,'Set UP'!$E30=0),\"\",RANK(JP44,$JP$21:$JP$60,0))","v":1},{"$f":"IF(OR('Set UP'!K30<>1,'Set UP'!C30=0,'Set UP'!D30=0,'Set UP'!E30=0,'Set UP'!F30=0),\"\",$JP44)","v":0},{"$f":"IF(OR('Set UP'!K30<>1,'Set UP'!C30=0,'Set UP'!D30=0,'Set UP'!E30=0,'Set UP'!F30=0),\"\",RANK(JR44,$JR$21:$JR$60,0))","v":1},{"$f":"IF(OR('Set UP'!K30<>2,'Set UP'!C30=0,'Set UP'!D30=0,'Set UP'!E30=0,'Set UP'!F30=0),\"\",$JP44)","v":""},{"$f":"IF(OR('Set UP'!K30<>2,'Set UP'!C30=0,'Set UP'!D30=0,'Set UP'!E30=0,'Set UP'!F30=0),\"\",RANK(JT44,$JT$21:$JT$60,0))","v":""},{"$f":"IF(OR('Set UP'!F30<>\"F\",'Set UP'!C30=0,'Set UP'!D30=0,'Set UP'!E30=0),\"\",$JP44)","v":""},{"$f":"IF(OR('Set UP'!F30<>\"F\",'Set UP'!C30=0,'Set UP'!D30=0,'Set UP'!E30=0),\"\",RANK(JV44,$JV$21:$JV$60,0))","v":""},{"$f":"IF(OR('Set UP'!F30<>\"NS\",'Set UP'!C30=0,'Set UP'!D30=0,'Set UP'!E30=0),\"\",$JP44)","v":""},{"$f":"IF(OR('Set UP'!F30<>\"NS\",'Set UP'!C30=0,'Set UP'!D30=0,'Set UP'!E30=0),\"\",RANK(JX44,$JX$21:$JX$60,0))","v":""},{"$f":"IF(OR('Set UP'!$C30=0,'Set UP'!$D30=0,'Set UP'!$E30=0,JP44=0),\"\",JP44/MAX(JP$21:JP$60)*1000)","v":""}]
[null,25,{"$f":"IF(OR('Set UP'!$C31=0,'Set UP'!$D31=0,'Set UP'!$E31=0,'Set UP'!F31=0),\"  --\",'Set UP'!C31)","v":1438},{"$f":"IF(OR('Set UP'!$C31=0,'Set UP'!$D31=0,'Set UP'!$E31=0,'Set UP'!F31=0),\"  --\",'Set UP'!D31&\" \"&'Set UP'!E31)","v":"Swansea Universities Lifesaving B"},{"$f":"IF(OR('Set UP'!$C31=0,'Set UP'!$D31=0,'Set UP'!$E31=0,'Set UP'!F31=0),\"  --\",'Set UP'!F31)","v":"S"},null,null,null,null,null,null,null,null,null,null,null,null,null,null,null,null,null,null,null,null,null,null,null,null,null,null,{"$f":"IF(OR('Set UP'!$C31=0,'Set UP'!$D31=0,'Set UP'!$E31=0),\"\",(F$19*F45)+(G$19*G45)+(H$19*H45)+(I$19*I45)+(J$19*J45)+(K$19*K45)+(L$19*L45)+(M$19*M45)+(N$19*N45)+(O$19*O45)+(P$19*P45)+(Q$19*Q45)+(R$19*R45)+(S$19*S45)+(T$19*T45)+(U$19*U45)+(V$19*V45)+(W$19*W45)+(X$19*X45)+(Y$19*Y45)+(Z$19*Z45)+(AA$19*AA45)+(AB$19*AB45)+(AC$19*AC45)+(AD$19*AD45))","v":0},null,null,null,null,null,null,null,null,null,null,null,null,null,null,null,null,null,null,null,null,null,null,null,null,null,null,{"$f":"IF(OR('Set UP'!$C31=0,'Set UP'!$D31=0,'Set UP'!$E31=0),\"\",(AG$19*AG45)+(AH$19*AH45)+(AI$19*AI45)+(AJ$19*AJ45)+(AK$19*AK45)+(AL$19*AL45)+(AM$19*AM45)+(AN$19*AN45)+(AO$19*AO45)+(AP$19*AP45)+(AQ$19*AQ45)+(AR$19*AR45)+(AS$19*AS45)+(AT$19*AT45)+(AU$19*AU45)+(AV$19*AV45)+(AW$19*AW45)+(AX$19*AX45)+(AY$19*AY45)+(AZ$19*AZ45)+(BA$19*BA45)+(BB$19*BB45)+(BC$19*BC45)+(BD$19*BD45)+(BE$19*BE45))","v":0},null,null,null,null,null,null,null,null,null,null,null,null,null,null,null,null,null,null,null,null,null,null,null,null,null,null,{"$f":"IF(OR('Set UP'!$C31=0,'Set UP'!$D31=0,'Set UP'!$E31=0),\"\",(BH$19*BH45)+(BI$19*BI45)+(BJ$19*BJ45)+(BK$19*BK45)+(BL$19*BL45)+(BM$19*BM45)+(BN$19*BN45)+(BO$19*BO45)+(BP$19*BP45)+(BQ$19*BQ45)+(BR$19*BR45)+(BS$19*BS45)+(BT$19*BT45)+(BU$19*BU45)+(BV$19*BV45)+(BW$19*BW45)+(BX$19*BX45)+(BY$19*BY45)+(BZ$19*BZ45)+(CA$19*CA45)+(CB$19*CB45)+(CC$19*CC45)+(CD$19*CD45)+(CE$19*CE45)+(CF$19*CF45))","v":0},null,null,null,null,null,null,null,null,null,null,null,null,null,null,null,null,null,null,null,null,null,null,null,null,null,null,{"$f":"IF(OR('Set UP'!$C31=0,'Set UP'!$D31=0,'Set UP'!$E31=0),\"\",(CI$19*CI45)+(CJ$19*CJ45)+(CK$19*CK45)+(CL$19*CL45)+(CM$19*CM45)+(CN$19*CN45)+(CO$19*CO45)+(CP$19*CP45)+(CQ$19*CQ45)+(CR$19*CR45)+(CS$19*CS45)+(CT$19*CT45)+(CU$19*CU45)+(CV$19*CV45)+(CW$19*CW45)+(CX$19*CX45)+(CY$19*CY45)+(CZ$19*CZ45)+(DA$19*DA45)+(DB$19*DB45)+(DC$19*DC45)+(DD$19*DD45)+(DE$19*DE45)+(DF$19*DF45)+(DG$19*DG45))","v":0},null,null,null,null,null,null,null,null,null,null,null,null,null,null,null,null,null,null,null,null,null,null,null,null,null,null,{"$f":"IF(OR('Set UP'!$C31=0,'Set UP'!$D31=0,'Set UP'!$E31=0),\"\",(DJ$19*DJ45)+(DK$19*DK45)+(DL$19*DL45)+(DM$19*DM45)+(DN$19*DN45)+(DO$19*DO45)+(DP$19*DP45)+(DQ$19*DQ45)+(DR$19*DR45)+(DS$19*DS45)+(DT$19*DT45)+(DU$19*DU45)+(DV$19*DV45)+(DW$19*DW45)+(DX$19*DX45)+(DY$19*DY45)+(DZ$19*DZ45)+(EA$19*EA45)+(EB$19*EB45)+(EC$19*EC45)+(ED$19*ED45)+(EE$19*EE45)+(EF$19*EF45)+(EG$19*EG45)+(EH$19*EH45))","v":0},null,null,null,null,null,null,null,null,null,null,null,null,null,null,null,null,null,null,null,null,null,null,null,null,null,null,{"$f":"IF(OR('Set UP'!$C31=0,'Set UP'!$D31=0,'Set UP'!$E31=0),\"\",(EK$19*EK45)+(EL$19*EL45)+(EM$19*EM45)+(EN$19*EN45)+(EO$19*EO45)+(EP$19*EP45)+(EQ$19*EQ45)+(ER$19*ER45)+(ES$19*ES45)+(ET$19*ET45)+(EU$19*EU45)+(EV$19*EV45)+(EW$19*EW45)+(EX$19*EX45)+(EY$19*EY45)+(EZ$19*EZ45)+(FA$19*FA45)+(FB$19*FB45)+(FC$19*FC45)+(FD$19*FD45)+(FE$19*FE45)+(FF$19*FF45)+(FG$19*FG45)+(FH$19*FH45)+(FI$19*FI45))","v":0},null,null,null,null,null,null,null,null,null,null,null,null,null,null,null,null,null,null,null,null,null,null,null,null,null,null,{"$f":"IF(OR('Set UP'!$C31=0,'Set UP'!$D31=0,'Set UP'!$E31=0),\"\",(FL$19*FL45)+(FM$19*FM45)+(FN$19*FN45)+(FO$19*FO45)+(FP$19*FP45)+(FQ$19*FQ45)+(FR$19*FR45)+(FS$19*FS45)+(FT$19*FT45)+(FU$19*FU45)+(FV$19*FV45)+(FW$19*FW45)+(FX$19*FX45)+(FY$19*FY45)+(FZ$19*FZ45)+(GA$19*GA45)+(GB$19*GB45)+(GC$19*GC45)+(GD$19*GD45)+(GE$19*GE45)+(GF$19*GF45)+(GG$19*GG45)+(GH$19*GH45)+(GI$19*GI45)+(GJ$19*GJ45))","v":0},null,null,null,null,null,null,null,null,null,null,null,null,null,null,null,null,null,null,null,null,null,null,null,null,null,null,{"$f":"IF(OR('Set UP'!$C31=0,'Set UP'!$D31=0,'Set UP'!$E31=0),\"\",(GM$19*GM45)+(GN$19*GN45)+(GO$19*GO45)+(GP$19*GP45)+(GQ$19*GQ45)+(GR$19*GR45)+(GS$19*GS45)+(GT$19*GT45)+(GU$19*GU45)+(GV$19*GV45)+(GW$19*GW45)+(GX$19*GX45)+(GY$19*GY45)+(GZ$19*GZ45)+(HA$19*HA45)+(HB$19*HB45)+(HC$19*HC45)+(HD$19*HD45)+(HE$19*HE45)+(HF$19*HF45)+(HG$19*HG45)+(HH$19*HH45)+(HI$19*HI45)+(HJ$19*HJ45)+(HK$19*HK45))","v":0},null,null,null,null,null,null,null,null,null,null,null,null,null,null,null,null,null,null,null,null,null,null,null,null,null,null,{"$f":"IF(OR('Set UP'!$C31=0,'Set UP'!$D31=0,'Set UP'!$E31=0),\"\",(HN$19*HN45)+(HO$19*HO45)+(HP$19*HP45)+(HQ$19*HQ45)+(HR$19*HR45)+(HS$19*HS45)+(HT$19*HT45)+(HU$19*HU45)+(HV$19*HV45)+(HW$19*HW45)+(HX$19*HX45)+(HY$19*HY45)+(HZ$19*HZ45)+(IA$19*IA45)+(IB$19*IB45)+(IC$19*IC45)+(ID$19*ID45)+(IE$19*IE45)+(IF$19*IF45)+(IG$19*IG45)+(IH$19*IH45)+(II$19*II45)+(IJ$19*IJ45)+(IK$19*IK45)+(IL$19*IL45))","v":0},null,null,null,null,null,null,null,null,null,null,null,null,null,null,null,null,null,null,null,null,null,null,null,null,null,null,{"$f":"IF(OR('Set UP'!$C31=0,'Set UP'!$D31=0,'Set UP'!$E31=0),\"\",(IO$19*IO45)+(IP$19*IP45)+(IQ$19*IQ45)+(IR$19*IR45)+(IS$19*IS45)+(IT$19*IT45)+(IU$19*IU45)+(IV$19*IV45)+(IW$19*IW45)+(IX$19*IX45)+(IY$19*IY45)+(IZ$19*IZ45)+(JA$19*JA45)+(JB$19*JB45)+(JC$19*JC45)+(JD$19*JD45)+(JE$19*JE45)+(JF$19*JF45)+(JG$19*JG45)+(JH$19*JH45)+(JI$19*JI45)+(JJ$19*JJ45)+(JK$19*JK45)+(JL$19*JL45)+(JM$19*JM45))","v":0},{"$f":"IF(OR('Set UP'!$C31=0,'Set UP'!$D31=0,'Set UP'!$E31=0),\"\",(AF45+BG45+CH45+DI45+EJ45+FK45+GL45+HM45+JO45+IN45))","v":0},{"$f":"IF(OR('Set UP'!$C31=0,'Set UP'!$D31=0,'Set UP'!$E31=0),\"\",RANK(JP45,$JP$21:$JP$60,0))","v":1},{"$f":"IF(OR('Set UP'!K31<>1,'Set UP'!C31=0,'Set UP'!D31=0,'Set UP'!E31=0,'Set UP'!F31=0),\"\",$JP45)","v":""},{"$f":"IF(OR('Set UP'!K31<>1,'Set UP'!C31=0,'Set UP'!D31=0,'Set UP'!E31=0,'Set UP'!F31=0),\"\",RANK(JR45,$JR$21:$JR$60,0))","v":""},{"$f":"IF(OR('Set UP'!K31<>2,'Set UP'!C31=0,'Set UP'!D31=0,'Set UP'!E31=0,'Set UP'!F31=0),\"\",$JP45)","v":0},{"$f":"IF(OR('Set UP'!K31<>2,'Set UP'!C31=0,'Set UP'!D31=0,'Set UP'!E31=0,'Set UP'!F31=0),\"\",RANK(JT45,$JT$21:$JT$60,0))","v":1},{"$f":"IF(OR('Set UP'!F31<>\"F\",'Set UP'!C31=0,'Set UP'!D31=0,'Set UP'!E31=0),\"\",$JP45)","v":""},{"$f":"IF(OR('Set UP'!F31<>\"F\",'Set UP'!C31=0,'Set UP'!D31=0,'Set UP'!E31=0),\"\",RANK(JV45,$JV$21:$JV$60,0))","v":""},{"$f":"IF(OR('Set UP'!F31<>\"NS\",'Set UP'!C31=0,'Set UP'!D31=0,'Set UP'!E31=0),\"\",$JP45)","v":""},{"$f":"IF(OR('Set UP'!F31<>\"NS\",'Set UP'!C31=0,'Set UP'!D31=0,'Set UP'!E31=0),\"\",RANK(JX45,$JX$21:$JX$60,0))","v":""},{"$f":"IF(OR('Set UP'!$C31=0,'Set UP'!$D31=0,'Set UP'!$E31=0,JP45=0),\"\",JP45/MAX(JP$21:JP$60)*1000)","v":""}]
[null,26,{"$f":"IF(OR('Set UP'!$C32=0,'Set UP'!$D32=0,'Set UP'!$E32=0,'Set UP'!F32=0),\"  --\",'Set UP'!C32)","v":1442},{"$f":"IF(OR('Set UP'!$C32=0,'Set UP'!$D32=0,'Set UP'!$E32=0,'Set UP'!F32=0),\"  --\",'Set UP'!D32&\" \"&'Set UP'!E32)","v":"University of Birmingham A"},{"$f":"IF(OR('Set UP'!$C32=0,'Set UP'!$D32=0,'Set UP'!$E32=0,'Set UP'!F32=0),\"  --\",'Set UP'!F32)","v":"S"},null,null,null,null,null,null,null,null,null,null,null,null,null,null,null,null,null,null,null,null,null,null,null,null,null,null,{"$f":"IF(OR('Set UP'!$C32=0,'Set UP'!$D32=0,'Set UP'!$E32=0),\"\",(F$19*F46)+(G$19*G46)+(H$19*H46)+(I$19*I46)+(J$19*J46)+(K$19*K46)+(L$19*L46)+(M$19*M46)+(N$19*N46)+(O$19*O46)+(P$19*P46)+(Q$19*Q46)+(R$19*R46)+(S$19*S46)+(T$19*T46)+(U$19*U46)+(V$19*V46)+(W$19*W46)+(X$19*X46)+(Y$19*Y46)+(Z$19*Z46)+(AA$19*AA46)+(AB$19*AB46)+(AC$19*AC46)+(AD$19*AD46))","v":0},null,null,null,null,null,null,null,null,null,null,null,null,null,null,null,null,null,null,null,null,null,null,null,null,null,null,{"$f":"IF(OR('Set UP'!$C32=0,'Set UP'!$D32=0,'Set UP'!$E32=0),\"\",(AG$19*AG46)+(AH$19*AH46)+(AI$19*AI46)+(AJ$19*AJ46)+(AK$19*AK46)+(AL$19*AL46)+(AM$19*AM46)+(AN$19*AN46)+(AO$19*AO46)+(AP$19*AP46)+(AQ$19*AQ46)+(AR$19*AR46)+(AS$19*AS46)+(AT$19*AT46)+(AU$19*AU46)+(AV$19*AV46)+(AW$19*AW46)+(AX$19*AX46)+(AY$19*AY46)+(AZ$19*AZ46)+(BA$19*BA46)+(BB$19*BB46)+(BC$19*BC46)+(BD$19*BD46)+(BE$19*BE46))","v":0},null,null,null,null,null,null,null,null,null,null,null,null,null,null,null,null,null,null,null,null,null,null,null,null,null,null,{"$f":"IF(OR('Set UP'!$C32=0,'Set UP'!$D32=0,'Set UP'!$E32=0),\"\",(BH$19*BH46)+(BI$19*BI46)+(BJ$19*BJ46)+(BK$19*BK46)+(BL$19*BL46)+(BM$19*BM46)+(BN$19*BN46)+(BO$19*BO46)+(BP$19*BP46)+(BQ$19*BQ46)+(BR$19*BR46)+(BS$19*BS46)+(BT$19*BT46)+(BU$19*BU46)+(BV$19*BV46)+(BW$19*BW46)+(BX$19*BX46)+(BY$19*BY46)+(BZ$19*BZ46)+(CA$19*CA46)+(CB$19*CB46)+(CC$19*CC46)+(CD$19*CD46)+(CE$19*CE46)+(CF$19*CF46))","v":0},null,null,null,null,null,null,null,null,null,null,null,null,null,null,null,null,null,null,null,null,null,null,null,null,null,null,{"$f":"IF(OR('Set UP'!$C32=0,'Set UP'!$D32=0,'Set UP'!$E32=0),\"\",(CI$19*CI46)+(CJ$19*CJ46)+(CK$19*CK46)+(CL$19*CL46)+(CM$19*CM46)+(CN$19*CN46)+(CO$19*CO46)+(CP$19*CP46)+(CQ$19*CQ46)+(CR$19*CR46)+(CS$19*CS46)+(CT$19*CT46)+(CU$19*CU46)+(CV$19*CV46)+(CW$19*CW46)+(CX$19*CX46)+(CY$19*CY46)+(CZ$19*CZ46)+(DA$19*DA46)+(DB$19*DB46)+(DC$19*DC46)+(DD$19*DD46)+(DE$19*DE46)+(DF$19*DF46)+(DG$19*DG46))","v":0},null,null,null,null,null,null,null,null,null,null,null,null,null,null,null,null,null,null,null,null,null,null,null,null,null,null,{"$f":"IF(OR('Set UP'!$C32=0,'Set UP'!$D32=0,'Set UP'!$E32=0),\"\",(DJ$19*DJ46)+(DK$19*DK46)+(DL$19*DL46)+(DM$19*DM46)+(DN$19*DN46)+(DO$19*DO46)+(DP$19*DP46)+(DQ$19*DQ46)+(DR$19*DR46)+(DS$19*DS46)+(DT$19*DT46)+(DU$19*DU46)+(DV$19*DV46)+(DW$19*DW46)+(DX$19*DX46)+(DY$19*DY46)+(DZ$19*DZ46)+(EA$19*EA46)+(EB$19*EB46)+(EC$19*EC46)+(ED$19*ED46)+(EE$19*EE46)+(EF$19*EF46)+(EG$19*EG46)+(EH$19*EH46))","v":0},null,null,null,null,null,null,null,null,null,null,null,null,null,null,null,null,null,null,null,null,null,null,null,null,null,null,{"$f":"IF(OR('Set UP'!$C32=0,'Set UP'!$D32=0,'Set UP'!$E32=0),\"\",(EK$19*EK46)+(EL$19*EL46)+(EM$19*EM46)+(EN$19*EN46)+(EO$19*EO46)+(EP$19*EP46)+(EQ$19*EQ46)+(ER$19*ER46)+(ES$19*ES46)+(ET$19*ET46)+(EU$19*EU46)+(EV$19*EV46)+(EW$19*EW46)+(EX$19*EX46)+(EY$19*EY46)+(EZ$19*EZ46)+(FA$19*FA46)+(FB$19*FB46)+(FC$19*FC46)+(FD$19*FD46)+(FE$19*FE46)+(FF$19*FF46)+(FG$19*FG46)+(FH$19*FH46)+(FI$19*FI46))","v":0},null,null,null,null,null,null,null,null,null,null,null,null,null,null,null,null,null,null,null,null,null,null,null,null,null,null,{"$f":"IF(OR('Set UP'!$C32=0,'Set UP'!$D32=0,'Set UP'!$E32=0),\"\",(FL$19*FL46)+(FM$19*FM46)+(FN$19*FN46)+(FO$19*FO46)+(FP$19*FP46)+(FQ$19*FQ46)+(FR$19*FR46)+(FS$19*FS46)+(FT$19*FT46)+(FU$19*FU46)+(FV$19*FV46)+(FW$19*FW46)+(FX$19*FX46)+(FY$19*FY46)+(FZ$19*FZ46)+(GA$19*GA46)+(GB$19*GB46)+(GC$19*GC46)+(GD$19*GD46)+(GE$19*GE46)+(GF$19*GF46)+(GG$19*GG46)+(GH$19*GH46)+(GI$19*GI46)+(GJ$19*GJ46))","v":0},null,null,null,null,null,null,null,null,null,null,null,null,null,null,null,null,null,null,null,null,null,null,null,null,null,null,{"$f":"IF(OR('Set UP'!$C32=0,'Set UP'!$D32=0,'Set UP'!$E32=0),\"\",(GM$19*GM46)+(GN$19*GN46)+(GO$19*GO46)+(GP$19*GP46)+(GQ$19*GQ46)+(GR$19*GR46)+(GS$19*GS46)+(GT$19*GT46)+(GU$19*GU46)+(GV$19*GV46)+(GW$19*GW46)+(GX$19*GX46)+(GY$19*GY46)+(GZ$19*GZ46)+(HA$19*HA46)+(HB$19*HB46)+(HC$19*HC46)+(HD$19*HD46)+(HE$19*HE46)+(HF$19*HF46)+(HG$19*HG46)+(HH$19*HH46)+(HI$19*HI46)+(HJ$19*HJ46)+(HK$19*HK46))","v":0},null,null,null,null,null,null,null,null,null,null,null,null,null,null,null,null,null,null,null,null,null,null,null,null,null,null,{"$f":"IF(OR('Set UP'!$C32=0,'Set UP'!$D32=0,'Set UP'!$E32=0),\"\",(HN$19*HN46)+(HO$19*HO46)+(HP$19*HP46)+(HQ$19*HQ46)+(HR$19*HR46)+(HS$19*HS46)+(HT$19*HT46)+(HU$19*HU46)+(HV$19*HV46)+(HW$19*HW46)+(HX$19*HX46)+(HY$19*HY46)+(HZ$19*HZ46)+(IA$19*IA46)+(IB$19*IB46)+(IC$19*IC46)+(ID$19*ID46)+(IE$19*IE46)+(IF$19*IF46)+(IG$19*IG46)+(IH$19*IH46)+(II$19*II46)+(IJ$19*IJ46)+(IK$19*IK46)+(IL$19*IL46))","v":0},null,null,null,null,null,null,null,null,null,null,null,null,null,null,null,null,null,null,null,null,null,null,null,null,null,null,{"$f":"IF(OR('Set UP'!$C32=0,'Set UP'!$D32=0,'Set UP'!$E32=0),\"\",(IO$19*IO46)+(IP$19*IP46)+(IQ$19*IQ46)+(IR$19*IR46)+(IS$19*IS46)+(IT$19*IT46)+(IU$19*IU46)+(IV$19*IV46)+(IW$19*IW46)+(IX$19*IX46)+(IY$19*IY46)+(IZ$19*IZ46)+(JA$19*JA46)+(JB$19*JB46)+(JC$19*JC46)+(JD$19*JD46)+(JE$19*JE46)+(JF$19*JF46)+(JG$19*JG46)+(JH$19*JH46)+(JI$19*JI46)+(JJ$19*JJ46)+(JK$19*JK46)+(JL$19*JL46)+(JM$19*JM46))","v":0},{"$f":"IF(OR('Set UP'!$C32=0,'Set UP'!$D32=0,'Set UP'!$E32=0),\"\",(AF46+BG46+CH46+DI46+EJ46+FK46+GL46+HM46+JO46+IN46))","v":0},{"$f":"IF(OR('Set UP'!$C32=0,'Set UP'!$D32=0,'Set UP'!$E32=0),\"\",RANK(JP46,$JP$21:$JP$60,0))","v":1},{"$f":"IF(OR('Set UP'!K32<>1,'Set UP'!C32=0,'Set UP'!D32=0,'Set UP'!E32=0,'Set UP'!F32=0),\"\",$JP46)","v":0},{"$f":"IF(OR('Set UP'!K32<>1,'Set UP'!C32=0,'Set UP'!D32=0,'Set UP'!E32=0,'Set UP'!F32=0),\"\",RANK(JR46,$JR$21:$JR$60,0))","v":1},{"$f":"IF(OR('Set UP'!K32<>2,'Set UP'!C32=0,'Set UP'!D32=0,'Set UP'!E32=0,'Set UP'!F32=0),\"\",$JP46)","v":""},{"$f":"IF(OR('Set UP'!K32<>2,'Set UP'!C32=0,'Set UP'!D32=0,'Set UP'!E32=0,'Set UP'!F32=0),\"\",RANK(JT46,$JT$21:$JT$60,0))","v":""},{"$f":"IF(OR('Set UP'!F32<>\"F\",'Set UP'!C32=0,'Set UP'!D32=0,'Set UP'!E32=0),\"\",$JP46)","v":""},{"$f":"IF(OR('Set UP'!F32<>\"F\",'Set UP'!C32=0,'Set UP'!D32=0,'Set UP'!E32=0),\"\",RANK(JV46,$JV$21:$JV$60,0))","v":""},{"$f":"IF(OR('Set UP'!F32<>\"NS\",'Set UP'!C32=0,'Set UP'!D32=0,'Set UP'!E32=0),\"\",$JP46)","v":""},{"$f":"IF(OR('Set UP'!F32<>\"NS\",'Set UP'!C32=0,'Set UP'!D32=0,'Set UP'!E32=0),\"\",RANK(JX46,$JX$21:$JX$60,0))","v":""},{"$f":"IF(OR('Set UP'!$C32=0,'Set UP'!$D32=0,'Set UP'!$E32=0,JP46=0),\"\",JP46/MAX(JP$21:JP$60)*1000)","v":""}]
[null,27,{"$f":"IF(OR('Set UP'!$C33=0,'Set UP'!$D33=0,'Set UP'!$E33=0,'Set UP'!F33=0),\"  --\",'Set UP'!C33)","v":1456},{"$f":"IF(OR('Set UP'!$C33=0,'Set UP'!$D33=0,'Set UP'!$E33=0,'Set UP'!F33=0),\"  --\",'Set UP'!D33&\" \"&'Set UP'!E33)","v":"University of Warwick A"},{"$f":"IF(OR('Set UP'!$C33=0,'Set UP'!$D33=0,'Set UP'!$E33=0,'Set UP'!F33=0),\"  --\",'Set UP'!F33)","v":"S"},null,null,null,null,null,null,null,null,null,null,null,null,null,null,null,null,null,null,null,null,null,null,null,null,null,null,{"$f":"IF(OR('Set UP'!$C33=0,'Set UP'!$D33=0,'Set UP'!$E33=0),\"\",(F$19*F47)+(G$19*G47)+(H$19*H47)+(I$19*I47)+(J$19*J47)+(K$19*K47)+(L$19*L47)+(M$19*M47)+(N$19*N47)+(O$19*O47)+(P$19*P47)+(Q$19*Q47)+(R$19*R47)+(S$19*S47)+(T$19*T47)+(U$19*U47)+(V$19*V47)+(W$19*W47)+(X$19*X47)+(Y$19*Y47)+(Z$19*Z47)+(AA$19*AA47)+(AB$19*AB47)+(AC$19*AC47)+(AD$19*AD47))","v":0},null,null,null,null,null,null,null,null,null,null,null,null,null,null,null,null,null,null,null,null,null,null,null,null,null,null,{"$f":"IF(OR('Set UP'!$C33=0,'Set UP'!$D33=0,'Set UP'!$E33=0),\"\",(AG$19*AG47)+(AH$19*AH47)+(AI$19*AI47)+(AJ$19*AJ47)+(AK$19*AK47)+(AL$19*AL47)+(AM$19*AM47)+(AN$19*AN47)+(AO$19*AO47)+(AP$19*AP47)+(AQ$19*AQ47)+(AR$19*AR47)+(AS$19*AS47)+(AT$19*AT47)+(AU$19*AU47)+(AV$19*AV47)+(AW$19*AW47)+(AX$19*AX47)+(AY$19*AY47)+(AZ$19*AZ47)+(BA$19*BA47)+(BB$19*BB47)+(BC$19*BC47)+(BD$19*BD47)+(BE$19*BE47))","v":0},null,null,null,null,null,null,null,null,null,null,null,null,null,null,null,null,null,null,null,null,null,null,null,null,null,null,{"$f":"IF(OR('Set UP'!$C33=0,'Set UP'!$D33=0,'Set UP'!$E33=0),\"\",(BH$19*BH47)+(BI$19*BI47)+(BJ$19*BJ47)+(BK$19*BK47)+(BL$19*BL47)+(BM$19*BM47)+(BN$19*BN47)+(BO$19*BO47)+(BP$19*BP47)+(BQ$19*BQ47)+(BR$19*BR47)+(BS$19*BS47)+(BT$19*BT47)+(BU$19*BU47)+(BV$19*BV47)+(BW$19*BW47)+(BX$19*BX47)+(BY$19*BY47)+(BZ$19*BZ47)+(CA$19*CA47)+(CB$19*CB47)+(CC$19*CC47)+(CD$19*CD47)+(CE$19*CE47)+(CF$19*CF47))","v":0},null,null,null,null,null,null,null,null,null,null,null,null,null,null,null,null,null,null,null,null,null,null,null,null,null,null,{"$f":"IF(OR('Set UP'!$C33=0,'Set UP'!$D33=0,'Set UP'!$E33=0),\"\",(CI$19*CI47)+(CJ$19*CJ47)+(CK$19*CK47)+(CL$19*CL47)+(CM$19*CM47)+(CN$19*CN47)+(CO$19*CO47)+(CP$19*CP47)+(CQ$19*CQ47)+(CR$19*CR47)+(CS$19*CS47)+(CT$19*CT47)+(CU$19*CU47)+(CV$19*CV47)+(CW$19*CW47)+(CX$19*CX47)+(CY$19*CY47)+(CZ$19*CZ47)+(DA$19*DA47)+(DB$19*DB47)+(DC$19*DC47)+(DD$19*DD47)+(DE$19*DE47)+(DF$19*DF47)+(DG$19*DG47))","v":0},null,null,null,null,null,null,null,null,null,null,null,null,null,null,null,null,null,null,null,null,null,null,null,null,null,null,{"$f":"IF(OR('Set UP'!$C33=0,'Set UP'!$D33=0,'Set UP'!$E33=0),\"\",(DJ$19*DJ47)+(DK$19*DK47)+(DL$19*DL47)+(DM$19*DM47)+(DN$19*DN47)+(DO$19*DO47)+(DP$19*DP47)+(DQ$19*DQ47)+(DR$19*DR47)+(DS$19*DS47)+(DT$19*DT47)+(DU$19*DU47)+(DV$19*DV47)+(DW$19*DW47)+(DX$19*DX47)+(DY$19*DY47)+(DZ$19*DZ47)+(EA$19*EA47)+(EB$19*EB47)+(EC$19*EC47)+(ED$19*ED47)+(EE$19*EE47)+(EF$19*EF47)+(EG$19*EG47)+(EH$19*EH47))","v":0},null,null,null,null,null,null,null,null,null,null,null,null,null,null,null,null,null,null,null,null,null,null,null,null,null,null,{"$f":"IF(OR('Set UP'!$C33=0,'Set UP'!$D33=0,'Set UP'!$E33=0),\"\",(EK$19*EK47)+(EL$19*EL47)+(EM$19*EM47)+(EN$19*EN47)+(EO$19*EO47)+(EP$19*EP47)+(EQ$19*EQ47)+(ER$19*ER47)+(ES$19*ES47)+(ET$19*ET47)+(EU$19*EU47)+(EV$19*EV47)+(EW$19*EW47)+(EX$19*EX47)+(EY$19*EY47)+(EZ$19*EZ47)+(FA$19*FA47)+(FB$19*FB47)+(FC$19*FC47)+(FD$19*FD47)+(FE$19*FE47)+(FF$19*FF47)+(FG$19*FG47)+(FH$19*FH47)+(FI$19*FI47))","v":0},null,null,null,null,null,null,null,null,null,null,null,null,null,null,null,null,null,null,null,null,null,null,null,null,null,null,{"$f":"IF(OR('Set UP'!$C33=0,'Set UP'!$D33=0,'Set UP'!$E33=0),\"\",(FL$19*FL47)+(FM$19*FM47)+(FN$19*FN47)+(FO$19*FO47)+(FP$19*FP47)+(FQ$19*FQ47)+(FR$19*FR47)+(FS$19*FS47)+(FT$19*FT47)+(FU$19*FU47)+(FV$19*FV47)+(FW$19*FW47)+(FX$19*FX47)+(FY$19*FY47)+(FZ$19*FZ47)+(GA$19*GA47)+(GB$19*GB47)+(GC$19*GC47)+(GD$19*GD47)+(GE$19*GE47)+(GF$19*GF47)+(GG$19*GG47)+(GH$19*GH47)+(GI$19*GI47)+(GJ$19*GJ47))","v":0},null,null,null,null,null,null,null,null,null,null,null,null,null,null,null,null,null,null,null,null,null,null,null,null,null,null,{"$f":"IF(OR('Set UP'!$C33=0,'Set UP'!$D33=0,'Set UP'!$E33=0),\"\",(GM$19*GM47)+(GN$19*GN47)+(GO$19*GO47)+(GP$19*GP47)+(GQ$19*GQ47)+(GR$19*GR47)+(GS$19*GS47)+(GT$19*GT47)+(GU$19*GU47)+(GV$19*GV47)+(GW$19*GW47)+(GX$19*GX47)+(GY$19*GY47)+(GZ$19*GZ47)+(HA$19*HA47)+(HB$19*HB47)+(HC$19*HC47)+(HD$19*HD47)+(HE$19*HE47)+(HF$19*HF47)+(HG$19*HG47)+(HH$19*HH47)+(HI$19*HI47)+(HJ$19*HJ47)+(HK$19*HK47))","v":0},null,null,null,null,null,null,null,null,null,null,null,null,null,null,null,null,null,null,null,null,null,null,null,null,null,null,{"$f":"IF(OR('Set UP'!$C33=0,'Set UP'!$D33=0,'Set UP'!$E33=0),\"\",(HN$19*HN47)+(HO$19*HO47)+(HP$19*HP47)+(HQ$19*HQ47)+(HR$19*HR47)+(HS$19*HS47)+(HT$19*HT47)+(HU$19*HU47)+(HV$19*HV47)+(HW$19*HW47)+(HX$19*HX47)+(HY$19*HY47)+(HZ$19*HZ47)+(IA$19*IA47)+(IB$19*IB47)+(IC$19*IC47)+(ID$19*ID47)+(IE$19*IE47)+(IF$19*IF47)+(IG$19*IG47)+(IH$19*IH47)+(II$19*II47)+(IJ$19*IJ47)+(IK$19*IK47)+(IL$19*IL47))","v":0},null,null,null,null,null,null,null,null,null,null,null,null,null,null,null,null,null,null,null,null,null,null,null,null,null,null,{"$f":"IF(OR('Set UP'!$C33=0,'Set UP'!$D33=0,'Set UP'!$E33=0),\"\",(IO$19*IO47)+(IP$19*IP47)+(IQ$19*IQ47)+(IR$19*IR47)+(IS$19*IS47)+(IT$19*IT47)+(IU$19*IU47)+(IV$19*IV47)+(IW$19*IW47)+(IX$19*IX47)+(IY$19*IY47)+(IZ$19*IZ47)+(JA$19*JA47)+(JB$19*JB47)+(JC$19*JC47)+(JD$19*JD47)+(JE$19*JE47)+(JF$19*JF47)+(JG$19*JG47)+(JH$19*JH47)+(JI$19*JI47)+(JJ$19*JJ47)+(JK$19*JK47)+(JL$19*JL47)+(JM$19*JM47))","v":0},{"$f":"IF(OR('Set UP'!$C33=0,'Set UP'!$D33=0,'Set UP'!$E33=0),\"\",(AF47+BG47+CH47+DI47+EJ47+FK47+GL47+HM47+JO47+IN47))","v":0},{"$f":"IF(OR('Set UP'!$C33=0,'Set UP'!$D33=0,'Set UP'!$E33=0),\"\",RANK(JP47,$JP$21:$JP$60,0))","v":1},{"$f":"IF(OR('Set UP'!K33<>1,'Set UP'!C33=0,'Set UP'!D33=0,'Set UP'!E33=0,'Set UP'!F33=0),\"\",$JP47)","v":0},{"$f":"IF(OR('Set UP'!K33<>1,'Set UP'!C33=0,'Set UP'!D33=0,'Set UP'!E33=0,'Set UP'!F33=0),\"\",RANK(JR47,$JR$21:$JR$60,0))","v":1},{"$f":"IF(OR('Set UP'!K33<>2,'Set UP'!C33=0,'Set UP'!D33=0,'Set UP'!E33=0,'Set UP'!F33=0),\"\",$JP47)","v":""},{"$f":"IF(OR('Set UP'!K33<>2,'Set UP'!C33=0,'Set UP'!D33=0,'Set UP'!E33=0,'Set UP'!F33=0),\"\",RANK(JT47,$JT$21:$JT$60,0))","v":""},{"$f":"IF(OR('Set UP'!F33<>\"F\",'Set UP'!C33=0,'Set UP'!D33=0,'Set UP'!E33=0),\"\",$JP47)","v":""},{"$f":"IF(OR('Set UP'!F33<>\"F\",'Set UP'!C33=0,'Set UP'!D33=0,'Set UP'!E33=0),\"\",RANK(JV47,$JV$21:$JV$60,0))","v":""},{"$f":"IF(OR('Set UP'!F33<>\"NS\",'Set UP'!C33=0,'Set UP'!D33=0,'Set UP'!E33=0),\"\",$JP47)","v":""},{"$f":"IF(OR('Set UP'!F33<>\"NS\",'Set UP'!C33=0,'Set UP'!D33=0,'Set UP'!E33=0),\"\",RANK(JX47,$JX$21:$JX$60,0))","v":""},{"$f":"IF(OR('Set UP'!$C33=0,'Set UP'!$D33=0,'Set UP'!$E33=0,JP47=0),\"\",JP47/MAX(JP$21:JP$60)*1000)","v":""}]
[null,28,{"$f":"IF(OR('Set UP'!$C34=0,'Set UP'!$D34=0,'Set UP'!$E34=0,'Set UP'!F34=0),\"  --\",'Set UP'!C34)","v":1460},{"$f":"IF(OR('Set UP'!$C34=0,'Set UP'!$D34=0,'Set UP'!$E34=0,'Set UP'!F34=0),\"  --\",'Set UP'!D34&\" \"&'Set UP'!E34)","v":"Bristol University A"},{"$f":"IF(OR('Set UP'!$C34=0,'Set UP'!$D34=0,'Set UP'!$E34=0,'Set UP'!F34=0),\"  --\",'Set UP'!F34)","v":"S"},null,null,null,null,null,null,null,null,null,null,null,null,null,null,null,null,null,null,null,null,null,null,null,null,null,null,{"$f":"IF(OR('Set UP'!$C34=0,'Set UP'!$D34=0,'Set UP'!$E34=0),\"\",(F$19*F48)+(G$19*G48)+(H$19*H48)+(I$19*I48)+(J$19*J48)+(K$19*K48)+(L$19*L48)+(M$19*M48)+(N$19*N48)+(O$19*O48)+(P$19*P48)+(Q$19*Q48)+(R$19*R48)+(S$19*S48)+(T$19*T48)+(U$19*U48)+(V$19*V48)+(W$19*W48)+(X$19*X48)+(Y$19*Y48)+(Z$19*Z48)+(AA$19*AA48)+(AB$19*AB48)+(AC$19*AC48)+(AD$19*AD48))","v":0},null,null,null,null,null,null,null,null,null,null,null,null,null,null,null,null,null,null,null,null,null,null,null,null,null,null,{"$f":"IF(OR('Set UP'!$C34=0,'Set UP'!$D34=0,'Set UP'!$E34=0),\"\",(AG$19*AG48)+(AH$19*AH48)+(AI$19*AI48)+(AJ$19*AJ48)+(AK$19*AK48)+(AL$19*AL48)+(AM$19*AM48)+(AN$19*AN48)+(AO$19*AO48)+(AP$19*AP48)+(AQ$19*AQ48)+(AR$19*AR48)+(AS$19*AS48)+(AT$19*AT48)+(AU$19*AU48)+(AV$19*AV48)+(AW$19*AW48)+(AX$19*AX48)+(AY$19*AY48)+(AZ$19*AZ48)+(BA$19*BA48)+(BB$19*BB48)+(BC$19*BC48)+(BD$19*BD48)+(BE$19*BE48))","v":0},null,null,null,null,null,null,null,null,null,null,null,null,null,null,null,null,null,null,null,null,null,null,null,null,null,null,{"$f":"IF(OR('Set UP'!$C34=0,'Set UP'!$D34=0,'Set UP'!$E34=0),\"\",(BH$19*BH48)+(BI$19*BI48)+(BJ$19*BJ48)+(BK$19*BK48)+(BL$19*BL48)+(BM$19*BM48)+(BN$19*BN48)+(BO$19*BO48)+(BP$19*BP48)+(BQ$19*BQ48)+(BR$19*BR48)+(BS$19*BS48)+(BT$19*BT48)+(BU$19*BU48)+(BV$19*BV48)+(BW$19*BW48)+(BX$19*BX48)+(BY$19*BY48)+(BZ$19*BZ48)+(CA$19*CA48)+(CB$19*CB48)+(CC$19*CC48)+(CD$19*CD48)+(CE$19*CE48)+(CF$19*CF48))","v":0},null,null,null,null,null,null,null,null,null,null,null,null,null,null,null,null,null,null,null,null,null,null,null,null,null,null,{"$f":"IF(OR('Set UP'!$C34=0,'Set UP'!$D34=0,'Set UP'!$E34=0),\"\",(CI$19*CI48)+(CJ$19*CJ48)+(CK$19*CK48)+(CL$19*CL48)+(CM$19*CM48)+(CN$19*CN48)+(CO$19*CO48)+(CP$19*CP48)+(CQ$19*CQ48)+(CR$19*CR48)+(CS$19*CS48)+(CT$19*CT48)+(CU$19*CU48)+(CV$19*CV48)+(CW$19*CW48)+(CX$19*CX48)+(CY$19*CY48)+(CZ$19*CZ48)+(DA$19*DA48)+(DB$19*DB48)+(DC$19*DC48)+(DD$19*DD48)+(DE$19*DE48)+(DF$19*DF48)+(DG$19*DG48))","v":0},null,null,null,null,null,null,null,null,null,null,null,null,null,null,null,null,null,null,null,null,null,null,null,null,null,null,{"$f":"IF(OR('Set UP'!$C34=0,'Set UP'!$D34=0,'Set UP'!$E34=0),\"\",(DJ$19*DJ48)+(DK$19*DK48)+(DL$19*DL48)+(DM$19*DM48)+(DN$19*DN48)+(DO$19*DO48)+(DP$19*DP48)+(DQ$19*DQ48)+(DR$19*DR48)+(DS$19*DS48)+(DT$19*DT48)+(DU$19*DU48)+(DV$19*DV48)+(DW$19*DW48)+(DX$19*DX48)+(DY$19*DY48)+(DZ$19*DZ48)+(EA$19*EA48)+(EB$19*EB48)+(EC$19*EC48)+(ED$19*ED48)+(EE$19*EE48)+(EF$19*EF48)+(EG$19*EG48)+(EH$19*EH48))","v":0},null,null,null,null,null,null,null,null,null,null,null,null,null,null,null,null,null,null,null,null,null,null,null,null,null,null,{"$f":"IF(OR('Set UP'!$C34=0,'Set UP'!$D34=0,'Set UP'!$E34=0),\"\",(EK$19*EK48)+(EL$19*EL48)+(EM$19*EM48)+(EN$19*EN48)+(EO$19*EO48)+(EP$19*EP48)+(EQ$19*EQ48)+(ER$19*ER48)+(ES$19*ES48)+(ET$19*ET48)+(EU$19*EU48)+(EV$19*EV48)+(EW$19*EW48)+(EX$19*EX48)+(EY$19*EY48)+(EZ$19*EZ48)+(FA$19*FA48)+(FB$19*FB48)+(FC$19*FC48)+(FD$19*FD48)+(FE$19*FE48)+(FF$19*FF48)+(FG$19*FG48)+(FH$19*FH48)+(FI$19*FI48))","v":0},null,null,null,null,null,null,null,null,null,null,null,null,null,null,null,null,null,null,null,null,null,null,null,null,null,null,{"$f":"IF(OR('Set UP'!$C34=0,'Set UP'!$D34=0,'Set UP'!$E34=0),\"\",(FL$19*FL48)+(FM$19*FM48)+(FN$19*FN48)+(FO$19*FO48)+(FP$19*FP48)+(FQ$19*FQ48)+(FR$19*FR48)+(FS$19*FS48)+(FT$19*FT48)+(FU$19*FU48)+(FV$19*FV48)+(FW$19*FW48)+(FX$19*FX48)+(FY$19*FY48)+(FZ$19*FZ48)+(GA$19*GA48)+(GB$19*GB48)+(GC$19*GC48)+(GD$19*GD48)+(GE$19*GE48)+(GF$19*GF48)+(GG$19*GG48)+(GH$19*GH48)+(GI$19*GI48)+(GJ$19*GJ48))","v":0},null,null,null,null,null,null,null,null,null,null,null,null,null,null,null,null,null,null,null,null,null,null,null,null,null,null,{"$f":"IF(OR('Set UP'!$C34=0,'Set UP'!$D34=0,'Set UP'!$E34=0),\"\",(GM$19*GM48)+(GN$19*GN48)+(GO$19*GO48)+(GP$19*GP48)+(GQ$19*GQ48)+(GR$19*GR48)+(GS$19*GS48)+(GT$19*GT48)+(GU$19*GU48)+(GV$19*GV48)+(GW$19*GW48)+(GX$19*GX48)+(GY$19*GY48)+(GZ$19*GZ48)+(HA$19*HA48)+(HB$19*HB48)+(HC$19*HC48)+(HD$19*HD48)+(HE$19*HE48)+(HF$19*HF48)+(HG$19*HG48)+(HH$19*HH48)+(HI$19*HI48)+(HJ$19*HJ48)+(HK$19*HK48))","v":0},null,null,null,null,null,null,null,null,null,null,null,null,null,null,null,null,null,null,null,null,null,null,null,null,null,null,{"$f":"IF(OR('Set UP'!$C34=0,'Set UP'!$D34=0,'Set UP'!$E34=0),\"\",(HN$19*HN48)+(HO$19*HO48)+(HP$19*HP48)+(HQ$19*HQ48)+(HR$19*HR48)+(HS$19*HS48)+(HT$19*HT48)+(HU$19*HU48)+(HV$19*HV48)+(HW$19*HW48)+(HX$19*HX48)+(HY$19*HY48)+(HZ$19*HZ48)+(IA$19*IA48)+(IB$19*IB48)+(IC$19*IC48)+(ID$19*ID48)+(IE$19*IE48)+(IF$19*IF48)+(IG$19*IG48)+(IH$19*IH48)+(II$19*II48)+(IJ$19*IJ48)+(IK$19*IK48)+(IL$19*IL48))","v":0},null,null,null,null,null,null,null,null,null,null,null,null,null,null,null,null,null,null,null,null,null,null,null,null,null,null,{"$f":"IF(OR('Set UP'!$C34=0,'Set UP'!$D34=0,'Set UP'!$E34=0),\"\",(IO$19*IO48)+(IP$19*IP48)+(IQ$19*IQ48)+(IR$19*IR48)+(IS$19*IS48)+(IT$19*IT48)+(IU$19*IU48)+(IV$19*IV48)+(IW$19*IW48)+(IX$19*IX48)+(IY$19*IY48)+(IZ$19*IZ48)+(JA$19*JA48)+(JB$19*JB48)+(JC$19*JC48)+(JD$19*JD48)+(JE$19*JE48)+(JF$19*JF48)+(JG$19*JG48)+(JH$19*JH48)+(JI$19*JI48)+(JJ$19*JJ48)+(JK$19*JK48)+(JL$19*JL48)+(JM$19*JM48))","v":0},{"$f":"IF(OR('Set UP'!$C34=0,'Set UP'!$D34=0,'Set UP'!$E34=0),\"\",(AF48+BG48+CH48+DI48+EJ48+FK48+GL48+HM48+JO48+IN48))","v":0},{"$f":"IF(OR('Set UP'!$C34=0,'Set UP'!$D34=0,'Set UP'!$E34=0),\"\",RANK(JP48,$JP$21:$JP$60,0))","v":1},{"$f":"IF(OR('Set UP'!K34<>1,'Set UP'!C34=0,'Set UP'!D34=0,'Set UP'!E34=0,'Set UP'!F34=0),\"\",$JP48)","v":0},{"$f":"IF(OR('Set UP'!K34<>1,'Set UP'!C34=0,'Set UP'!D34=0,'Set UP'!E34=0,'Set UP'!F34=0),\"\",RANK(JR48,$JR$21:$JR$60,0))","v":1},{"$f":"IF(OR('Set UP'!K34<>2,'Set UP'!C34=0,'Set UP'!D34=0,'Set UP'!E34=0,'Set UP'!F34=0),\"\",$JP48)","v":""},{"$f":"IF(OR('Set UP'!K34<>2,'Set UP'!C34=0,'Set UP'!D34=0,'Set UP'!E34=0,'Set UP'!F34=0),\"\",RANK(JT48,$JT$21:$JT$60,0))","v":""},{"$f":"IF(OR('Set UP'!F34<>\"F\",'Set UP'!C34=0,'Set UP'!D34=0,'Set UP'!E34=0),\"\",$JP48)","v":""},{"$f":"IF(OR('Set UP'!F34<>\"F\",'Set UP'!C34=0,'Set UP'!D34=0,'Set UP'!E34=0),\"\",RANK(JV48,$JV$21:$JV$60,0))","v":""},{"$f":"IF(OR('Set UP'!F34<>\"NS\",'Set UP'!C34=0,'Set UP'!D34=0,'Set UP'!E34=0),\"\",$JP48)","v":""},{"$f":"IF(OR('Set UP'!F34<>\"NS\",'Set UP'!C34=0,'Set UP'!D34=0,'Set UP'!E34=0),\"\",RANK(JX48,$JX$21:$JX$60,0))","v":""},{"$f":"IF(OR('Set UP'!$C34=0,'Set UP'!$D34=0,'Set UP'!$E34=0,JP48=0),\"\",JP48/MAX(JP$21:JP$60)*1000)","v":""}]
[null,29,{"$f":"IF(OR('Set UP'!$C35=0,'Set UP'!$D35=0,'Set UP'!$E35=0,'Set UP'!F35=0),\"  --\",'Set UP'!C35)","v":1437},{"$f":"IF(OR('Set UP'!$C35=0,'Set UP'!$D35=0,'Set UP'!$E35=0,'Set UP'!F35=0),\"  --\",'Set UP'!D35&\" \"&'Set UP'!E35)","v":"Swansea Universities Lifesaving A"},{"$f":"IF(OR('Set UP'!$C35=0,'Set UP'!$D35=0,'Set UP'!$E35=0,'Set UP'!F35=0),\"  --\",'Set UP'!F35)","v":"S"},null,null,null,null,null,null,null,null,null,null,null,null,null,null,null,null,null,null,null,null,null,null,null,null,null,null,{"$f":"IF(OR('Set UP'!$C35=0,'Set UP'!$D35=0,'Set UP'!$E35=0),\"\",(F$19*F49)+(G$19*G49)+(H$19*H49)+(I$19*I49)+(J$19*J49)+(K$19*K49)+(L$19*L49)+(M$19*M49)+(N$19*N49)+(O$19*O49)+(P$19*P49)+(Q$19*Q49)+(R$19*R49)+(S$19*S49)+(T$19*T49)+(U$19*U49)+(V$19*V49)+(W$19*W49)+(X$19*X49)+(Y$19*Y49)+(Z$19*Z49)+(AA$19*AA49)+(AB$19*AB49)+(AC$19*AC49)+(AD$19*AD49))","v":0},null,null,null,null,null,null,null,null,null,null,null,null,null,null,null,null,null,null,null,null,null,null,null,null,null,null,{"$f":"IF(OR('Set UP'!$C35=0,'Set UP'!$D35=0,'Set UP'!$E35=0),\"\",(AG$19*AG49)+(AH$19*AH49)+(AI$19*AI49)+(AJ$19*AJ49)+(AK$19*AK49)+(AL$19*AL49)+(AM$19*AM49)+(AN$19*AN49)+(AO$19*AO49)+(AP$19*AP49)+(AQ$19*AQ49)+(AR$19*AR49)+(AS$19*AS49)+(AT$19*AT49)+(AU$19*AU49)+(AV$19*AV49)+(AW$19*AW49)+(AX$19*AX49)+(AY$19*AY49)+(AZ$19*AZ49)+(BA$19*BA49)+(BB$19*BB49)+(BC$19*BC49)+(BD$19*BD49)+(BE$19*BE49))","v":0},null,null,null,null,null,null,null,null,null,null,null,null,null,null,null,null,null,null,null,null,null,null,null,null,null,null,{"$f":"IF(OR('Set UP'!$C35=0,'Set UP'!$D35=0,'Set UP'!$E35=0),\"\",(BH$19*BH49)+(BI$19*BI49)+(BJ$19*BJ49)+(BK$19*BK49)+(BL$19*BL49)+(BM$19*BM49)+(BN$19*BN49)+(BO$19*BO49)+(BP$19*BP49)+(BQ$19*BQ49)+(BR$19*BR49)+(BS$19*BS49)+(BT$19*BT49)+(BU$19*BU49)+(BV$19*BV49)+(BW$19*BW49)+(BX$19*BX49)+(BY$19*BY49)+(BZ$19*BZ49)+(CA$19*CA49)+(CB$19*CB49)+(CC$19*CC49)+(CD$19*CD49)+(CE$19*CE49)+(CF$19*CF49))","v":0},null,null,null,null,null,null,null,null,null,null,null,null,null,null,null,null,null,null,null,null,null,null,null,null,null,null,{"$f":"IF(OR('Set UP'!$C35=0,'Set UP'!$D35=0,'Set UP'!$E35=0),\"\",(CI$19*CI49)+(CJ$19*CJ49)+(CK$19*CK49)+(CL$19*CL49)+(CM$19*CM49)+(CN$19*CN49)+(CO$19*CO49)+(CP$19*CP49)+(CQ$19*CQ49)+(CR$19*CR49)+(CS$19*CS49)+(CT$19*CT49)+(CU$19*CU49)+(CV$19*CV49)+(CW$19*CW49)+(CX$19*CX49)+(CY$19*CY49)+(CZ$19*CZ49)+(DA$19*DA49)+(DB$19*DB49)+(DC$19*DC49)+(DD$19*DD49)+(DE$19*DE49)+(DF$19*DF49)+(DG$19*DG49))","v":0},null,null,null,null,null,null,null,null,null,null,null,null,null,null,null,null,null,null,null,null,null,null,null,null,null,null,{"$f":"IF(OR('Set UP'!$C35=0,'Set UP'!$D35=0,'Set UP'!$E35=0),\"\",(DJ$19*DJ49)+(DK$19*DK49)+(DL$19*DL49)+(DM$19*DM49)+(DN$19*DN49)+(DO$19*DO49)+(DP$19*DP49)+(DQ$19*DQ49)+(DR$19*DR49)+(DS$19*DS49)+(DT$19*DT49)+(DU$19*DU49)+(DV$19*DV49)+(DW$19*DW49)+(DX$19*DX49)+(DY$19*DY49)+(DZ$19*DZ49)+(EA$19*EA49)+(EB$19*EB49)+(EC$19*EC49)+(ED$19*ED49)+(EE$19*EE49)+(EF$19*EF49)+(EG$19*EG49)+(EH$19*EH49))","v":0},null,null,null,null,null,null,null,null,null,null,null,null,null,null,null,null,null,null,null,null,null,null,null,null,null,null,{"$f":"IF(OR('Set UP'!$C35=0,'Set UP'!$D35=0,'Set UP'!$E35=0),\"\",(EK$19*EK49)+(EL$19*EL49)+(EM$19*EM49)+(EN$19*EN49)+(EO$19*EO49)+(EP$19*EP49)+(EQ$19*EQ49)+(ER$19*ER49)+(ES$19*ES49)+(ET$19*ET49)+(EU$19*EU49)+(EV$19*EV49)+(EW$19*EW49)+(EX$19*EX49)+(EY$19*EY49)+(EZ$19*EZ49)+(FA$19*FA49)+(FB$19*FB49)+(FC$19*FC49)+(FD$19*FD49)+(FE$19*FE49)+(FF$19*FF49)+(FG$19*FG49)+(FH$19*FH49)+(FI$19*FI49))","v":0},null,null,null,null,null,null,null,null,null,null,null,null,null,null,null,null,null,null,null,null,null,null,null,null,null,null,{"$f":"IF(OR('Set UP'!$C35=0,'Set UP'!$D35=0,'Set UP'!$E35=0),\"\",(FL$19*FL49)+(FM$19*FM49)+(FN$19*FN49)+(FO$19*FO49)+(FP$19*FP49)+(FQ$19*FQ49)+(FR$19*FR49)+(FS$19*FS49)+(FT$19*FT49)+(FU$19*FU49)+(FV$19*FV49)+(FW$19*FW49)+(FX$19*FX49)+(FY$19*FY49)+(FZ$19*FZ49)+(GA$19*GA49)+(GB$19*GB49)+(GC$19*GC49)+(GD$19*GD49)+(GE$19*GE49)+(GF$19*GF49)+(GG$19*GG49)+(GH$19*GH49)+(GI$19*GI49)+(GJ$19*GJ49))","v":0},null,null,null,null,null,null,null,null,null,null,null,null,null,null,null,null,null,null,null,null,null,null,null,null,null,null,{"$f":"IF(OR('Set UP'!$C35=0,'Set UP'!$D35=0,'Set UP'!$E35=0),\"\",(GM$19*GM49)+(GN$19*GN49)+(GO$19*GO49)+(GP$19*GP49)+(GQ$19*GQ49)+(GR$19*GR49)+(GS$19*GS49)+(GT$19*GT49)+(GU$19*GU49)+(GV$19*GV49)+(GW$19*GW49)+(GX$19*GX49)+(GY$19*GY49)+(GZ$19*GZ49)+(HA$19*HA49)+(HB$19*HB49)+(HC$19*HC49)+(HD$19*HD49)+(HE$19*HE49)+(HF$19*HF49)+(HG$19*HG49)+(HH$19*HH49)+(HI$19*HI49)+(HJ$19*HJ49)+(HK$19*HK49))","v":0},null,null,null,null,null,null,null,null,null,null,null,null,null,null,null,null,null,null,null,null,null,null,null,null,null,null,{"$f":"IF(OR('Set UP'!$C35=0,'Set UP'!$D35=0,'Set UP'!$E35=0),\"\",(HN$19*HN49)+(HO$19*HO49)+(HP$19*HP49)+(HQ$19*HQ49)+(HR$19*HR49)+(HS$19*HS49)+(HT$19*HT49)+(HU$19*HU49)+(HV$19*HV49)+(HW$19*HW49)+(HX$19*HX49)+(HY$19*HY49)+(HZ$19*HZ49)+(IA$19*IA49)+(IB$19*IB49)+(IC$19*IC49)+(ID$19*ID49)+(IE$19*IE49)+(IF$19*IF49)+(IG$19*IG49)+(IH$19*IH49)+(II$19*II49)+(IJ$19*IJ49)+(IK$19*IK49)+(IL$19*IL49))","v":0},null,null,null,null,null,null,null,null,null,null,null,null,null,null,null,null,null,null,null,null,null,null,null,null,null,null,{"$f":"IF(OR('Set UP'!$C35=0,'Set UP'!$D35=0,'Set UP'!$E35=0),\"\",(IO$19*IO49)+(IP$19*IP49)+(IQ$19*IQ49)+(IR$19*IR49)+(IS$19*IS49)+(IT$19*IT49)+(IU$19*IU49)+(IV$19*IV49)+(IW$19*IW49)+(IX$19*IX49)+(IY$19*IY49)+(IZ$19*IZ49)+(JA$19*JA49)+(JB$19*JB49)+(JC$19*JC49)+(JD$19*JD49)+(JE$19*JE49)+(JF$19*JF49)+(JG$19*JG49)+(JH$19*JH49)+(JI$19*JI49)+(JJ$19*JJ49)+(JK$19*JK49)+(JL$19*JL49)+(JM$19*JM49))","v":0},{"$f":"IF(OR('Set UP'!$C35=0,'Set UP'!$D35=0,'Set UP'!$E35=0),\"\",(AF49+BG49+CH49+DI49+EJ49+FK49+GL49+HM49+JO49+IN49))","v":0},{"$f":"IF(OR('Set UP'!$C35=0,'Set UP'!$D35=0,'Set UP'!$E35=0),\"\",RANK(JP49,$JP$21:$JP$60,0))","v":1},{"$f":"IF(OR('Set UP'!K35<>1,'Set UP'!C35=0,'Set UP'!D35=0,'Set UP'!E35=0,'Set UP'!F35=0),\"\",$JP49)","v":0},{"$f":"IF(OR('Set UP'!K35<>1,'Set UP'!C35=0,'Set UP'!D35=0,'Set UP'!E35=0,'Set UP'!F35=0),\"\",RANK(JR49,$JR$21:$JR$60,0))","v":1},{"$f":"IF(OR('Set UP'!K35<>2,'Set UP'!C35=0,'Set UP'!D35=0,'Set UP'!E35=0,'Set UP'!F35=0),\"\",$JP49)","v":""},{"$f":"IF(OR('Set UP'!K35<>2,'Set UP'!C35=0,'Set UP'!D35=0,'Set UP'!E35=0,'Set UP'!F35=0),\"\",RANK(JT49,$JT$21:$JT$60,0))","v":""},{"$f":"IF(OR('Set UP'!F35<>\"F\",'Set UP'!C35=0,'Set UP'!D35=0,'Set UP'!E35=0),\"\",$JP49)","v":""},{"$f":"IF(OR('Set UP'!F35<>\"F\",'Set UP'!C35=0,'Set UP'!D35=0,'Set UP'!E35=0),\"\",RANK(JV49,$JV$21:$JV$60,0))","v":""},{"$f":"IF(OR('Set UP'!F35<>\"NS\",'Set UP'!C35=0,'Set UP'!D35=0,'Set UP'!E35=0),\"\",$JP49)","v":""},{"$f":"IF(OR('Set UP'!F35<>\"NS\",'Set UP'!C35=0,'Set UP'!D35=0,'Set UP'!E35=0),\"\",RANK(JX49,$JX$21:$JX$60,0))","v":""},{"$f":"IF(OR('Set UP'!$C35=0,'Set UP'!$D35=0,'Set UP'!$E35=0,JP49=0),\"\",JP49/MAX(JP$21:JP$60)*1000)","v":""}]
[null,30,{"$f":"IF(OR('Set UP'!$C36=0,'Set UP'!$D36=0,'Set UP'!$E36=0,'Set UP'!F36=0),\"  --\",'Set UP'!C36)","v":1425},{"$f":"IF(OR('Set UP'!$C36=0,'Set UP'!$D36=0,'Set UP'!$E36=0,'Set UP'!F36=0),\"  --\",'Set UP'!D36&\" \"&'Set UP'!E36)","v":"London Universities A"},{"$f":"IF(OR('Set UP'!$C36=0,'Set UP'!$D36=0,'Set UP'!$E36=0,'Set UP'!F36=0),\"  --\",'Set UP'!F36)","v":"S"},null,null,null,null,null,null,null,null,null,null,null,null,null,null,null,null,null,null,null,null,null,null,null,null,null,null,{"$f":"IF(OR('Set UP'!$C36=0,'Set UP'!$D36=0,'Set UP'!$E36=0),\"\",(F$19*F50)+(G$19*G50)+(H$19*H50)+(I$19*I50)+(J$19*J50)+(K$19*K50)+(L$19*L50)+(M$19*M50)+(N$19*N50)+(O$19*O50)+(P$19*P50)+(Q$19*Q50)+(R$19*R50)+(S$19*S50)+(T$19*T50)+(U$19*U50)+(V$19*V50)+(W$19*W50)+(X$19*X50)+(Y$19*Y50)+(Z$19*Z50)+(AA$19*AA50)+(AB$19*AB50)+(AC$19*AC50)+(AD$19*AD50))","v":0},null,null,null,null,null,null,null,null,null,null,null,null,null,null,null,null,null,null,null,null,null,null,null,null,null,null,{"$f":"IF(OR('Set UP'!$C36=0,'Set UP'!$D36=0,'Set UP'!$E36=0),\"\",(AG$19*AG50)+(AH$19*AH50)+(AI$19*AI50)+(AJ$19*AJ50)+(AK$19*AK50)+(AL$19*AL50)+(AM$19*AM50)+(AN$19*AN50)+(AO$19*AO50)+(AP$19*AP50)+(AQ$19*AQ50)+(AR$19*AR50)+(AS$19*AS50)+(AT$19*AT50)+(AU$19*AU50)+(AV$19*AV50)+(AW$19*AW50)+(AX$19*AX50)+(AY$19*AY50)+(AZ$19*AZ50)+(BA$19*BA50)+(BB$19*BB50)+(BC$19*BC50)+(BD$19*BD50)+(BE$19*BE50))","v":0},null,null,null,null,null,null,null,null,null,null,null,null,null,null,null,null,null,null,null,null,null,null,null,null,null,null,{"$f":"IF(OR('Set UP'!$C36=0,'Set UP'!$D36=0,'Set UP'!$E36=0),\"\",(BH$19*BH50)+(BI$19*BI50)+(BJ$19*BJ50)+(BK$19*BK50)+(BL$19*BL50)+(BM$19*BM50)+(BN$19*BN50)+(BO$19*BO50)+(BP$19*BP50)+(BQ$19*BQ50)+(BR$19*BR50)+(BS$19*BS50)+(BT$19*BT50)+(BU$19*BU50)+(BV$19*BV50)+(BW$19*BW50)+(BX$19*BX50)+(BY$19*BY50)+(BZ$19*BZ50)+(CA$19*CA50)+(CB$19*CB50)+(CC$19*CC50)+(CD$19*CD50)+(CE$19*CE50)+(CF$19*CF50))","v":0},null,null,null,null,null,null,null,null,null,null,null,null,null,null,null,null,null,null,null,null,null,null,null,null,null,null,{"$f":"IF(OR('Set UP'!$C36=0,'Set UP'!$D36=0,'Set UP'!$E36=0),\"\",(CI$19*CI50)+(CJ$19*CJ50)+(CK$19*CK50)+(CL$19*CL50)+(CM$19*CM50)+(CN$19*CN50)+(CO$19*CO50)+(CP$19*CP50)+(CQ$19*CQ50)+(CR$19*CR50)+(CS$19*CS50)+(CT$19*CT50)+(CU$19*CU50)+(CV$19*CV50)+(CW$19*CW50)+(CX$19*CX50)+(CY$19*CY50)+(CZ$19*CZ50)+(DA$19*DA50)+(DB$19*DB50)+(DC$19*DC50)+(DD$19*DD50)+(DE$19*DE50)+(DF$19*DF50)+(DG$19*DG50))","v":0},null,null,null,null,null,null,null,null,null,null,null,null,null,null,null,null,null,null,null,null,null,null,null,null,null,null,{"$f":"IF(OR('Set UP'!$C36=0,'Set UP'!$D36=0,'Set UP'!$E36=0),\"\",(DJ$19*DJ50)+(DK$19*DK50)+(DL$19*DL50)+(DM$19*DM50)+(DN$19*DN50)+(DO$19*DO50)+(DP$19*DP50)+(DQ$19*DQ50)+(DR$19*DR50)+(DS$19*DS50)+(DT$19*DT50)+(DU$19*DU50)+(DV$19*DV50)+(DW$19*DW50)+(DX$19*DX50)+(DY$19*DY50)+(DZ$19*DZ50)+(EA$19*EA50)+(EB$19*EB50)+(EC$19*EC50)+(ED$19*ED50)+(EE$19*EE50)+(EF$19*EF50)+(EG$19*EG50)+(EH$19*EH50))","v":0},null,null,null,null,null,null,null,null,null,null,null,null,null,null,null,null,null,null,null,null,null,null,null,null,null,null,{"$f":"IF(OR('Set UP'!$C36=0,'Set UP'!$D36=0,'Set UP'!$E36=0),\"\",(EK$19*EK50)+(EL$19*EL50)+(EM$19*EM50)+(EN$19*EN50)+(EO$19*EO50)+(EP$19*EP50)+(EQ$19*EQ50)+(ER$19*ER50)+(ES$19*ES50)+(ET$19*ET50)+(EU$19*EU50)+(EV$19*EV50)+(EW$19*EW50)+(EX$19*EX50)+(EY$19*EY50)+(EZ$19*EZ50)+(FA$19*FA50)+(FB$19*FB50)+(FC$19*FC50)+(FD$19*FD50)+(FE$19*FE50)+(FF$19*FF50)+(FG$19*FG50)+(FH$19*FH50)+(FI$19*FI50))","v":0},null,null,null,null,null,null,null,null,null,null,null,null,null,null,null,null,null,null,null,null,null,null,null,null,null,null,{"$f":"IF(OR('Set UP'!$C36=0,'Set UP'!$D36=0,'Set UP'!$E36=0),\"\",(FL$19*FL50)+(FM$19*FM50)+(FN$19*FN50)+(FO$19*FO50)+(FP$19*FP50)+(FQ$19*FQ50)+(FR$19*FR50)+(FS$19*FS50)+(FT$19*FT50)+(FU$19*FU50)+(FV$19*FV50)+(FW$19*FW50)+(FX$19*FX50)+(FY$19*FY50)+(FZ$19*FZ50)+(GA$19*GA50)+(GB$19*GB50)+(GC$19*GC50)+(GD$19*GD50)+(GE$19*GE50)+(GF$19*GF50)+(GG$19*GG50)+(GH$19*GH50)+(GI$19*GI50)+(GJ$19*GJ50))","v":0},null,null,null,null,null,null,null,null,null,null,null,null,null,null,null,null,null,null,null,null,null,null,null,null,null,null,{"$f":"IF(OR('Set UP'!$C36=0,'Set UP'!$D36=0,'Set UP'!$E36=0),\"\",(GM$19*GM50)+(GN$19*GN50)+(GO$19*GO50)+(GP$19*GP50)+(GQ$19*GQ50)+(GR$19*GR50)+(GS$19*GS50)+(GT$19*GT50)+(GU$19*GU50)+(GV$19*GV50)+(GW$19*GW50)+(GX$19*GX50)+(GY$19*GY50)+(GZ$19*GZ50)+(HA$19*HA50)+(HB$19*HB50)+(HC$19*HC50)+(HD$19*HD50)+(HE$19*HE50)+(HF$19*HF50)+(HG$19*HG50)+(HH$19*HH50)+(HI$19*HI50)+(HJ$19*HJ50)+(HK$19*HK50))","v":0},null,null,null,null,null,null,null,null,null,null,null,null,null,null,null,null,null,null,null,null,null,null,null,null,null,null,{"$f":"IF(OR('Set UP'!$C36=0,'Set UP'!$D36=0,'Set UP'!$E36=0),\"\",(HN$19*HN50)+(HO$19*HO50)+(HP$19*HP50)+(HQ$19*HQ50)+(HR$19*HR50)+(HS$19*HS50)+(HT$19*HT50)+(HU$19*HU50)+(HV$19*HV50)+(HW$19*HW50)+(HX$19*HX50)+(HY$19*HY50)+(HZ$19*HZ50)+(IA$19*IA50)+(IB$19*IB50)+(IC$19*IC50)+(ID$19*ID50)+(IE$19*IE50)+(IF$19*IF50)+(IG$19*IG50)+(IH$19*IH50)+(II$19*II50)+(IJ$19*IJ50)+(IK$19*IK50)+(IL$19*IL50))","v":0},null,null,null,null,null,null,null,null,null,null,null,null,null,null,null,null,null,null,null,null,null,null,null,null,null,null,{"$f":"IF(OR('Set UP'!$C36=0,'Set UP'!$D36=0,'Set UP'!$E36=0),\"\",(IO$19*IO50)+(IP$19*IP50)+(IQ$19*IQ50)+(IR$19*IR50)+(IS$19*IS50)+(IT$19*IT50)+(IU$19*IU50)+(IV$19*IV50)+(IW$19*IW50)+(IX$19*IX50)+(IY$19*IY50)+(IZ$19*IZ50)+(JA$19*JA50)+(JB$19*JB50)+(JC$19*JC50)+(JD$19*JD50)+(JE$19*JE50)+(JF$19*JF50)+(JG$19*JG50)+(JH$19*JH50)+(JI$19*JI50)+(JJ$19*JJ50)+(JK$19*JK50)+(JL$19*JL50)+(JM$19*JM50))","v":0},{"$f":"IF(OR('Set UP'!$C36=0,'Set UP'!$D36=0,'Set UP'!$E36=0),\"\",(AF50+BG50+CH50+DI50+EJ50+FK50+GL50+HM50+JO50+IN50))","v":0},{"$f":"IF(OR('Set UP'!$C36=0,'Set UP'!$D36=0,'Set UP'!$E36=0),\"\",RANK(JP50,$JP$21:$JP$60,0))","v":1},{"$f":"IF(OR('Set UP'!K36<>1,'Set UP'!C36=0,'Set UP'!D36=0,'Set UP'!E36=0,'Set UP'!F36=0),\"\",$JP50)","v":0},{"$f":"IF(OR('Set UP'!K36<>1,'Set UP'!C36=0,'Set UP'!D36=0,'Set UP'!E36=0,'Set UP'!F36=0),\"\",RANK(JR50,$JR$21:$JR$60,0))","v":1},{"$f":"IF(OR('Set UP'!K36<>2,'Set UP'!C36=0,'Set UP'!D36=0,'Set UP'!E36=0,'Set UP'!F36=0),\"\",$JP50)","v":""},{"$f":"IF(OR('Set UP'!K36<>2,'Set UP'!C36=0,'Set UP'!D36=0,'Set UP'!E36=0,'Set UP'!F36=0),\"\",RANK(JT50,$JT$21:$JT$60,0))","v":""},{"$f":"IF(OR('Set UP'!F36<>\"F\",'Set UP'!C36=0,'Set UP'!D36=0,'Set UP'!E36=0),\"\",$JP50)","v":""},{"$f":"IF(OR('Set UP'!F36<>\"F\",'Set UP'!C36=0,'Set UP'!D36=0,'Set UP'!E36=0),\"\",RANK(JV50,$JV$21:$JV$60,0))","v":""},{"$f":"IF(OR('Set UP'!F36<>\"NS\",'Set UP'!C36=0,'Set UP'!D36=0,'Set UP'!E36=0),\"\",$JP50)","v":""},{"$f":"IF(OR('Set UP'!F36<>\"NS\",'Set UP'!C36=0,'Set UP'!D36=0,'Set UP'!E36=0),\"\",RANK(JX50,$JX$21:$JX$60,0))","v":""},{"$f":"IF(OR('Set UP'!$C36=0,'Set UP'!$D36=0,'Set UP'!$E36=0,JP50=0),\"\",JP50/MAX(JP$21:JP$60)*1000)","v":""}]
[null,31,{"$f":"IF(OR('Set UP'!$C37=0,'Set UP'!$D37=0,'Set UP'!$E37=0,'Set UP'!F37=0),\"  --\",'Set UP'!C37)","v":"  --"},{"$f":"IF(OR('Set UP'!$C37=0,'Set UP'!$D37=0,'Set UP'!$E37=0,'Set UP'!F37=0),\"  --\",'Set UP'!D37&\" \"&'Set UP'!E37)","v":"  --"},{"$f":"IF(OR('Set UP'!$C37=0,'Set UP'!$D37=0,'Set UP'!$E37=0,'Set UP'!F37=0),\"  --\",'Set UP'!F37)","v":"  --"},null,null,null,null,null,null,null,null,null,null,null,null,null,null,null,null,null,null,null,null,null,null,null,null,null,null,{"$f":"IF(OR('Set UP'!$C37=0,'Set UP'!$D37=0,'Set UP'!$E37=0),\"\",(F$19*F51)+(G$19*G51)+(H$19*H51)+(I$19*I51)+(J$19*J51)+(K$19*K51)+(L$19*L51)+(M$19*M51)+(N$19*N51)+(O$19*O51)+(P$19*P51)+(Q$19*Q51)+(R$19*R51)+(S$19*S51)+(T$19*T51)+(U$19*U51)+(V$19*V51)+(W$19*W51)+(X$19*X51)+(Y$19*Y51)+(Z$19*Z51)+(AA$19*AA51)+(AB$19*AB51)+(AC$19*AC51)+(AD$19*AD51))","v":""},null,null,null,null,null,null,null,null,null,null,null,null,null,null,null,null,null,null,null,null,null,null,null,null,null,null,{"$f":"IF(OR('Set UP'!$C37=0,'Set UP'!$D37=0,'Set UP'!$E37=0),\"\",(AG$19*AG51)+(AH$19*AH51)+(AI$19*AI51)+(AJ$19*AJ51)+(AK$19*AK51)+(AL$19*AL51)+(AM$19*AM51)+(AN$19*AN51)+(AO$19*AO51)+(AP$19*AP51)+(AQ$19*AQ51)+(AR$19*AR51)+(AS$19*AS51)+(AT$19*AT51)+(AU$19*AU51)+(AV$19*AV51)+(AW$19*AW51)+(AX$19*AX51)+(AY$19*AY51)+(AZ$19*AZ51)+(BA$19*BA51)+(BB$19*BB51)+(BC$19*BC51)+(BD$19*BD51)+(BE$19*BE51))","v":""},null,null,null,null,null,null,null,null,null,null,null,null,null,null,null,null,null,null,null,null,null,null,null,null,null,null,{"$f":"IF(OR('Set UP'!$C37=0,'Set UP'!$D37=0,'Set UP'!$E37=0),\"\",(BH$19*BH51)+(BI$19*BI51)+(BJ$19*BJ51)+(BK$19*BK51)+(BL$19*BL51)+(BM$19*BM51)+(BN$19*BN51)+(BO$19*BO51)+(BP$19*BP51)+(BQ$19*BQ51)+(BR$19*BR51)+(BS$19*BS51)+(BT$19*BT51)+(BU$19*BU51)+(BV$19*BV51)+(BW$19*BW51)+(BX$19*BX51)+(BY$19*BY51)+(BZ$19*BZ51)+(CA$19*CA51)+(CB$19*CB51)+(CC$19*CC51)+(CD$19*CD51)+(CE$19*CE51)+(CF$19*CF51))","v":""},null,null,null,null,null,null,null,null,null,null,null,null,null,null,null,null,null,null,null,null,null,null,null,null,null,null,{"$f":"IF(OR('Set UP'!$C37=0,'Set UP'!$D37=0,'Set UP'!$E37=0),\"\",(CI$19*CI51)+(CJ$19*CJ51)+(CK$19*CK51)+(CL$19*CL51)+(CM$19*CM51)+(CN$19*CN51)+(CO$19*CO51)+(CP$19*CP51)+(CQ$19*CQ51)+(CR$19*CR51)+(CS$19*CS51)+(CT$19*CT51)+(CU$19*CU51)+(CV$19*CV51)+(CW$19*CW51)+(CX$19*CX51)+(CY$19*CY51)+(CZ$19*CZ51)+(DA$19*DA51)+(DB$19*DB51)+(DC$19*DC51)+(DD$19*DD51)+(DE$19*DE51)+(DF$19*DF51)+(DG$19*DG51))","v":""},null,null,null,null,null,null,null,null,null,null,null,null,null,null,null,null,null,null,null,null,null,null,null,null,null,null,{"$f":"IF(OR('Set UP'!$C37=0,'Set UP'!$D37=0,'Set UP'!$E37=0),\"\",(DJ$19*DJ51)+(DK$19*DK51)+(DL$19*DL51)+(DM$19*DM51)+(DN$19*DN51)+(DO$19*DO51)+(DP$19*DP51)+(DQ$19*DQ51)+(DR$19*DR51)+(DS$19*DS51)+(DT$19*DT51)+(DU$19*DU51)+(DV$19*DV51)+(DW$19*DW51)+(DX$19*DX51)+(DY$19*DY51)+(DZ$19*DZ51)+(EA$19*EA51)+(EB$19*EB51)+(EC$19*EC51)+(ED$19*ED51)+(EE$19*EE51)+(EF$19*EF51)+(EG$19*EG51)+(EH$19*EH51))","v":""},null,null,null,null,null,null,null,null,null,null,null,null,null,null,null,null,null,null,null,null,null,null,null,null,null,null,{"$f":"IF(OR('Set UP'!$C37=0,'Set UP'!$D37=0,'Set UP'!$E37=0),\"\",(EK$19*EK51)+(EL$19*EL51)+(EM$19*EM51)+(EN$19*EN51)+(EO$19*EO51)+(EP$19*EP51)+(EQ$19*EQ51)+(ER$19*ER51)+(ES$19*ES51)+(ET$19*ET51)+(EU$19*EU51)+(EV$19*EV51)+(EW$19*EW51)+(EX$19*EX51)+(EY$19*EY51)+(EZ$19*EZ51)+(FA$19*FA51)+(FB$19*FB51)+(FC$19*FC51)+(FD$19*FD51)+(FE$19*FE51)+(FF$19*FF51)+(FG$19*FG51)+(FH$19*FH51)+(FI$19*FI51))","v":""},null,null,null,null,null,null,null,null,null,null,null,null,null,null,null,null,null,null,null,null,null,null,null,null,null,null,{"$f":"IF(OR('Set UP'!$C37=0,'Set UP'!$D37=0,'Set UP'!$E37=0),\"\",(FL$19*FL51)+(FM$19*FM51)+(FN$19*FN51)+(FO$19*FO51)+(FP$19*FP51)+(FQ$19*FQ51)+(FR$19*FR51)+(FS$19*FS51)+(FT$19*FT51)+(FU$19*FU51)+(FV$19*FV51)+(FW$19*FW51)+(FX$19*FX51)+(FY$19*FY51)+(FZ$19*FZ51)+(GA$19*GA51)+(GB$19*GB51)+(GC$19*GC51)+(GD$19*GD51)+(GE$19*GE51)+(GF$19*GF51)+(GG$19*GG51)+(GH$19*GH51)+(GI$19*GI51)+(GJ$19*GJ51))","v":""},null,null,null,null,null,null,null,null,null,null,null,null,null,null,null,null,null,null,null,null,null,null,null,null,null,null,{"$f":"IF(OR('Set UP'!$C37=0,'Set UP'!$D37=0,'Set UP'!$E37=0),\"\",(GM$19*GM51)+(GN$19*GN51)+(GO$19*GO51)+(GP$19*GP51)+(GQ$19*GQ51)+(GR$19*GR51)+(GS$19*GS51)+(GT$19*GT51)+(GU$19*GU51)+(GV$19*GV51)+(GW$19*GW51)+(GX$19*GX51)+(GY$19*GY51)+(GZ$19*GZ51)+(HA$19*HA51)+(HB$19*HB51)+(HC$19*HC51)+(HD$19*HD51)+(HE$19*HE51)+(HF$19*HF51)+(HG$19*HG51)+(HH$19*HH51)+(HI$19*HI51)+(HJ$19*HJ51)+(HK$19*HK51))","v":""},null,null,null,null,null,null,null,null,null,null,null,null,null,null,null,null,null,null,null,null,null,null,null,null,null,null,{"$f":"IF(OR('Set UP'!$C37=0,'Set UP'!$D37=0,'Set UP'!$E37=0),\"\",(HN$19*HN51)+(HO$19*HO51)+(HP$19*HP51)+(HQ$19*HQ51)+(HR$19*HR51)+(HS$19*HS51)+(HT$19*HT51)+(HU$19*HU51)+(HV$19*HV51)+(HW$19*HW51)+(HX$19*HX51)+(HY$19*HY51)+(HZ$19*HZ51)+(IA$19*IA51)+(IB$19*IB51)+(IC$19*IC51)+(ID$19*ID51)+(IE$19*IE51)+(IF$19*IF51)+(IG$19*IG51)+(IH$19*IH51)+(II$19*II51)+(IJ$19*IJ51)+(IK$19*IK51)+(IL$19*IL51))","v":""},null,null,null,null,null,null,null,null,null,null,null,null,null,null,null,null,null,null,null,null,null,null,null,null,null,null,{"$f":"IF(OR('Set UP'!$C37=0,'Set UP'!$D37=0,'Set UP'!$E37=0),\"\",(IO$19*IO51)+(IP$19*IP51)+(IQ$19*IQ51)+(IR$19*IR51)+(IS$19*IS51)+(IT$19*IT51)+(IU$19*IU51)+(IV$19*IV51)+(IW$19*IW51)+(IX$19*IX51)+(IY$19*IY51)+(IZ$19*IZ51)+(JA$19*JA51)+(JB$19*JB51)+(JC$19*JC51)+(JD$19*JD51)+(JE$19*JE51)+(JF$19*JF51)+(JG$19*JG51)+(JH$19*JH51)+(JI$19*JI51)+(JJ$19*JJ51)+(JK$19*JK51)+(JL$19*JL51)+(JM$19*JM51))","v":""},{"$f":"IF(OR('Set UP'!$C37=0,'Set UP'!$D37=0,'Set UP'!$E37=0),\"\",(AF51+BG51+CH51+DI51+EJ51+FK51+GL51+HM51+JO51+IN51))","v":""},{"$f":"IF(OR('Set UP'!$C37=0,'Set UP'!$D37=0,'Set UP'!$E37=0),\"\",RANK(JP51,$JP$21:$JP$60,0))","v":""},{"$f":"IF(OR('Set UP'!K37<>1,'Set UP'!C37=0,'Set UP'!D37=0,'Set UP'!E37=0,'Set UP'!F37=0),\"\",$JP51)","v":""},{"$f":"IF(OR('Set UP'!K37<>1,'Set UP'!C37=0,'Set UP'!D37=0,'Set UP'!E37=0,'Set UP'!F37=0),\"\",RANK(JR51,$JR$21:$JR$60,0))","v":""},{"$f":"IF(OR('Set UP'!K37<>2,'Set UP'!C37=0,'Set UP'!D37=0,'Set UP'!E37=0,'Set UP'!F37=0),\"\",$JP51)","v":""},{"$f":"IF(OR('Set UP'!K37<>2,'Set UP'!C37=0,'Set UP'!D37=0,'Set UP'!E37=0,'Set UP'!F37=0),\"\",RANK(JT51,$JT$21:$JT$60,0))","v":""},{"$f":"IF(OR('Set UP'!F37<>\"F\",'Set UP'!C37=0,'Set UP'!D37=0,'Set UP'!E37=0),\"\",$JP51)","v":""},{"$f":"IF(OR('Set UP'!F37<>\"F\",'Set UP'!C37=0,'Set UP'!D37=0,'Set UP'!E37=0),\"\",RANK(JV51,$JV$21:$JV$60,0))","v":""},{"$f":"IF(OR('Set UP'!F37<>\"NS\",'Set UP'!C37=0,'Set UP'!D37=0,'Set UP'!E37=0),\"\",$JP51)","v":""},{"$f":"IF(OR('Set UP'!F37<>\"NS\",'Set UP'!C37=0,'Set UP'!D37=0,'Set UP'!E37=0),\"\",RANK(JX51,$JX$21:$JX$60,0))","v":""},{"$f":"IF(OR('Set UP'!$C37=0,'Set UP'!$D37=0,'Set UP'!$E37=0,JP51=0),\"\",JP51/MAX(JP$21:JP$60)*1000)","v":""}]
[null,32,{"$f":"IF(OR('Set UP'!$C38=0,'Set UP'!$D38=0,'Set UP'!$E38=0,'Set UP'!F38=0),\"  --\",'Set UP'!C38)","v":"  --"},{"$f":"IF(OR('Set UP'!$C38=0,'Set UP'!$D38=0,'Set UP'!$E38=0,'Set UP'!F38=0),\"  --\",'Set UP'!D38&\" \"&'Set UP'!E38)","v":"  --"},{"$f":"IF(OR('Set UP'!$C38=0,'Set UP'!$D38=0,'Set UP'!$E38=0,'Set UP'!F38=0),\"  --\",'Set UP'!F38)","v":"  --"},null,null,null,null,null,null,null,null,null,null,null,null,null,null,null,null,null,null,null,null,null,null,null,null,null,null,{"$f":"IF(OR('Set UP'!$C38=0,'Set UP'!$D38=0,'Set UP'!$E38=0),\"\",(F$19*F52)+(G$19*G52)+(H$19*H52)+(I$19*I52)+(J$19*J52)+(K$19*K52)+(L$19*L52)+(M$19*M52)+(N$19*N52)+(O$19*O52)+(P$19*P52)+(Q$19*Q52)+(R$19*R52)+(S$19*S52)+(T$19*T52)+(U$19*U52)+(V$19*V52)+(W$19*W52)+(X$19*X52)+(Y$19*Y52)+(Z$19*Z52)+(AA$19*AA52)+(AB$19*AB52)+(AC$19*AC52)+(AD$19*AD52))","v":""},null,null,null,null,null,null,null,null,null,null,null,null,null,null,null,null,null,null,null,null,null,null,null,null,null,null,{"$f":"IF(OR('Set UP'!$C38=0,'Set UP'!$D38=0,'Set UP'!$E38=0),\"\",(AG$19*AG52)+(AH$19*AH52)+(AI$19*AI52)+(AJ$19*AJ52)+(AK$19*AK52)+(AL$19*AL52)+(AM$19*AM52)+(AN$19*AN52)+(AO$19*AO52)+(AP$19*AP52)+(AQ$19*AQ52)+(AR$19*AR52)+(AS$19*AS52)+(AT$19*AT52)+(AU$19*AU52)+(AV$19*AV52)+(AW$19*AW52)+(AX$19*AX52)+(AY$19*AY52)+(AZ$19*AZ52)+(BA$19*BA52)+(BB$19*BB52)+(BC$19*BC52)+(BD$19*BD52)+(BE$19*BE52))","v":""},null,null,null,null,null,null,null,null,null,null,null,null,null,null,null,null,null,null,null,null,null,null,null,null,null,null,{"$f":"IF(OR('Set UP'!$C38=0,'Set UP'!$D38=0,'Set UP'!$E38=0),\"\",(BH$19*BH52)+(BI$19*BI52)+(BJ$19*BJ52)+(BK$19*BK52)+(BL$19*BL52)+(BM$19*BM52)+(BN$19*BN52)+(BO$19*BO52)+(BP$19*BP52)+(BQ$19*BQ52)+(BR$19*BR52)+(BS$19*BS52)+(BT$19*BT52)+(BU$19*BU52)+(BV$19*BV52)+(BW$19*BW52)+(BX$19*BX52)+(BY$19*BY52)+(BZ$19*BZ52)+(CA$19*CA52)+(CB$19*CB52)+(CC$19*CC52)+(CD$19*CD52)+(CE$19*CE52)+(CF$19*CF52))","v":""},null,null,null,null,null,null,null,null,null,null,null,null,null,null,null,null,null,null,null,null,null,null,null,null,null,null,{"$f":"IF(OR('Set UP'!$C38=0,'Set UP'!$D38=0,'Set UP'!$E38=0),\"\",(CI$19*CI52)+(CJ$19*CJ52)+(CK$19*CK52)+(CL$19*CL52)+(CM$19*CM52)+(CN$19*CN52)+(CO$19*CO52)+(CP$19*CP52)+(CQ$19*CQ52)+(CR$19*CR52)+(CS$19*CS52)+(CT$19*CT52)+(CU$19*CU52)+(CV$19*CV52)+(CW$19*CW52)+(CX$19*CX52)+(CY$19*CY52)+(CZ$19*CZ52)+(DA$19*DA52)+(DB$19*DB52)+(DC$19*DC52)+(DD$19*DD52)+(DE$19*DE52)+(DF$19*DF52)+(DG$19*DG52))","v":""},null,null,null,null,null,null,null,null,null,null,null,null,null,null,null,null,null,null,null,null,null,null,null,null,null,null,{"$f":"IF(OR('Set UP'!$C38=0,'Set UP'!$D38=0,'Set UP'!$E38=0),\"\",(DJ$19*DJ52)+(DK$19*DK52)+(DL$19*DL52)+(DM$19*DM52)+(DN$19*DN52)+(DO$19*DO52)+(DP$19*DP52)+(DQ$19*DQ52)+(DR$19*DR52)+(DS$19*DS52)+(DT$19*DT52)+(DU$19*DU52)+(DV$19*DV52)+(DW$19*DW52)+(DX$19*DX52)+(DY$19*DY52)+(DZ$19*DZ52)+(EA$19*EA52)+(EB$19*EB52)+(EC$19*EC52)+(ED$19*ED52)+(EE$19*EE52)+(EF$19*EF52)+(EG$19*EG52)+(EH$19*EH52))","v":""},null,null,null,null,null,null,null,null,null,null,null,null,null,null,null,null,null,null,null,null,null,null,null,null,null,null,{"$f":"IF(OR('Set UP'!$C38=0,'Set UP'!$D38=0,'Set UP'!$E38=0),\"\",(EK$19*EK52)+(EL$19*EL52)+(EM$19*EM52)+(EN$19*EN52)+(EO$19*EO52)+(EP$19*EP52)+(EQ$19*EQ52)+(ER$19*ER52)+(ES$19*ES52)+(ET$19*ET52)+(EU$19*EU52)+(EV$19*EV52)+(EW$19*EW52)+(EX$19*EX52)+(EY$19*EY52)+(EZ$19*EZ52)+(FA$19*FA52)+(FB$19*FB52)+(FC$19*FC52)+(FD$19*FD52)+(FE$19*FE52)+(FF$19*FF52)+(FG$19*FG52)+(FH$19*FH52)+(FI$19*FI52))","v":""},null,null,null,null,null,null,null,null,null,null,null,null,null,null,null,null,null,null,null,null,null,null,null,null,null,null,{"$f":"IF(OR('Set UP'!$C38=0,'Set UP'!$D38=0,'Set UP'!$E38=0),\"\",(FL$19*FL52)+(FM$19*FM52)+(FN$19*FN52)+(FO$19*FO52)+(FP$19*FP52)+(FQ$19*FQ52)+(FR$19*FR52)+(FS$19*FS52)+(FT$19*FT52)+(FU$19*FU52)+(FV$19*FV52)+(FW$19*FW52)+(FX$19*FX52)+(FY$19*FY52)+(FZ$19*FZ52)+(GA$19*GA52)+(GB$19*GB52)+(GC$19*GC52)+(GD$19*GD52)+(GE$19*GE52)+(GF$19*GF52)+(GG$19*GG52)+(GH$19*GH52)+(GI$19*GI52)+(GJ$19*GJ52))","v":""},null,null,null,null,null,null,null,null,null,null,null,null,null,null,null,null,null,null,null,null,null,null,null,null,null,null,{"$f":"IF(OR('Set UP'!$C38=0,'Set UP'!$D38=0,'Set UP'!$E38=0),\"\",(GM$19*GM52)+(GN$19*GN52)+(GO$19*GO52)+(GP$19*GP52)+(GQ$19*GQ52)+(GR$19*GR52)+(GS$19*GS52)+(GT$19*GT52)+(GU$19*GU52)+(GV$19*GV52)+(GW$19*GW52)+(GX$19*GX52)+(GY$19*GY52)+(GZ$19*GZ52)+(HA$19*HA52)+(HB$19*HB52)+(HC$19*HC52)+(HD$19*HD52)+(HE$19*HE52)+(HF$19*HF52)+(HG$19*HG52)+(HH$19*HH52)+(HI$19*HI52)+(HJ$19*HJ52)+(HK$19*HK52))","v":""},null,null,null,null,null,null,null,null,null,null,null,null,null,null,null,null,null,null,null,null,null,null,null,null,null,null,{"$f":"IF(OR('Set UP'!$C38=0,'Set UP'!$D38=0,'Set UP'!$E38=0),\"\",(HN$19*HN52)+(HO$19*HO52)+(HP$19*HP52)+(HQ$19*HQ52)+(HR$19*HR52)+(HS$19*HS52)+(HT$19*HT52)+(HU$19*HU52)+(HV$19*HV52)+(HW$19*HW52)+(HX$19*HX52)+(HY$19*HY52)+(HZ$19*HZ52)+(IA$19*IA52)+(IB$19*IB52)+(IC$19*IC52)+(ID$19*ID52)+(IE$19*IE52)+(IF$19*IF52)+(IG$19*IG52)+(IH$19*IH52)+(II$19*II52)+(IJ$19*IJ52)+(IK$19*IK52)+(IL$19*IL52))","v":""},null,null,null,null,null,null,null,null,null,null,null,null,null,null,null,null,null,null,null,null,null,null,null,null,null,null,{"$f":"IF(OR('Set UP'!$C38=0,'Set UP'!$D38=0,'Set UP'!$E38=0),\"\",(IO$19*IO52)+(IP$19*IP52)+(IQ$19*IQ52)+(IR$19*IR52)+(IS$19*IS52)+(IT$19*IT52)+(IU$19*IU52)+(IV$19*IV52)+(IW$19*IW52)+(IX$19*IX52)+(IY$19*IY52)+(IZ$19*IZ52)+(JA$19*JA52)+(JB$19*JB52)+(JC$19*JC52)+(JD$19*JD52)+(JE$19*JE52)+(JF$19*JF52)+(JG$19*JG52)+(JH$19*JH52)+(JI$19*JI52)+(JJ$19*JJ52)+(JK$19*JK52)+(JL$19*JL52)+(JM$19*JM52))","v":""},{"$f":"IF(OR('Set UP'!$C38=0,'Set UP'!$D38=0,'Set UP'!$E38=0),\"\",(AF52+BG52+CH52+DI52+EJ52+FK52+GL52+HM52+JO52+IN52))","v":""},{"$f":"IF(OR('Set UP'!$C38=0,'Set UP'!$D38=0,'Set UP'!$E38=0),\"\",RANK(JP52,$JP$21:$JP$60,0))","v":""},{"$f":"IF(OR('Set UP'!K38<>1,'Set UP'!C38=0,'Set UP'!D38=0,'Set UP'!E38=0,'Set UP'!F38=0),\"\",$JP52)","v":""},{"$f":"IF(OR('Set UP'!K38<>1,'Set UP'!C38=0,'Set UP'!D38=0,'Set UP'!E38=0,'Set UP'!F38=0),\"\",RANK(JR52,$JR$21:$JR$60,0))","v":""},{"$f":"IF(OR('Set UP'!K38<>2,'Set UP'!C38=0,'Set UP'!D38=0,'Set UP'!E38=0,'Set UP'!F38=0),\"\",$JP52)","v":""},{"$f":"IF(OR('Set UP'!K38<>2,'Set UP'!C38=0,'Set UP'!D38=0,'Set UP'!E38=0,'Set UP'!F38=0),\"\",RANK(JT52,$JT$21:$JT$60,0))","v":""},{"$f":"IF(OR('Set UP'!F38<>\"F\",'Set UP'!C38=0,'Set UP'!D38=0,'Set UP'!E38=0),\"\",$JP52)","v":""},{"$f":"IF(OR('Set UP'!F38<>\"F\",'Set UP'!C38=0,'Set UP'!D38=0,'Set UP'!E38=0),\"\",RANK(JV52,$JV$21:$JV$60,0))","v":""},{"$f":"IF(OR('Set UP'!F38<>\"NS\",'Set UP'!C38=0,'Set UP'!D38=0,'Set UP'!E38=0),\"\",$JP52)","v":""},{"$f":"IF(OR('Set UP'!F38<>\"NS\",'Set UP'!C38=0,'Set UP'!D38=0,'Set UP'!E38=0),\"\",RANK(JX52,$JX$21:$JX$60,0))","v":""},{"$f":"IF(OR('Set UP'!$C38=0,'Set UP'!$D38=0,'Set UP'!$E38=0,JP52=0),\"\",JP52/MAX(JP$21:JP$60)*1000)","v":""}]
[null,33,{"$f":"IF(OR('Set UP'!$C39=0,'Set UP'!$D39=0,'Set UP'!$E39=0,'Set UP'!F39=0),\"  --\",'Set UP'!C39)","v":"  --"},{"$f":"IF(OR('Set UP'!$C39=0,'Set UP'!$D39=0,'Set UP'!$E39=0,'Set UP'!F39=0),\"  --\",'Set UP'!D39&\" \"&'Set UP'!E39)","v":"  --"},{"$f":"IF(OR('Set UP'!$C39=0,'Set UP'!$D39=0,'Set UP'!$E39=0,'Set UP'!F39=0),\"  --\",'Set UP'!F39)","v":"  --"},null,null,null,null,null,null,null,null,null,null,null,null,null,null,null,null,null,null,null,null,null,null,null,null,null,null,{"$f":"IF(OR('Set UP'!$C39=0,'Set UP'!$D39=0,'Set UP'!$E39=0),\"\",(F$19*F53)+(G$19*G53)+(H$19*H53)+(I$19*I53)+(J$19*J53)+(K$19*K53)+(L$19*L53)+(M$19*M53)+(N$19*N53)+(O$19*O53)+(P$19*P53)+(Q$19*Q53)+(R$19*R53)+(S$19*S53)+(T$19*T53)+(U$19*U53)+(V$19*V53)+(W$19*W53)+(X$19*X53)+(Y$19*Y53)+(Z$19*Z53)+(AA$19*AA53)+(AB$19*AB53)+(AC$19*AC53)+(AD$19*AD53))","v":""},null,null,null,null,null,null,null,null,null,null,null,null,null,null,null,null,null,null,null,null,null,null,null,null,null,null,{"$f":"IF(OR('Set UP'!$C39=0,'Set UP'!$D39=0,'Set UP'!$E39=0),\"\",(AG$19*AG53)+(AH$19*AH53)+(AI$19*AI53)+(AJ$19*AJ53)+(AK$19*AK53)+(AL$19*AL53)+(AM$19*AM53)+(AN$19*AN53)+(AO$19*AO53)+(AP$19*AP53)+(AQ$19*AQ53)+(AR$19*AR53)+(AS$19*AS53)+(AT$19*AT53)+(AU$19*AU53)+(AV$19*AV53)+(AW$19*AW53)+(AX$19*AX53)+(AY$19*AY53)+(AZ$19*AZ53)+(BA$19*BA53)+(BB$19*BB53)+(BC$19*BC53)+(BD$19*BD53)+(BE$19*BE53))","v":""},null,null,null,null,null,null,null,null,null,null,null,null,null,null,null,null,null,null,null,null,null,null,null,null,null,null,{"$f":"IF(OR('Set UP'!$C39=0,'Set UP'!$D39=0,'Set UP'!$E39=0),\"\",(BH$19*BH53)+(BI$19*BI53)+(BJ$19*BJ53)+(BK$19*BK53)+(BL$19*BL53)+(BM$19*BM53)+(BN$19*BN53)+(BO$19*BO53)+(BP$19*BP53)+(BQ$19*BQ53)+(BR$19*BR53)+(BS$19*BS53)+(BT$19*BT53)+(BU$19*BU53)+(BV$19*BV53)+(BW$19*BW53)+(BX$19*BX53)+(BY$19*BY53)+(BZ$19*BZ53)+(CA$19*CA53)+(CB$19*CB53)+(CC$19*CC53)+(CD$19*CD53)+(CE$19*CE53)+(CF$19*CF53))","v":""},null,null,null,null,null,null,null,null,null,null,null,null,null,null,null,null,null,null,null,null,null,null,null,null,null,null,{"$f":"IF(OR('Set UP'!$C39=0,'Set UP'!$D39=0,'Set UP'!$E39=0),\"\",(CI$19*CI53)+(CJ$19*CJ53)+(CK$19*CK53)+(CL$19*CL53)+(CM$19*CM53)+(CN$19*CN53)+(CO$19*CO53)+(CP$19*CP53)+(CQ$19*CQ53)+(CR$19*CR53)+(CS$19*CS53)+(CT$19*CT53)+(CU$19*CU53)+(CV$19*CV53)+(CW$19*CW53)+(CX$19*CX53)+(CY$19*CY53)+(CZ$19*CZ53)+(DA$19*DA53)+(DB$19*DB53)+(DC$19*DC53)+(DD$19*DD53)+(DE$19*DE53)+(DF$19*DF53)+(DG$19*DG53))","v":""},null,null,null,null,null,null,null,null,null,null,null,null,null,null,null,null,null,null,null,null,null,null,null,null,null,null,{"$f":"IF(OR('Set UP'!$C39=0,'Set UP'!$D39=0,'Set UP'!$E39=0),\"\",(DJ$19*DJ53)+(DK$19*DK53)+(DL$19*DL53)+(DM$19*DM53)+(DN$19*DN53)+(DO$19*DO53)+(DP$19*DP53)+(DQ$19*DQ53)+(DR$19*DR53)+(DS$19*DS53)+(DT$19*DT53)+(DU$19*DU53)+(DV$19*DV53)+(DW$19*DW53)+(DX$19*DX53)+(DY$19*DY53)+(DZ$19*DZ53)+(EA$19*EA53)+(EB$19*EB53)+(EC$19*EC53)+(ED$19*ED53)+(EE$19*EE53)+(EF$19*EF53)+(EG$19*EG53)+(EH$19*EH53))","v":""},null,null,null,null,null,null,null,null,null,null,null,null,null,null,null,null,null,null,null,null,null,null,null,null,null,null,{"$f":"IF(OR('Set UP'!$C39=0,'Set UP'!$D39=0,'Set UP'!$E39=0),\"\",(EK$19*EK53)+(EL$19*EL53)+(EM$19*EM53)+(EN$19*EN53)+(EO$19*EO53)+(EP$19*EP53)+(EQ$19*EQ53)+(ER$19*ER53)+(ES$19*ES53)+(ET$19*ET53)+(EU$19*EU53)+(EV$19*EV53)+(EW$19*EW53)+(EX$19*EX53)+(EY$19*EY53)+(EZ$19*EZ53)+(FA$19*FA53)+(FB$19*FB53)+(FC$19*FC53)+(FD$19*FD53)+(FE$19*FE53)+(FF$19*FF53)+(FG$19*FG53)+(FH$19*FH53)+(FI$19*FI53))","v":""},null,null,null,null,null,null,null,null,null,null,null,null,null,null,null,null,null,null,null,null,null,null,null,null,null,null,{"$f":"IF(OR('Set UP'!$C39=0,'Set UP'!$D39=0,'Set UP'!$E39=0),\"\",(FL$19*FL53)+(FM$19*FM53)+(FN$19*FN53)+(FO$19*FO53)+(FP$19*FP53)+(FQ$19*FQ53)+(FR$19*FR53)+(FS$19*FS53)+(FT$19*FT53)+(FU$19*FU53)+(FV$19*FV53)+(FW$19*FW53)+(FX$19*FX53)+(FY$19*FY53)+(FZ$19*FZ53)+(GA$19*GA53)+(GB$19*GB53)+(GC$19*GC53)+(GD$19*GD53)+(GE$19*GE53)+(GF$19*GF53)+(GG$19*GG53)+(GH$19*GH53)+(GI$19*GI53)+(GJ$19*GJ53))","v":""},null,null,null,null,null,null,null,null,null,null,null,null,null,null,null,null,null,null,null,null,null,null,null,null,null,null,{"$f":"IF(OR('Set UP'!$C39=0,'Set UP'!$D39=0,'Set UP'!$E39=0),\"\",(GM$19*GM53)+(GN$19*GN53)+(GO$19*GO53)+(GP$19*GP53)+(GQ$19*GQ53)+(GR$19*GR53)+(GS$19*GS53)+(GT$19*GT53)+(GU$19*GU53)+(GV$19*GV53)+(GW$19*GW53)+(GX$19*GX53)+(GY$19*GY53)+(GZ$19*GZ53)+(HA$19*HA53)+(HB$19*HB53)+(HC$19*HC53)+(HD$19*HD53)+(HE$19*HE53)+(HF$19*HF53)+(HG$19*HG53)+(HH$19*HH53)+(HI$19*HI53)+(HJ$19*HJ53)+(HK$19*HK53))","v":""},null,null,null,null,null,null,null,null,null,null,null,null,null,null,null,null,null,null,null,null,null,null,null,null,null,null,{"$f":"IF(OR('Set UP'!$C39=0,'Set UP'!$D39=0,'Set UP'!$E39=0),\"\",(HN$19*HN53)+(HO$19*HO53)+(HP$19*HP53)+(HQ$19*HQ53)+(HR$19*HR53)+(HS$19*HS53)+(HT$19*HT53)+(HU$19*HU53)+(HV$19*HV53)+(HW$19*HW53)+(HX$19*HX53)+(HY$19*HY53)+(HZ$19*HZ53)+(IA$19*IA53)+(IB$19*IB53)+(IC$19*IC53)+(ID$19*ID53)+(IE$19*IE53)+(IF$19*IF53)+(IG$19*IG53)+(IH$19*IH53)+(II$19*II53)+(IJ$19*IJ53)+(IK$19*IK53)+(IL$19*IL53))","v":""},null,null,null,null,null,null,null,null,null,null,null,null,null,null,null,null,null,null,null,null,null,null,null,null,null,null,{"$f":"IF(OR('Set UP'!$C39=0,'Set UP'!$D39=0,'Set UP'!$E39=0),\"\",(IO$19*IO53)+(IP$19*IP53)+(IQ$19*IQ53)+(IR$19*IR53)+(IS$19*IS53)+(IT$19*IT53)+(IU$19*IU53)+(IV$19*IV53)+(IW$19*IW53)+(IX$19*IX53)+(IY$19*IY53)+(IZ$19*IZ53)+(JA$19*JA53)+(JB$19*JB53)+(JC$19*JC53)+(JD$19*JD53)+(JE$19*JE53)+(JF$19*JF53)+(JG$19*JG53)+(JH$19*JH53)+(JI$19*JI53)+(JJ$19*JJ53)+(JK$19*JK53)+(JL$19*JL53)+(JM$19*JM53))","v":""},{"$f":"IF(OR('Set UP'!$C39=0,'Set UP'!$D39=0,'Set UP'!$E39=0),\"\",(AF53+BG53+CH53+DI53+EJ53+FK53+GL53+HM53+JO53+IN53))","v":""},{"$f":"IF(OR('Set UP'!$C39=0,'Set UP'!$D39=0,'Set UP'!$E39=0),\"\",RANK(JP53,$JP$21:$JP$60,0))","v":""},{"$f":"IF(OR('Set UP'!K39<>1,'Set UP'!C39=0,'Set UP'!D39=0,'Set UP'!E39=0,'Set UP'!F39=0),\"\",$JP53)","v":""},{"$f":"IF(OR('Set UP'!K39<>1,'Set UP'!C39=0,'Set UP'!D39=0,'Set UP'!E39=0,'Set UP'!F39=0),\"\",RANK(JR53,$JR$21:$JR$60,0))","v":""},{"$f":"IF(OR('Set UP'!K39<>2,'Set UP'!C39=0,'Set UP'!D39=0,'Set UP'!E39=0,'Set UP'!F39=0),\"\",$JP53)","v":""},{"$f":"IF(OR('Set UP'!K39<>2,'Set UP'!C39=0,'Set UP'!D39=0,'Set UP'!E39=0,'Set UP'!F39=0),\"\",RANK(JT53,$JT$21:$JT$60,0))","v":""},{"$f":"IF(OR('Set UP'!F39<>\"F\",'Set UP'!C39=0,'Set UP'!D39=0,'Set UP'!E39=0),\"\",$JP53)","v":""},{"$f":"IF(OR('Set UP'!F39<>\"F\",'Set UP'!C39=0,'Set UP'!D39=0,'Set UP'!E39=0),\"\",RANK(JV53,$JV$21:$JV$60,0))","v":""},{"$f":"IF(OR('Set UP'!F39<>\"NS\",'Set UP'!C39=0,'Set UP'!D39=0,'Set UP'!E39=0),\"\",$JP53)","v":""},{"$f":"IF(OR('Set UP'!F39<>\"NS\",'Set UP'!C39=0,'Set UP'!D39=0,'Set UP'!E39=0),\"\",RANK(JX53,$JX$21:$JX$60,0))","v":""},{"$f":"IF(OR('Set UP'!$C39=0,'Set UP'!$D39=0,'Set UP'!$E39=0,JP53=0),\"\",JP53/MAX(JP$21:JP$60)*1000)","v":""}]
[null,34,{"$f":"IF(OR('Set UP'!$C40=0,'Set UP'!$D40=0,'Set UP'!$E40=0,'Set UP'!F40=0),\"  --\",'Set UP'!C40)","v":"  --"},{"$f":"IF(OR('Set UP'!$C40=0,'Set UP'!$D40=0,'Set UP'!$E40=0,'Set UP'!F40=0),\"  --\",'Set UP'!D40&\" \"&'Set UP'!E40)","v":"  --"},{"$f":"IF(OR('Set UP'!$C40=0,'Set UP'!$D40=0,'Set UP'!$E40=0,'Set UP'!F40=0),\"  --\",'Set UP'!F40)","v":"  --"},null,null,null,null,null,null,null,null,null,null,null,null,null,null,null,null,null,null,null,null,null,null,null,null,null,null,{"$f":"IF(OR('Set UP'!$C40=0,'Set UP'!$D40=0,'Set UP'!$E40=0),\"\",(F$19*F54)+(G$19*G54)+(H$19*H54)+(I$19*I54)+(J$19*J54)+(K$19*K54)+(L$19*L54)+(M$19*M54)+(N$19*N54)+(O$19*O54)+(P$19*P54)+(Q$19*Q54)+(R$19*R54)+(S$19*S54)+(T$19*T54)+(U$19*U54)+(V$19*V54)+(W$19*W54)+(X$19*X54)+(Y$19*Y54)+(Z$19*Z54)+(AA$19*AA54)+(AB$19*AB54)+(AC$19*AC54)+(AD$19*AD54))","v":""},null,null,null,null,null,null,null,null,null,null,null,null,null,null,null,null,null,null,null,null,null,null,null,null,null,null,{"$f":"IF(OR('Set UP'!$C40=0,'Set UP'!$D40=0,'Set UP'!$E40=0),\"\",(AG$19*AG54)+(AH$19*AH54)+(AI$19*AI54)+(AJ$19*AJ54)+(AK$19*AK54)+(AL$19*AL54)+(AM$19*AM54)+(AN$19*AN54)+(AO$19*AO54)+(AP$19*AP54)+(AQ$19*AQ54)+(AR$19*AR54)+(AS$19*AS54)+(AT$19*AT54)+(AU$19*AU54)+(AV$19*AV54)+(AW$19*AW54)+(AX$19*AX54)+(AY$19*AY54)+(AZ$19*AZ54)+(BA$19*BA54)+(BB$19*BB54)+(BC$19*BC54)+(BD$19*BD54)+(BE$19*BE54))","v":""},null,null,null,null,null,null,null,null,null,null,null,null,null,null,null,null,null,null,null,null,null,null,null,null,null,null,{"$f":"IF(OR('Set UP'!$C40=0,'Set UP'!$D40=0,'Set UP'!$E40=0),\"\",(BH$19*BH54)+(BI$19*BI54)+(BJ$19*BJ54)+(BK$19*BK54)+(BL$19*BL54)+(BM$19*BM54)+(BN$19*BN54)+(BO$19*BO54)+(BP$19*BP54)+(BQ$19*BQ54)+(BR$19*BR54)+(BS$19*BS54)+(BT$19*BT54)+(BU$19*BU54)+(BV$19*BV54)+(BW$19*BW54)+(BX$19*BX54)+(BY$19*BY54)+(BZ$19*BZ54)+(CA$19*CA54)+(CB$19*CB54)+(CC$19*CC54)+(CD$19*CD54)+(CE$19*CE54)+(CF$19*CF54))","v":""},null,null,null,null,null,null,null,null,null,null,null,null,null,null,null,null,null,null,null,null,null,null,null,null,null,null,{"$f":"IF(OR('Set UP'!$C40=0,'Set UP'!$D40=0,'Set UP'!$E40=0),\"\",(CI$19*CI54)+(CJ$19*CJ54)+(CK$19*CK54)+(CL$19*CL54)+(CM$19*CM54)+(CN$19*CN54)+(CO$19*CO54)+(CP$19*CP54)+(CQ$19*CQ54)+(CR$19*CR54)+(CS$19*CS54)+(CT$19*CT54)+(CU$19*CU54)+(CV$19*CV54)+(CW$19*CW54)+(CX$19*CX54)+(CY$19*CY54)+(CZ$19*CZ54)+(DA$19*DA54)+(DB$19*DB54)+(DC$19*DC54)+(DD$19*DD54)+(DE$19*DE54)+(DF$19*DF54)+(DG$19*DG54))","v":""},null,null,null,null,null,null,null,null,null,null,null,null,null,null,null,null,null,null,null,null,null,null,null,null,null,null,{"$f":"IF(OR('Set UP'!$C40=0,'Set UP'!$D40=0,'Set UP'!$E40=0),\"\",(DJ$19*DJ54)+(DK$19*DK54)+(DL$19*DL54)+(DM$19*DM54)+(DN$19*DN54)+(DO$19*DO54)+(DP$19*DP54)+(DQ$19*DQ54)+(DR$19*DR54)+(DS$19*DS54)+(DT$19*DT54)+(DU$19*DU54)+(DV$19*DV54)+(DW$19*DW54)+(DX$19*DX54)+(DY$19*DY54)+(DZ$19*DZ54)+(EA$19*EA54)+(EB$19*EB54)+(EC$19*EC54)+(ED$19*ED54)+(EE$19*EE54)+(EF$19*EF54)+(EG$19*EG54)+(EH$19*EH54))","v":""},null,null,null,null,null,null,null,null,null,null,null,null,null,null,null,null,null,null,null,null,null,null,null,null,null,null,{"$f":"IF(OR('Set UP'!$C40=0,'Set UP'!$D40=0,'Set UP'!$E40=0),\"\",(EK$19*EK54)+(EL$19*EL54)+(EM$19*EM54)+(EN$19*EN54)+(EO$19*EO54)+(EP$19*EP54)+(EQ$19*EQ54)+(ER$19*ER54)+(ES$19*ES54)+(ET$19*ET54)+(EU$19*EU54)+(EV$19*EV54)+(EW$19*EW54)+(EX$19*EX54)+(EY$19*EY54)+(EZ$19*EZ54)+(FA$19*FA54)+(FB$19*FB54)+(FC$19*FC54)+(FD$19*FD54)+(FE$19*FE54)+(FF$19*FF54)+(FG$19*FG54)+(FH$19*FH54)+(FI$19*FI54))","v":""},null,null,null,null,null,null,null,null,null,null,null,null,null,null,null,null,null,null,null,null,null,null,null,null,null,null,{"$f":"IF(OR('Set UP'!$C40=0,'Set UP'!$D40=0,'Set UP'!$E40=0),\"\",(FL$19*FL54)+(FM$19*FM54)+(FN$19*FN54)+(FO$19*FO54)+(FP$19*FP54)+(FQ$19*FQ54)+(FR$19*FR54)+(FS$19*FS54)+(FT$19*FT54)+(FU$19*FU54)+(FV$19*FV54)+(FW$19*FW54)+(FX$19*FX54)+(FY$19*FY54)+(FZ$19*FZ54)+(GA$19*GA54)+(GB$19*GB54)+(GC$19*GC54)+(GD$19*GD54)+(GE$19*GE54)+(GF$19*GF54)+(GG$19*GG54)+(GH$19*GH54)+(GI$19*GI54)+(GJ$19*GJ54))","v":""},null,null,null,null,null,null,null,null,null,null,null,null,null,null,null,null,null,null,null,null,null,null,null,null,null,null,{"$f":"IF(OR('Set UP'!$C40=0,'Set UP'!$D40=0,'Set UP'!$E40=0),\"\",(GM$19*GM54)+(GN$19*GN54)+(GO$19*GO54)+(GP$19*GP54)+(GQ$19*GQ54)+(GR$19*GR54)+(GS$19*GS54)+(GT$19*GT54)+(GU$19*GU54)+(GV$19*GV54)+(GW$19*GW54)+(GX$19*GX54)+(GY$19*GY54)+(GZ$19*GZ54)+(HA$19*HA54)+(HB$19*HB54)+(HC$19*HC54)+(HD$19*HD54)+(HE$19*HE54)+(HF$19*HF54)+(HG$19*HG54)+(HH$19*HH54)+(HI$19*HI54)+(HJ$19*HJ54)+(HK$19*HK54))","v":""},null,null,null,null,null,null,null,null,null,null,null,null,null,null,null,null,null,null,null,null,null,null,null,null,null,null,{"$f":"IF(OR('Set UP'!$C40=0,'Set UP'!$D40=0,'Set UP'!$E40=0),\"\",(HN$19*HN54)+(HO$19*HO54)+(HP$19*HP54)+(HQ$19*HQ54)+(HR$19*HR54)+(HS$19*HS54)+(HT$19*HT54)+(HU$19*HU54)+(HV$19*HV54)+(HW$19*HW54)+(HX$19*HX54)+(HY$19*HY54)+(HZ$19*HZ54)+(IA$19*IA54)+(IB$19*IB54)+(IC$19*IC54)+(ID$19*ID54)+(IE$19*IE54)+(IF$19*IF54)+(IG$19*IG54)+(IH$19*IH54)+(II$19*II54)+(IJ$19*IJ54)+(IK$19*IK54)+(IL$19*IL54))","v":""},null,null,null,null,null,null,null,null,null,null,null,null,null,null,null,null,null,null,null,null,null,null,null,null,null,null,{"$f":"IF(OR('Set UP'!$C40=0,'Set UP'!$D40=0,'Set UP'!$E40=0),\"\",(IO$19*IO54)+(IP$19*IP54)+(IQ$19*IQ54)+(IR$19*IR54)+(IS$19*IS54)+(IT$19*IT54)+(IU$19*IU54)+(IV$19*IV54)+(IW$19*IW54)+(IX$19*IX54)+(IY$19*IY54)+(IZ$19*IZ54)+(JA$19*JA54)+(JB$19*JB54)+(JC$19*JC54)+(JD$19*JD54)+(JE$19*JE54)+(JF$19*JF54)+(JG$19*JG54)+(JH$19*JH54)+(JI$19*JI54)+(JJ$19*JJ54)+(JK$19*JK54)+(JL$19*JL54)+(JM$19*JM54))","v":""},{"$f":"IF(OR('Set UP'!$C40=0,'Set UP'!$D40=0,'Set UP'!$E40=0),\"\",(AF54+BG54+CH54+DI54+EJ54+FK54+GL54+HM54+JO54+IN54))","v":""},{"$f":"IF(OR('Set UP'!$C40=0,'Set UP'!$D40=0,'Set UP'!$E40=0),\"\",RANK(JP54,$JP$21:$JP$60,0))","v":""},{"$f":"IF(OR('Set UP'!K40<>1,'Set UP'!C40=0,'Set UP'!D40=0,'Set UP'!E40=0,'Set UP'!F40=0),\"\",$JP54)","v":""},{"$f":"IF(OR('Set UP'!K40<>1,'Set UP'!C40=0,'Set UP'!D40=0,'Set UP'!E40=0,'Set UP'!F40=0),\"\",RANK(JR54,$JR$21:$JR$60,0))","v":""},{"$f":"IF(OR('Set UP'!K40<>2,'Set UP'!C40=0,'Set UP'!D40=0,'Set UP'!E40=0,'Set UP'!F40=0),\"\",$JP54)","v":""},{"$f":"IF(OR('Set UP'!K40<>2,'Set UP'!C40=0,'Set UP'!D40=0,'Set UP'!E40=0,'Set UP'!F40=0),\"\",RANK(JT54,$JT$21:$JT$60,0))","v":""},{"$f":"IF(OR('Set UP'!F40<>\"F\",'Set UP'!C40=0,'Set UP'!D40=0,'Set UP'!E40=0),\"\",$JP54)","v":""},{"$f":"IF(OR('Set UP'!F40<>\"F\",'Set UP'!C40=0,'Set UP'!D40=0,'Set UP'!E40=0),\"\",RANK(JV54,$JV$21:$JV$60,0))","v":""},{"$f":"IF(OR('Set UP'!F40<>\"NS\",'Set UP'!C40=0,'Set UP'!D40=0,'Set UP'!E40=0),\"\",$JP54)","v":""},{"$f":"IF(OR('Set UP'!F40<>\"NS\",'Set UP'!C40=0,'Set UP'!D40=0,'Set UP'!E40=0),\"\",RANK(JX54,$JX$21:$JX$60,0))","v":""},{"$f":"IF(OR('Set UP'!$C40=0,'Set UP'!$D40=0,'Set UP'!$E40=0,JP54=0),\"\",JP54/MAX(JP$21:JP$60)*1000)","v":""}]
[null,35,{"$f":"IF(OR('Set UP'!$C41=0,'Set UP'!$D41=0,'Set UP'!$E41=0,'Set UP'!F41=0),\"  --\",'Set UP'!C41)","v":"  --"},{"$f":"IF(OR('Set UP'!$C41=0,'Set UP'!$D41=0,'Set UP'!$E41=0,'Set UP'!F41=0),\"  --\",'Set UP'!D41&\" \"&'Set UP'!E41)","v":"  --"},{"$f":"IF(OR('Set UP'!$C41=0,'Set UP'!$D41=0,'Set UP'!$E41=0,'Set UP'!F41=0),\"  --\",'Set UP'!F41)","v":"  --"},null,null,null,null,null,null,null,null,null,null,null,null,null,null,null,null,null,null,null,null,null,null,null,null,null,null,{"$f":"IF(OR('Set UP'!$C41=0,'Set UP'!$D41=0,'Set UP'!$E41=0),\"\",(F$19*F55)+(G$19*G55)+(H$19*H55)+(I$19*I55)+(J$19*J55)+(K$19*K55)+(L$19*L55)+(M$19*M55)+(N$19*N55)+(O$19*O55)+(P$19*P55)+(Q$19*Q55)+(R$19*R55)+(S$19*S55)+(T$19*T55)+(U$19*U55)+(V$19*V55)+(W$19*W55)+(X$19*X55)+(Y$19*Y55)+(Z$19*Z55)+(AA$19*AA55)+(AB$19*AB55)+(AC$19*AC55)+(AD$19*AD55))","v":""},null,null,null,null,null,null,null,null,null,null,null,null,null,null,null,null,null,null,null,null,null,null,null,null,null,null,{"$f":"IF(OR('Set UP'!$C41=0,'Set UP'!$D41=0,'Set UP'!$E41=0),\"\",(AG$19*AG55)+(AH$19*AH55)+(AI$19*AI55)+(AJ$19*AJ55)+(AK$19*AK55)+(AL$19*AL55)+(AM$19*AM55)+(AN$19*AN55)+(AO$19*AO55)+(AP$19*AP55)+(AQ$19*AQ55)+(AR$19*AR55)+(AS$19*AS55)+(AT$19*AT55)+(AU$19*AU55)+(AV$19*AV55)+(AW$19*AW55)+(AX$19*AX55)+(AY$19*AY55)+(AZ$19*AZ55)+(BA$19*BA55)+(BB$19*BB55)+(BC$19*BC55)+(BD$19*BD55)+(BE$19*BE55))","v":""},null,null,null,null,null,null,null,null,null,null,null,null,null,null,null,null,null,null,null,null,null,null,null,null,null,null,{"$f":"IF(OR('Set UP'!$C41=0,'Set UP'!$D41=0,'Set UP'!$E41=0),\"\",(BH$19*BH55)+(BI$19*BI55)+(BJ$19*BJ55)+(BK$19*BK55)+(BL$19*BL55)+(BM$19*BM55)+(BN$19*BN55)+(BO$19*BO55)+(BP$19*BP55)+(BQ$19*BQ55)+(BR$19*BR55)+(BS$19*BS55)+(BT$19*BT55)+(BU$19*BU55)+(BV$19*BV55)+(BW$19*BW55)+(BX$19*BX55)+(BY$19*BY55)+(BZ$19*BZ55)+(CA$19*CA55)+(CB$19*CB55)+(CC$19*CC55)+(CD$19*CD55)+(CE$19*CE55)+(CF$19*CF55))","v":""},null,null,null,null,null,null,null,null,null,null,null,null,null,null,null,null,null,null,null,null,null,null,null,null,null,null,{"$f":"IF(OR('Set UP'!$C41=0,'Set UP'!$D41=0,'Set UP'!$E41=0),\"\",(CI$19*CI55)+(CJ$19*CJ55)+(CK$19*CK55)+(CL$19*CL55)+(CM$19*CM55)+(CN$19*CN55)+(CO$19*CO55)+(CP$19*CP55)+(CQ$19*CQ55)+(CR$19*CR55)+(CS$19*CS55)+(CT$19*CT55)+(CU$19*CU55)+(CV$19*CV55)+(CW$19*CW55)+(CX$19*CX55)+(CY$19*CY55)+(CZ$19*CZ55)+(DA$19*DA55)+(DB$19*DB55)+(DC$19*DC55)+(DD$19*DD55)+(DE$19*DE55)+(DF$19*DF55)+(DG$19*DG55))","v":""},null,null,null,null,null,null,null,null,null,null,null,null,null,null,null,null,null,null,null,null,null,null,null,null,null,null,{"$f":"IF(OR('Set UP'!$C41=0,'Set UP'!$D41=0,'Set UP'!$E41=0),\"\",(DJ$19*DJ55)+(DK$19*DK55)+(DL$19*DL55)+(DM$19*DM55)+(DN$19*DN55)+(DO$19*DO55)+(DP$19*DP55)+(DQ$19*DQ55)+(DR$19*DR55)+(DS$19*DS55)+(DT$19*DT55)+(DU$19*DU55)+(DV$19*DV55)+(DW$19*DW55)+(DX$19*DX55)+(DY$19*DY55)+(DZ$19*DZ55)+(EA$19*EA55)+(EB$19*EB55)+(EC$19*EC55)+(ED$19*ED55)+(EE$19*EE55)+(EF$19*EF55)+(EG$19*EG55)+(EH$19*EH55))","v":""},null,null,null,null,null,null,null,null,null,null,null,null,null,null,null,null,null,null,null,null,null,null,null,null,null,null,{"$f":"IF(OR('Set UP'!$C41=0,'Set UP'!$D41=0,'Set UP'!$E41=0),\"\",(EK$19*EK55)+(EL$19*EL55)+(EM$19*EM55)+(EN$19*EN55)+(EO$19*EO55)+(EP$19*EP55)+(EQ$19*EQ55)+(ER$19*ER55)+(ES$19*ES55)+(ET$19*ET55)+(EU$19*EU55)+(EV$19*EV55)+(EW$19*EW55)+(EX$19*EX55)+(EY$19*EY55)+(EZ$19*EZ55)+(FA$19*FA55)+(FB$19*FB55)+(FC$19*FC55)+(FD$19*FD55)+(FE$19*FE55)+(FF$19*FF55)+(FG$19*FG55)+(FH$19*FH55)+(FI$19*FI55))","v":""},null,null,null,null,null,null,null,null,null,null,null,null,null,null,null,null,null,null,null,null,null,null,null,null,null,null,{"$f":"IF(OR('Set UP'!$C41=0,'Set UP'!$D41=0,'Set UP'!$E41=0),\"\",(FL$19*FL55)+(FM$19*FM55)+(FN$19*FN55)+(FO$19*FO55)+(FP$19*FP55)+(FQ$19*FQ55)+(FR$19*FR55)+(FS$19*FS55)+(FT$19*FT55)+(FU$19*FU55)+(FV$19*FV55)+(FW$19*FW55)+(FX$19*FX55)+(FY$19*FY55)+(FZ$19*FZ55)+(GA$19*GA55)+(GB$19*GB55)+(GC$19*GC55)+(GD$19*GD55)+(GE$19*GE55)+(GF$19*GF55)+(GG$19*GG55)+(GH$19*GH55)+(GI$19*GI55)+(GJ$19*GJ55))","v":""},null,null,null,null,null,null,null,null,null,null,null,null,null,null,null,null,null,null,null,null,null,null,null,null,null,null,{"$f":"IF(OR('Set UP'!$C41=0,'Set UP'!$D41=0,'Set UP'!$E41=0),\"\",(GM$19*GM55)+(GN$19*GN55)+(GO$19*GO55)+(GP$19*GP55)+(GQ$19*GQ55)+(GR$19*GR55)+(GS$19*GS55)+(GT$19*GT55)+(GU$19*GU55)+(GV$19*GV55)+(GW$19*GW55)+(GX$19*GX55)+(GY$19*GY55)+(GZ$19*GZ55)+(HA$19*HA55)+(HB$19*HB55)+(HC$19*HC55)+(HD$19*HD55)+(HE$19*HE55)+(HF$19*HF55)+(HG$19*HG55)+(HH$19*HH55)+(HI$19*HI55)+(HJ$19*HJ55)+(HK$19*HK55))","v":""},null,null,null,null,null,null,null,null,null,null,null,null,null,null,null,null,null,null,null,null,null,null,null,null,null,null,{"$f":"IF(OR('Set UP'!$C41=0,'Set UP'!$D41=0,'Set UP'!$E41=0),\"\",(HN$19*HN55)+(HO$19*HO55)+(HP$19*HP55)+(HQ$19*HQ55)+(HR$19*HR55)+(HS$19*HS55)+(HT$19*HT55)+(HU$19*HU55)+(HV$19*HV55)+(HW$19*HW55)+(HX$19*HX55)+(HY$19*HY55)+(HZ$19*HZ55)+(IA$19*IA55)+(IB$19*IB55)+(IC$19*IC55)+(ID$19*ID55)+(IE$19*IE55)+(IF$19*IF55)+(IG$19*IG55)+(IH$19*IH55)+(II$19*II55)+(IJ$19*IJ55)+(IK$19*IK55)+(IL$19*IL55))","v":""},null,null,null,null,null,null,null,null,null,null,null,null,null,null,null,null,null,null,null,null,null,null,null,null,null,null,{"$f":"IF(OR('Set UP'!$C41=0,'Set UP'!$D41=0,'Set UP'!$E41=0),\"\",(IO$19*IO55)+(IP$19*IP55)+(IQ$19*IQ55)+(IR$19*IR55)+(IS$19*IS55)+(IT$19*IT55)+(IU$19*IU55)+(IV$19*IV55)+(IW$19*IW55)+(IX$19*IX55)+(IY$19*IY55)+(IZ$19*IZ55)+(JA$19*JA55)+(JB$19*JB55)+(JC$19*JC55)+(JD$19*JD55)+(JE$19*JE55)+(JF$19*JF55)+(JG$19*JG55)+(JH$19*JH55)+(JI$19*JI55)+(JJ$19*JJ55)+(JK$19*JK55)+(JL$19*JL55)+(JM$19*JM55))","v":""},{"$f":"IF(OR('Set UP'!$C41=0,'Set UP'!$D41=0,'Set UP'!$E41=0),\"\",(AF55+BG55+CH55+DI55+EJ55+FK55+GL55+HM55+JO55+IN55))","v":""},{"$f":"IF(OR('Set UP'!$C41=0,'Set UP'!$D41=0,'Set UP'!$E41=0),\"\",RANK(JP55,$JP$21:$JP$60,0))","v":""},{"$f":"IF(OR('Set UP'!K41<>1,'Set UP'!C41=0,'Set UP'!D41=0,'Set UP'!E41=0,'Set UP'!F41=0),\"\",$JP55)","v":""},{"$f":"IF(OR('Set UP'!K41<>1,'Set UP'!C41=0,'Set UP'!D41=0,'Set UP'!E41=0,'Set UP'!F41=0),\"\",RANK(JR55,$JR$21:$JR$60,0))","v":""},{"$f":"IF(OR('Set UP'!K41<>2,'Set UP'!C41=0,'Set UP'!D41=0,'Set UP'!E41=0,'Set UP'!F41=0),\"\",$JP55)","v":""},{"$f":"IF(OR('Set UP'!K41<>2,'Set UP'!C41=0,'Set UP'!D41=0,'Set UP'!E41=0,'Set UP'!F41=0),\"\",RANK(JT55,$JT$21:$JT$60,0))","v":""},{"$f":"IF(OR('Set UP'!F41<>\"F\",'Set UP'!C41=0,'Set UP'!D41=0,'Set UP'!E41=0),\"\",$JP55)","v":""},{"$f":"IF(OR('Set UP'!F41<>\"F\",'Set UP'!C41=0,'Set UP'!D41=0,'Set UP'!E41=0),\"\",RANK(JV55,$JV$21:$JV$60,0))","v":""},{"$f":"IF(OR('Set UP'!F41<>\"NS\",'Set UP'!C41=0,'Set UP'!D41=0,'Set UP'!E41=0),\"\",$JP55)","v":""},{"$f":"IF(OR('Set UP'!F41<>\"NS\",'Set UP'!C41=0,'Set UP'!D41=0,'Set UP'!E41=0),\"\",RANK(JX55,$JX$21:$JX$60,0))","v":""},{"$f":"IF(OR('Set UP'!$C41=0,'Set UP'!$D41=0,'Set UP'!$E41=0,JP55=0),\"\",JP55/MAX(JP$21:JP$60)*1000)","v":""}]
[null,36,{"$f":"IF(OR('Set UP'!$C42=0,'Set UP'!$D42=0,'Set UP'!$E42=0,'Set UP'!F42=0),\"  --\",'Set UP'!C42)","v":"  --"},{"$f":"IF(OR('Set UP'!$C42=0,'Set UP'!$D42=0,'Set UP'!$E42=0,'Set UP'!F42=0),\"  --\",'Set UP'!D42&\" \"&'Set UP'!E42)","v":"  --"},{"$f":"IF(OR('Set UP'!$C42=0,'Set UP'!$D42=0,'Set UP'!$E42=0,'Set UP'!F42=0),\"  --\",'Set UP'!F42)","v":"  --"},null,null,null,null,null,null,null,null,null,null,null,null,null,null,null,null,null,null,null,null,null,null,null,null,null,null,{"$f":"IF(OR('Set UP'!$C42=0,'Set UP'!$D42=0,'Set UP'!$E42=0),\"\",(F$19*F56)+(G$19*G56)+(H$19*H56)+(I$19*I56)+(J$19*J56)+(K$19*K56)+(L$19*L56)+(M$19*M56)+(N$19*N56)+(O$19*O56)+(P$19*P56)+(Q$19*Q56)+(R$19*R56)+(S$19*S56)+(T$19*T56)+(U$19*U56)+(V$19*V56)+(W$19*W56)+(X$19*X56)+(Y$19*Y56)+(Z$19*Z56)+(AA$19*AA56)+(AB$19*AB56)+(AC$19*AC56)+(AD$19*AD56))","v":""},null,null,null,null,null,null,null,null,null,null,null,null,null,null,null,null,null,null,null,null,null,null,null,null,null,null,{"$f":"IF(OR('Set UP'!$C42=0,'Set UP'!$D42=0,'Set UP'!$E42=0),\"\",(AG$19*AG56)+(AH$19*AH56)+(AI$19*AI56)+(AJ$19*AJ56)+(AK$19*AK56)+(AL$19*AL56)+(AM$19*AM56)+(AN$19*AN56)+(AO$19*AO56)+(AP$19*AP56)+(AQ$19*AQ56)+(AR$19*AR56)+(AS$19*AS56)+(AT$19*AT56)+(AU$19*AU56)+(AV$19*AV56)+(AW$19*AW56)+(AX$19*AX56)+(AY$19*AY56)+(AZ$19*AZ56)+(BA$19*BA56)+(BB$19*BB56)+(BC$19*BC56)+(BD$19*BD56)+(BE$19*BE56))","v":""},null,null,null,null,null,null,null,null,null,null,null,null,null,null,null,null,null,null,null,null,null,null,null,null,null,null,{"$f":"IF(OR('Set UP'!$C42=0,'Set UP'!$D42=0,'Set UP'!$E42=0),\"\",(BH$19*BH56)+(BI$19*BI56)+(BJ$19*BJ56)+(BK$19*BK56)+(BL$19*BL56)+(BM$19*BM56)+(BN$19*BN56)+(BO$19*BO56)+(BP$19*BP56)+(BQ$19*BQ56)+(BR$19*BR56)+(BS$19*BS56)+(BT$19*BT56)+(BU$19*BU56)+(BV$19*BV56)+(BW$19*BW56)+(BX$19*BX56)+(BY$19*BY56)+(BZ$19*BZ56)+(CA$19*CA56)+(CB$19*CB56)+(CC$19*CC56)+(CD$19*CD56)+(CE$19*CE56)+(CF$19*CF56))","v":""},null,null,null,null,null,null,null,null,null,null,null,null,null,null,null,null,null,null,null,null,null,null,null,null,null,null,{"$f":"IF(OR('Set UP'!$C42=0,'Set UP'!$D42=0,'Set UP'!$E42=0),\"\",(CI$19*CI56)+(CJ$19*CJ56)+(CK$19*CK56)+(CL$19*CL56)+(CM$19*CM56)+(CN$19*CN56)+(CO$19*CO56)+(CP$19*CP56)+(CQ$19*CQ56)+(CR$19*CR56)+(CS$19*CS56)+(CT$19*CT56)+(CU$19*CU56)+(CV$19*CV56)+(CW$19*CW56)+(CX$19*CX56)+(CY$19*CY56)+(CZ$19*CZ56)+(DA$19*DA56)+(DB$19*DB56)+(DC$19*DC56)+(DD$19*DD56)+(DE$19*DE56)+(DF$19*DF56)+(DG$19*DG56))","v":""},null,null,null,null,null,null,null,null,null,null,null,null,null,null,null,null,null,null,null,null,null,null,null,null,null,null,{"$f":"IF(OR('Set UP'!$C42=0,'Set UP'!$D42=0,'Set UP'!$E42=0),\"\",(DJ$19*DJ56)+(DK$19*DK56)+(DL$19*DL56)+(DM$19*DM56)+(DN$19*DN56)+(DO$19*DO56)+(DP$19*DP56)+(DQ$19*DQ56)+(DR$19*DR56)+(DS$19*DS56)+(DT$19*DT56)+(DU$19*DU56)+(DV$19*DV56)+(DW$19*DW56)+(DX$19*DX56)+(DY$19*DY56)+(DZ$19*DZ56)+(EA$19*EA56)+(EB$19*EB56)+(EC$19*EC56)+(ED$19*ED56)+(EE$19*EE56)+(EF$19*EF56)+(EG$19*EG56)+(EH$19*EH56))","v":""},null,null,null,null,null,null,null,null,null,null,null,null,null,null,null,null,null,null,null,null,null,null,null,null,null,null,{"$f":"IF(OR('Set UP'!$C42=0,'Set UP'!$D42=0,'Set UP'!$E42=0),\"\",(EK$19*EK56)+(EL$19*EL56)+(EM$19*EM56)+(EN$19*EN56)+(EO$19*EO56)+(EP$19*EP56)+(EQ$19*EQ56)+(ER$19*ER56)+(ES$19*ES56)+(ET$19*ET56)+(EU$19*EU56)+(EV$19*EV56)+(EW$19*EW56)+(EX$19*EX56)+(EY$19*EY56)+(EZ$19*EZ56)+(FA$19*FA56)+(FB$19*FB56)+(FC$19*FC56)+(FD$19*FD56)+(FE$19*FE56)+(FF$19*FF56)+(FG$19*FG56)+(FH$19*FH56)+(FI$19*FI56))","v":""},null,null,null,null,null,null,null,null,null,null,null,null,null,null,null,null,null,null,null,null,null,null,null,null,null,null,{"$f":"IF(OR('Set UP'!$C42=0,'Set UP'!$D42=0,'Set UP'!$E42=0),\"\",(FL$19*FL56)+(FM$19*FM56)+(FN$19*FN56)+(FO$19*FO56)+(FP$19*FP56)+(FQ$19*FQ56)+(FR$19*FR56)+(FS$19*FS56)+(FT$19*FT56)+(FU$19*FU56)+(FV$19*FV56)+(FW$19*FW56)+(FX$19*FX56)+(FY$19*FY56)+(FZ$19*FZ56)+(GA$19*GA56)+(GB$19*GB56)+(GC$19*GC56)+(GD$19*GD56)+(GE$19*GE56)+(GF$19*GF56)+(GG$19*GG56)+(GH$19*GH56)+(GI$19*GI56)+(GJ$19*GJ56))","v":""},null,null,null,null,null,null,null,null,null,null,null,null,null,null,null,null,null,null,null,null,null,null,null,null,null,null,{"$f":"IF(OR('Set UP'!$C42=0,'Set UP'!$D42=0,'Set UP'!$E42=0),\"\",(GM$19*GM56)+(GN$19*GN56)+(GO$19*GO56)+(GP$19*GP56)+(GQ$19*GQ56)+(GR$19*GR56)+(GS$19*GS56)+(GT$19*GT56)+(GU$19*GU56)+(GV$19*GV56)+(GW$19*GW56)+(GX$19*GX56)+(GY$19*GY56)+(GZ$19*GZ56)+(HA$19*HA56)+(HB$19*HB56)+(HC$19*HC56)+(HD$19*HD56)+(HE$19*HE56)+(HF$19*HF56)+(HG$19*HG56)+(HH$19*HH56)+(HI$19*HI56)+(HJ$19*HJ56)+(HK$19*HK56))","v":""},null,null,null,null,null,null,null,null,null,null,null,null,null,null,null,null,null,null,null,null,null,null,null,null,null,null,{"$f":"IF(OR('Set UP'!$C42=0,'Set UP'!$D42=0,'Set UP'!$E42=0),\"\",(HN$19*HN56)+(HO$19*HO56)+(HP$19*HP56)+(HQ$19*HQ56)+(HR$19*HR56)+(HS$19*HS56)+(HT$19*HT56)+(HU$19*HU56)+(HV$19*HV56)+(HW$19*HW56)+(HX$19*HX56)+(HY$19*HY56)+(HZ$19*HZ56)+(IA$19*IA56)+(IB$19*IB56)+(IC$19*IC56)+(ID$19*ID56)+(IE$19*IE56)+(IF$19*IF56)+(IG$19*IG56)+(IH$19*IH56)+(II$19*II56)+(IJ$19*IJ56)+(IK$19*IK56)+(IL$19*IL56))","v":""},null,null,null,null,null,null,null,null,null,null,null,null,null,null,null,null,null,null,null,null,null,null,null,null,null,null,{"$f":"IF(OR('Set UP'!$C42=0,'Set UP'!$D42=0,'Set UP'!$E42=0),\"\",(IO$19*IO56)+(IP$19*IP56)+(IQ$19*IQ56)+(IR$19*IR56)+(IS$19*IS56)+(IT$19*IT56)+(IU$19*IU56)+(IV$19*IV56)+(IW$19*IW56)+(IX$19*IX56)+(IY$19*IY56)+(IZ$19*IZ56)+(JA$19*JA56)+(JB$19*JB56)+(JC$19*JC56)+(JD$19*JD56)+(JE$19*JE56)+(JF$19*JF56)+(JG$19*JG56)+(JH$19*JH56)+(JI$19*JI56)+(JJ$19*JJ56)+(JK$19*JK56)+(JL$19*JL56)+(JM$19*JM56))","v":""},{"$f":"IF(OR('Set UP'!$C42=0,'Set UP'!$D42=0,'Set UP'!$E42=0),\"\",(AF56+BG56+CH56+DI56+EJ56+FK56+GL56+HM56+JO56+IN56))","v":""},{"$f":"IF(OR('Set UP'!$C42=0,'Set UP'!$D42=0,'Set UP'!$E42=0),\"\",RANK(JP56,$JP$21:$JP$60,0))","v":""},{"$f":"IF(OR('Set UP'!K42<>1,'Set UP'!C42=0,'Set UP'!D42=0,'Set UP'!E42=0,'Set UP'!F42=0),\"\",$JP56)","v":""},{"$f":"IF(OR('Set UP'!K42<>1,'Set UP'!C42=0,'Set UP'!D42=0,'Set UP'!E42=0,'Set UP'!F42=0),\"\",RANK(JR56,$JR$21:$JR$60,0))","v":""},{"$f":"IF(OR('Set UP'!K42<>2,'Set UP'!C42=0,'Set UP'!D42=0,'Set UP'!E42=0,'Set UP'!F42=0),\"\",$JP56)","v":""},{"$f":"IF(OR('Set UP'!K42<>2,'Set UP'!C42=0,'Set UP'!D42=0,'Set UP'!E42=0,'Set UP'!F42=0),\"\",RANK(JT56,$JT$21:$JT$60,0))","v":""},{"$f":"IF(OR('Set UP'!F42<>\"F\",'Set UP'!C42=0,'Set UP'!D42=0,'Set UP'!E42=0),\"\",$JP56)","v":""},{"$f":"IF(OR('Set UP'!F42<>\"F\",'Set UP'!C42=0,'Set UP'!D42=0,'Set UP'!E42=0),\"\",RANK(JV56,$JV$21:$JV$60,0))","v":""},{"$f":"IF(OR('Set UP'!F42<>\"NS\",'Set UP'!C42=0,'Set UP'!D42=0,'Set UP'!E42=0),\"\",$JP56)","v":""},{"$f":"IF(OR('Set UP'!F42<>\"NS\",'Set UP'!C42=0,'Set UP'!D42=0,'Set UP'!E42=0),\"\",RANK(JX56,$JX$21:$JX$60,0))","v":""},{"$f":"IF(OR('Set UP'!$C42=0,'Set UP'!$D42=0,'Set UP'!$E42=0,JP56=0),\"\",JP56/MAX(JP$21:JP$60)*1000)","v":""}]
[null,37,{"$f":"IF(OR('Set UP'!$C43=0,'Set UP'!$D43=0,'Set UP'!$E43=0,'Set UP'!F43=0),\"  --\",'Set UP'!C43)","v":"  --"},{"$f":"IF(OR('Set UP'!$C43=0,'Set UP'!$D43=0,'Set UP'!$E43=0,'Set UP'!F43=0),\"  --\",'Set UP'!D43&\" \"&'Set UP'!E43)","v":"  --"},{"$f":"IF(OR('Set UP'!$C43=0,'Set UP'!$D43=0,'Set UP'!$E43=0,'Set UP'!F43=0),\"  --\",'Set UP'!F43)","v":"  --"},null,null,null,null,null,null,null,null,null,null,null,null,null,null,null,null,null,null,null,null,null,null,null,null,null,null,{"$f":"IF(OR('Set UP'!$C43=0,'Set UP'!$D43=0,'Set UP'!$E43=0),\"\",(F$19*F57)+(G$19*G57)+(H$19*H57)+(I$19*I57)+(J$19*J57)+(K$19*K57)+(L$19*L57)+(M$19*M57)+(N$19*N57)+(O$19*O57)+(P$19*P57)+(Q$19*Q57)+(R$19*R57)+(S$19*S57)+(T$19*T57)+(U$19*U57)+(V$19*V57)+(W$19*W57)+(X$19*X57)+(Y$19*Y57)+(Z$19*Z57)+(AA$19*AA57)+(AB$19*AB57)+(AC$19*AC57)+(AD$19*AD57))","v":""},null,null,null,null,null,null,null,null,null,null,null,null,null,null,null,null,null,null,null,null,null,null,null,null,null,null,{"$f":"IF(OR('Set UP'!$C43=0,'Set UP'!$D43=0,'Set UP'!$E43=0),\"\",(AG$19*AG57)+(AH$19*AH57)+(AI$19*AI57)+(AJ$19*AJ57)+(AK$19*AK57)+(AL$19*AL57)+(AM$19*AM57)+(AN$19*AN57)+(AO$19*AO57)+(AP$19*AP57)+(AQ$19*AQ57)+(AR$19*AR57)+(AS$19*AS57)+(AT$19*AT57)+(AU$19*AU57)+(AV$19*AV57)+(AW$19*AW57)+(AX$19*AX57)+(AY$19*AY57)+(AZ$19*AZ57)+(BA$19*BA57)+(BB$19*BB57)+(BC$19*BC57)+(BD$19*BD57)+(BE$19*BE57))","v":""},null,null,null,null,null,null,null,null,null,null,null,null,null,null,null,null,null,null,null,null,null,null,null,null,null,null,{"$f":"IF(OR('Set UP'!$C43=0,'Set UP'!$D43=0,'Set UP'!$E43=0),\"\",(BH$19*BH57)+(BI$19*BI57)+(BJ$19*BJ57)+(BK$19*BK57)+(BL$19*BL57)+(BM$19*BM57)+(BN$19*BN57)+(BO$19*BO57)+(BP$19*BP57)+(BQ$19*BQ57)+(BR$19*BR57)+(BS$19*BS57)+(BT$19*BT57)+(BU$19*BU57)+(BV$19*BV57)+(BW$19*BW57)+(BX$19*BX57)+(BY$19*BY57)+(BZ$19*BZ57)+(CA$19*CA57)+(CB$19*CB57)+(CC$19*CC57)+(CD$19*CD57)+(CE$19*CE57)+(CF$19*CF57))","v":""},null,null,null,null,null,null,null,null,null,null,null,null,null,null,null,null,null,null,null,null,null,null,null,null,null,null,{"$f":"IF(OR('Set UP'!$C43=0,'Set UP'!$D43=0,'Set UP'!$E43=0),\"\",(CI$19*CI57)+(CJ$19*CJ57)+(CK$19*CK57)+(CL$19*CL57)+(CM$19*CM57)+(CN$19*CN57)+(CO$19*CO57)+(CP$19*CP57)+(CQ$19*CQ57)+(CR$19*CR57)+(CS$19*CS57)+(CT$19*CT57)+(CU$19*CU57)+(CV$19*CV57)+(CW$19*CW57)+(CX$19*CX57)+(CY$19*CY57)+(CZ$19*CZ57)+(DA$19*DA57)+(DB$19*DB57)+(DC$19*DC57)+(DD$19*DD57)+(DE$19*DE57)+(DF$19*DF57)+(DG$19*DG57))","v":""},null,null,null,null,null,null,null,null,null,null,null,null,null,null,null,null,null,null,null,null,null,null,null,null,null,null,{"$f":"IF(OR('Set UP'!$C43=0,'Set UP'!$D43=0,'Set UP'!$E43=0),\"\",(DJ$19*DJ57)+(DK$19*DK57)+(DL$19*DL57)+(DM$19*DM57)+(DN$19*DN57)+(DO$19*DO57)+(DP$19*DP57)+(DQ$19*DQ57)+(DR$19*DR57)+(DS$19*DS57)+(DT$19*DT57)+(DU$19*DU57)+(DV$19*DV57)+(DW$19*DW57)+(DX$19*DX57)+(DY$19*DY57)+(DZ$19*DZ57)+(EA$19*EA57)+(EB$19*EB57)+(EC$19*EC57)+(ED$19*ED57)+(EE$19*EE57)+(EF$19*EF57)+(EG$19*EG57)+(EH$19*EH57))","v":""},null,null,null,null,null,null,null,null,null,null,null,null,null,null,null,null,null,null,null,null,null,null,null,null,null,null,{"$f":"IF(OR('Set UP'!$C43=0,'Set UP'!$D43=0,'Set UP'!$E43=0),\"\",(EK$19*EK57)+(EL$19*EL57)+(EM$19*EM57)+(EN$19*EN57)+(EO$19*EO57)+(EP$19*EP57)+(EQ$19*EQ57)+(ER$19*ER57)+(ES$19*ES57)+(ET$19*ET57)+(EU$19*EU57)+(EV$19*EV57)+(EW$19*EW57)+(EX$19*EX57)+(EY$19*EY57)+(EZ$19*EZ57)+(FA$19*FA57)+(FB$19*FB57)+(FC$19*FC57)+(FD$19*FD57)+(FE$19*FE57)+(FF$19*FF57)+(FG$19*FG57)+(FH$19*FH57)+(FI$19*FI57))","v":""},null,null,null,null,null,null,null,null,null,null,null,null,null,null,null,null,null,null,null,null,null,null,null,null,null,null,{"$f":"IF(OR('Set UP'!$C43=0,'Set UP'!$D43=0,'Set UP'!$E43=0),\"\",(FL$19*FL57)+(FM$19*FM57)+(FN$19*FN57)+(FO$19*FO57)+(FP$19*FP57)+(FQ$19*FQ57)+(FR$19*FR57)+(FS$19*FS57)+(FT$19*FT57)+(FU$19*FU57)+(FV$19*FV57)+(FW$19*FW57)+(FX$19*FX57)+(FY$19*FY57)+(FZ$19*FZ57)+(GA$19*GA57)+(GB$19*GB57)+(GC$19*GC57)+(GD$19*GD57)+(GE$19*GE57)+(GF$19*GF57)+(GG$19*GG57)+(GH$19*GH57)+(GI$19*GI57)+(GJ$19*GJ57))","v":""},null,null,null,null,null,null,null,null,null,null,null,null,null,null,null,null,null,null,null,null,null,null,null,null,null,null,{"$f":"IF(OR('Set UP'!$C43=0,'Set UP'!$D43=0,'Set UP'!$E43=0),\"\",(GM$19*GM57)+(GN$19*GN57)+(GO$19*GO57)+(GP$19*GP57)+(GQ$19*GQ57)+(GR$19*GR57)+(GS$19*GS57)+(GT$19*GT57)+(GU$19*GU57)+(GV$19*GV57)+(GW$19*GW57)+(GX$19*GX57)+(GY$19*GY57)+(GZ$19*GZ57)+(HA$19*HA57)+(HB$19*HB57)+(HC$19*HC57)+(HD$19*HD57)+(HE$19*HE57)+(HF$19*HF57)+(HG$19*HG57)+(HH$19*HH57)+(HI$19*HI57)+(HJ$19*HJ57)+(HK$19*HK57))","v":""},null,null,null,null,null,null,null,null,null,null,null,null,null,null,null,null,null,null,null,null,null,null,null,null,null,null,{"$f":"IF(OR('Set UP'!$C43=0,'Set UP'!$D43=0,'Set UP'!$E43=0),\"\",(HN$19*HN57)+(HO$19*HO57)+(HP$19*HP57)+(HQ$19*HQ57)+(HR$19*HR57)+(HS$19*HS57)+(HT$19*HT57)+(HU$19*HU57)+(HV$19*HV57)+(HW$19*HW57)+(HX$19*HX57)+(HY$19*HY57)+(HZ$19*HZ57)+(IA$19*IA57)+(IB$19*IB57)+(IC$19*IC57)+(ID$19*ID57)+(IE$19*IE57)+(IF$19*IF57)+(IG$19*IG57)+(IH$19*IH57)+(II$19*II57)+(IJ$19*IJ57)+(IK$19*IK57)+(IL$19*IL57))","v":""},null,null,null,null,null,null,null,null,null,null,null,null,null,null,null,null,null,null,null,null,null,null,null,null,null,null,{"$f":"IF(OR('Set UP'!$C43=0,'Set UP'!$D43=0,'Set UP'!$E43=0),\"\",(IO$19*IO57)+(IP$19*IP57)+(IQ$19*IQ57)+(IR$19*IR57)+(IS$19*IS57)+(IT$19*IT57)+(IU$19*IU57)+(IV$19*IV57)+(IW$19*IW57)+(IX$19*IX57)+(IY$19*IY57)+(IZ$19*IZ57)+(JA$19*JA57)+(JB$19*JB57)+(JC$19*JC57)+(JD$19*JD57)+(JE$19*JE57)+(JF$19*JF57)+(JG$19*JG57)+(JH$19*JH57)+(JI$19*JI57)+(JJ$19*JJ57)+(JK$19*JK57)+(JL$19*JL57)+(JM$19*JM57))","v":""},{"$f":"IF(OR('Set UP'!$C43=0,'Set UP'!$D43=0,'Set UP'!$E43=0),\"\",(AF57+BG57+CH57+DI57+EJ57+FK57+GL57+HM57+JO57+IN57))","v":""},{"$f":"IF(OR('Set UP'!$C43=0,'Set UP'!$D43=0,'Set UP'!$E43=0),\"\",RANK(JP57,$JP$21:$JP$60,0))","v":""},{"$f":"IF(OR('Set UP'!K43<>1,'Set UP'!C43=0,'Set UP'!D43=0,'Set UP'!E43=0,'Set UP'!F43=0),\"\",$JP57)","v":""},{"$f":"IF(OR('Set UP'!K43<>1,'Set UP'!C43=0,'Set UP'!D43=0,'Set UP'!E43=0,'Set UP'!F43=0),\"\",RANK(JR57,$JR$21:$JR$60,0))","v":""},{"$f":"IF(OR('Set UP'!K43<>2,'Set UP'!C43=0,'Set UP'!D43=0,'Set UP'!E43=0,'Set UP'!F43=0),\"\",$JP57)","v":""},{"$f":"IF(OR('Set UP'!K43<>2,'Set UP'!C43=0,'Set UP'!D43=0,'Set UP'!E43=0,'Set UP'!F43=0),\"\",RANK(JT57,$JT$21:$JT$60,0))","v":""},{"$f":"IF(OR('Set UP'!F43<>\"F\",'Set UP'!C43=0,'Set UP'!D43=0,'Set UP'!E43=0),\"\",$JP57)","v":""},{"$f":"IF(OR('Set UP'!F43<>\"F\",'Set UP'!C43=0,'Set UP'!D43=0,'Set UP'!E43=0),\"\",RANK(JV57,$JV$21:$JV$60,0))","v":""},{"$f":"IF(OR('Set UP'!F43<>\"NS\",'Set UP'!C43=0,'Set UP'!D43=0,'Set UP'!E43=0),\"\",$JP57)","v":""},{"$f":"IF(OR('Set UP'!F43<>\"NS\",'Set UP'!C43=0,'Set UP'!D43=0,'Set UP'!E43=0),\"\",RANK(JX57,$JX$21:$JX$60,0))","v":""},{"$f":"IF(OR('Set UP'!$C43=0,'Set UP'!$D43=0,'Set UP'!$E43=0,JP57=0),\"\",JP57/MAX(JP$21:JP$60)*1000)","v":""}]
[null,38,{"$f":"IF(OR('Set UP'!$C44=0,'Set UP'!$D44=0,'Set UP'!$E44=0,'Set UP'!F44=0),\"  --\",'Set UP'!C44)","v":"  --"},{"$f":"IF(OR('Set UP'!$C44=0,'Set UP'!$D44=0,'Set UP'!$E44=0,'Set UP'!F44=0),\"  --\",'Set UP'!D44&\" \"&'Set UP'!E44)","v":"  --"},{"$f":"IF(OR('Set UP'!$C44=0,'Set UP'!$D44=0,'Set UP'!$E44=0,'Set UP'!F44=0),\"  --\",'Set UP'!F44)","v":"  --"},null,null,null,null,null,null,null,null,null,null,null,null,null,null,null,null,null,null,null,null,null,null,null,null,null,null,{"$f":"IF(OR('Set UP'!$C44=0,'Set UP'!$D44=0,'Set UP'!$E44=0),\"\",(F$19*F58)+(G$19*G58)+(H$19*H58)+(I$19*I58)+(J$19*J58)+(K$19*K58)+(L$19*L58)+(M$19*M58)+(N$19*N58)+(O$19*O58)+(P$19*P58)+(Q$19*Q58)+(R$19*R58)+(S$19*S58)+(T$19*T58)+(U$19*U58)+(V$19*V58)+(W$19*W58)+(X$19*X58)+(Y$19*Y58)+(Z$19*Z58)+(AA$19*AA58)+(AB$19*AB58)+(AC$19*AC58)+(AD$19*AD58))","v":""},null,null,null,null,null,null,null,null,null,null,null,null,null,null,null,null,null,null,null,null,null,null,null,null,null,null,{"$f":"IF(OR('Set UP'!$C44=0,'Set UP'!$D44=0,'Set UP'!$E44=0),\"\",(AG$19*AG58)+(AH$19*AH58)+(AI$19*AI58)+(AJ$19*AJ58)+(AK$19*AK58)+(AL$19*AL58)+(AM$19*AM58)+(AN$19*AN58)+(AO$19*AO58)+(AP$19*AP58)+(AQ$19*AQ58)+(AR$19*AR58)+(AS$19*AS58)+(AT$19*AT58)+(AU$19*AU58)+(AV$19*AV58)+(AW$19*AW58)+(AX$19*AX58)+(AY$19*AY58)+(AZ$19*AZ58)+(BA$19*BA58)+(BB$19*BB58)+(BC$19*BC58)+(BD$19*BD58)+(BE$19*BE58))","v":""},null,null,null,null,null,null,null,null,null,null,null,null,null,null,null,null,null,null,null,null,null,null,null,null,null,null,{"$f":"IF(OR('Set UP'!$C44=0,'Set UP'!$D44=0,'Set UP'!$E44=0),\"\",(BH$19*BH58)+(BI$19*BI58)+(BJ$19*BJ58)+(BK$19*BK58)+(BL$19*BL58)+(BM$19*BM58)+(BN$19*BN58)+(BO$19*BO58)+(BP$19*BP58)+(BQ$19*BQ58)+(BR$19*BR58)+(BS$19*BS58)+(BT$19*BT58)+(BU$19*BU58)+(BV$19*BV58)+(BW$19*BW58)+(BX$19*BX58)+(BY$19*BY58)+(BZ$19*BZ58)+(CA$19*CA58)+(CB$19*CB58)+(CC$19*CC58)+(CD$19*CD58)+(CE$19*CE58)+(CF$19*CF58))","v":""},null,null,null,null,null,null,null,null,null,null,null,null,null,null,null,null,null,null,null,null,null,null,null,null,null,null,{"$f":"IF(OR('Set UP'!$C44=0,'Set UP'!$D44=0,'Set UP'!$E44=0),\"\",(CI$19*CI58)+(CJ$19*CJ58)+(CK$19*CK58)+(CL$19*CL58)+(CM$19*CM58)+(CN$19*CN58)+(CO$19*CO58)+(CP$19*CP58)+(CQ$19*CQ58)+(CR$19*CR58)+(CS$19*CS58)+(CT$19*CT58)+(CU$19*CU58)+(CV$19*CV58)+(CW$19*CW58)+(CX$19*CX58)+(CY$19*CY58)+(CZ$19*CZ58)+(DA$19*DA58)+(DB$19*DB58)+(DC$19*DC58)+(DD$19*DD58)+(DE$19*DE58)+(DF$19*DF58)+(DG$19*DG58))","v":""},null,null,null,null,null,null,null,null,null,null,null,null,null,null,null,null,null,null,null,null,null,null,null,null,null,null,{"$f":"IF(OR('Set UP'!$C44=0,'Set UP'!$D44=0,'Set UP'!$E44=0),\"\",(DJ$19*DJ58)+(DK$19*DK58)+(DL$19*DL58)+(DM$19*DM58)+(DN$19*DN58)+(DO$19*DO58)+(DP$19*DP58)+(DQ$19*DQ58)+(DR$19*DR58)+(DS$19*DS58)+(DT$19*DT58)+(DU$19*DU58)+(DV$19*DV58)+(DW$19*DW58)+(DX$19*DX58)+(DY$19*DY58)+(DZ$19*DZ58)+(EA$19*EA58)+(EB$19*EB58)+(EC$19*EC58)+(ED$19*ED58)+(EE$19*EE58)+(EF$19*EF58)+(EG$19*EG58)+(EH$19*EH58))","v":""},null,null,null,null,null,null,null,null,null,null,null,null,null,null,null,null,null,null,null,null,null,null,null,null,null,null,{"$f":"IF(OR('Set UP'!$C44=0,'Set UP'!$D44=0,'Set UP'!$E44=0),\"\",(EK$19*EK58)+(EL$19*EL58)+(EM$19*EM58)+(EN$19*EN58)+(EO$19*EO58)+(EP$19*EP58)+(EQ$19*EQ58)+(ER$19*ER58)+(ES$19*ES58)+(ET$19*ET58)+(EU$19*EU58)+(EV$19*EV58)+(EW$19*EW58)+(EX$19*EX58)+(EY$19*EY58)+(EZ$19*EZ58)+(FA$19*FA58)+(FB$19*FB58)+(FC$19*FC58)+(FD$19*FD58)+(FE$19*FE58)+(FF$19*FF58)+(FG$19*FG58)+(FH$19*FH58)+(FI$19*FI58))","v":""},null,null,null,null,null,null,null,null,null,null,null,null,null,null,null,null,null,null,null,null,null,null,null,null,null,null,{"$f":"IF(OR('Set UP'!$C44=0,'Set UP'!$D44=0,'Set UP'!$E44=0),\"\",(FL$19*FL58)+(FM$19*FM58)+(FN$19*FN58)+(FO$19*FO58)+(FP$19*FP58)+(FQ$19*FQ58)+(FR$19*FR58)+(FS$19*FS58)+(FT$19*FT58)+(FU$19*FU58)+(FV$19*FV58)+(FW$19*FW58)+(FX$19*FX58)+(FY$19*FY58)+(FZ$19*FZ58)+(GA$19*GA58)+(GB$19*GB58)+(GC$19*GC58)+(GD$19*GD58)+(GE$19*GE58)+(GF$19*GF58)+(GG$19*GG58)+(GH$19*GH58)+(GI$19*GI58)+(GJ$19*GJ58))","v":""},null,null,null,null,null,null,null,null,null,null,null,null,null,null,null,null,null,null,null,null,null,null,null,null,null,null,{"$f":"IF(OR('Set UP'!$C44=0,'Set UP'!$D44=0,'Set UP'!$E44=0),\"\",(GM$19*GM58)+(GN$19*GN58)+(GO$19*GO58)+(GP$19*GP58)+(GQ$19*GQ58)+(GR$19*GR58)+(GS$19*GS58)+(GT$19*GT58)+(GU$19*GU58)+(GV$19*GV58)+(GW$19*GW58)+(GX$19*GX58)+(GY$19*GY58)+(GZ$19*GZ58)+(HA$19*HA58)+(HB$19*HB58)+(HC$19*HC58)+(HD$19*HD58)+(HE$19*HE58)+(HF$19*HF58)+(HG$19*HG58)+(HH$19*HH58)+(HI$19*HI58)+(HJ$19*HJ58)+(HK$19*HK58))","v":""},null,null,null,null,null,null,null,null,null,null,null,null,null,null,null,null,null,null,null,null,null,null,null,null,null,null,{"$f":"IF(OR('Set UP'!$C44=0,'Set UP'!$D44=0,'Set UP'!$E44=0),\"\",(HN$19*HN58)+(HO$19*HO58)+(HP$19*HP58)+(HQ$19*HQ58)+(HR$19*HR58)+(HS$19*HS58)+(HT$19*HT58)+(HU$19*HU58)+(HV$19*HV58)+(HW$19*HW58)+(HX$19*HX58)+(HY$19*HY58)+(HZ$19*HZ58)+(IA$19*IA58)+(IB$19*IB58)+(IC$19*IC58)+(ID$19*ID58)+(IE$19*IE58)+(IF$19*IF58)+(IG$19*IG58)+(IH$19*IH58)+(II$19*II58)+(IJ$19*IJ58)+(IK$19*IK58)+(IL$19*IL58))","v":""},null,null,null,null,null,null,null,null,null,null,null,null,null,null,null,null,null,null,null,null,null,null,null,null,null,null,{"$f":"IF(OR('Set UP'!$C44=0,'Set UP'!$D44=0,'Set UP'!$E44=0),\"\",(IO$19*IO58)+(IP$19*IP58)+(IQ$19*IQ58)+(IR$19*IR58)+(IS$19*IS58)+(IT$19*IT58)+(IU$19*IU58)+(IV$19*IV58)+(IW$19*IW58)+(IX$19*IX58)+(IY$19*IY58)+(IZ$19*IZ58)+(JA$19*JA58)+(JB$19*JB58)+(JC$19*JC58)+(JD$19*JD58)+(JE$19*JE58)+(JF$19*JF58)+(JG$19*JG58)+(JH$19*JH58)+(JI$19*JI58)+(JJ$19*JJ58)+(JK$19*JK58)+(JL$19*JL58)+(JM$19*JM58))","v":""},{"$f":"IF(OR('Set UP'!$C44=0,'Set UP'!$D44=0,'Set UP'!$E44=0),\"\",(AF58+BG58+CH58+DI58+EJ58+FK58+GL58+HM58+JO58+IN58))","v":""},{"$f":"IF(OR('Set UP'!$C44=0,'Set UP'!$D44=0,'Set UP'!$E44=0),\"\",RANK(JP58,$JP$21:$JP$60,0))","v":""},{"$f":"IF(OR('Set UP'!K44<>1,'Set UP'!C44=0,'Set UP'!D44=0,'Set UP'!E44=0,'Set UP'!F44=0),\"\",$JP58)","v":""},{"$f":"IF(OR('Set UP'!K44<>1,'Set UP'!C44=0,'Set UP'!D44=0,'Set UP'!E44=0,'Set UP'!F44=0),\"\",RANK(JR58,$JR$21:$JR$60,0))","v":""},{"$f":"IF(OR('Set UP'!K44<>2,'Set UP'!C44=0,'Set UP'!D44=0,'Set UP'!E44=0,'Set UP'!F44=0),\"\",$JP58)","v":""},{"$f":"IF(OR('Set UP'!K44<>2,'Set UP'!C44=0,'Set UP'!D44=0,'Set UP'!E44=0,'Set UP'!F44=0),\"\",RANK(JT58,$JT$21:$JT$60,0))","v":""},{"$f":"IF(OR('Set UP'!F44<>\"F\",'Set UP'!C44=0,'Set UP'!D44=0,'Set UP'!E44=0),\"\",$JP58)","v":""},{"$f":"IF(OR('Set UP'!F44<>\"F\",'Set UP'!C44=0,'Set UP'!D44=0,'Set UP'!E44=0),\"\",RANK(JV58,$JV$21:$JV$60,0))","v":""},{"$f":"IF(OR('Set UP'!F44<>\"NS\",'Set UP'!C44=0,'Set UP'!D44=0,'Set UP'!E44=0),\"\",$JP58)","v":""},{"$f":"IF(OR('Set UP'!F44<>\"NS\",'Set UP'!C44=0,'Set UP'!D44=0,'Set UP'!E44=0),\"\",RANK(JX58,$JX$21:$JX$60,0))","v":""},{"$f":"IF(OR('Set UP'!$C44=0,'Set UP'!$D44=0,'Set UP'!$E44=0,JP58=0),\"\",JP58/MAX(JP$21:JP$60)*1000)","v":""}]
[null,39,{"$f":"IF(OR('Set UP'!$C45=0,'Set UP'!$D45=0,'Set UP'!$E45=0,'Set UP'!F45=0),\"  --\",'Set UP'!C45)","v":"  --"},{"$f":"IF(OR('Set UP'!$C45=0,'Set UP'!$D45=0,'Set UP'!$E45=0,'Set UP'!F45=0),\"  --\",'Set UP'!D45&\" \"&'Set UP'!E45)","v":"  --"},{"$f":"IF(OR('Set UP'!$C45=0,'Set UP'!$D45=0,'Set UP'!$E45=0,'Set UP'!F45=0),\"  --\",'Set UP'!F45)","v":"  --"},null,null,null,null,null,null,null,null,null,null,null,null,null,null,null,null,null,null,null,null,null,null,null,null,null,null,{"$f":"IF(OR('Set UP'!$C45=0,'Set UP'!$D45=0,'Set UP'!$E45=0),\"\",(F$19*F59)+(G$19*G59)+(H$19*H59)+(I$19*I59)+(J$19*J59)+(K$19*K59)+(L$19*L59)+(M$19*M59)+(N$19*N59)+(O$19*O59)+(P$19*P59)+(Q$19*Q59)+(R$19*R59)+(S$19*S59)+(T$19*T59)+(U$19*U59)+(V$19*V59)+(W$19*W59)+(X$19*X59)+(Y$19*Y59)+(Z$19*Z59)+(AA$19*AA59)+(AB$19*AB59)+(AC$19*AC59)+(AD$19*AD59))","v":""},null,null,null,null,null,null,null,null,null,null,null,null,null,null,null,null,null,null,null,null,null,null,null,null,null,null,{"$f":"IF(OR('Set UP'!$C45=0,'Set UP'!$D45=0,'Set UP'!$E45=0),\"\",(AG$19*AG59)+(AH$19*AH59)+(AI$19*AI59)+(AJ$19*AJ59)+(AK$19*AK59)+(AL$19*AL59)+(AM$19*AM59)+(AN$19*AN59)+(AO$19*AO59)+(AP$19*AP59)+(AQ$19*AQ59)+(AR$19*AR59)+(AS$19*AS59)+(AT$19*AT59)+(AU$19*AU59)+(AV$19*AV59)+(AW$19*AW59)+(AX$19*AX59)+(AY$19*AY59)+(AZ$19*AZ59)+(BA$19*BA59)+(BB$19*BB59)+(BC$19*BC59)+(BD$19*BD59)+(BE$19*BE59))","v":""},null,null,null,null,null,null,null,null,null,null,null,null,null,null,null,null,null,null,null,null,null,null,null,null,null,null,{"$f":"IF(OR('Set UP'!$C45=0,'Set UP'!$D45=0,'Set UP'!$E45=0),\"\",(BH$19*BH59)+(BI$19*BI59)+(BJ$19*BJ59)+(BK$19*BK59)+(BL$19*BL59)+(BM$19*BM59)+(BN$19*BN59)+(BO$19*BO59)+(BP$19*BP59)+(BQ$19*BQ59)+(BR$19*BR59)+(BS$19*BS59)+(BT$19*BT59)+(BU$19*BU59)+(BV$19*BV59)+(BW$19*BW59)+(BX$19*BX59)+(BY$19*BY59)+(BZ$19*BZ59)+(CA$19*CA59)+(CB$19*CB59)+(CC$19*CC59)+(CD$19*CD59)+(CE$19*CE59)+(CF$19*CF59))","v":""},null,null,null,null,null,null,null,null,null,null,null,null,null,null,null,null,null,null,null,null,null,null,null,null,null,null,{"$f":"IF(OR('Set UP'!$C45=0,'Set UP'!$D45=0,'Set UP'!$E45=0),\"\",(CI$19*CI59)+(CJ$19*CJ59)+(CK$19*CK59)+(CL$19*CL59)+(CM$19*CM59)+(CN$19*CN59)+(CO$19*CO59)+(CP$19*CP59)+(CQ$19*CQ59)+(CR$19*CR59)+(CS$19*CS59)+(CT$19*CT59)+(CU$19*CU59)+(CV$19*CV59)+(CW$19*CW59)+(CX$19*CX59)+(CY$19*CY59)+(CZ$19*CZ59)+(DA$19*DA59)+(DB$19*DB59)+(DC$19*DC59)+(DD$19*DD59)+(DE$19*DE59)+(DF$19*DF59)+(DG$19*DG59))","v":""},null,null,null,null,null,null,null,null,null,null,null,null,null,null,null,null,null,null,null,null,null,null,null,null,null,null,{"$f":"IF(OR('Set UP'!$C45=0,'Set UP'!$D45=0,'Set UP'!$E45=0),\"\",(DJ$19*DJ59)+(DK$19*DK59)+(DL$19*DL59)+(DM$19*DM59)+(DN$19*DN59)+(DO$19*DO59)+(DP$19*DP59)+(DQ$19*DQ59)+(DR$19*DR59)+(DS$19*DS59)+(DT$19*DT59)+(DU$19*DU59)+(DV$19*DV59)+(DW$19*DW59)+(DX$19*DX59)+(DY$19*DY59)+(DZ$19*DZ59)+(EA$19*EA59)+(EB$19*EB59)+(EC$19*EC59)+(ED$19*ED59)+(EE$19*EE59)+(EF$19*EF59)+(EG$19*EG59)+(EH$19*EH59))","v":""},null,null,null,null,null,null,null,null,null,null,null,null,null,null,null,null,null,null,null,null,null,null,null,null,null,null,{"$f":"IF(OR('Set UP'!$C45=0,'Set UP'!$D45=0,'Set UP'!$E45=0),\"\",(EK$19*EK59)+(EL$19*EL59)+(EM$19*EM59)+(EN$19*EN59)+(EO$19*EO59)+(EP$19*EP59)+(EQ$19*EQ59)+(ER$19*ER59)+(ES$19*ES59)+(ET$19*ET59)+(EU$19*EU59)+(EV$19*EV59)+(EW$19*EW59)+(EX$19*EX59)+(EY$19*EY59)+(EZ$19*EZ59)+(FA$19*FA59)+(FB$19*FB59)+(FC$19*FC59)+(FD$19*FD59)+(FE$19*FE59)+(FF$19*FF59)+(FG$19*FG59)+(FH$19*FH59)+(FI$19*FI59))","v":""},null,null,null,null,null,null,null,null,null,null,null,null,null,null,null,null,null,null,null,null,null,null,null,null,null,null,{"$f":"IF(OR('Set UP'!$C45=0,'Set UP'!$D45=0,'Set UP'!$E45=0),\"\",(FL$19*FL59)+(FM$19*FM59)+(FN$19*FN59)+(FO$19*FO59)+(FP$19*FP59)+(FQ$19*FQ59)+(FR$19*FR59)+(FS$19*FS59)+(FT$19*FT59)+(FU$19*FU59)+(FV$19*FV59)+(FW$19*FW59)+(FX$19*FX59)+(FY$19*FY59)+(FZ$19*FZ59)+(GA$19*GA59)+(GB$19*GB59)+(GC$19*GC59)+(GD$19*GD59)+(GE$19*GE59)+(GF$19*GF59)+(GG$19*GG59)+(GH$19*GH59)+(GI$19*GI59)+(GJ$19*GJ59))","v":""},null,null,null,null,null,null,null,null,null,null,null,null,null,null,null,null,null,null,null,null,null,null,null,null,null,null,{"$f":"IF(OR('Set UP'!$C45=0,'Set UP'!$D45=0,'Set UP'!$E45=0),\"\",(GM$19*GM59)+(GN$19*GN59)+(GO$19*GO59)+(GP$19*GP59)+(GQ$19*GQ59)+(GR$19*GR59)+(GS$19*GS59)+(GT$19*GT59)+(GU$19*GU59)+(GV$19*GV59)+(GW$19*GW59)+(GX$19*GX59)+(GY$19*GY59)+(GZ$19*GZ59)+(HA$19*HA59)+(HB$19*HB59)+(HC$19*HC59)+(HD$19*HD59)+(HE$19*HE59)+(HF$19*HF59)+(HG$19*HG59)+(HH$19*HH59)+(HI$19*HI59)+(HJ$19*HJ59)+(HK$19*HK59))","v":""},null,null,null,null,null,null,null,null,null,null,null,null,null,null,null,null,null,null,null,null,null,null,null,null,null,null,{"$f":"IF(OR('Set UP'!$C45=0,'Set UP'!$D45=0,'Set UP'!$E45=0),\"\",(HN$19*HN59)+(HO$19*HO59)+(HP$19*HP59)+(HQ$19*HQ59)+(HR$19*HR59)+(HS$19*HS59)+(HT$19*HT59)+(HU$19*HU59)+(HV$19*HV59)+(HW$19*HW59)+(HX$19*HX59)+(HY$19*HY59)+(HZ$19*HZ59)+(IA$19*IA59)+(IB$19*IB59)+(IC$19*IC59)+(ID$19*ID59)+(IE$19*IE59)+(IF$19*IF59)+(IG$19*IG59)+(IH$19*IH59)+(II$19*II59)+(IJ$19*IJ59)+(IK$19*IK59)+(IL$19*IL59))","v":""},null,null,null,null,null,null,null,null,null,null,null,null,null,null,null,null,null,null,null,null,null,null,null,null,null,null,{"$f":"IF(OR('Set UP'!$C45=0,'Set UP'!$D45=0,'Set UP'!$E45=0),\"\",(IO$19*IO59)+(IP$19*IP59)+(IQ$19*IQ59)+(IR$19*IR59)+(IS$19*IS59)+(IT$19*IT59)+(IU$19*IU59)+(IV$19*IV59)+(IW$19*IW59)+(IX$19*IX59)+(IY$19*IY59)+(IZ$19*IZ59)+(JA$19*JA59)+(JB$19*JB59)+(JC$19*JC59)+(JD$19*JD59)+(JE$19*JE59)+(JF$19*JF59)+(JG$19*JG59)+(JH$19*JH59)+(JI$19*JI59)+(JJ$19*JJ59)+(JK$19*JK59)+(JL$19*JL59)+(JM$19*JM59))","v":""},{"$f":"IF(OR('Set UP'!$C45=0,'Set UP'!$D45=0,'Set UP'!$E45=0),\"\",(AF59+BG59+CH59+DI59+EJ59+FK59+GL59+HM59+JO59+IN59))","v":""},{"$f":"IF(OR('Set UP'!$C45=0,'Set UP'!$D45=0,'Set UP'!$E45=0),\"\",RANK(JP59,$JP$21:$JP$60,0))","v":""},{"$f":"IF(OR('Set UP'!K45<>1,'Set UP'!C45=0,'Set UP'!D45=0,'Set UP'!E45=0,'Set UP'!F45=0),\"\",$JP59)","v":""},{"$f":"IF(OR('Set UP'!K45<>1,'Set UP'!C45=0,'Set UP'!D45=0,'Set UP'!E45=0,'Set UP'!F45=0),\"\",RANK(JR59,$JR$21:$JR$60,0))","v":""},{"$f":"IF(OR('Set UP'!K45<>2,'Set UP'!C45=0,'Set UP'!D45=0,'Set UP'!E45=0,'Set UP'!F45=0),\"\",$JP59)","v":""},{"$f":"IF(OR('Set UP'!K45<>2,'Set UP'!C45=0,'Set UP'!D45=0,'Set UP'!E45=0,'Set UP'!F45=0),\"\",RANK(JT59,$JT$21:$JT$60,0))","v":""},{"$f":"IF(OR('Set UP'!F45<>\"F\",'Set UP'!C45=0,'Set UP'!D45=0,'Set UP'!E45=0),\"\",$JP59)","v":""},{"$f":"IF(OR('Set UP'!F45<>\"F\",'Set UP'!C45=0,'Set UP'!D45=0,'Set UP'!E45=0),\"\",RANK(JV59,$JV$21:$JV$60,0))","v":""},{"$f":"IF(OR('Set UP'!F45<>\"NS\",'Set UP'!C45=0,'Set UP'!D45=0,'Set UP'!E45=0),\"\",$JP59)","v":""},{"$f":"IF(OR('Set UP'!F45<>\"NS\",'Set UP'!C45=0,'Set UP'!D45=0,'Set UP'!E45=0),\"\",RANK(JX59,$JX$21:$JX$60,0))","v":""},{"$f":"IF(OR('Set UP'!$C45=0,'Set UP'!$D45=0,'Set UP'!$E45=0,JP59=0),\"\",JP59/MAX(JP$21:JP$60)*1000)","v":""}]
[null,40,{"$f":"IF(OR('Set UP'!$C46=0,'Set UP'!$D46=0,'Set UP'!$E46=0,'Set UP'!F46=0),\"  --\",'Set UP'!C46)","v":"  --"},{"$f":"IF(OR('Set UP'!$C46=0,'Set UP'!$D46=0,'Set UP'!$E46=0,'Set UP'!F46=0),\"  --\",'Set UP'!D46&\" \"&'Set UP'!E46)","v":"  --"},{"$f":"IF(OR('Set UP'!$C46=0,'Set UP'!$D46=0,'Set UP'!$E46=0,'Set UP'!F46=0),\"  --\",'Set UP'!F46)","v":"  --"},null,null,null,null,null,null,null,null,null,null,null,null,null,null,null,null,null,null,null,null,null,null,null,null,null,null,{"$f":"IF(OR('Set UP'!$C46=0,'Set UP'!$D46=0,'Set UP'!$E46=0),\"\",(F$19*F60)+(G$19*G60)+(H$19*H60)+(I$19*I60)+(J$19*J60)+(K$19*K60)+(L$19*L60)+(M$19*M60)+(N$19*N60)+(O$19*O60)+(P$19*P60)+(Q$19*Q60)+(R$19*R60)+(S$19*S60)+(T$19*T60)+(U$19*U60)+(V$19*V60)+(W$19*W60)+(X$19*X60)+(Y$19*Y60)+(Z$19*Z60)+(AA$19*AA60)+(AB$19*AB60)+(AC$19*AC60)+(AD$19*AD60))","v":""},null,null,null,null,null,null,null,null,null,null,null,null,null,null,null,null,null,null,null,null,null,null,null,null,null,null,{"$f":"IF(OR('Set UP'!$C46=0,'Set UP'!$D46=0,'Set UP'!$E46=0),\"\",(AG$19*AG60)+(AH$19*AH60)+(AI$19*AI60)+(AJ$19*AJ60)+(AK$19*AK60)+(AL$19*AL60)+(AM$19*AM60)+(AN$19*AN60)+(AO$19*AO60)+(AP$19*AP60)+(AQ$19*AQ60)+(AR$19*AR60)+(AS$19*AS60)+(AT$19*AT60)+(AU$19*AU60)+(AV$19*AV60)+(AW$19*AW60)+(AX$19*AX60)+(AY$19*AY60)+(AZ$19*AZ60)+(BA$19*BA60)+(BB$19*BB60)+(BC$19*BC60)+(BD$19*BD60)+(BE$19*BE60))","v":""},null,null,null,null,null,null,null,null,null,null,null,null,null,null,null,null,null,null,null,null,null,null,null,null,null,null,{"$f":"IF(OR('Set UP'!$C46=0,'Set UP'!$D46=0,'Set UP'!$E46=0),\"\",(BH$19*BH60)+(BI$19*BI60)+(BJ$19*BJ60)+(BK$19*BK60)+(BL$19*BL60)+(BM$19*BM60)+(BN$19*BN60)+(BO$19*BO60)+(BP$19*BP60)+(BQ$19*BQ60)+(BR$19*BR60)+(BS$19*BS60)+(BT$19*BT60)+(BU$19*BU60)+(BV$19*BV60)+(BW$19*BW60)+(BX$19*BX60)+(BY$19*BY60)+(BZ$19*BZ60)+(CA$19*CA60)+(CB$19*CB60)+(CC$19*CC60)+(CD$19*CD60)+(CE$19*CE60)+(CF$19*CF60))","v":""},null,null,null,null,null,null,null,null,null,null,null,null,null,null,null,null,null,null,null,null,null,null,null,null,null,null,{"$f":"IF(OR('Set UP'!$C46=0,'Set UP'!$D46=0,'Set UP'!$E46=0),\"\",(CI$19*CI60)+(CJ$19*CJ60)+(CK$19*CK60)+(CL$19*CL60)+(CM$19*CM60)+(CN$19*CN60)+(CO$19*CO60)+(CP$19*CP60)+(CQ$19*CQ60)+(CR$19*CR60)+(CS$19*CS60)+(CT$19*CT60)+(CU$19*CU60)+(CV$19*CV60)+(CW$19*CW60)+(CX$19*CX60)+(CY$19*CY60)+(CZ$19*CZ60)+(DA$19*DA60)+(DB$19*DB60)+(DC$19*DC60)+(DD$19*DD60)+(DE$19*DE60)+(DF$19*DF60)+(DG$19*DG60))","v":""},null,null,null,null,null,null,null,null,null,null,null,null,null,null,null,null,null,null,null,null,null,null,null,null,null,null,{"$f":"IF(OR('Set UP'!$C46=0,'Set UP'!$D46=0,'Set UP'!$E46=0),\"\",(DJ$19*DJ60)+(DK$19*DK60)+(DL$19*DL60)+(DM$19*DM60)+(DN$19*DN60)+(DO$19*DO60)+(DP$19*DP60)+(DQ$19*DQ60)+(DR$19*DR60)+(DS$19*DS60)+(DT$19*DT60)+(DU$19*DU60)+(DV$19*DV60)+(DW$19*DW60)+(DX$19*DX60)+(DY$19*DY60)+(DZ$19*DZ60)+(EA$19*EA60)+(EB$19*EB60)+(EC$19*EC60)+(ED$19*ED60)+(EE$19*EE60)+(EF$19*EF60)+(EG$19*EG60)+(EH$19*EH60))","v":""},null,null,null,null,null,null,null,null,null,null,null,null,null,null,null,null,null,null,null,null,null,null,null,null,null,null,{"$f":"IF(OR('Set UP'!$C46=0,'Set UP'!$D46=0,'Set UP'!$E46=0),\"\",(EK$19*EK60)+(EL$19*EL60)+(EM$19*EM60)+(EN$19*EN60)+(EO$19*EO60)+(EP$19*EP60)+(EQ$19*EQ60)+(ER$19*ER60)+(ES$19*ES60)+(ET$19*ET60)+(EU$19*EU60)+(EV$19*EV60)+(EW$19*EW60)+(EX$19*EX60)+(EY$19*EY60)+(EZ$19*EZ60)+(FA$19*FA60)+(FB$19*FB60)+(FC$19*FC60)+(FD$19*FD60)+(FE$19*FE60)+(FF$19*FF60)+(FG$19*FG60)+(FH$19*FH60)+(FI$19*FI60))","v":""},null,null,null,null,null,null,null,null,null,null,null,null,null,null,null,null,null,null,null,null,null,null,null,null,null,null,{"$f":"IF(OR('Set UP'!$C46=0,'Set UP'!$D46=0,'Set UP'!$E46=0),\"\",(FL$19*FL60)+(FM$19*FM60)+(FN$19*FN60)+(FO$19*FO60)+(FP$19*FP60)+(FQ$19*FQ60)+(FR$19*FR60)+(FS$19*FS60)+(FT$19*FT60)+(FU$19*FU60)+(FV$19*FV60)+(FW$19*FW60)+(FX$19*FX60)+(FY$19*FY60)+(FZ$19*FZ60)+(GA$19*GA60)+(GB$19*GB60)+(GC$19*GC60)+(GD$19*GD60)+(GE$19*GE60)+(GF$19*GF60)+(GG$19*GG60)+(GH$19*GH60)+(GI$19*GI60)+(GJ$19*GJ60))","v":""},null,null,null,null,null,null,null,null,null,null,null,null,null,null,null,null,null,null,null,null,null,null,null,null,null,null,{"$f":"IF(OR('Set UP'!$C46=0,'Set UP'!$D46=0,'Set UP'!$E46=0),\"\",(GM$19*GM60)+(GN$19*GN60)+(GO$19*GO60)+(GP$19*GP60)+(GQ$19*GQ60)+(GR$19*GR60)+(GS$19*GS60)+(GT$19*GT60)+(GU$19*GU60)+(GV$19*GV60)+(GW$19*GW60)+(GX$19*GX60)+(GY$19*GY60)+(GZ$19*GZ60)+(HA$19*HA60)+(HB$19*HB60)+(HC$19*HC60)+(HD$19*HD60)+(HE$19*HE60)+(HF$19*HF60)+(HG$19*HG60)+(HH$19*HH60)+(HI$19*HI60)+(HJ$19*HJ60)+(HK$19*HK60))","v":""},null,null,null,null,null,null,null,null,null,null,null,null,null,null,null,null,null,null,null,null,null,null,null,null,null,null,{"$f":"IF(OR('Set UP'!$C46=0,'Set UP'!$D46=0,'Set UP'!$E46=0),\"\",(HN$19*HN60)+(HO$19*HO60)+(HP$19*HP60)+(HQ$19*HQ60)+(HR$19*HR60)+(HS$19*HS60)+(HT$19*HT60)+(HU$19*HU60)+(HV$19*HV60)+(HW$19*HW60)+(HX$19*HX60)+(HY$19*HY60)+(HZ$19*HZ60)+(IA$19*IA60)+(IB$19*IB60)+(IC$19*IC60)+(ID$19*ID60)+(IE$19*IE60)+(IF$19*IF60)+(IG$19*IG60)+(IH$19*IH60)+(II$19*II60)+(IJ$19*IJ60)+(IK$19*IK60)+(IL$19*IL60))","v":""},null,null,null,null,null,null,null,null,null,null,null,null,null,null,null,null,null,null,null,null,null,null,null,null,null,null,{"$f":"IF(OR('Set UP'!$C46=0,'Set UP'!$D46=0,'Set UP'!$E46=0),\"\",(IO$19*IO60)+(IP$19*IP60)+(IQ$19*IQ60)+(IR$19*IR60)+(IS$19*IS60)+(IT$19*IT60)+(IU$19*IU60)+(IV$19*IV60)+(IW$19*IW60)+(IX$19*IX60)+(IY$19*IY60)+(IZ$19*IZ60)+(JA$19*JA60)+(JB$19*JB60)+(JC$19*JC60)+(JD$19*JD60)+(JE$19*JE60)+(JF$19*JF60)+(JG$19*JG60)+(JH$19*JH60)+(JI$19*JI60)+(JJ$19*JJ60)+(JK$19*JK60)+(JL$19*JL60)+(JM$19*JM60))","v":""},{"$f":"IF(OR('Set UP'!$C46=0,'Set UP'!$D46=0,'Set UP'!$E46=0),\"\",(AF60+BG60+CH60+DI60+EJ60+FK60+GL60+HM60+JO60+IN60))","v":""},{"$f":"IF(OR('Set UP'!$C46=0,'Set UP'!$D46=0,'Set UP'!$E46=0),\"\",RANK(JP60,$JP$21:$JP$60,0))","v":""},{"$f":"IF(OR('Set UP'!K46<>1,'Set UP'!C46=0,'Set UP'!D46=0,'Set UP'!E46=0,'Set UP'!F46=0),\"\",$JP60)","v":""},{"$f":"IF(OR('Set UP'!K46<>1,'Set UP'!C46=0,'Set UP'!D46=0,'Set UP'!E46=0,'Set UP'!F46=0),\"\",RANK(JR60,$JR$21:$JR$60,0))","v":""},{"$f":"IF(OR('Set UP'!K46<>2,'Set UP'!C46=0,'Set UP'!D46=0,'Set UP'!E46=0,'Set UP'!F46=0),\"\",$JP60)","v":""},{"$f":"IF(OR('Set UP'!K46<>2,'Set UP'!C46=0,'Set UP'!D46=0,'Set UP'!E46=0,'Set UP'!F46=0),\"\",RANK(JT60,$JT$21:$JT$60,0))","v":""},{"$f":"IF(OR('Set UP'!F46<>\"F\",'Set UP'!C46=0,'Set UP'!D46=0,'Set UP'!E46=0),\"\",$JP60)","v":""},{"$f":"IF(OR('Set UP'!F46<>\"F\",'Set UP'!C46=0,'Set UP'!D46=0,'Set UP'!E46=0),\"\",RANK(JV60,$JV$21:$JV$60,0))","v":""},{"$f":"IF(OR('Set UP'!F46<>\"NS\",'Set UP'!C46=0,'Set UP'!D46=0,'Set UP'!E46=0),\"\",$JP60)","v":""},{"$f":"IF(OR('Set UP'!F46<>\"NS\",'Set UP'!C46=0,'Set UP'!D46=0,'Set UP'!E46=0),\"\",RANK(JX60,$JX$21:$JX$60,0))","v":""},{"$f":"IF(OR('Set UP'!$C46=0,'Set UP'!$D46=0,'Set UP'!$E46=0,JP60=0),\"\",JP60/MAX(JP$21:JP$60)*1000)","v":""}]
[null,null,null,null,null,null,null,null,null,null,null,null,null,null,null,null,null,null,null,null,null,null,null,null,null,null,null,null,null,null,null,null,null,null,null,null,null,null,null,null,null,null,null,null,null,null,null,null,null,null,null,null,null,null,null,null,null,null,null,null,null,null,null,null,null,null,null,null,null,null,null,null,null,null,null,null,null,null,null,null,null,null,null,null,null,null,null,null,null,null,null,null,null,null,null,null,null,null,null,null,null,null,null,null,null,null,null,null,null,null,null,null,null,null,null,null,null,null,null,null,null,null,null,null,null,null,null,null,null,null,null,null,null,null,null,null,null,null,null,null,null,null,null,null,null,null,null,null,null,null,null,null,null,null,null,null,null,null,null,null,null,null,null,null,null,null,null,null,null,null,null,null,null,null,null,null,null,null,null,null,null,null,null,null,null,null,null,null,null,null,null,null,null,null,null,null,null,null,null,null,null,null,null,null,null,null,null,null,null,null,null,null,null,null,null,null,null,null,null,null,null,null,null,null,null,null,null,null,null,null,null,null,null,null,null,null,null,null,null,null,null,null,null,null,null,null,null,null,null,null,null,null,null,null,null,null,null,null,null,null,null,null,null,null,null,null,null,null,null,null,null,null,null,null,null,null,null,null,null,null,null,{"$f":"IF(OR('Set UP'!F47<>\"F\",'Set UP'!E47=0,'Set UP'!G47=0,'Set UP'!H47=0),\"\",$JP61)","v":""},{"$f":"IF(OR('Set UP'!F47<>2,'Set UP'!E47=0,'Set UP'!G47=0,'Set UP'!H47=0),\"\",RANK(JV61,$JV$21:$JV$60,0))","v":""},{"$f":"IF(OR('Set UP'!F47<>\"NS\",'Set UP'!C47=0,'Set UP'!D47=0,'Set UP'!E47=0),\"\",$JP61)","v":""},{"$f":"IF(OR('Set UP'!F47<>\"NS\",'Set UP'!C47=0,'Set UP'!D47=0,'Set UP'!E47=0),\"\",RANK(JX61,$JX$21:$JX$60,0))","v":""},{"$f":"IF(OR('Set UP'!$C47=0,'Set UP'!$D47=0,'Set UP'!$E47=0),\"\",JP61/MAX(JP$21:JP$60)*1000)","v":""}]

{"sheet":"Potensial New Scoring Structure","index":22,"n_rows":49,"n_cols":41,"rows_kept":49,"cut":false,"hidden":true,"merged":[[47,1,47,38],[48,3,48,37],[4,5,4,8],[4,4,5,4],[2,1,2,2],[3,1,3,2],[4,1,5,1],[4,2,5,2],[4,3,5,3],[1,39,3,41],[1,38,2,38],[4,37,5,37],[4,38,5,38],[4,39,5,39]]}
[]
[null,null,null,null,null,null,null,null,"Weighting",null,null,null,"Weighting",null,null,null,"Weighting",null,null,null,"Weighting",null,null,null,"Weighting",null,null,null,"Weighting",null,null,null,"Weighting",null,null,null,"Weighting",null,"red and Green vs Old system","Non- Student on old system"]
[null,"Club to Highlight",null,"Competition Results",null,"Min mark","Max mark","Multiplication Factor",{"$f":"'Set UP'!S6","v":2},"Min mark","Max mark","Multiplication Factor",{"$f":"'Set UP'!S7","v":2},"Min mark","Max mark","Multiplication Factor",{"$f":"'Set UP'!S8","v":0},"Min mark","Max mark","Multiplication Factor",{"$f":"'Set UP'!S9","v":1},"Min mark","Max mark","Multiplication Factor",{"$f":"'Set UP'!S10","v":1},"Min mark","Max mark","Multiplication Factor",{"$f":"'Set UP'!S11","v":1},"Min mark","Max mark","Multiplication Factor",{"$f":"'Set UP'!S12","v":0},"Min mark","Max mark","Multiplication Factor",{"$f":"'Set UP'!S13","v":0},"Max Score"]
[null,null,null,null,null,{"$f":"IF(COUNT(G7:G46)=0,\"\",MIN(G7:G46))","v":337.28813559322037},{"$f":"IF(COUNT(G7:G46)=0,\"\",MAX(G7:G46))","v":1000},{"$f":"IF(F4=\"\",\"\",(1000-'Set UP'!$R15)/(G4-F4))","v":1.3580562659846549},null,{"$f":"IF(COUNT(K7:K46)=0,\"\",MIN(K7:K46))","v":273.64864864864865},{"$f":"IF(COUNT(K7:K46)=0,\"\",MAX(K7:K46))","v":1000},{"$f":"IF(J4=\"\",\"\",(1000-'Set UP'!$R15)/(K4-J4))","v":1.2390697674418605},null,{"$f":"IF(COUNT(O7:O46)=0,\"\",MIN(O7:O46))","v":""},{"$f":"IF(COUNT(O7:O46)=0,\"\",MAX(O7:O46))","v":""},{"$f":"IF(N4=\"\",\"\",(1000-'Set UP'!$R15)/(O4-N4))","v":""},null,{"$f":"IF(COUNT(S7:S46)=0,\"\",MIN(S7:S46))","v":148.14814814814815},{"$f":"IF(COUNT(S7:S46)=0,\"\",MAX(S7:S46))","v":1000},{"$f":"IF(R4=\"\",\"\",(1000-'Set UP'!$R15)/(S4-R4))","v":1.0565217391304347},null,{"$f":"IF(COUNT(W7:W46)=0,\"\",MIN(W7:W46))","v":451.94377611751304},{"$f":"IF(COUNT(W7:W46)=0,\"\",MAX(W7:W46))","v":930.04938584272509},{"$f":"IF(V4=\"\",\"\",(1000-'Set UP'!$R15)/(W4-V4))","v":1.8824292827630047},null,{"$f":"IF(COUNT(AA7:AA46)=0,\"\",MIN(AA7:AA46))","v":387.43362831858406},{"$f":"IF(COUNT(AA7:AA46)=0,\"\",MAX(AA7:AA46))","v":905.13274336283189},{"$f":"IF(Z4=\"\",\"\",(1000-'Set UP'!$R15)/(AA4-Z4))","v":1.7384615384615383},null,{"$f":"IF(COUNT(AE7:AE46)=0,\"\",MIN(AE7:AE46))","v":""},{"$f":"IF(COUNT(AE7:AE46)=0,\"\",MAX(AE7:AE46))","v":""},{"$f":"IF(AD4=\"\",\"\",(1000-'Set UP'!$R15)/(AE4-AD4))","v":""},null,{"$f":"IF(COUNT(AI7:AI46)=0,\"\",MIN(AI7:AI46))","v":""},{"$f":"IF(COUNT(AI7:AI46)=0,\"\",MAX(AI7:AI46))","v":""},{"$f":"IF(AH4=\"\",\"\",(1000-'Set UP'!$R15)/(AI4-AH4))","v":""},null,{"$f":"SUM(I3,M3,Q3,U3,Y3,AC3,AG3,AK3)*1000","v":7000}]
[null,null,"Web","Team","Class",{"$f":"'Set UP'!Q6","v":"Wet Incident"},null,null,null,null,null,null,{"$f":"'Set UP'!Q7","v":"Dry Incident"},null,null,null,{"$f":"'Set UP'!Q8","v":"Extra Incident"},null,null,null,{"$f":"'Set UP'!Q9","v":"Rope Throw"},null,null,null,{"$f":"'Set UP'!Q10","v":"Swim and Tow"},null,null,null,{"$f":"'Set UP'!Q11","v":"Medley"},null,null,null,{"$f":"'Set UP'!Q12","v":"Manikin Carry"},null,null,null,{"$f":"'Set UP'!Q13","v":"Obstacle"},"Sum of Werighted Totals","Final Result","League/Non \nStudent Position","FINAL Original Placings POSITION"]
[null,null,null,null,null,"Position","Unweighttotal","weighted total","Position (Total)","Position","Unweighttotal","weighted total","Position (Total)","Position","Unweighttotal","weighted total","Position (Total)","Position","Unweighttotal","weighted total","Position (Total)","Position","Unweighttotal","weighted total","Position (Total)","Position","Unweighttotal","weighted total","Position (Total)","Position","Unweighttotal","weighted total","Position (Total)","Position","Unweighttotal","weighted total","Position (Total)"]
[null,1,{"$f":"IF(OR('Set UP'!$C7=0,'Set UP'!$D7=0,'Set UP'!$E7=0,'Set UP'!F7=0),\"  --\",'Set UP'!C7)","v":1418},{"$f":"IF(OR('Set UP'!$C7=0,'Set UP'!$D7=0,'Set UP'!$E7=0,'Set UP'!F7=0),\"  --\",'Set UP'!D7&\" \"&'Set UP'!E7)","v":"Bradford On Avon Lifesaving Club  B"},{"$f":"IF(OR('Set UP'!$C7=0,'Set UP'!$D7=0,'Set UP'!$E7=0,'Set UP'!F7=0),\" --\",'Set UP'!F7)","v":"NS"},{"$f":"IF('Dry Incident'!$JQ21=\"\",\"\",'Dry Incident'!$JQ21)","v":27},{"$f":"IF('Dry Incident'!$JQ21=\"\",\"\",'Dry Incident'!$JZ21)","v":337.28813559322037},{"$f":"IF(G7=\"\",0,(G7-F$4)*H$4+'Set UP'!$R$15)","v":100},{"$f":"IF('Dry Incident'!$JQ21=\"\",\"\",IFERROR(F7&\" ( \"&INT(H7)&\" )\",F7))","v":"27 ( 100 )"},{"$f":"IF(' Wet Incident'!$JQ21=\"\",\"\",' Wet Incident'!$JQ21)","v":25},{"$f":"IF(' Wet Incident'!$JQ21=\"\",\"\",' Wet Incident'!$JZ21)","v":319.25675675675672},{"$f":"IF(K7=\"\",0,(K7-J$4)*L$4+'Set UP'!$R$15)","v":156.51162790697668},{"$f":"IF(' Wet Incident'!$JQ21=\"\",\"\",IFERROR(J7&\" ( \"&INT(L7)&\" )\",J7))","v":"25 ( 156 )"},{"$f":"IF('Extra Incident'!$JQ21=\"\",\"\",'Extra Incident'!$JQ21)","v":1},{"$f":"IF('Extra Incident'!$JQ21=\"\",\"\",'Extra Incident'!$JZ21)","v":""},{"$f":"IF(O7=\"\",0,(O7-N$4)*P$4+'Set UP'!$R$15)","v":0},{"$f":"IF('Extra Incident'!$JQ21=\"\",\"\",IFERROR(N7&\" ( \"&INT(O7)&\" )\",N7))","v":1},{"$f":"IF(RopeThrow!$X7=\"\",\"\",RopeThrow!$X7)","v":15},{"$f":"IF(RopeThrow!$X7=\"\",\"\",RopeThrow!$AG7)","v":462.96296296296299},{"$f":"IF(S7=\"\",0,(S7-R$4)*T$4+'Set UP'!$R$15)","v":432.60869565217388},{"$f":"IF(RopeThrow!$X7=\"\",\"\",IFERROR(R7&\" ( \"&INT(T7)&\" )\",R7))","v":"15 ( 432 )"},{"$f":"IF('Swim&Tow'!$W7=\"\",\"\",'Swim&Tow'!$W7)","v":27},{"$f":"IF('Swim&Tow'!$W7=\"\",\"\",'Swim&Tow'!$AF7)","v":451.94377611751304},{"$f":"IF(W7=\"\",0,(W7-V$4)*X$4+'Set UP'!$R$15)","v":100},{"$f":"IF('Swim&Tow'!$W7=\"\",\"\",IFERROR(V7&\" ( \"&INT(X7)&\" )\",V7))","v":"27 ( 100 )"},{"$f":"IF(Medley!U7=\"\",\"\",Medley!$U7)","v":23},{"$f":"IF(Medley!Q7=\"\",\"\",Medley!$AD7)","v":387.43362831858406},{"$f":"IF(AA7=\"\",0,(AA7-Z$4)*AB$4+'Set UP'!$R$15)","v":100},{"$f":"IF(Medley!$U7=\"\",\"\",IFERROR(Z7&\" ( \"&INT(AB7)&\" )\",Z7))","v":"23 ( 100 )"},{"$f":"IF('Manikin Carry'!U7=\"\",\"\",'Manikin Carry'!$U7)","v":""},{"$f":"IF('Manikin Carry'!U7=\"\",\"\",'Manikin Carry'!$AD7)","v":""},{"$f":"IF(AE7=\"\",0,(AE7-AD$4)*AF$4+'Set UP'!$R$15)","v":0},{"$f":"IF('Manikin Carry'!$U7=\"\",\"\",IFERROR(AD7&\" ( \"&INT(AF7)&\" )\",AD7))","v":""},{"$f":"IF(Obstacle!U7=\"\",\"\",Obstacle!$U7)","v":""},{"$f":"IF(Obstacle!U7=\"\",\"\",Obstacle!$AD7)","v":""},{"$f":"IF(AI7=\"\",0,(AI7-AH$4)*AJ$4+'Set UP'!$R$15)","v":0},{"$f":"IF(Obstacle!$U7=\"\",\"\",IFERROR(AH7&\" ( \"&INT(AJ7)&\" )\",AH7))","v":""},{"$f":"IF(AND(I7=\"\",M7=\"\",Q7=\"\",U7=\"\",Y7=\"\",AC7=\"\",AG7=\"\",AK7=\"\"),\"\",(I$3*H7+M$3*L7+AC$3*AB7+Q$3*P7+U$3*T7+Y$3*X7+AG$3*AF7+AK$3*AJ7))","v":1145.6319514661272},{"$f":"IF(AL7=\"\",\"\",RANK(AL7,AL$7:AL$46))","v":27},{"$f":"IF(E7=\"NS\",'Non-S Results'!O7,IF('Set UP'!K7=1,'Compartive League'!AN7,IF('Set UP'!K7=2,'Compartive League'!AP7,\"\")))","v":5},{"$f":"'Competition Results'!O7","v":27}]
[null,2,{"$f":"IF(OR('Set UP'!$C8=0,'Set UP'!$D8=0,'Set UP'!$E8=0,'Set UP'!F8=0),\"  --\",'Set UP'!C8)","v":1419},{"$f":"IF(OR('Set UP'!$C8=0,'Set UP'!$D8=0,'Set UP'!$E8=0,'Set UP'!F8=0),\"  --\",'Set UP'!D8&\" \"&'Set UP'!E8)","v":"Bradford On Avon Lifesaving Club  A"},{"$f":"IF(OR('Set UP'!$C8=0,'Set UP'!$D8=0,'Set UP'!$E8=0,'Set UP'!F8=0),\" --\",'Set UP'!F8)","v":"NS"},{"$f":"IF('Dry Incident'!$JQ22=\"\",\"\",'Dry Incident'!$JQ22)","v":16},{"$f":"IF('Dry Incident'!$JQ22=\"\",\"\",'Dry Incident'!$JZ22)","v":691.52542372881351},{"$f":"IF(G8=\"\",0,(G8-F$4)*H$4+'Set UP'!$R$15)","v":581.07416879795392},{"$f":"IF('Dry Incident'!$JQ22=\"\",\"\",IFERROR(F8&\" ( \"&INT(H8)&\" )\",F8))","v":"16 ( 581 )"},{"$f":"IF(' Wet Incident'!$JQ22=\"\",\"\",' Wet Incident'!$JQ22)","v":20},{"$f":"IF(' Wet Incident'!$JQ22=\"\",\"\",' Wet Incident'!$JZ22)","v":391.89189189189187},{"$f":"IF(K8=\"\",0,(K8-J$4)*L$4+'Set UP'!$R$15)","v":246.51162790697671},{"$f":"IF(' Wet Incident'!$JQ22=\"\",\"\",IFERROR(J8&\" ( \"&INT(L8)&\" )\",J8))","v":"20 ( 246 )"},{"$f":"IF('Extra Incident'!$JQ22=\"\",\"\",'Extra Incident'!$JQ22)","v":1},{"$f":"IF('Extra Incident'!$JQ22=\"\",\"\",'Extra Incident'!$JZ22)","v":""},{"$f":"IF(O8=\"\",0,(O8-N$4)*P$4+'Set UP'!$R$15)","v":0},{"$f":"IF('Extra Incident'!$JQ22=\"\",\"\",IFERROR(N8&\" ( \"&INT(O8)&\" )\",N8))","v":1},{"$f":"IF(RopeThrow!$X8=\"\",\"\",RopeThrow!$X8)","v":23.5},{"$f":"IF(RopeThrow!$X8=\"\",\"\",RopeThrow!$AG8)","v":148.14814814814815},{"$f":"IF(S8=\"\",0,(S8-R$4)*T$4+'Set UP'!$R$15)","v":100},{"$f":"IF(RopeThrow!$X8=\"\",\"\",IFERROR(R8&\" ( \"&INT(T8)&\" )\",R8))","v":"23.5 ( 100 )"},{"$f":"IF('Swim&Tow'!$W8=\"\",\"\",'Swim&Tow'!$W8)","v":25},{"$f":"IF('Swim&Tow'!$W8=\"\",\"\",'Swim&Tow'!$AF8)","v":552.46296061795636},{"$f":"IF(W8=\"\",0,(W8-V$4)*X$4+'Set UP'!$R$15)","v":289.22025638309162},{"$f":"IF('Swim&Tow'!$W8=\"\",\"\",IFERROR(V8&\" ( \"&INT(X8)&\" )\",V8))","v":"25 ( 289 )"},{"$f":"IF(Medley!Q8=\"\",\"\",Medley!$U8)","v":22},{"$f":"IF(Medley!Q8=\"\",\"\",Medley!$AD8)","v":422.30088495575222},{"$f":"IF(AA8=\"\",0,(AA8-Z$4)*AB$4+'Set UP'!$R$15)","v":160.61538461538464},{"$f":"IF(Medley!$U8=\"\",\"\",IFERROR(Z8&\" ( \"&INT(AB8)&\" )\",Z8))","v":"22 ( 160 )"},{"$f":"IF('Manikin Carry'!U8=\"\",\"\",'Manikin Carry'!$U8)","v":""},{"$f":"IF('Manikin Carry'!U8=\"\",\"\",'Manikin Carry'!$AD8)","v":""},{"$f":"IF(AE8=\"\",0,(AE8-AD$4)*AF$4+'Set UP'!$R$15)","v":0},{"$f":"IF('Manikin Carry'!$U8=\"\",\"\",IFERROR(AD8&\" ( \"&INT(AF8)&\" )\",AD8))","v":""},{"$f":"IF(Obstacle!U8=\"\",\"\",Obstacle!$U8)","v":""},{"$f":"IF(Obstacle!U8=\"\",\"\",Obstacle!$AD8)","v":""},{"$f":"IF(AI8=\"\",0,(AI8-AH$4)*AJ$4+'Set UP'!$R$15)","v":0},{"$f":"IF(Obstacle!$U8=\"\",\"\",IFERROR(AH8&\" ( \"&INT(AJ8)&\" )\",AH8))","v":""},{"$f":"IF(AND(I8=\"\",M8=\"\",Q8=\"\",U8=\"\",Y8=\"\",AC8=\"\",AG8=\"\",AK8=\"\"),\"\",(I$3*H8+M$3*L8+AC$3*AB8+Q$3*P8+U$3*T8+Y$3*X8+AG$3*AF8+AK$3*AJ8))","v":2205.0072344083374},{"$f":"IF(AL8=\"\",\"\",RANK(AL8,AL$7:AL$46))","v":23},{"$f":"IF(E8=\"NS\",'Non-S Results'!O8,IF('Set UP'!K8=1,'Compartive League'!AN8,IF('Set UP'!K8=2,'Compartive League'!AP8,\"\")))","v":3},{"$f":"'Competition Results'!O8","v":23}]
[null,3,{"$f":"IF(OR('Set UP'!$C9=0,'Set UP'!$D9=0,'Set UP'!$E9=0,'Set UP'!F9=0),\"  --\",'Set UP'!C9)","v":1417},{"$f":"IF(OR('Set UP'!$C9=0,'Set UP'!$D9=0,'Set UP'!$E9=0,'Set UP'!F9=0),\"  --\",'Set UP'!D9&\" \"&'Set UP'!E9)","v":"Bradford On Avon Lifesaving Club  C"},{"$f":"IF(OR('Set UP'!$C9=0,'Set UP'!$D9=0,'Set UP'!$E9=0,'Set UP'!F9=0),\" --\",'Set UP'!F9)","v":"NS"},{"$f":"IF('Dry Incident'!$JQ23=\"\",\"\",'Dry Incident'!$JQ23)","v":23},{"$f":"IF('Dry Incident'!$JQ23=\"\",\"\",'Dry Incident'!$JZ23)","v":574.57627118644075},{"$f":"IF(G9=\"\",0,(G9-F$4)*H$4+'Set UP'!$R$15)","v":422.25063938618933},{"$f":"IF('Dry Incident'!$JQ23=\"\",\"\",IFERROR(F9&\" ( \"&INT(H9)&\" )\",F9))","v":"23 ( 422 )"},{"$f":"IF(' Wet Incident'!$JQ23=\"\",\"\",' Wet Incident'!$JQ23)","v":23},{"$f":"IF(' Wet Incident'!$JQ23=\"\",\"\",' Wet Incident'!$JZ23)","v":385.13513513513516},{"$f":"IF(K9=\"\",0,(K9-J$4)*L$4+'Set UP'!$R$15)","v":238.13953488372096},{"$f":"IF(' Wet Incident'!$JQ23=\"\",\"\",IFERROR(J9&\" ( \"&INT(L9)&\" )\",J9))","v":"23 ( 238 )"},{"$f":"IF('Extra Incident'!$JQ23=\"\",\"\",'Extra Incident'!$JQ23)","v":1},{"$f":"IF('Extra Incident'!$JQ23=\"\",\"\",'Extra Incident'!$JZ23)","v":""},{"$f":"IF(O9=\"\",0,(O9-N$4)*P$4+'Set UP'!$R$15)","v":0},{"$f":"IF('Extra Incident'!$JQ23=\"\",\"\",IFERROR(N9&\" ( \"&INT(O9)&\" )\",N9))","v":1},{"$f":"IF(RopeThrow!$X9=\"\",\"\",RopeThrow!$X9)","v":23.5},{"$f":"IF(RopeThrow!$X9=\"\",\"\",RopeThrow!$AG9)","v":148.14814814814815},{"$f":"IF(S9=\"\",0,(S9-R$4)*T$4+'Set UP'!$R$15)","v":100},{"$f":"IF(RopeThrow!$X9=\"\",\"\",IFERROR(R9&\" ( \"&INT(T9)&\" )\",R9))","v":"23.5 ( 100 )"},{"$f":"IF('Swim&Tow'!$W9=\"\",\"\",'Swim&Tow'!$W9)","v":26},{"$f":"IF('Swim&Tow'!$W9=\"\",\"\",'Swim&Tow'!$AF9)","v":517.86754463720411},{"$f":"IF(W9=\"\",0,(W9-V$4)*X$4+'Set UP'!$R$15)","v":224.09683229155638},{"$f":"IF('Swim&Tow'!$W9=\"\",\"\",IFERROR(V9&\" ( \"&INT(X9)&\" )\",V9))","v":"26 ( 224 )"},{"$f":"IF(Medley!Q9=\"\",\"\",Medley!$U9)","v":21},{"$f":"IF(Medley!Q9=\"\",\"\",Medley!$AD9)","v":427.52212389380526},{"$f":"IF(AA9=\"\",0,(AA9-Z$4)*AB$4+'Set UP'!$R$15)","v":169.69230769230762},{"$f":"IF(Medley!$U9=\"\",\"\",IFERROR(Z9&\" ( \"&INT(AB9)&\" )\",Z9))","v":"21 ( 169 )"},{"$f":"IF('Manikin Carry'!U9=\"\",\"\",'Manikin Carry'!$U9)","v":""},{"$f":"IF('Manikin Carry'!U9=\"\",\"\",'Manikin Carry'!$AD9)","v":""},{"$f":"IF(AE9=\"\",0,(AE9-AD$4)*AF$4+'Set UP'!$R$15)","v":0},{"$f":"IF('Manikin Carry'!$U9=\"\",\"\",IFERROR(AD9&\" ( \"&INT(AF9)&\" )\",AD9))","v":""},{"$f":"IF(Obstacle!U9=\"\",\"\",Obstacle!$U9)","v":""},{"$f":"IF(Obstacle!U9=\"\",\"\",Obstacle!$AD9)","v":""},{"$f":"IF(AI9=\"\",0,(AI9-AH$4)*AJ$4+'Set UP'!$R$15)","v":0},{"$f":"IF(Obstacle!$U9=\"\",\"\",IFERROR(AH9&\" ( \"&INT(AJ9)&\" )\",AH9))","v":""},1814.5694885236846,25,{"$f":"IF(E9=\"NS\",'Non-S Results'!O9,IF('Set UP'!K9=1,'Compartive League'!AN9,IF('Set UP'!K9=2,'Compartive League'!AP9,\"\")))","v":4},{"$f":"'Competition Results'!O9","v":25}]
[null,4,{"$f":"IF(OR('Set UP'!$C10=0,'Set UP'!$D10=0,'Set UP'!$E10=0,'Set UP'!F10=0),\"  --\",'Set UP'!C10)","v":"  --"},{"$f":"IF(OR('Set UP'!$C10=0,'Set UP'!$D10=0,'Set UP'!$E10=0,'Set UP'!F10=0),\"  --\",'Set UP'!D10&\" \"&'Set UP'!E10)","v":"  --"},{"$f":"IF(OR('Set UP'!$C10=0,'Set UP'!$D10=0,'Set UP'!$E10=0,'Set UP'!F10=0),\" --\",'Set UP'!F10)","v":" --"},{"$f":"IF('Dry Incident'!$JQ24=\"\",\"\",'Dry Incident'!$JQ24)","v":""},{"$f":"IF('Dry Incident'!$JQ24=\"\",\"\",'Dry Incident'!$JZ24)","v":""},{"$f":"IF(G10=\"\",0,(G10-F$4)*H$4+'Set UP'!$R$15)","v":0},{"$f":"IF('Dry Incident'!$JQ24=\"\",\"\",IFERROR(F10&\" ( \"&INT(H10)&\" )\",F10))","v":""},{"$f":"IF(' Wet Incident'!$JQ24=\"\",\"\",' Wet Incident'!$JQ24)","v":""},{"$f":"IF(' Wet Incident'!$JQ24=\"\",\"\",' Wet Incident'!$JZ24)","v":""},{"$f":"IF(K10=\"\",0,(K10-J$4)*L$4+'Set UP'!$R$15)","v":0},{"$f":"IF(' Wet Incident'!$JQ24=\"\",\"\",IFERROR(J10&\" ( \"&INT(L10)&\" )\",J10))","v":""},{"$f":"IF('Extra Incident'!$JQ24=\"\",\"\",'Extra Incident'!$JQ24)","v":""},{"$f":"IF('Extra Incident'!$JQ24=\"\",\"\",'Extra Incident'!$JZ24)","v":""},{"$f":"IF(O10=\"\",0,(O10-N$4)*P$4+'Set UP'!$R$15)","v":0},{"$f":"IF('Extra Incident'!$JQ24=\"\",\"\",IFERROR(N10&\" ( \"&INT(O10)&\" )\",N10))","v":""},{"$f":"IF(RopeThrow!$X10=\"\",\"\",RopeThrow!$X10)","v":""},{"$f":"IF(RopeThrow!$X10=\"\",\"\",RopeThrow!$AG10)","v":""},{"$f":"IF(S10=\"\",0,(S10-R$4)*T$4+'Set UP'!$R$15)","v":0},{"$f":"IF(RopeThrow!$X10=\"\",\"\",IFERROR(R10&\" ( \"&INT(T10)&\" )\",R10))","v":""},{"$f":"IF('Swim&Tow'!$W10=\"\",\"\",'Swim&Tow'!$W10)","v":""},{"$f":"IF('Swim&Tow'!$W10=\"\",\"\",'Swim&Tow'!$AF10)","v":""},{"$f":"IF(W10=\"\",0,(W10-V$4)*X$4+'Set UP'!$R$15)","v":0},{"$f":"IF('Swim&Tow'!$W10=\"\",\"\",IFERROR(V10&\" ( \"&INT(X10)&\" )\",V10))","v":""},{"$f":"IF(Medley!Q10=\"\",\"\",Medley!$U10)","v":""},{"$f":"IF(Medley!Q10=\"\",\"\",Medley!$AD10)","v":""},{"$f":"IF(AA10=\"\",0,(AA10-Z$4)*AB$4+'Set UP'!$R$15)","v":0},{"$f":"IF(Medley!$U10=\"\",\"\",IFERROR(Z10&\" ( \"&INT(AB10)&\" )\",Z10))","v":""},{"$f":"IF('Manikin Carry'!U10=\"\",\"\",'Manikin Carry'!$U10)","v":""},{"$f":"IF('Manikin Carry'!U10=\"\",\"\",'Manikin Carry'!$AD10)","v":""},{"$f":"IF(AE10=\"\",0,(AE10-AD$4)*AF$4+'Set UP'!$R$15)","v":0},{"$f":"IF('Manikin Carry'!$U10=\"\",\"\",IFERROR(AD10&\" ( \"&INT(AF10)&\" )\",AD10))","v":""},{"$f":"IF(Obstacle!U10=\"\",\"\",Obstacle!$U10)","v":""},{"$f":"IF(Obstacle!U10=\"\",\"\",Obstacle!$AD10)","v":""},{"$f":"IF(AI10=\"\",0,(AI10-AH$4)*AJ$4+'Set UP'!$R$15)","v":0},{"$f":"IF(Obstacle!$U10=\"\",\"\",IFERROR(AH10&\" ( \"&INT(AJ10)&\" )\",AH10))","v":""},"","",{"$f":"IF(E10=\"NS\",'Non-S Results'!O10,IF('Set UP'!K10=1,'Compartive League'!AN10,IF('Set UP'!K10=2,'Compartive League'!AP10,\"\")))","v":""},{"$f":"'Competition Results'!O10","v":0}]
[null,5,{"$f":"IF(OR('Set UP'!$C11=0,'Set UP'!$D11=0,'Set UP'!$E11=0,'Set UP'!F11=0),\"  --\",'Set UP'!C11)","v":1424},{"$f":"IF(OR('Set UP'!$C11=0,'Set UP'!$D11=0,'Set UP'!$E11=0,'Set UP'!F11=0),\"  --\",'Set UP'!D11&\" \"&'Set UP'!E11)","v":"Keynsham B"},{"$f":"IF(OR('Set UP'!$C11=0,'Set UP'!$D11=0,'Set UP'!$E11=0,'Set UP'!F11=0),\" --\",'Set UP'!F11)","v":"NS"},{"$f":"IF('Dry Incident'!$JQ25=\"\",\"\",'Dry Incident'!$JQ25)","v":14},{"$f":"IF('Dry Incident'!$JQ25=\"\",\"\",'Dry Incident'!$JZ25)","v":777.96610169491521},{"$f":"IF(G11=\"\",0,(G11-F$4)*H$4+'Set UP'!$R$15)","v":698.46547314578004},{"$f":"IF('Dry Incident'!$JQ25=\"\",\"\",IFERROR(F11&\" ( \"&INT(H11)&\" )\",F11))","v":"14 ( 698 )"},{"$f":"IF(' Wet Incident'!$JQ25=\"\",\"\",' Wet Incident'!$JQ25)","v":8},{"$f":"IF(' Wet Incident'!$JQ25=\"\",\"\",' Wet Incident'!$JZ25)","v":608.10810810810813},{"$f":"IF(K11=\"\",0,(K11-J$4)*L$4+'Set UP'!$R$15)","v":514.41860465116281},{"$f":"IF(' Wet Incident'!$JQ25=\"\",\"\",IFERROR(J11&\" ( \"&INT(L11)&\" )\",J11))","v":"8 ( 514 )"},{"$f":"IF('Extra Incident'!$JQ25=\"\",\"\",'Extra Incident'!$JQ25)","v":1},{"$f":"IF('Extra Incident'!$JQ25=\"\",\"\",'Extra Incident'!$JZ25)","v":""},{"$f":"IF(O11=\"\",0,(O11-N$4)*P$4+'Set UP'!$R$15)","v":0},{"$f":"IF('Extra Incident'!$JQ25=\"\",\"\",IFERROR(N11&\" ( \"&INT(O11)&\" )\",N11))","v":1},{"$f":"IF(RopeThrow!$X11=\"\",\"\",RopeThrow!$X11)","v":7},{"$f":"IF(RopeThrow!$X11=\"\",\"\",RopeThrow!$AG11)","v":759.25925925925935},{"$f":"IF(S11=\"\",0,(S11-R$4)*T$4+'Set UP'!$R$15)","v":745.6521739130435},{"$f":"IF(RopeThrow!$X11=\"\",\"\",IFERROR(R11&\" ( \"&INT(T11)&\" )\",R11))","v":"7 ( 745 )"},{"$f":"IF('Swim&Tow'!$W11=\"\",\"\",'Swim&Tow'!$W11)","v":11},{"$f":"IF('Swim&Tow'!$W11=\"\",\"\",'Swim&Tow'!$AF11)","v":795.66924148410806},{"$f":"IF(W11=\"\",0,(W11-V$4)*X$4+'Set UP'!$R$15)","v":747.03888123741945},{"$f":"IF('Swim&Tow'!$W11=\"\",\"\",IFERROR(V11&\" ( \"&INT(X11)&\" )\",V11))","v":"11 ( 747 )"},{"$f":"IF(Medley!Q11=\"\",\"\",Medley!$U11)","v":17},{"$f":"IF(Medley!Q11=\"\",\"\",Medley!$AD11)","v":634.69026548672571},{"$f":"IF(AA11=\"\",0,(AA11-Z$4)*AB$4+'Set UP'!$R$15)","v":529.84615384615392},{"$f":"IF(Medley!$U11=\"\",\"\",IFERROR(Z11&\" ( \"&INT(AB11)&\" )\",Z11))","v":"17 ( 529 )"},{"$f":"IF('Manikin Carry'!U11=\"\",\"\",'Manikin Carry'!$U11)","v":""},{"$f":"IF('Manikin Carry'!U11=\"\",\"\",'Manikin Carry'!$AD11)","v":""},{"$f":"IF(AE11=\"\",0,(AE11-AD$4)*AF$4+'Set UP'!$R$15)","v":0},{"$f":"IF('Manikin Carry'!$U11=\"\",\"\",IFERROR(AD11&\" ( \"&INT(AF11)&\" )\",AD11))","v":""},{"$f":"IF(Obstacle!U11=\"\",\"\",Obstacle!$U11)","v":""},{"$f":"IF(Obstacle!U11=\"\",\"\",Obstacle!$AD11)","v":""},{"$f":"IF(AI11=\"\",0,(AI11-AH$4)*AJ$4+'Set UP'!$R$15)","v":0},{"$f":"IF(Obstacle!$U11=\"\",\"\",IFERROR(AH11&\" ( \"&INT(AJ11)&\" )\",AH11))","v":""},4448.305364590502,9,{"$f":"IF(E11=\"NS\",'Non-S Results'!O11,IF('Set UP'!K11=1,'Compartive League'!AN11,IF('Set UP'!K11=2,'Compartive League'!AP11,\"\")))","v":1},{"$f":"'Competition Results'!O11","v":10}]
[null,6,{"$f":"IF(OR('Set UP'!$C12=0,'Set UP'!$D12=0,'Set UP'!$E12=0,'Set UP'!F12=0),\"  --\",'Set UP'!C12)","v":1423},{"$f":"IF(OR('Set UP'!$C12=0,'Set UP'!$D12=0,'Set UP'!$E12=0,'Set UP'!F12=0),\"  --\",'Set UP'!D12&\" \"&'Set UP'!E12)","v":"Keynsham A"},{"$f":"IF(OR('Set UP'!$C12=0,'Set UP'!$D12=0,'Set UP'!$E12=0,'Set UP'!F12=0),\" --\",'Set UP'!F12)","v":"NS"},{"$f":"IF('Dry Incident'!$JQ26=\"\",\"\",'Dry Incident'!$JQ26)","v":21},{"$f":"IF('Dry Incident'!$JQ26=\"\",\"\",'Dry Incident'!$JZ26)","v":610.16949152542372},{"$f":"IF(G12=\"\",0,(G12-F$4)*H$4+'Set UP'!$R$15)","v":470.58823529411762},{"$f":"IF('Dry Incident'!$JQ26=\"\",\"\",IFERROR(F12&\" ( \"&INT(H12)&\" )\",F12))","v":"21 ( 470 )"},{"$f":"IF(' Wet Incident'!$JQ26=\"\",\"\",' Wet Incident'!$JQ26)","v":18},{"$f":"IF(' Wet Incident'!$JQ26=\"\",\"\",' Wet Incident'!$JZ26)","v":403.71621621621625},{"$f":"IF(K12=\"\",0,(K12-J$4)*L$4+'Set UP'!$R$15)","v":261.1627906976745},{"$f":"IF(' Wet Incident'!$JQ26=\"\",\"\",IFERROR(J12&\" ( \"&INT(L12)&\" )\",J12))","v":"18 ( 261 )"},{"$f":"IF('Extra Incident'!$JQ26=\"\",\"\",'Extra Incident'!$JQ26)","v":1},{"$f":"IF('Extra Incident'!$JQ26=\"\",\"\",'Extra Incident'!$JZ26)","v":""},{"$f":"IF(O12=\"\",0,(O12-N$4)*P$4+'Set UP'!$R$15)","v":0},{"$f":"IF('Extra Incident'!$JQ26=\"\",\"\",IFERROR(N12&\" ( \"&INT(O12)&\" )\",N12))","v":1},{"$f":"IF(RopeThrow!$X12=\"\",\"\",RopeThrow!$X12)","v":23.5},{"$f":"IF(RopeThrow!$X12=\"\",\"\",RopeThrow!$AG12)","v":148.14814814814815},{"$f":"IF(S12=\"\",0,(S12-R$4)*T$4+'Set UP'!$R$15)","v":100},{"$f":"IF(RopeThrow!$X12=\"\",\"\",IFERROR(R12&\" ( \"&INT(T12)&\" )\",R12))","v":"23.5 ( 100 )"},{"$f":"IF('Swim&Tow'!$W12=\"\",\"\",'Swim&Tow'!$W12)","v":24},{"$f":"IF('Swim&Tow'!$W12=\"\",\"\",'Swim&Tow'!$AF12)","v":567.91186526529054},{"$f":"IF(W12=\"\",0,(W12-V$4)*X$4+'Set UP'!$R$15)","v":318.30172687784699},{"$f":"IF('Swim&Tow'!$W12=\"\",\"\",IFERROR(V12&\" ( \"&INT(X12)&\" )\",V12))","v":"24 ( 318 )"},{"$f":"IF(Medley!Q12=\"\",\"\",Medley!$U12)","v":24},{"$f":"IF(Medley!Q12=\"\",\"\",Medley!$AD12)","v":""},{"$f":"IF(AA12=\"\",0,(AA12-Z$4)*AB$4+'Set UP'!$R$15)","v":0},{"$f":"IF(Medley!$U12=\"\",\"\",IFERROR(Z12&\" ( \"&INT(AB12)&\" )\",Z12))","v":"24 ( 0 )"},{"$f":"IF('Manikin Carry'!U12=\"\",\"\",'Manikin Carry'!$U12)","v":""},{"$f":"IF('Manikin Carry'!U12=\"\",\"\",'Manikin Carry'!$AD12)","v":""},{"$f":"IF(AE12=\"\",0,(AE12-AD$4)*AF$4+'Set UP'!$R$15)","v":0},{"$f":"IF('Manikin Carry'!$U12=\"\",\"\",IFERROR(AD12&\" ( \"&INT(AF12)&\" )\",AD12))","v":""},{"$f":"IF(Obstacle!U12=\"\",\"\",Obstacle!$U12)","v":""},{"$f":"IF(Obstacle!U12=\"\",\"\",Obstacle!$AD12)","v":""},{"$f":"IF(AI12=\"\",0,(AI12-AH$4)*AJ$4+'Set UP'!$R$15)","v":0},{"$f":"IF(Obstacle!$U12=\"\",\"\",IFERROR(AH12&\" ( \"&INT(AJ12)&\" )\",AH12))","v":""},1881.8037788614313,24,{"$f":"IF(E12=\"NS\",'Non-S Results'!O12,IF('Set UP'!K12=1,'Compartive League'!AN12,IF('Set UP'!K12=2,'Compartive League'!AP12,\"\")))","v":2},{"$f":"'Competition Results'!O12","v":24}]
[null,7,{"$f":"IF(OR('Set UP'!$C13=0,'Set UP'!$D13=0,'Set UP'!$E13=0,'Set UP'!F13=0),\"  --\",'Set UP'!C13)","v":1433},{"$f":"IF(OR('Set UP'!$C13=0,'Set UP'!$D13=0,'Set UP'!$E13=0,'Set UP'!F13=0),\"  --\",'Set UP'!D13&\" \"&'Set UP'!E13)","v":"University of Nottingham B"},{"$f":"IF(OR('Set UP'!$C13=0,'Set UP'!$D13=0,'Set UP'!$E13=0,'Set UP'!F13=0),\" --\",'Set UP'!F13)","v":"S"},{"$f":"IF('Dry Incident'!$JQ27=\"\",\"\",'Dry Incident'!$JQ27)","v":17},{"$f":"IF('Dry Incident'!$JQ27=\"\",\"\",'Dry Incident'!$JZ27)","v":681.3559322033899},{"$f":"IF(G13=\"\",0,(G13-F$4)*H$4+'Set UP'!$R$15)","v":567.2634271099746},{"$f":"IF('Dry Incident'!$JQ27=\"\",\"\",IFERROR(F13&\" ( \"&INT(H13)&\" )\",F13))","v":"17 ( 567 )"},{"$f":"IF(' Wet Incident'!$JQ27=\"\",\"\",' Wet Incident'!$JQ27)","v":10},{"$f":"IF(' Wet Incident'!$JQ27=\"\",\"\",' Wet Incident'!$JZ27)","v":597.97297297297303},{"$f":"IF(K13=\"\",0,(K13-J$4)*L$4+'Set UP'!$R$15)","v":501.86046511627916},{"$f":"IF(' Wet Incident'!$JQ27=\"\",\"\",IFERROR(J13&\" ( \"&INT(L13)&\" )\",J13))","v":"10 ( 501 )"},{"$f":"IF('Extra Incident'!$JQ27=\"\",\"\",'Extra Incident'!$JQ27)","v":1},{"$f":"IF('Extra Incident'!$JQ27=\"\",\"\",'Extra Incident'!$JZ27)","v":""},{"$f":"IF(O13=\"\",0,(O13-N$4)*P$4+'Set UP'!$R$15)","v":0},{"$f":"IF('Extra Incident'!$JQ27=\"\",\"\",IFERROR(N13&\" ( \"&INT(O13)&\" )\",N13))","v":1},{"$f":"IF(RopeThrow!$X13=\"\",\"\",RopeThrow!$X13)","v":15},{"$f":"IF(RopeThrow!$X13=\"\",\"\",RopeThrow!$AG13)","v":462.96296296296299},{"$f":"IF(S13=\"\",0,(S13-R$4)*T$4+'Set UP'!$R$15)","v":432.60869565217388},{"$f":"IF(RopeThrow!$X13=\"\",\"\",IFERROR(R13&\" ( \"&INT(T13)&\" )\",R13))","v":"15 ( 432 )"},{"$f":"IF('Swim&Tow'!$W13=\"\",\"\",'Swim&Tow'!$W13)","v":22},{"$f":"IF('Swim&Tow'!$W13=\"\",\"\",'Swim&Tow'!$AF13)","v":617.42433835633801},{"$f":"IF(W13=\"\",0,(W13-V$4)*X$4+'Set UP'!$R$15)","v":411.50545608645007},{"$f":"IF('Swim&Tow'!$W13=\"\",\"\",IFERROR(V13&\" ( \"&INT(X13)&\" )\",V13))","v":"22 ( 411 )"},{"$f":"IF(Medley!Q13=\"\",\"\",Medley!$U13)","v":20},{"$f":"IF(Medley!Q13=\"\",\"\",Medley!$AD13)","v":496.90265486725673},{"$f":"IF(AA13=\"\",0,(AA13-Z$4)*AB$4+'Set UP'!$R$15)","v":290.30769230769249},{"$f":"IF(Medley!$U13=\"\",\"\",IFERROR(Z13&\" ( \"&INT(AB13)&\" )\",Z13))","v":"20 ( 290 )"},{"$f":"IF('Manikin Carry'!U13=\"\",\"\",'Manikin Carry'!$U13)","v":""},{"$f":"IF('Manikin Carry'!U13=\"\",\"\",'Manikin Carry'!$AD13)","v":""},{"$f":"IF(AE13=\"\",0,(AE13-AD$4)*AF$4+'Set UP'!$R$15)","v":0},{"$f":"IF('Manikin Carry'!$U13=\"\",\"\",IFERROR(AD13&\" ( \"&INT(AF13)&\" )\",AD13))","v":""},{"$f":"IF(Obstacle!U13=\"\",\"\",Obstacle!$U13)","v":""},{"$f":"IF(Obstacle!U13=\"\",\"\",Obstacle!$AD13)","v":""},{"$f":"IF(AI13=\"\",0,(AI13-AH$4)*AJ$4+'Set UP'!$R$15)","v":0},{"$f":"IF(Obstacle!$U13=\"\",\"\",IFERROR(AH13&\" ( \"&INT(AJ13)&\" )\",AH13))","v":""},3272.6696284988238,19,{"$f":"IF(E13=\"NS\",'Non-S Results'!O13,IF('Set UP'!K13=1,'Compartive League'!AN13,IF('Set UP'!K13=2,'Compartive League'!AP13,\"\")))","v":8},{"$f":"'Competition Results'!O13","v":17}]
[null,8,{"$f":"IF(OR('Set UP'!$C14=0,'Set UP'!$D14=0,'Set UP'!$E14=0,'Set UP'!F14=0),\"  --\",'Set UP'!C14)","v":1441},{"$f":"IF(OR('Set UP'!$C14=0,'Set UP'!$D14=0,'Set UP'!$E14=0,'Set UP'!F14=0),\"  --\",'Set UP'!D14&\" \"&'Set UP'!E14)","v":"University of Plymouth C"},{"$f":"IF(OR('Set UP'!$C14=0,'Set UP'!$D14=0,'Set UP'!$E14=0,'Set UP'!F14=0),\" --\",'Set UP'!F14)","v":"NC"},{"$f":"IF('Dry Incident'!$JQ28=\"\",\"\",'Dry Incident'!$JQ28)","v":26},{"$f":"IF('Dry Incident'!$JQ28=\"\",\"\",'Dry Incident'!$JZ28)","v":433.89830508474574},{"$f":"IF(G14=\"\",0,(G14-F$4)*H$4+'Set UP'!$R$15)","v":231.20204603580558},{"$f":"IF('Dry Incident'!$JQ28=\"\",\"\",IFERROR(F14&\" ( \"&INT(H14)&\" )\",F14))","v":"26 ( 231 )"},{"$f":"IF(' Wet Incident'!$JQ28=\"\",\"\",' Wet Incident'!$JQ28)","v":24},{"$f":"IF(' Wet Incident'!$JQ28=\"\",\"\",' Wet Incident'!$JZ28)","v":337.83783783783781},{"$f":"IF(K14=\"\",0,(K14-J$4)*L$4+'Set UP'!$R$15)","v":179.5348837209302},{"$f":"IF(' Wet Incident'!$JQ28=\"\",\"\",IFERROR(J14&\" ( \"&INT(L14)&\" )\",J14))","v":"24 ( 179 )"},{"$f":"IF('Extra Incident'!$JQ28=\"\",\"\",'Extra Incident'!$JQ28)","v":1},{"$f":"IF('Extra Incident'!$JQ28=\"\",\"\",'Extra Incident'!$JZ28)","v":""},{"$f":"IF(O14=\"\",0,(O14-N$4)*P$4+'Set UP'!$R$15)","v":0},{"$f":"IF('Extra Incident'!$JQ28=\"\",\"\",IFERROR(N14&\" ( \"&INT(O14)&\" )\",N14))","v":1},{"$f":"IF(RopeThrow!$X14=\"\",\"\",RopeThrow!$X14)","v":23.5},{"$f":"IF(RopeThrow!$X14=\"\",\"\",RopeThrow!$AG14)","v":148.14814814814815},{"$f":"IF(S14=\"\",0,(S14-R$4)*T$4+'Set UP'!$R$15)","v":100},{"$f":"IF(RopeThrow!$X14=\"\",\"\",IFERROR(R14&\" ( \"&INT(T14)&\" )\",R14))","v":"23.5 ( 100 )"},{"$f":"IF('Swim&Tow'!$W14=\"\",\"\",'Swim&Tow'!$W14)","v":23},{"$f":"IF('Swim&Tow'!$W14=\"\",\"\",'Swim&Tow'!$AF14)","v":612.91629732809929},{"$f":"IF(W14=\"\",0,(W14-V$4)*X$4+'Set UP'!$R$15)","v":403.01938764699645},{"$f":"IF('Swim&Tow'!$W14=\"\",\"\",IFERROR(V14&\" ( \"&INT(X14)&\" )\",V14))","v":"23 ( 403 )"},{"$f":"IF(Medley!Q14=\"\",\"\",Medley!$U14)","v":18},{"$f":"IF(Medley!Q14=\"\",\"\",Medley!$AD14)","v":539.5575221238937},{"$f":"IF(AA14=\"\",0,(AA14-Z$4)*AB$4+'Set UP'!$R$15)","v":364.46153846153828},{"$f":"IF(Medley!$U14=\"\",\"\",IFERROR(Z14&\" ( \"&INT(AB14)&\" )\",Z14))","v":"18 ( 364 )"},{"$f":"IF('Manikin Carry'!U14=\"\",\"\",'Manikin Carry'!$U14)","v":""},{"$f":"IF('Manikin Carry'!U14=\"\",\"\",'Manikin Carry'!$AD14)","v":""},{"$f":"IF(AE14=\"\",0,(AE14-AD$4)*AF$4+'Set UP'!$R$15)","v":0},{"$f":"IF('Manikin Carry'!$U14=\"\",\"\",IFERROR(AD14&\" ( \"&INT(AF14)&\" )\",AD14))","v":""},{"$f":"IF(Obstacle!U14=\"\",\"\",Obstacle!$U14)","v":""},{"$f":"IF(Obstacle!U14=\"\",\"\",Obstacle!$AD14)","v":""},{"$f":"IF(AI14=\"\",0,(AI14-AH$4)*AJ$4+'Set UP'!$R$15)","v":0},{"$f":"IF(Obstacle!$U14=\"\",\"\",IFERROR(AH14&\" ( \"&INT(AJ14)&\" )\",AH14))","v":""},1688.9547856220063,26,{"$f":"IF(E14=\"NS\",'Non-S Results'!O14,IF('Set UP'!K14=1,'Compartive League'!AN14,IF('Set UP'!K14=2,'Compartive League'!AP14,\"\")))","v":""},{"$f":"'Competition Results'!O14","v":26}]
[null,9,{"$f":"IF(OR('Set UP'!$C15=0,'Set UP'!$D15=0,'Set UP'!$E15=0,'Set UP'!F15=0),\"  --\",'Set UP'!C15)","v":1440},{"$f":"IF(OR('Set UP'!$C15=0,'Set UP'!$D15=0,'Set UP'!$E15=0,'Set UP'!F15=0),\"  --\",'Set UP'!D15&\" \"&'Set UP'!E15)","v":"University of Plymouth B"},{"$f":"IF(OR('Set UP'!$C15=0,'Set UP'!$D15=0,'Set UP'!$E15=0,'Set UP'!F15=0),\" --\",'Set UP'!F15)","v":"S"},{"$f":"IF('Dry Incident'!$JQ29=\"\",\"\",'Dry Incident'!$JQ29)","v":20},{"$f":"IF('Dry Incident'!$JQ29=\"\",\"\",'Dry Incident'!$JZ29)","v":615.25423728813553},{"$f":"IF(G15=\"\",0,(G15-F$4)*H$4+'Set UP'!$R$15)","v":477.49360613810734},{"$f":"IF('Dry Incident'!$JQ29=\"\",\"\",IFERROR(F15&\" ( \"&INT(H15)&\" )\",F15))","v":"20 ( 477 )"},{"$f":"IF(' Wet Incident'!$JQ29=\"\",\"\",' Wet Incident'!$JQ29)","v":17},{"$f":"IF(' Wet Incident'!$JQ29=\"\",\"\",' Wet Incident'!$JZ29)","v":410.47297297297297},{"$f":"IF(K15=\"\",0,(K15-J$4)*L$4+'Set UP'!$R$15)","v":269.53488372093022},{"$f":"IF(' Wet Incident'!$JQ29=\"\",\"\",IFERROR(J15&\" ( \"&INT(L15)&\" )\",J15))","v":"17 ( 269 )"},{"$f":"IF('Extra Incident'!$JQ29=\"\",\"\",'Extra Incident'!$JQ29)","v":1},{"$f":"IF('Extra Incident'!$JQ29=\"\",\"\",'Extra Incident'!$JZ29)","v":""},{"$f":"IF(O15=\"\",0,(O15-N$4)*P$4+'Set UP'!$R$15)","v":0},{"$f":"IF('Extra Incident'!$JQ29=\"\",\"\",IFERROR(N15&\" ( \"&INT(O15)&\" )\",N15))","v":1},{"$f":"IF(RopeThrow!$X15=\"\",\"\",RopeThrow!$X15)","v":15},{"$f":"IF(RopeThrow!$X15=\"\",\"\",RopeThrow!$AG15)","v":462.96296296296299},{"$f":"IF(S15=\"\",0,(S15-R$4)*T$4+'Set UP'!$R$15)","v":432.60869565217388},{"$f":"IF(RopeThrow!$X15=\"\",\"\",IFERROR(R15&\" ( \"&INT(T15)&\" )\",R15))","v":"15 ( 432 )"},{"$f":"IF('Swim&Tow'!$W15=\"\",\"\",'Swim&Tow'!$W15)","v":13},{"$f":"IF('Swim&Tow'!$W15=\"\",\"\",'Swim&Tow'!$AF15)","v":766.4682790933266},{"$f":"IF(W15=\"\",0,(W15-V$4)*X$4+'Set UP'!$R$15)","v":692.07013454815126},{"$f":"IF('Swim&Tow'!$W15=\"\",\"\",IFERROR(V15&\" ( \"&INT(X15)&\" )\",V15))","v":"13 ( 692 )"},{"$f":"IF(Medley!Q15=\"\",\"\",Medley!$U15)","v":9},{"$f":"IF(Medley!Q15=\"\",\"\",Medley!$AD15)","v":771.85840707964599},{"$f":"IF(AA15=\"\",0,(AA15-Z$4)*AB$4+'Set UP'!$R$15)","v":768.30769230769226},{"$f":"IF(Medley!$U15=\"\",\"\",IFERROR(Z15&\" ( \"&INT(AB15)&\" )\",Z15))","v":"9 ( 768 )"},{"$f":"IF('Manikin Carry'!U15=\"\",\"\",'Manikin Carry'!$U15)","v":""},{"$f":"IF('Manikin Carry'!U15=\"\",\"\",'Manikin Carry'!$AD15)","v":""},{"$f":"IF(AE15=\"\",0,(AE15-AD$4)*AF$4+'Set UP'!$R$15)","v":0},{"$f":"IF('Manikin Carry'!$U15=\"\",\"\",IFERROR(AD15&\" ( \"&INT(AF15)&\" )\",AD15))","v":""},{"$f":"IF(Obstacle!U15=\"\",\"\",Obstacle!$U15)","v":""},{"$f":"IF(Obstacle!U15=\"\",\"\",Obstacle!$AD15)","v":""},{"$f":"IF(AI15=\"\",0,(AI15-AH$4)*AJ$4+'Set UP'!$R$15)","v":0},{"$f":"IF(Obstacle!$U15=\"\",\"\",IFERROR(AH15&\" ( \"&INT(AJ15)&\" )\",AH15))","v":""},3387.0435022260926,18,{"$f":"IF(E15=\"NS\",'Non-S Results'!O15,IF('Set UP'!K15=1,'Compartive League'!AN15,IF('Set UP'!K15=2,'Compartive League'!AP15,\"\")))","v":9},{"$f":"'Competition Results'!O15","v":18}]
[null,10,{"$f":"IF(OR('Set UP'!$C16=0,'Set UP'!$D16=0,'Set UP'!$E16=0,'Set UP'!F16=0),\"  --\",'Set UP'!C16)","v":1431},{"$f":"IF(OR('Set UP'!$C16=0,'Set UP'!$D16=0,'Set UP'!$E16=0,'Set UP'!F16=0),\"  --\",'Set UP'!D16&\" \"&'Set UP'!E16)","v":"University of Nottingham C"},{"$f":"IF(OR('Set UP'!$C16=0,'Set UP'!$D16=0,'Set UP'!$E16=0,'Set UP'!F16=0),\" --\",'Set UP'!F16)","v":"S"},{"$f":"IF('Dry Incident'!$JQ30=\"\",\"\",'Dry Incident'!$JQ30)","v":15},{"$f":"IF('Dry Incident'!$JQ30=\"\",\"\",'Dry Incident'!$JZ30)","v":728.81355932203383},{"$f":"IF(G16=\"\",0,(G16-F$4)*H$4+'Set UP'!$R$15)","v":631.71355498721221},{"$f":"IF('Dry Incident'!$JQ30=\"\",\"\",IFERROR(F16&\" ( \"&INT(H16)&\" )\",F16))","v":"15 ( 631 )"},{"$f":"IF(' Wet Incident'!$JQ30=\"\",\"\",' Wet Incident'!$JQ30)","v":20},{"$f":"IF(' Wet Incident'!$JQ30=\"\",\"\",' Wet Incident'!$JZ30)","v":391.89189189189187},{"$f":"IF(K16=\"\",0,(K16-J$4)*L$4+'Set UP'!$R$15)","v":246.51162790697671},{"$f":"IF(' Wet Incident'!$JQ30=\"\",\"\",IFERROR(J16&\" ( \"&INT(L16)&\" )\",J16))","v":"20 ( 246 )"},{"$f":"IF('Extra Incident'!$JQ30=\"\",\"\",'Extra Incident'!$JQ30)","v":1},{"$f":"IF('Extra Incident'!$JQ30=\"\",\"\",'Extra Incident'!$JZ30)","v":""},{"$f":"IF(O16=\"\",0,(O16-N$4)*P$4+'Set UP'!$R$15)","v":0},{"$f":"IF('Extra Incident'!$JQ30=\"\",\"\",IFERROR(N16&\" ( \"&INT(O16)&\" )\",N16))","v":1},{"$f":"IF(RopeThrow!$X16=\"\",\"\",RopeThrow!$X16)","v":15},{"$f":"IF(RopeThrow!$X16=\"\",\"\",RopeThrow!$AG16)","v":462.96296296296299},{"$f":"IF(S16=\"\",0,(S16-R$4)*T$4+'Set UP'!$R$15)","v":432.60869565217388},{"$f":"IF(RopeThrow!$X16=\"\",\"\",IFERROR(R16&\" ( \"&INT(T16)&\" )\",R16))","v":"15 ( 432 )"},{"$f":"IF('Swim&Tow'!$W16=\"\",\"\",'Swim&Tow'!$W16)","v":20},{"$f":"IF('Swim&Tow'!$W16=\"\",\"\",'Swim&Tow'!$AF16)","v":648.11953906546808},{"$f":"IF(W16=\"\",0,(W16-V$4)*X$4+'Set UP'!$R$15)","v":469.28700074160423},{"$f":"IF('Swim&Tow'!$W16=\"\",\"\",IFERROR(V16&\" ( \"&INT(X16)&\" )\",V16))","v":"20 ( 469 )"},{"$f":"IF(Medley!Q16=\"\",\"\",Medley!$U16)","v":24},{"$f":"IF(Medley!Q16=\"\",\"\",Medley!$AD16)","v":""},{"$f":"IF(AA16=\"\",0,(AA16-Z$4)*AB$4+'Set UP'!$R$15)","v":0},{"$f":"IF(Medley!$U16=\"\",\"\",IFERROR(Z16&\" ( \"&INT(AB16)&\" )\",Z16))","v":"24 ( 0 )"},{"$f":"IF('Manikin Carry'!U16=\"\",\"\",'Manikin Carry'!$U16)","v":""},{"$f":"IF('Manikin Carry'!U16=\"\",\"\",'Manikin Carry'!$AD16)","v":""},{"$f":"IF(AE16=\"\",0,(AE16-AD$4)*AF$4+'Set UP'!$R$15)","v":0},{"$f":"IF('Manikin Carry'!$U16=\"\",\"\",IFERROR(AD16&\" ( \"&INT(AF16)&\" )\",AD16))","v":""},{"$f":"IF(Obstacle!U16=\"\",\"\",Obstacle!$U16)","v":""},{"$f":"IF(Obstacle!U16=\"\",\"\",Obstacle!$AD16)","v":""},{"$f":"IF(AI16=\"\",0,(AI16-AH$4)*AJ$4+'Set UP'!$R$15)","v":0},{"$f":"IF(Obstacle!$U16=\"\",\"\",IFERROR(AH16&\" ( \"&INT(AJ16)&\" )\",AH16))","v":""},2658.3460621821559,21,{"$f":"IF(E16=\"NS\",'Non-S Results'!O16,IF('Set UP'!K16=1,'Compartive League'!AN16,IF('Set UP'!K16=2,'Compartive League'!AP16,\"\")))","v":10},{"$f":"'Competition Results'!O16","v":21}]
[null,11,{"$f":"IF(OR('Set UP'!$C17=0,'Set UP'!$D17=0,'Set UP'!$E17=0,'Set UP'!F17=0),\"  --\",'Set UP'!C17)","v":1445},{"$f":"IF(OR('Set UP'!$C17=0,'Set UP'!$D17=0,'Set UP'!$E17=0,'Set UP'!F17=0),\"  --\",'Set UP'!D17&\" \"&'Set UP'!E17)","v":"University of Birmingham D"},{"$f":"IF(OR('Set UP'!$C17=0,'Set UP'!$D17=0,'Set UP'!$E17=0,'Set UP'!F17=0),\" --\",'Set UP'!F17)","v":"NC"},{"$f":"IF('Dry Incident'!$JQ31=\"\",\"\",'Dry Incident'!$JQ31)","v":9},{"$f":"IF('Dry Incident'!$JQ31=\"\",\"\",'Dry Incident'!$JZ31)","v":852.54237288135596},{"$f":"IF(G17=\"\",0,(G17-F$4)*H$4+'Set UP'!$R$15)","v":799.74424552429662},{"$f":"IF('Dry Incident'!$JQ31=\"\",\"\",IFERROR(F17&\" ( \"&INT(H17)&\" )\",F17))","v":"9 ( 799 )"},{"$f":"IF(' Wet Incident'!$JQ31=\"\",\"\",' Wet Incident'!$JQ31)","v":11},{"$f":"IF(' Wet Incident'!$JQ31=\"\",\"\",' Wet Incident'!$JZ31)","v":591.21621621621625},{"$f":"IF(K17=\"\",0,(K17-J$4)*L$4+'Set UP'!$R$15)","v":493.48837209302332},{"$f":"IF(' Wet Incident'!$JQ31=\"\",\"\",IFERROR(J17&\" ( \"&INT(L17)&\" )\",J17))","v":"11 ( 493 )"},{"$f":"IF('Extra Incident'!$JQ31=\"\",\"\",'Extra Incident'!$JQ31)","v":1},{"$f":"IF('Extra Incident'!$JQ31=\"\",\"\",'Extra Incident'!$JZ31)","v":""},{"$f":"IF(O17=\"\",0,(O17-N$4)*P$4+'Set UP'!$R$15)","v":0},{"$f":"IF('Extra Incident'!$JQ31=\"\",\"\",IFERROR(N17&\" ( \"&INT(O17)&\" )\",N17))","v":1},{"$f":"IF(RopeThrow!$X17=\"\",\"\",RopeThrow!$X17)","v":23.5},{"$f":"IF(RopeThrow!$X17=\"\",\"\",RopeThrow!$AG17)","v":148.14814814814815},{"$f":"IF(S17=\"\",0,(S17-R$4)*T$4+'Set UP'!$R$15)","v":100},{"$f":"IF(RopeThrow!$X17=\"\",\"\",IFERROR(R17&\" ( \"&INT(T17)&\" )\",R17))","v":"23.5 ( 100 )"},{"$f":"IF('Swim&Tow'!$W17=\"\",\"\",'Swim&Tow'!$W17)","v":19},{"$f":"IF('Swim&Tow'!$W17=\"\",\"\",'Swim&Tow'!$AF17)","v":686.43788780549596},{"$f":"IF(W17=\"\",0,(W17-V$4)*X$4+'Set UP'!$R$15)","v":541.41858247695768},{"$f":"IF('Swim&Tow'!$W17=\"\",\"\",IFERROR(V17&\" ( \"&INT(X17)&\" )\",V17))","v":"19 ( 541 )"},{"$f":"IF(Medley!Q17=\"\",\"\",Medley!$U17)","v":24},{"$f":"IF(Medley!Q17=\"\",\"\",Medley!$AD17)","v":""},{"$f":"IF(AA17=\"\",0,(AA17-Z$4)*AB$4+'Set UP'!$R$15)","v":0},{"$f":"IF(Medley!$U17=\"\",\"\",IFERROR(Z17&\" ( \"&INT(AB17)&\" )\",Z17))","v":"24 ( 0 )"},{"$f":"IF('Manikin Carry'!U17=\"\",\"\",'Manikin Carry'!$U17)","v":""},{"$f":"IF('Manikin Carry'!U17=\"\",\"\",'Manikin Carry'!$AD17)","v":""},{"$f":"IF(AE17=\"\",0,(AE17-AD$4)*AF$4+'Set UP'!$R$15)","v":0},{"$f":"IF('Manikin Carry'!$U17=\"\",\"\",IFERROR(AD17&\" ( \"&INT(AF17)&\" )\",AD17))","v":""},{"$f":"IF(Obstacle!U17=\"\",\"\",Obstacle!$U17)","v":""},{"$f":"IF(Obstacle!U17=\"\",\"\",Obstacle!$AD17)","v":""},{"$f":"IF(AI17=\"\",0,(AI17-AH$4)*AJ$4+'Set UP'!$R$15)","v":0},{"$f":"IF(Obstacle!$U17=\"\",\"\",IFERROR(AH17&\" ( \"&INT(AJ17)&\" )\",AH17))","v":""},3227.8838177115977,20,{"$f":"IF(E17=\"NS\",'Non-S Results'!O17,IF('Set UP'!K17=1,'Compartive League'!AN17,IF('Set UP'!K17=2,'Compartive League'!AP17,\"\")))","v":""},{"$f":"'Competition Results'!O17","v":15}]
[null,12,{"$f":"IF(OR('Set UP'!$C18=0,'Set UP'!$D18=0,'Set UP'!$E18=0,'Set UP'!F18=0),\"  --\",'Set UP'!C18)","v":"  --"},{"$f":"IF(OR('Set UP'!$C18=0,'Set UP'!$D18=0,'Set UP'!$E18=0,'Set UP'!F18=0),\"  --\",'Set UP'!D18&\" \"&'Set UP'!E18)","v":"  --"},{"$f":"IF(OR('Set UP'!$C18=0,'Set UP'!$D18=0,'Set UP'!$E18=0,'Set UP'!F18=0),\" --\",'Set UP'!F18)","v":" --"},{"$f":"IF('Dry Incident'!$JQ32=\"\",\"\",'Dry Incident'!$JQ32)","v":""},{"$f":"IF('Dry Incident'!$JQ32=\"\",\"\",'Dry Incident'!$JZ32)","v":""},{"$f":"IF(G18=\"\",0,(G18-F$4)*H$4+'Set UP'!$R$15)","v":0},{"$f":"IF('Dry Incident'!$JQ32=\"\",\"\",IFERROR(F18&\" ( \"&INT(H18)&\" )\",F18))","v":""},{"$f":"IF(' Wet Incident'!$JQ32=\"\",\"\",' Wet Incident'!$JQ32)","v":""},{"$f":"IF(' Wet Incident'!$JQ32=\"\",\"\",' Wet Incident'!$JZ32)","v":""},{"$f":"IF(K18=\"\",0,(K18-J$4)*L$4+'Set UP'!$R$15)","v":0},{"$f":"IF(' Wet Incident'!$JQ32=\"\",\"\",IFERROR(J18&\" ( \"&INT(L18)&\" )\",J18))","v":""},{"$f":"IF('Extra Incident'!$JQ32=\"\",\"\",'Extra Incident'!$JQ32)","v":""},{"$f":"IF('Extra Incident'!$JQ32=\"\",\"\",'Extra Incident'!$JZ32)","v":""},{"$f":"IF(O18=\"\",0,(O18-N$4)*P$4+'Set UP'!$R$15)","v":0},{"$f":"IF('Extra Incident'!$JQ32=\"\",\"\",IFERROR(N18&\" ( \"&INT(O18)&\" )\",N18))","v":""},{"$f":"IF(RopeThrow!$X18=\"\",\"\",RopeThrow!$X18)","v":""},{"$f":"IF(RopeThrow!$X18=\"\",\"\",RopeThrow!$AG18)","v":""},{"$f":"IF(S18=\"\",0,(S18-R$4)*T$4+'Set UP'!$R$15)","v":0},{"$f":"IF(RopeThrow!$X18=\"\",\"\",IFERROR(R18&\" ( \"&INT(T18)&\" )\",R18))","v":""},{"$f":"IF('Swim&Tow'!$W18=\"\",\"\",'Swim&Tow'!$W18)","v":""},{"$f":"IF('Swim&Tow'!$W18=\"\",\"\",'Swim&Tow'!$AF18)","v":""},{"$f":"IF(W18=\"\",0,(W18-V$4)*X$4+'Set UP'!$R$15)","v":0},{"$f":"IF('Swim&Tow'!$W18=\"\",\"\",IFERROR(V18&\" ( \"&INT(X18)&\" )\",V18))","v":""},{"$f":"IF(Medley!Q18=\"\",\"\",Medley!$U18)","v":""},{"$f":"IF(Medley!Q18=\"\",\"\",Medley!$AD18)","v":""},{"$f":"IF(AA18=\"\",0,(AA18-Z$4)*AB$4+'Set UP'!$R$15)","v":0},{"$f":"IF(Medley!$U18=\"\",\"\",IFERROR(Z18&\" ( \"&INT(AB18)&\" )\",Z18))","v":""},{"$f":"IF('Manikin Carry'!U18=\"\",\"\",'Manikin Carry'!$U18)","v":""},{"$f":"IF('Manikin Carry'!U18=\"\",\"\",'Manikin Carry'!$AD18)","v":""},{"$f":"IF(AE18=\"\",0,(AE18-AD$4)*AF$4+'Set UP'!$R$15)","v":0},{"$f":"IF('Manikin Carry'!$U18=\"\",\"\",IFERROR(AD18&\" ( \"&INT(AF18)&\" )\",AD18))","v":""},{"$f":"IF(Obstacle!U18=\"\",\"\",Obstacle!$U18)","v":""},{"$f":"IF(Obstacle!U18=\"\",\"\",Obstacle!$AD18)","v":""},{"$f":"IF(AI18=\"\",0,(AI18-AH$4)*AJ$4+'Set UP'!$R$15)","v":0},{"$f":"IF(Obstacle!$U18=\"\",\"\",IFERROR(AH18&\" ( \"&INT(AJ18)&\" )\",AH18))","v":""},"","",{"$f":"IF(E18=\"NS\",'Non-S Results'!O18,IF('Set UP'!K18=1,'Compartive League'!AN18,IF('Set UP'!K18=2,'Compartive League'!AP18,\"\")))","v":""},{"$f":"'Competition Results'!O18","v":0}]
[null,13,{"$f":"IF(OR('Set UP'!$C19=0,'Set UP'!$D19=0,'Set UP'!$E19=0,'Set UP'!F19=0),\"  --\",'Set UP'!C19)","v":1426},{"$f":"IF(OR('Set UP'!$C19=0,'Set UP'!$D19=0,'Set UP'!$E19=0,'Set UP'!F19=0),\"  --\",'Set UP'!D19&\" \"&'Set UP'!E19)","v":"London Universities B"},{"$f":"IF(OR('Set UP'!$C19=0,'Set UP'!$D19=0,'Set UP'!$E19=0,'Set UP'!F19=0),\" --\",'Set UP'!F19)","v":"S"},{"$f":"IF('Dry Incident'!$JQ33=\"\",\"\",'Dry Incident'!$JQ33)","v":8},{"$f":"IF('Dry Incident'!$JQ33=\"\",\"\",'Dry Incident'!$JZ33)","v":864.40677966101703},{"$f":"IF(G19=\"\",0,(G19-F$4)*H$4+'Set UP'!$R$15)","v":815.85677749360616},{"$f":"IF('Dry Incident'!$JQ33=\"\",\"\",IFERROR(F19&\" ( \"&INT(H19)&\" )\",F19))","v":"8 ( 815 )"},{"$f":"IF(' Wet Incident'!$JQ33=\"\",\"\",' Wet Incident'!$JQ33)","v":12},{"$f":"IF(' Wet Incident'!$JQ33=\"\",\"\",' Wet Incident'!$JZ33)","v":569.25675675675677},{"$f":"IF(K19=\"\",0,(K19-J$4)*L$4+'Set UP'!$R$15)","v":466.27906976744191},{"$f":"IF(' Wet Incident'!$JQ33=\"\",\"\",IFERROR(J19&\" ( \"&INT(L19)&\" )\",J19))","v":"12 ( 466 )"},{"$f":"IF('Extra Incident'!$JQ33=\"\",\"\",'Extra Incident'!$JQ33)","v":1},{"$f":"IF('Extra Incident'!$JQ33=\"\",\"\",'Extra Incident'!$JZ33)","v":""},{"$f":"IF(O19=\"\",0,(O19-N$4)*P$4+'Set UP'!$R$15)","v":0},{"$f":"IF('Extra Incident'!$JQ33=\"\",\"\",IFERROR(N19&\" ( \"&INT(O19)&\" )\",N19))","v":1},{"$f":"IF(RopeThrow!$X19=\"\",\"\",RopeThrow!$X19)","v":15},{"$f":"IF(RopeThrow!$X19=\"\",\"\",RopeThrow!$AG19)","v":462.96296296296299},{"$f":"IF(S19=\"\",0,(S19-R$4)*T$4+'Set UP'!$R$15)","v":432.60869565217388},{"$f":"IF(RopeThrow!$X19=\"\",\"\",IFERROR(R19&\" ( \"&INT(T19)&\" )\",R19))","v":"15 ( 432 )"},{"$f":"IF('Swim&Tow'!$W19=\"\",\"\",'Swim&Tow'!$W19)","v":14},{"$f":"IF('Swim&Tow'!$W19=\"\",\"\",'Swim&Tow'!$AF19)","v":764.82208433582389},{"$f":"IF(W19=\"\",0,(W19-V$4)*X$4+'Set UP'!$R$15)","v":688.97128933149725},{"$f":"IF('Swim&Tow'!$W19=\"\",\"\",IFERROR(V19&\" ( \"&INT(X19)&\" )\",V19))","v":"14 ( 688 )"},{"$f":"IF(Medley!Q19=\"\",\"\",Medley!$U19)","v":13},{"$f":"IF(Medley!Q19=\"\",\"\",Medley!$AD19)","v":754.07079646017701},{"$f":"IF(AA19=\"\",0,(AA19-Z$4)*AB$4+'Set UP'!$R$15)","v":737.38461538461536},{"$f":"IF(Medley!$U19=\"\",\"\",IFERROR(Z19&\" ( \"&INT(AB19)&\" )\",Z19))","v":"13 ( 737 )"},{"$f":"IF('Manikin Carry'!U19=\"\",\"\",'Manikin Carry'!$U19)","v":""},{"$f":"IF('Manikin Carry'!U19=\"\",\"\",'Manikin Carry'!$AD19)","v":""},{"$f":"IF(AE19=\"\",0,(AE19-AD$4)*AF$4+'Set UP'!$R$15)","v":0},{"$f":"IF('Manikin Carry'!$U19=\"\",\"\",IFERROR(AD19&\" ( \"&INT(AF19)&\" )\",AD19))","v":""},{"$f":"IF(Obstacle!U19=\"\",\"\",Obstacle!$U19)","v":""},{"$f":"IF(Obstacle!U19=\"\",\"\",Obstacle!$AD19)","v":""},{"$f":"IF(AI19=\"\",0,(AI19-AH$4)*AJ$4+'Set UP'!$R$15)","v":0},{"$f":"IF(Obstacle!$U19=\"\",\"\",IFERROR(AH19&\" ( \"&INT(AJ19)&\" )\",AH19))","v":""},4423.2362948903829,10,{"$f":"IF(E19=\"NS\",'Non-S Results'!O19,IF('Set UP'!K19=1,'Compartive League'!AN19,IF('Set UP'!K19=2,'Compartive League'!AP19,\"\")))","v":4},{"$f":"'Competition Results'!O19","v":12}]
[null,14,{"$f":"IF(OR('Set UP'!$C20=0,'Set UP'!$D20=0,'Set UP'!$E20=0,'Set UP'!F20=0),\"  --\",'Set UP'!C20)","v":"  --"},{"$f":"IF(OR('Set UP'!$C20=0,'Set UP'!$D20=0,'Set UP'!$E20=0,'Set UP'!F20=0),\"  --\",'Set UP'!D20&\" \"&'Set UP'!E20)","v":"  --"},{"$f":"IF(OR('Set UP'!$C20=0,'Set UP'!$D20=0,'Set UP'!$E20=0,'Set UP'!F20=0),\" --\",'Set UP'!F20)","v":" --"},{"$f":"IF('Dry Incident'!$JQ34=\"\",\"\",'Dry Incident'!$JQ34)","v":""},{"$f":"IF('Dry Incident'!$JQ34=\"\",\"\",'Dry Incident'!$JZ34)","v":""},{"$f":"IF(G20=\"\",0,(G20-F$4)*H$4+'Set UP'!$R$15)","v":0},{"$f":"IF('Dry Incident'!$JQ34=\"\",\"\",IFERROR(F20&\" ( \"&INT(H20)&\" )\",F20))","v":""},{"$f":"IF(' Wet Incident'!$JQ34=\"\",\"\",' Wet Incident'!$JQ34)","v":""},{"$f":"IF(' Wet Incident'!$JQ34=\"\",\"\",' Wet Incident'!$JZ34)","v":""},{"$f":"IF(K20=\"\",0,(K20-J$4)*L$4+'Set UP'!$R$15)","v":0},{"$f":"IF(' Wet Incident'!$JQ34=\"\",\"\",IFERROR(J20&\" ( \"&INT(L20)&\" )\",J20))","v":""},{"$f":"IF('Extra Incident'!$JQ34=\"\",\"\",'Extra Incident'!$JQ34)","v":""},{"$f":"IF('Extra Incident'!$JQ34=\"\",\"\",'Extra Incident'!$JZ34)","v":""},{"$f":"IF(O20=\"\",0,(O20-N$4)*P$4+'Set UP'!$R$15)","v":0},{"$f":"IF('Extra Incident'!$JQ34=\"\",\"\",IFERROR(N20&\" ( \"&INT(O20)&\" )\",N20))","v":""},{"$f":"IF(RopeThrow!$X20=\"\",\"\",RopeThrow!$X20)","v":""},{"$f":"IF(RopeThrow!$X20=\"\",\"\",RopeThrow!$AG20)","v":""},{"$f":"IF(S20=\"\",0,(S20-R$4)*T$4+'Set UP'!$R$15)","v":0},{"$f":"IF(RopeThrow!$X20=\"\",\"\",IFERROR(R20&\" ( \"&INT(T20)&\" )\",R20))","v":""},{"$f":"IF('Swim&Tow'!$W20=\"\",\"\",'Swim&Tow'!$W20)","v":""},{"$f":"IF('Swim&Tow'!$W20=\"\",\"\",'Swim&Tow'!$AF20)","v":""},{"$f":"IF(W20=\"\",0,(W20-V$4)*X$4+'Set UP'!$R$15)","v":0},{"$f":"IF('Swim&Tow'!$W20=\"\",\"\",IFERROR(V20&\" ( \"&INT(X20)&\" )\",V20))","v":""},{"$f":"IF(Medley!Q20=\"\",\"\",Medley!$U20)","v":""},{"$f":"IF(Medley!Q20=\"\",\"\",Medley!$AD20)","v":""},{"$f":"IF(AA20=\"\",0,(AA20-Z$4)*AB$4+'Set UP'!$R$15)","v":0},{"$f":"IF(Medley!$U20=\"\",\"\",IFERROR(Z20&\" ( \"&INT(AB20)&\" )\",Z20))","v":""},{"$f":"IF('Manikin Carry'!U20=\"\",\"\",'Manikin Carry'!$U20)","v":""},{"$f":"IF('Manikin Carry'!U20=\"\",\"\",'Manikin Carry'!$AD20)","v":""},{"$f":"IF(AE20=\"\",0,(AE20-AD$4)*AF$4+'Set UP'!$R$15)","v":0},{"$f":"IF('Manikin Carry'!$U20=\"\",\"\",IFERROR(AD20&\" ( \"&INT(AF20)&\" )\",AD20))","v":""},{"$f":"IF(Obstacle!U20=\"\",\"\",Obstacle!$U20)","v":""},{"$f":"IF(Obstacle!U20=\"\",\"\",Obstacle!$AD20)","v":""},{"$f":"IF(AI20=\"\",0,(AI20-AH$4)*AJ$4+'Set UP'!$R$15)","v":0},{"$f":"IF(Obstacle!$U20=\"\",\"\",IFERROR(AH20&\" ( \"&INT(AJ20)&\" )\",AH20))","v":""},"","",{"$f":"IF(E20=\"NS\",'Non-S Results'!O20,IF('Set UP'!K20=1,'Compartive League'!AN20,IF('Set UP'!K20=2,'Compartive League'!AP20,\"\")))","v":""},{"$f":"'Competition Results'!O20","v":0}]
[null,15,{"$f":"IF(OR('Set UP'!$C21=0,'Set UP'!$D21=0,'Set UP'!$E21=0,'Set UP'!F21=0),\"  --\",'Set UP'!C21)","v":1427},{"$f":"IF(OR('Set UP'!$C21=0,'Set UP'!$D21=0,'Set UP'!$E21=0,'Set UP'!F21=0),\"  --\",'Set UP'!D21&\" \"&'Set UP'!E21)","v":"University of Southampton A"},{"$f":"IF(OR('Set UP'!$C21=0,'Set UP'!$D21=0,'Set UP'!$E21=0,'Set UP'!F21=0),\" --\",'Set UP'!F21)","v":"S"},{"$f":"IF('Dry Incident'!$JQ35=\"\",\"\",'Dry Incident'!$JQ35)","v":11},{"$f":"IF('Dry Incident'!$JQ35=\"\",\"\",'Dry Incident'!$JZ35)","v":838.98305084745766},{"$f":"IF(G21=\"\",0,(G21-F$4)*H$4+'Set UP'!$R$15)","v":781.32992327365741},{"$f":"IF('Dry Incident'!$JQ35=\"\",\"\",IFERROR(F21&\" ( \"&INT(H21)&\" )\",F21))","v":"11 ( 781 )"},{"$f":"IF(' Wet Incident'!$JQ35=\"\",\"\",' Wet Incident'!$JQ35)","v":15},{"$f":"IF(' Wet Incident'!$JQ35=\"\",\"\",' Wet Incident'!$JZ35)","v":442.56756756756755},{"$f":"IF(K21=\"\",0,(K21-J$4)*L$4+'Set UP'!$R$15)","v":309.30232558139534},{"$f":"IF(' Wet Incident'!$JQ35=\"\",\"\",IFERROR(J21&\" ( \"&INT(L21)&\" )\",J21))","v":"15 ( 309 )"},{"$f":"IF('Extra Incident'!$JQ35=\"\",\"\",'Extra Incident'!$JQ35)","v":1},{"$f":"IF('Extra Incident'!$JQ35=\"\",\"\",'Extra Incident'!$JZ35)","v":""},{"$f":"IF(O21=\"\",0,(O21-N$4)*P$4+'Set UP'!$R$15)","v":0},{"$f":"IF('Extra Incident'!$JQ35=\"\",\"\",IFERROR(N21&\" ( \"&INT(O21)&\" )\",N21))","v":1},{"$f":"IF(RopeThrow!$X21=\"\",\"\",RopeThrow!$X21)","v":23.5},{"$f":"IF(RopeThrow!$X21=\"\",\"\",RopeThrow!$AG21)","v":148.14814814814815},{"$f":"IF(S21=\"\",0,(S21-R$4)*T$4+'Set UP'!$R$15)","v":100},{"$f":"IF(RopeThrow!$X21=\"\",\"\",IFERROR(R21&\" ( \"&INT(T21)&\" )\",R21))","v":"23.5 ( 100 )"},{"$f":"IF('Swim&Tow'!$W21=\"\",\"\",'Swim&Tow'!$W21)","v":18},{"$f":"IF('Swim&Tow'!$W21=\"\",\"\",'Swim&Tow'!$AF21)","v":721.51449917690275},{"$f":"IF(W21=\"\",0,(W21-V$4)*X$4+'Set UP'!$R$15)","v":607.44782286259147},{"$f":"IF('Swim&Tow'!$W21=\"\",\"\",IFERROR(V21&\" ( \"&INT(X21)&\" )\",V21))","v":"18 ( 607 )"},{"$f":"IF(Medley!Q21=\"\",\"\",Medley!$U21)","v":16},{"$f":"IF(Medley!Q21=\"\",\"\",Medley!$AD21)","v":640.70796460176996},{"$f":"IF(AA21=\"\",0,(AA21-Z$4)*AB$4+'Set UP'!$R$15)","v":540.30769230769238},{"$f":"IF(Medley!$U21=\"\",\"\",IFERROR(Z21&\" ( \"&INT(AB21)&\" )\",Z21))","v":"16 ( 540 )"},{"$f":"IF('Manikin Carry'!U21=\"\",\"\",'Manikin Carry'!$U21)","v":""},{"$f":"IF('Manikin Carry'!U21=\"\",\"\",'Manikin Carry'!$AD21)","v":""},{"$f":"IF(AE21=\"\",0,(AE21-AD$4)*AF$4+'Set UP'!$R$15)","v":0},{"$f":"IF('Manikin Carry'!$U21=\"\",\"\",IFERROR(AD21&\" ( \"&INT(AF21)&\" )\",AD21))","v":""},{"$f":"IF(Obstacle!U21=\"\",\"\",Obstacle!$U21)","v":""},{"$f":"IF(Obstacle!U21=\"\",\"\",Obstacle!$AD21)","v":""},{"$f":"IF(AI21=\"\",0,(AI21-AH$4)*AJ$4+'Set UP'!$R$15)","v":0},{"$f":"IF(Obstacle!$U21=\"\",\"\",IFERROR(AH21&\" ( \"&INT(AJ21)&\" )\",AH21))","v":""},3429.020012880389,17,{"$f":"IF(E21=\"NS\",'Non-S Results'!O21,IF('Set UP'!K21=1,'Compartive League'!AN21,IF('Set UP'!K21=2,'Compartive League'!AP21,\"\")))","v":9},{"$f":"'Competition Results'!O21","v":16}]
[null,16,{"$f":"IF(OR('Set UP'!$C22=0,'Set UP'!$D22=0,'Set UP'!$E22=0,'Set UP'!F22=0),\"  --\",'Set UP'!C22)","v":1444},{"$f":"IF(OR('Set UP'!$C22=0,'Set UP'!$D22=0,'Set UP'!$E22=0,'Set UP'!F22=0),\"  --\",'Set UP'!D22&\" \"&'Set UP'!E22)","v":"University of Birmingham C"},{"$f":"IF(OR('Set UP'!$C22=0,'Set UP'!$D22=0,'Set UP'!$E22=0,'Set UP'!F22=0),\" --\",'Set UP'!F22)","v":"S"},{"$f":"IF('Dry Incident'!$JQ36=\"\",\"\",'Dry Incident'!$JQ36)","v":7},{"$f":"IF('Dry Incident'!$JQ36=\"\",\"\",'Dry Incident'!$JZ36)","v":873.22033898305096},{"$f":"IF(G22=\"\",0,(G22-F$4)*H$4+'Set UP'!$R$15)","v":827.82608695652198},{"$f":"IF('Dry Incident'!$JQ36=\"\",\"\",IFERROR(F22&\" ( \"&INT(H22)&\" )\",F22))","v":"7 ( 827 )"},{"$f":"IF(' Wet Incident'!$JQ36=\"\",\"\",' Wet Incident'!$JQ36)","v":7},{"$f":"IF(' Wet Incident'!$JQ36=\"\",\"\",' Wet Incident'!$JZ36)","v":658.78378378378375},{"$f":"IF(K22=\"\",0,(K22-J$4)*L$4+'Set UP'!$R$15)","v":577.20930232558135},{"$f":"IF(' Wet Incident'!$JQ36=\"\",\"\",IFERROR(J22&\" ( \"&INT(L22)&\" )\",J22))","v":"7 ( 577 )"},{"$f":"IF('Extra Incident'!$JQ36=\"\",\"\",'Extra Incident'!$JQ36)","v":1},{"$f":"IF('Extra Incident'!$JQ36=\"\",\"\",'Extra Incident'!$JZ36)","v":""},{"$f":"IF(O22=\"\",0,(O22-N$4)*P$4+'Set UP'!$R$15)","v":0},{"$f":"IF('Extra Incident'!$JQ36=\"\",\"\",IFERROR(N22&\" ( \"&INT(O22)&\" )\",N22))","v":1},{"$f":"IF(RopeThrow!$X22=\"\",\"\",RopeThrow!$X22)","v":15},{"$f":"IF(RopeThrow!$X22=\"\",\"\",RopeThrow!$AG22)","v":462.96296296296299},{"$f":"IF(S22=\"\",0,(S22-R$4)*T$4+'Set UP'!$R$15)","v":432.60869565217388},{"$f":"IF(RopeThrow!$X22=\"\",\"\",IFERROR(R22&\" ( \"&INT(T22)&\" )\",R22))","v":"15 ( 432 )"},{"$f":"IF('Swim&Tow'!$W22=\"\",\"\",'Swim&Tow'!$W22)","v":10},{"$f":"IF('Swim&Tow'!$W22=\"\",\"\",'Swim&Tow'!$AF22)","v":806.50880081043442},{"$f":"IF(W22=\"\",0,(W22-V$4)*X$4+'Set UP'!$R$15)","v":767.443585125543},{"$f":"IF('Swim&Tow'!$W22=\"\",\"\",IFERROR(V22&\" ( \"&INT(X22)&\" )\",V22))","v":"10 ( 767 )"},{"$f":"IF(Medley!Q22=\"\",\"\",Medley!$U22)","v":14},{"$f":"IF(Medley!Q22=\"\",\"\",Medley!$AD22)","v":696.63716814159295},{"$f":"IF(AA22=\"\",0,(AA22-Z$4)*AB$4+'Set UP'!$R$15)","v":637.53846153846155},{"$f":"IF(Medley!$U22=\"\",\"\",IFERROR(Z22&\" ( \"&INT(AB22)&\" )\",Z22))","v":"14 ( 637 )"},{"$f":"IF('Manikin Carry'!U22=\"\",\"\",'Manikin Carry'!$U22)","v":""},{"$f":"IF('Manikin Carry'!U22=\"\",\"\",'Manikin Carry'!$AD22)","v":""},{"$f":"IF(AE22=\"\",0,(AE22-AD$4)*AF$4+'Set UP'!$R$15)","v":0},{"$f":"IF('Manikin Carry'!$U22=\"\",\"\",IFERROR(AD22&\" ( \"&INT(AF22)&\" )\",AD22))","v":""},{"$f":"IF(Obstacle!U22=\"\",\"\",Obstacle!$U22)","v":""},{"$f":"IF(Obstacle!U22=\"\",\"\",Obstacle!$AD22)","v":""},{"$f":"IF(AI22=\"\",0,(AI22-AH$4)*AJ$4+'Set UP'!$R$15)","v":0},{"$f":"IF(Obstacle!$U22=\"\",\"\",IFERROR(AH22&\" ( \"&INT(AJ22)&\" )\",AH22))","v":""},4647.6615208803851,7,{"$f":"IF(E22=\"NS\",'Non-S Results'!O22,IF('Set UP'!K22=1,'Compartive League'!AN22,IF('Set UP'!K22=2,'Compartive League'!AP22,\"\")))","v":2},{"$f":"'Competition Results'!O22","v":6}]
[null,17,{"$f":"IF(OR('Set UP'!$C23=0,'Set UP'!$D23=0,'Set UP'!$E23=0,'Set UP'!F23=0),\"  --\",'Set UP'!C23)","v":1439},{"$f":"IF(OR('Set UP'!$C23=0,'Set UP'!$D23=0,'Set UP'!$E23=0,'Set UP'!F23=0),\"  --\",'Set UP'!D23&\" \"&'Set UP'!E23)","v":"University of Plymouth A"},{"$f":"IF(OR('Set UP'!$C23=0,'Set UP'!$D23=0,'Set UP'!$E23=0,'Set UP'!F23=0),\" --\",'Set UP'!F23)","v":"S"},{"$f":"IF('Dry Incident'!$JQ37=\"\",\"\",'Dry Incident'!$JQ37)","v":22},{"$f":"IF('Dry Incident'!$JQ37=\"\",\"\",'Dry Incident'!$JZ37)","v":588.13559322033905},{"$f":"IF(G23=\"\",0,(G23-F$4)*H$4+'Set UP'!$R$15)","v":440.66496163682871},{"$f":"IF('Dry Incident'!$JQ37=\"\",\"\",IFERROR(F23&\" ( \"&INT(H23)&\" )\",F23))","v":"22 ( 440 )"},{"$f":"IF(' Wet Incident'!$JQ37=\"\",\"\",' Wet Incident'!$JQ37)","v":2},{"$f":"IF(' Wet Incident'!$JQ37=\"\",\"\",' Wet Incident'!$JZ37)","v":733.10810810810813},{"$f":"IF(K23=\"\",0,(K23-J$4)*L$4+'Set UP'!$R$15)","v":669.30232558139539},{"$f":"IF(' Wet Incident'!$JQ37=\"\",\"\",IFERROR(J23&\" ( \"&INT(L23)&\" )\",J23))","v":"2 ( 669 )"},{"$f":"IF('Extra Incident'!$JQ37=\"\",\"\",'Extra Incident'!$JQ37)","v":1},{"$f":"IF('Extra Incident'!$JQ37=\"\",\"\",'Extra Incident'!$JZ37)","v":""},{"$f":"IF(O23=\"\",0,(O23-N$4)*P$4+'Set UP'!$R$15)","v":0},{"$f":"IF('Extra Incident'!$JQ37=\"\",\"\",IFERROR(N23&\" ( \"&INT(O23)&\" )\",N23))","v":1},{"$f":"IF(RopeThrow!$X23=\"\",\"\",RopeThrow!$X23)","v":15},{"$f":"IF(RopeThrow!$X23=\"\",\"\",RopeThrow!$AG23)","v":462.96296296296299},{"$f":"IF(S23=\"\",0,(S23-R$4)*T$4+'Set UP'!$R$15)","v":432.60869565217388},{"$f":"IF(RopeThrow!$X23=\"\",\"\",IFERROR(R23&\" ( \"&INT(T23)&\" )\",R23))","v":"15 ( 432 )"},{"$f":"IF('Swim&Tow'!$W23=\"\",\"\",'Swim&Tow'!$W23)","v":15},{"$f":"IF('Swim&Tow'!$W23=\"\",\"\",'Swim&Tow'!$AF23)","v":761.63099911358745},{"$f":"IF(W23=\"\",0,(W23-V$4)*X$4+'Set UP'!$R$15)","v":682.96429706536708},{"$f":"IF('Swim&Tow'!$W23=\"\",\"\",IFERROR(V23&\" ( \"&INT(X23)&\" )\",V23))","v":"15 ( 682 )"},{"$f":"IF(Medley!Q23=\"\",\"\",Medley!$U23)","v":12},{"$f":"IF(Medley!Q23=\"\",\"\",Medley!$AD23)","v":754.15929203539827},{"$f":"IF(AA23=\"\",0,(AA23-Z$4)*AB$4+'Set UP'!$R$15)","v":737.53846153846155},{"$f":"IF(Medley!$U23=\"\",\"\",IFERROR(Z23&\" ( \"&INT(AB23)&\" )\",Z23))","v":"12 ( 737 )"},{"$f":"IF('Manikin Carry'!U23=\"\",\"\",'Manikin Carry'!$U23)","v":""},{"$f":"IF('Manikin Carry'!U23=\"\",\"\",'Manikin Carry'!$AD23)","v":""},{"$f":"IF(AE23=\"\",0,(AE23-AD$4)*AF$4+'Set UP'!$R$15)","v":0},{"$f":"IF('Manikin Carry'!$U23=\"\",\"\",IFERROR(AD23&\" ( \"&INT(AF23)&\" )\",AD23))","v":""},{"$f":"IF(Obstacle!U23=\"\",\"\",Obstacle!$U23)","v":""},{"$f":"IF(Obstacle!U23=\"\",\"\",Obstacle!$AD23)","v":""},{"$f":"IF(AI23=\"\",0,(AI23-AH$4)*AJ$4+'Set UP'!$R$15)","v":0},{"$f":"IF(Obstacle!$U23=\"\",\"\",IFERROR(AH23&\" ( \"&INT(AJ23)&\" )\",AH23))","v":""},4073.0460286924508,13,{"$f":"IF(E23=\"NS\",'Non-S Results'!O23,IF('Set UP'!K23=1,'Compartive League'!AN23,IF('Set UP'!K23=2,'Compartive League'!AP23,\"\")))","v":8},{"$f":"'Competition Results'!O23","v":14}]
[null,18,{"$f":"IF(OR('Set UP'!$C24=0,'Set UP'!$D24=0,'Set UP'!$E24=0,'Set UP'!F24=0),\"  --\",'Set UP'!C24)","v":1461},{"$f":"IF(OR('Set UP'!$C24=0,'Set UP'!$D24=0,'Set UP'!$E24=0,'Set UP'!F24=0),\"  --\",'Set UP'!D24&\" \"&'Set UP'!E24)","v":"Bristol University B"},{"$f":"IF(OR('Set UP'!$C24=0,'Set UP'!$D24=0,'Set UP'!$E24=0,'Set UP'!F24=0),\" --\",'Set UP'!F24)","v":"S"},{"$f":"IF('Dry Incident'!$JQ38=\"\",\"\",'Dry Incident'!$JQ38)","v":6},{"$f":"IF('Dry Incident'!$JQ38=\"\",\"\",'Dry Incident'!$JZ38)","v":884.74576271186447},{"$f":"IF(G24=\"\",0,(G24-F$4)*H$4+'Set UP'!$R$15)","v":843.47826086956525},{"$f":"IF('Dry Incident'!$JQ38=\"\",\"\",IFERROR(F24&\" ( \"&INT(H24)&\" )\",F24))","v":"6 ( 843 )"},{"$f":"IF(' Wet Incident'!$JQ38=\"\",\"\",' Wet Incident'!$JQ38)","v":13},{"$f":"IF(' Wet Incident'!$JQ38=\"\",\"\",' Wet Incident'!$JZ38)","v":523.64864864864865},{"$f":"IF(K24=\"\",0,(K24-J$4)*L$4+'Set UP'!$R$15)","v":409.76744186046511},{"$f":"IF(' Wet Incident'!$JQ38=\"\",\"\",IFERROR(J24&\" ( \"&INT(L24)&\" )\",J24))","v":"13 ( 409 )"},{"$f":"IF('Extra Incident'!$JQ38=\"\",\"\",'Extra Incident'!$JQ38)","v":1},{"$f":"IF('Extra Incident'!$JQ38=\"\",\"\",'Extra Incident'!$JZ38)","v":""},{"$f":"IF(O24=\"\",0,(O24-N$4)*P$4+'Set UP'!$R$15)","v":0},{"$f":"IF('Extra Incident'!$JQ38=\"\",\"\",IFERROR(N24&\" ( \"&INT(O24)&\" )\",N24))","v":1},{"$f":"IF(RopeThrow!$X24=\"\",\"\",RopeThrow!$X24)","v":7},{"$f":"IF(RopeThrow!$X24=\"\",\"\",RopeThrow!$AG24)","v":759.25925925925935},{"$f":"IF(S24=\"\",0,(S24-R$4)*T$4+'Set UP'!$R$15)","v":745.6521739130435},{"$f":"IF(RopeThrow!$X24=\"\",\"\",IFERROR(R24&\" ( \"&INT(T24)&\" )\",R24))","v":"7 ( 745 )"},{"$f":"IF('Swim&Tow'!$W24=\"\",\"\",'Swim&Tow'!$W24)","v":21},{"$f":"IF('Swim&Tow'!$W24=\"\",\"\",'Swim&Tow'!$AF24)","v":631.75889578320891},{"$f":"IF(W24=\"\",0,(W24-V$4)*X$4+'Set UP'!$R$15)","v":438.48924674223974},{"$f":"IF('Swim&Tow'!$W24=\"\",\"\",IFERROR(V24&\" ( \"&INT(X24)&\" )\",V24))","v":"21 ( 438 )"},{"$f":"IF(Medley!Q24=\"\",\"\",Medley!$U24)","v":19},{"$f":"IF(Medley!Q24=\"\",\"\",Medley!$AD24)","v":539.02654867256626},{"$f":"IF(AA24=\"\",0,(AA24-Z$4)*AB$4+'Set UP'!$R$15)","v":363.53846153846138},{"$f":"IF(Medley!$U24=\"\",\"\",IFERROR(Z24&\" ( \"&INT(AB24)&\" )\",Z24))","v":"19 ( 363 )"},{"$f":"IF('Manikin Carry'!U24=\"\",\"\",'Manikin Carry'!$U24)","v":""},{"$f":"IF('Manikin Carry'!U24=\"\",\"\",'Manikin Carry'!$AD24)","v":""},{"$f":"IF(AE24=\"\",0,(AE24-AD$4)*AF$4+'Set UP'!$R$15)","v":0},{"$f":"IF('Manikin Carry'!$U24=\"\",\"\",IFERROR(AD24&\" ( \"&INT(AF24)&\" )\",AD24))","v":""},{"$f":"IF(Obstacle!U24=\"\",\"\",Obstacle!$U24)","v":""},{"$f":"IF(Obstacle!U24=\"\",\"\",Obstacle!$AD24)","v":""},{"$f":"IF(AI24=\"\",0,(AI24-AH$4)*AJ$4+'Set UP'!$R$15)","v":0},{"$f":"IF(Obstacle!$U24=\"\",\"\",IFERROR(AH24&\" ( \"&INT(AJ24)&\" )\",AH24))","v":""},4054.1712876538054,14,{"$f":"IF(E24=\"NS\",'Non-S Results'!O24,IF('Set UP'!K24=1,'Compartive League'!AN24,IF('Set UP'!K24=2,'Compartive League'!AP24,\"\")))","v":6},{"$f":"'Competition Results'!O24","v":13}]
[null,19,{"$f":"IF(OR('Set UP'!$C25=0,'Set UP'!$D25=0,'Set UP'!$E25=0,'Set UP'!F25=0),\"  --\",'Set UP'!C25)","v":1436},{"$f":"IF(OR('Set UP'!$C25=0,'Set UP'!$D25=0,'Set UP'!$E25=0,'Set UP'!F25=0),\"  --\",'Set UP'!D25&\" \"&'Set UP'!E25)","v":"Loughborough University C"},{"$f":"IF(OR('Set UP'!$C25=0,'Set UP'!$D25=0,'Set UP'!$E25=0,'Set UP'!F25=0),\" --\",'Set UP'!F25)","v":"S"},{"$f":"IF('Dry Incident'!$JQ39=\"\",\"\",'Dry Incident'!$JQ39)","v":3},{"$f":"IF('Dry Incident'!$JQ39=\"\",\"\",'Dry Incident'!$JZ39)","v":916.94915254237287},{"$f":"IF(G25=\"\",0,(G25-F$4)*H$4+'Set UP'!$R$15)","v":887.21227621483388},{"$f":"IF('Dry Incident'!$JQ39=\"\",\"\",IFERROR(F25&\" ( \"&INT(H25)&\" )\",F25))","v":"3 ( 887 )"},{"$f":"IF(' Wet Incident'!$JQ39=\"\",\"\",' Wet Incident'!$JQ39)","v":16},{"$f":"IF(' Wet Incident'!$JQ39=\"\",\"\",' Wet Incident'!$JZ39)","v":417.22972972972974},{"$f":"IF(K25=\"\",0,(K25-J$4)*L$4+'Set UP'!$R$15)","v":277.90697674418607},{"$f":"IF(' Wet Incident'!$JQ39=\"\",\"\",IFERROR(J25&\" ( \"&INT(L25)&\" )\",J25))","v":"16 ( 277 )"},{"$f":"IF('Extra Incident'!$JQ39=\"\",\"\",'Extra Incident'!$JQ39)","v":1},{"$f":"IF('Extra Incident'!$JQ39=\"\",\"\",'Extra Incident'!$JZ39)","v":""},{"$f":"IF(O25=\"\",0,(O25-N$4)*P$4+'Set UP'!$R$15)","v":0},{"$f":"IF('Extra Incident'!$JQ39=\"\",\"\",IFERROR(N25&\" ( \"&INT(O25)&\" )\",N25))","v":1},{"$f":"IF(RopeThrow!$X25=\"\",\"\",RopeThrow!$X25)","v":23.5},{"$f":"IF(RopeThrow!$X25=\"\",\"\",RopeThrow!$AG25)","v":148.14814814814815},{"$f":"IF(S25=\"\",0,(S25-R$4)*T$4+'Set UP'!$R$15)","v":100},{"$f":"IF(RopeThrow!$X25=\"\",\"\",IFERROR(R25&\" ( \"&INT(T25)&\" )\",R25))","v":"23.5 ( 100 )"},{"$f":"IF('Swim&Tow'!$W25=\"\",\"\",'Swim&Tow'!$W25)","v":6},{"$f":"IF('Swim&Tow'!$W25=\"\",\"\",'Swim&Tow'!$AF25)","v":869.44409269342805},{"$f":"IF(W25=\"\",0,(W25-V$4)*X$4+'Set UP'!$R$15)","v":885.91482148532714},{"$f":"IF('Swim&Tow'!$W25=\"\",\"\",IFERROR(V25&\" ( \"&INT(X25)&\" )\",V25))","v":"6 ( 885 )"},{"$f":"IF(Medley!Q25=\"\",\"\",Medley!$U25)","v":2},{"$f":"IF(Medley!Q25=\"\",\"\",Medley!$AD25)","v":899.91150442477874},{"$f":"IF(AA25=\"\",0,(AA25-Z$4)*AB$4+'Set UP'!$R$15)","v":990.92307692307679},{"$f":"IF(Medley!$U25=\"\",\"\",IFERROR(Z25&\" ( \"&INT(AB25)&\" )\",Z25))","v":"2 ( 990 )"},{"$f":"IF('Manikin Carry'!U25=\"\",\"\",'Manikin Carry'!$U25)","v":""},{"$f":"IF('Manikin Carry'!U25=\"\",\"\",'Manikin Carry'!$AD25)","v":""},{"$f":"IF(AE25=\"\",0,(AE25-AD$4)*AF$4+'Set UP'!$R$15)","v":0},{"$f":"IF('Manikin Carry'!$U25=\"\",\"\",IFERROR(AD25&\" ( \"&INT(AF25)&\" )\",AD25))","v":""},{"$f":"IF(Obstacle!U25=\"\",\"\",Obstacle!$U25)","v":""},{"$f":"IF(Obstacle!U25=\"\",\"\",Obstacle!$AD25)","v":""},{"$f":"IF(AI25=\"\",0,(AI25-AH$4)*AJ$4+'Set UP'!$R$15)","v":0},{"$f":"IF(Obstacle!$U25=\"\",\"\",IFERROR(AH25&\" ( \"&INT(AJ25)&\" )\",AH25))","v":""},4307.0764043264435,11,{"$f":"IF(E25=\"NS\",'Non-S Results'!O25,IF('Set UP'!K25=1,'Compartive League'!AN25,IF('Set UP'!K25=2,'Compartive League'!AP25,\"\")))","v":5},{"$f":"'Competition Results'!O25","v":7}]
[null,20,{"$f":"IF(OR('Set UP'!$C26=0,'Set UP'!$D26=0,'Set UP'!$E26=0,'Set UP'!F26=0),\"  --\",'Set UP'!C26)","v":1443},{"$f":"IF(OR('Set UP'!$C26=0,'Set UP'!$D26=0,'Set UP'!$E26=0,'Set UP'!F26=0),\"  --\",'Set UP'!D26&\" \"&'Set UP'!E26)","v":"University of Birmingham B"},{"$f":"IF(OR('Set UP'!$C26=0,'Set UP'!$D26=0,'Set UP'!$E26=0,'Set UP'!F26=0),\" --\",'Set UP'!F26)","v":"S"},{"$f":"IF('Dry Incident'!$JQ40=\"\",\"\",'Dry Incident'!$JQ40)","v":5},{"$f":"IF('Dry Incident'!$JQ40=\"\",\"\",'Dry Incident'!$JZ40)","v":901.69491525423723},{"$f":"IF(G26=\"\",0,(G26-F$4)*H$4+'Set UP'!$R$15)","v":866.49616368286433},{"$f":"IF('Dry Incident'!$JQ40=\"\",\"\",IFERROR(F26&\" ( \"&INT(H26)&\" )\",F26))","v":"5 ( 866 )"},{"$f":"IF(' Wet Incident'!$JQ40=\"\",\"\",' Wet Incident'!$JQ40)","v":5},{"$f":"IF(' Wet Incident'!$JQ40=\"\",\"\",' Wet Incident'!$JZ40)","v":692.56756756756749},{"$f":"IF(K26=\"\",0,(K26-J$4)*L$4+'Set UP'!$R$15)","v":619.06976744186034},{"$f":"IF(' Wet Incident'!$JQ40=\"\",\"\",IFERROR(J26&\" ( \"&INT(L26)&\" )\",J26))","v":"5 ( 619 )"},{"$f":"IF('Extra Incident'!$JQ40=\"\",\"\",'Extra Incident'!$JQ40)","v":1},{"$f":"IF('Extra Incident'!$JQ40=\"\",\"\",'Extra Incident'!$JZ40)","v":""},{"$f":"IF(O26=\"\",0,(O26-N$4)*P$4+'Set UP'!$R$15)","v":0},{"$f":"IF('Extra Incident'!$JQ40=\"\",\"\",IFERROR(N26&\" ( \"&INT(O26)&\" )\",N26))","v":1},{"$f":"IF(RopeThrow!$X26=\"\",\"\",RopeThrow!$X26)","v":23.5},{"$f":"IF(RopeThrow!$X26=\"\",\"\",RopeThrow!$AG26)","v":148.14814814814815},{"$f":"IF(S26=\"\",0,(S26-R$4)*T$4+'Set UP'!$R$15)","v":100},{"$f":"IF(RopeThrow!$X26=\"\",\"\",IFERROR(R26&\" ( \"&INT(T26)&\" )\",R26))","v":"23.5 ( 100 )"},{"$f":"IF('Swim&Tow'!$W26=\"\",\"\",'Swim&Tow'!$W26)","v":8},{"$f":"IF('Swim&Tow'!$W26=\"\",\"\",'Swim&Tow'!$AF26)","v":857.3888818538685},{"$f":"IF(W26=\"\",0,(W26-V$4)*X$4+'Set UP'!$R$15)","v":863.22173959105817},{"$f":"IF('Swim&Tow'!$W26=\"\",\"\",IFERROR(V26&\" ( \"&INT(X26)&\" )\",V26))","v":"8 ( 863 )"},{"$f":"IF(Medley!Q26=\"\",\"\",Medley!$U26)","v":5},{"$f":"IF(Medley!Q26=\"\",\"\",Medley!$AD26)","v":846.46017699115055},{"$f":"IF(AA26=\"\",0,(AA26-Z$4)*AB$4+'Set UP'!$R$15)","v":898.00000000000011},{"$f":"IF(Medley!$U26=\"\",\"\",IFERROR(Z26&\" ( \"&INT(AB26)&\" )\",Z26))","v":"5 ( 898 )"},{"$f":"IF('Manikin Carry'!U26=\"\",\"\",'Manikin Carry'!$U26)","v":""},{"$f":"IF('Manikin Carry'!U26=\"\",\"\",'Manikin Carry'!$AD26)","v":""},{"$f":"IF(AE26=\"\",0,(AE26-AD$4)*AF$4+'Set UP'!$R$15)","v":0},{"$f":"IF('Manikin Carry'!$U26=\"\",\"\",IFERROR(AD26&\" ( \"&INT(AF26)&\" )\",AD26))","v":""},{"$f":"IF(Obstacle!U26=\"\",\"\",Obstacle!$U26)","v":""},{"$f":"IF(Obstacle!U26=\"\",\"\",Obstacle!$AD26)","v":""},{"$f":"IF(AI26=\"\",0,(AI26-AH$4)*AJ$4+'Set UP'!$R$15)","v":0},{"$f":"IF(Obstacle!$U26=\"\",\"\",IFERROR(AH26&\" ( \"&INT(AJ26)&\" )\",AH26))","v":""},4832.3536018405075,5,{"$f":"IF(E26=\"NS\",'Non-S Results'!O26,IF('Set UP'!K26=1,'Compartive League'!AN26,IF('Set UP'!K26=2,'Compartive League'!AP26,\"\")))","v":1},{"$f":"'Competition Results'!O26","v":4}]
[null,21,{"$f":"IF(OR('Set UP'!$C27=0,'Set UP'!$D27=0,'Set UP'!$E27=0,'Set UP'!F27=0),\"  --\",'Set UP'!C27)","v":1434},{"$f":"IF(OR('Set UP'!$C27=0,'Set UP'!$D27=0,'Set UP'!$E27=0,'Set UP'!F27=0),\"  --\",'Set UP'!D27&\" \"&'Set UP'!E27)","v":"Loughborough University A"},{"$f":"IF(OR('Set UP'!$C27=0,'Set UP'!$D27=0,'Set UP'!$E27=0,'Set UP'!F27=0),\" --\",'Set UP'!F27)","v":"S"},{"$f":"IF('Dry Incident'!$JQ41=\"\",\"\",'Dry Incident'!$JQ41)","v":10},{"$f":"IF('Dry Incident'!$JQ41=\"\",\"\",'Dry Incident'!$JZ41)","v":847.45762711864404},{"$f":"IF(G27=\"\",0,(G27-F$4)*H$4+'Set UP'!$R$15)","v":792.83887468030696},{"$f":"IF('Dry Incident'!$JQ41=\"\",\"\",IFERROR(F27&\" ( \"&INT(H27)&\" )\",F27))","v":"10 ( 792 )"},{"$f":"IF(' Wet Incident'!$JQ41=\"\",\"\",' Wet Incident'!$JQ41)","v":19},{"$f":"IF(' Wet Incident'!$JQ41=\"\",\"\",' Wet Incident'!$JZ41)","v":400.33783783783781},{"$f":"IF(K27=\"\",0,(K27-J$4)*L$4+'Set UP'!$R$15)","v":256.97674418604652},{"$f":"IF(' Wet Incident'!$JQ41=\"\",\"\",IFERROR(J27&\" ( \"&INT(L27)&\" )\",J27))","v":"19 ( 256 )"},{"$f":"IF('Extra Incident'!$JQ41=\"\",\"\",'Extra Incident'!$JQ41)","v":1},{"$f":"IF('Extra Incident'!$JQ41=\"\",\"\",'Extra Incident'!$JZ41)","v":""},{"$f":"IF(O27=\"\",0,(O27-N$4)*P$4+'Set UP'!$R$15)","v":0},{"$f":"IF('Extra Incident'!$JQ41=\"\",\"\",IFERROR(N27&\" ( \"&INT(O27)&\" )\",N27))","v":1},{"$f":"IF(RopeThrow!$X27=\"\",\"\",RopeThrow!$X27)","v":7},{"$f":"IF(RopeThrow!$X27=\"\",\"\",RopeThrow!$AG27)","v":759.25925925925935},{"$f":"IF(S27=\"\",0,(S27-R$4)*T$4+'Set UP'!$R$15)","v":745.6521739130435},{"$f":"IF(RopeThrow!$X27=\"\",\"\",IFERROR(R27&\" ( \"&INT(T27)&\" )\",R27))","v":"7 ( 745 )"},{"$f":"IF('Swim&Tow'!$W27=\"\",\"\",'Swim&Tow'!$W27)","v":9},{"$f":"IF('Swim&Tow'!$W27=\"\",\"\",'Swim&Tow'!$AF27)","v":824.54096492338874},{"$f":"IF(W27=\"\",0,(W27-V$4)*X$4+'Set UP'!$R$15)","v":801.38785888335644},{"$f":"IF('Swim&Tow'!$W27=\"\",\"\",IFERROR(V27&\" ( \"&INT(X27)&\" )\",V27))","v":"9 ( 801 )"},{"$f":"IF(Medley!Q27=\"\",\"\",Medley!$U27)","v":6},{"$f":"IF(Medley!Q27=\"\",\"\",Medley!$AD27)","v":797.34513274336268},{"$f":"IF(AA27=\"\",0,(AA27-Z$4)*AB$4+'Set UP'!$R$15)","v":812.6153846153843},{"$f":"IF(Medley!$U27=\"\",\"\",IFERROR(Z27&\" ( \"&INT(AB27)&\" )\",Z27))","v":"6 ( 812 )"},{"$f":"IF('Manikin Carry'!U27=\"\",\"\",'Manikin Carry'!$U27)","v":""},{"$f":"IF('Manikin Carry'!U27=\"\",\"\",'Manikin Carry'!$AD27)","v":""},{"$f":"IF(AE27=\"\",0,(AE27-AD$4)*AF$4+'Set UP'!$R$15)","v":0},{"$f":"IF('Manikin Carry'!$U27=\"\",\"\",IFERROR(AD27&\" ( \"&INT(AF27)&\" )\",AD27))","v":""},{"$f":"IF(Obstacle!U27=\"\",\"\",Obstacle!$U27)","v":""},{"$f":"IF(Obstacle!U27=\"\",\"\",Obstacle!$AD27)","v":""},{"$f":"IF(AI27=\"\",0,(AI27-AH$4)*AJ$4+'Set UP'!$R$15)","v":0},{"$f":"IF(Obstacle!$U27=\"\",\"\",IFERROR(AH27&\" ( \"&INT(AJ27)&\" )\",AH27))","v":""},4459.2866551444913,8,{"$f":"IF(E27=\"NS\",'Non-S Results'!O27,IF('Set UP'!K27=1,'Compartive League'!AN27,IF('Set UP'!K27=2,'Compartive League'!AP27,\"\")))","v":6},{"$f":"'Competition Results'!O27","v":11}]
[null,22,{"$f":"IF(OR('Set UP'!$C28=0,'Set UP'!$D28=0,'Set UP'!$E28=0,'Set UP'!F28=0),\"  --\",'Set UP'!C28)","v":1435},{"$f":"IF(OR('Set UP'!$C28=0,'Set UP'!$D28=0,'Set UP'!$E28=0,'Set UP'!F28=0),\"  --\",'Set UP'!D28&\" \"&'Set UP'!E28)","v":"Loughborough University B"},{"$f":"IF(OR('Set UP'!$C28=0,'Set UP'!$D28=0,'Set UP'!$E28=0,'Set UP'!F28=0),\" --\",'Set UP'!F28)","v":"S"},{"$f":"IF('Dry Incident'!$JQ42=\"\",\"\",'Dry Incident'!$JQ42)","v":19},{"$f":"IF('Dry Incident'!$JQ42=\"\",\"\",'Dry Incident'!$JZ42)","v":653.89830508474574},{"$f":"IF(G28=\"\",0,(G28-F$4)*H$4+'Set UP'!$R$15)","v":529.97442455242958},{"$f":"IF('Dry Incident'!$JQ42=\"\",\"\",IFERROR(F28&\" ( \"&INT(H28)&\" )\",F28))","v":"19 ( 529 )"},{"$f":"IF(' Wet Incident'!$JQ42=\"\",\"\",' Wet Incident'!$JQ42)","v":14},{"$f":"IF(' Wet Incident'!$JQ42=\"\",\"\",' Wet Incident'!$JZ42)","v":484.79729729729729},{"$f":"IF(K28=\"\",0,(K28-J$4)*L$4+'Set UP'!$R$15)","v":361.62790697674421},{"$f":"IF(' Wet Incident'!$JQ42=\"\",\"\",IFERROR(J28&\" ( \"&INT(L28)&\" )\",J28))","v":"14 ( 361 )"},{"$f":"IF('Extra Incident'!$JQ42=\"\",\"\",'Extra Incident'!$JQ42)","v":1},{"$f":"IF('Extra Incident'!$JQ42=\"\",\"\",'Extra Incident'!$JZ42)","v":""},{"$f":"IF(O28=\"\",0,(O28-N$4)*P$4+'Set UP'!$R$15)","v":0},{"$f":"IF('Extra Incident'!$JQ42=\"\",\"\",IFERROR(N28&\" ( \"&INT(O28)&\" )\",N28))","v":1},{"$f":"IF(RopeThrow!$X28=\"\",\"\",RopeThrow!$X28)","v":1},{"$f":"IF(RopeThrow!$X28=\"\",\"\",RopeThrow!$AG28)","v":1000},{"$f":"IF(S28=\"\",0,(S28-R$4)*T$4+'Set UP'!$R$15)","v":999.99999999999989},{"$f":"IF(RopeThrow!$X28=\"\",\"\",IFERROR(R28&\" ( \"&INT(T28)&\" )\",R28))","v":"1 ( 1000 )"},{"$f":"IF('Swim&Tow'!$W28=\"\",\"\",'Swim&Tow'!$W28)","v":3},{"$f":"IF('Swim&Tow'!$W28=\"\",\"\",'Swim&Tow'!$AF28)","v":912.87830821831085},{"$f":"IF(W28=\"\",0,(W28-V$4)*X$4+'Set UP'!$R$15)","v":967.67666066320601},{"$f":"IF('Swim&Tow'!$W28=\"\",\"\",IFERROR(V28&\" ( \"&INT(X28)&\" )\",V28))","v":"3 ( 967 )"},{"$f":"IF(Medley!Q28=\"\",\"\",Medley!$U28)","v":3},{"$f":"IF(Medley!Q28=\"\",\"\",Medley!$AD28)","v":871.94690265486724},{"$f":"IF(AA28=\"\",0,(AA28-Z$4)*AB$4+'Set UP'!$R$15)","v":942.30769230769226},{"$f":"IF(Medley!$U28=\"\",\"\",IFERROR(Z28&\" ( \"&INT(AB28)&\" )\",Z28))","v":"3 ( 942 )"},{"$f":"IF('Manikin Carry'!U28=\"\",\"\",'Manikin Carry'!$U28)","v":""},{"$f":"IF('Manikin Carry'!U28=\"\",\"\",'Manikin Carry'!$AD28)","v":""},{"$f":"IF(AE28=\"\",0,(AE28-AD$4)*AF$4+'Set UP'!$R$15)","v":0},{"$f":"IF('Manikin Carry'!$U28=\"\",\"\",IFERROR(AD28&\" ( \"&INT(AF28)&\" )\",AD28))","v":""},{"$f":"IF(Obstacle!U28=\"\",\"\",Obstacle!$U28)","v":""},{"$f":"IF(Obstacle!U28=\"\",\"\",Obstacle!$AD28)","v":""},{"$f":"IF(AI28=\"\",0,(AI28-AH$4)*AJ$4+'Set UP'!$R$15)","v":0},{"$f":"IF(Obstacle!$U28=\"\",\"\",IFERROR(AH28&\" ( \"&INT(AJ28)&\" )\",AH28))","v":""},4693.189016029246,6,{"$f":"IF(E28=\"NS\",'Non-S Results'!O28,IF('Set UP'!K28=1,'Compartive League'!AN28,IF('Set UP'!K28=2,'Compartive League'!AP28,\"\")))","v":3},{"$f":"'Competition Results'!O28","v":8}]
[null,23,{"$f":"IF(OR('Set UP'!$C29=0,'Set UP'!$D29=0,'Set UP'!$E29=0,'Set UP'!F29=0),\"  --\",'Set UP'!C29)","v":1457},{"$f":"IF(OR('Set UP'!$C29=0,'Set UP'!$D29=0,'Set UP'!$E29=0,'Set UP'!F29=0),\"  --\",'Set UP'!D29&\" \"&'Set UP'!E29)","v":"University of Warwick B"},{"$f":"IF(OR('Set UP'!$C29=0,'Set UP'!$D29=0,'Set UP'!$E29=0,'Set UP'!F29=0),\" --\",'Set UP'!F29)","v":"S"},{"$f":"IF('Dry Incident'!$JQ43=\"\",\"\",'Dry Incident'!$JQ43)","v":18},{"$f":"IF('Dry Incident'!$JQ43=\"\",\"\",'Dry Incident'!$JZ43)","v":667.7966101694916},{"$f":"IF(G29=\"\",0,(G29-F$4)*H$4+'Set UP'!$R$15)","v":548.84910485933517},{"$f":"IF('Dry Incident'!$JQ43=\"\",\"\",IFERROR(F29&\" ( \"&INT(H29)&\" )\",F29))","v":"18 ( 548 )"},{"$f":"IF(' Wet Incident'!$JQ43=\"\",\"\",' Wet Incident'!$JQ43)","v":22},{"$f":"IF(' Wet Incident'!$JQ43=\"\",\"\",' Wet Incident'!$JZ43)","v":388.51351351351349},{"$f":"IF(K29=\"\",0,(K29-J$4)*L$4+'Set UP'!$R$15)","v":242.32558139534882},{"$f":"IF(' Wet Incident'!$JQ43=\"\",\"\",IFERROR(J29&\" ( \"&INT(L29)&\" )\",J29))","v":"22 ( 242 )"},{"$f":"IF('Extra Incident'!$JQ43=\"\",\"\",'Extra Incident'!$JQ43)","v":1},{"$f":"IF('Extra Incident'!$JQ43=\"\",\"\",'Extra Incident'!$JZ43)","v":""},{"$f":"IF(O29=\"\",0,(O29-N$4)*P$4+'Set UP'!$R$15)","v":0},{"$f":"IF('Extra Incident'!$JQ43=\"\",\"\",IFERROR(N29&\" ( \"&INT(O29)&\" )\",N29))","v":1},{"$f":"IF(RopeThrow!$X29=\"\",\"\",RopeThrow!$X29)","v":7},{"$f":"IF(RopeThrow!$X29=\"\",\"\",RopeThrow!$AG29)","v":759.25925925925935},{"$f":"IF(S29=\"\",0,(S29-R$4)*T$4+'Set UP'!$R$15)","v":745.6521739130435},{"$f":"IF(RopeThrow!$X29=\"\",\"\",IFERROR(R29&\" ( \"&INT(T29)&\" )\",R29))","v":"7 ( 745 )"},{"$f":"IF('Swim&Tow'!$W29=\"\",\"\",'Swim&Tow'!$W29)","v":16},{"$f":"IF('Swim&Tow'!$W29=\"\",\"\",'Swim&Tow'!$AF29)","v":750.63948334810698},{"$f":"IF(W29=\"\",0,(W29-V$4)*X$4+'Set UP'!$R$15)","v":662.27354592647544},{"$f":"IF('Swim&Tow'!$W29=\"\",\"\",IFERROR(V29&\" ( \"&INT(X29)&\" )\",V29))","v":"16 ( 662 )"},{"$f":"IF(Medley!Q29=\"\",\"\",Medley!$U29)","v":15},{"$f":"IF(Medley!Q29=\"\",\"\",Medley!$AD29)","v":686.81415929203558},{"$f":"IF(AA29=\"\",0,(AA29-Z$4)*AB$4+'Set UP'!$R$15)","v":620.46153846153879},{"$f":"IF(Medley!$U29=\"\",\"\",IFERROR(Z29&\" ( \"&INT(AB29)&\" )\",Z29))","v":"15 ( 620 )"},{"$f":"IF('Manikin Carry'!U29=\"\",\"\",'Manikin Carry'!$U29)","v":""},{"$f":"IF('Manikin Carry'!U29=\"\",\"\",'Manikin Carry'!$AD29)","v":""},{"$f":"IF(AE29=\"\",0,(AE29-AD$4)*AF$4+'Set UP'!$R$15)","v":0},{"$f":"IF('Manikin Carry'!$U29=\"\",\"\",IFERROR(AD29&\" ( \"&INT(AF29)&\" )\",AD29))","v":""},{"$f":"IF(Obstacle!U29=\"\",\"\",Obstacle!$U29)","v":""},{"$f":"IF(Obstacle!U29=\"\",\"\",Obstacle!$AD29)","v":""},{"$f":"IF(AI29=\"\",0,(AI29-AH$4)*AJ$4+'Set UP'!$R$15)","v":0},{"$f":"IF(Obstacle!$U29=\"\",\"\",IFERROR(AH29&\" ( \"&INT(AJ29)&\" )\",AH29))","v":""},3610.7366308104256,16,{"$f":"IF(E29=\"NS\",'Non-S Results'!O29,IF('Set UP'!K29=1,'Compartive League'!AN29,IF('Set UP'!K29=2,'Compartive League'!AP29,\"\")))","v":7},{"$f":"'Competition Results'!O29","v":20}]
[null,24,{"$f":"IF(OR('Set UP'!$C30=0,'Set UP'!$D30=0,'Set UP'!$E30=0,'Set UP'!F30=0),\"  --\",'Set UP'!C30)","v":1429},{"$f":"IF(OR('Set UP'!$C30=0,'Set UP'!$D30=0,'Set UP'!$E30=0,'Set UP'!F30=0),\"  --\",'Set UP'!D30&\" \"&'Set UP'!E30)","v":"University of Nottingham A"},{"$f":"IF(OR('Set UP'!$C30=0,'Set UP'!$D30=0,'Set UP'!$E30=0,'Set UP'!F30=0),\" --\",'Set UP'!F30)","v":"S"},{"$f":"IF('Dry Incident'!$JQ44=\"\",\"\",'Dry Incident'!$JQ44)","v":13},{"$f":"IF('Dry Incident'!$JQ44=\"\",\"\",'Dry Incident'!$JZ44)","v":796.61016949152543},{"$f":"IF(G30=\"\",0,(G30-F$4)*H$4+'Set UP'!$R$15)","v":723.78516624040924},{"$f":"IF('Dry Incident'!$JQ44=\"\",\"\",IFERROR(F30&\" ( \"&INT(H30)&\" )\",F30))","v":"13 ( 723 )"},{"$f":"IF(' Wet Incident'!$JQ44=\"\",\"\",' Wet Incident'!$JQ44)","v":6},{"$f":"IF(' Wet Incident'!$JQ44=\"\",\"\",' Wet Incident'!$JZ44)","v":665.54054054054052},{"$f":"IF(K30=\"\",0,(K30-J$4)*L$4+'Set UP'!$R$15)","v":585.58139534883719},{"$f":"IF(' Wet Incident'!$JQ44=\"\",\"\",IFERROR(J30&\" ( \"&INT(L30)&\" )\",J30))","v":"6 ( 585 )"},{"$f":"IF('Extra Incident'!$JQ44=\"\",\"\",'Extra Incident'!$JQ44)","v":1},{"$f":"IF('Extra Incident'!$JQ44=\"\",\"\",'Extra Incident'!$JZ44)","v":""},{"$f":"IF(O30=\"\",0,(O30-N$4)*P$4+'Set UP'!$R$15)","v":0},{"$f":"IF('Extra Incident'!$JQ44=\"\",\"\",IFERROR(N30&\" ( \"&INT(O30)&\" )\",N30))","v":1},{"$f":"IF(RopeThrow!$X30=\"\",\"\",RopeThrow!$X30)","v":2},{"$f":"IF(RopeThrow!$X30=\"\",\"\",RopeThrow!$AG30)","v":918.06175595238096},{"$f":"IF(S30=\"\",0,(S30-R$4)*T$4+'Set UP'!$R$15)","v":913.43046389751544},{"$f":"IF(RopeThrow!$X30=\"\",\"\",IFERROR(R30&\" ( \"&INT(T30)&\" )\",R30))","v":"2 ( 913 )"},{"$f":"IF('Swim&Tow'!$W30=\"\",\"\",'Swim&Tow'!$W30)","v":12},{"$f":"IF('Swim&Tow'!$W30=\"\",\"\",'Swim&Tow'!$AF30)","v":775.23110041788027},{"$f":"IF(W30=\"\",0,(W30-V$4)*X$4+'Set UP'!$R$15)","v":708.56552600911118},{"$f":"IF('Swim&Tow'!$W30=\"\",\"\",IFERROR(V30&\" ( \"&INT(X30)&\" )\",V30))","v":"12 ( 708 )"},{"$f":"IF(Medley!Q30=\"\",\"\",Medley!$U30)","v":11},{"$f":"IF(Medley!Q30=\"\",\"\",Medley!$AD30)","v":765.22123893805303},{"$f":"IF(AA30=\"\",0,(AA30-Z$4)*AB$4+'Set UP'!$R$15)","v":756.7692307692306},{"$f":"IF(Medley!$U30=\"\",\"\",IFERROR(Z30&\" ( \"&INT(AB30)&\" )\",Z30))","v":"11 ( 756 )"},{"$f":"IF('Manikin Carry'!U30=\"\",\"\",'Manikin Carry'!$U30)","v":""},{"$f":"IF('Manikin Carry'!U30=\"\",\"\",'Manikin Carry'!$AD30)","v":""},{"$f":"IF(AE30=\"\",0,(AE30-AD$4)*AF$4+'Set UP'!$R$15)","v":0},{"$f":"IF('Manikin Carry'!$U30=\"\",\"\",IFERROR(AD30&\" ( \"&INT(AF30)&\" )\",AD30))","v":""},{"$f":"IF(Obstacle!U30=\"\",\"\",Obstacle!$U30)","v":""},{"$f":"IF(Obstacle!U30=\"\",\"\",Obstacle!$AD30)","v":""},{"$f":"IF(AI30=\"\",0,(AI30-AH$4)*AJ$4+'Set UP'!$R$15)","v":0},{"$f":"IF(Obstacle!$U30=\"\",\"\",IFERROR(AH30&\" ( \"&INT(AJ30)&\" )\",AH30))","v":""},4997.4983438543495,4,{"$f":"IF(E30=\"NS\",'Non-S Results'!O30,IF('Set UP'!K30=1,'Compartive League'!AN30,IF('Set UP'!K30=2,'Compartive League'!AP30,\"\")))","v":4},{"$f":"'Competition Results'!O30","v":5}]
[null,25,{"$f":"IF(OR('Set UP'!$C31=0,'Set UP'!$D31=0,'Set UP'!$E31=0,'Set UP'!F31=0),\"  --\",'Set UP'!C31)","v":1438},{"$f":"IF(OR('Set UP'!$C31=0,'Set UP'!$D31=0,'Set UP'!$E31=0,'Set UP'!F31=0),\"  --\",'Set UP'!D31&\" \"&'Set UP'!E31)","v":"Swansea Universities Lifesaving B"},{"$f":"IF(OR('Set UP'!$C31=0,'Set UP'!$D31=0,'Set UP'!$E31=0,'Set UP'!F31=0),\" --\",'Set UP'!F31)","v":"S"},{"$f":"IF('Dry Incident'!$JQ45=\"\",\"\",'Dry Incident'!$JQ45)","v":25},{"$f":"IF('Dry Incident'!$JQ45=\"\",\"\",'Dry Incident'!$JZ45)","v":462.71186440677963},{"$f":"IF(G31=\"\",0,(G31-F$4)*H$4+'Set UP'!$R$15)","v":270.33248081841424},{"$f":"IF('Dry Incident'!$JQ45=\"\",\"\",IFERROR(F31&\" ( \"&INT(H31)&\" )\",F31))","v":"25 ( 270 )"},{"$f":"IF(' Wet Incident'!$JQ45=\"\",\"\",' Wet Incident'!$JQ45)","v":26},{"$f":"IF(' Wet Incident'!$JQ45=\"\",\"\",' Wet Incident'!$JZ45)","v":275.33783783783781},{"$f":"IF(K31=\"\",0,(K31-J$4)*L$4+'Set UP'!$R$15)","v":102.09302325581392},{"$f":"IF(' Wet Incident'!$JQ45=\"\",\"\",IFERROR(J31&\" ( \"&INT(L31)&\" )\",J31))","v":"26 ( 102 )"},{"$f":"IF('Extra Incident'!$JQ45=\"\",\"\",'Extra Incident'!$JQ45)","v":1},{"$f":"IF('Extra Incident'!$JQ45=\"\",\"\",'Extra Incident'!$JZ45)","v":""},{"$f":"IF(O31=\"\",0,(O31-N$4)*P$4+'Set UP'!$R$15)","v":0},{"$f":"IF('Extra Incident'!$JQ45=\"\",\"\",IFERROR(N31&\" ( \"&INT(O31)&\" )\",N31))","v":1},{"$f":"IF(RopeThrow!$X31=\"\",\"\",RopeThrow!$X31)","v":15},{"$f":"IF(RopeThrow!$X31=\"\",\"\",RopeThrow!$AG31)","v":462.96296296296299},{"$f":"IF(S31=\"\",0,(S31-R$4)*T$4+'Set UP'!$R$15)","v":432.60869565217388},{"$f":"IF(RopeThrow!$X31=\"\",\"\",IFERROR(R31&\" ( \"&INT(T31)&\" )\",R31))","v":"15 ( 432 )"},{"$f":"IF('Swim&Tow'!$W31=\"\",\"\",'Swim&Tow'!$W31)","v":17},{"$f":"IF('Swim&Tow'!$W31=\"\",\"\",'Swim&Tow'!$AF31)","v":731.79688489299747},{"$f":"IF(W31=\"\",0,(W31-V$4)*X$4+'Set UP'!$R$15)","v":626.80368683123231},{"$f":"IF('Swim&Tow'!$W31=\"\",\"\",IFERROR(V31&\" ( \"&INT(X31)&\" )\",V31))","v":"17 ( 626 )"},{"$f":"IF(Medley!Q31=\"\",\"\",Medley!$U31)","v":8},{"$f":"IF(Medley!Q31=\"\",\"\",Medley!$AD31)","v":778.84955752212386},{"$f":"IF(AA31=\"\",0,(AA31-Z$4)*AB$4+'Set UP'!$R$15)","v":780.46153846153834},{"$f":"IF(Medley!$U31=\"\",\"\",IFERROR(Z31&\" ( \"&INT(AB31)&\" )\",Z31))","v":"8 ( 780 )"},{"$f":"IF('Manikin Carry'!U31=\"\",\"\",'Manikin Carry'!$U31)","v":""},{"$f":"IF('Manikin Carry'!U31=\"\",\"\",'Manikin Carry'!$AD31)","v":""},{"$f":"IF(AE31=\"\",0,(AE31-AD$4)*AF$4+'Set UP'!$R$15)","v":0},{"$f":"IF('Manikin Carry'!$U31=\"\",\"\",IFERROR(AD31&\" ( \"&INT(AF31)&\" )\",AD31))","v":""},{"$f":"IF(Obstacle!U31=\"\",\"\",Obstacle!$U31)","v":""},{"$f":"IF(Obstacle!U31=\"\",\"\",Obstacle!$AD31)","v":""},{"$f":"IF(AI31=\"\",0,(AI31-AH$4)*AJ$4+'Set UP'!$R$15)","v":0},{"$f":"IF(Obstacle!$U31=\"\",\"\",IFERROR(AH31&\" ( \"&INT(AJ31)&\" )\",AH31))","v":""},2584.724929093401,22,{"$f":"IF(E31=\"NS\",'Non-S Results'!O31,IF('Set UP'!K31=1,'Compartive League'!AN31,IF('Set UP'!K31=2,'Compartive League'!AP31,\"\")))","v":11},{"$f":"'Competition Results'!O31","v":22}]
[null,26,{"$f":"IF(OR('Set UP'!$C32=0,'Set UP'!$D32=0,'Set UP'!$E32=0,'Set UP'!F32=0),\"  --\",'Set UP'!C32)","v":1442},{"$f":"IF(OR('Set UP'!$C32=0,'Set UP'!$D32=0,'Set UP'!$E32=0,'Set UP'!F32=0),\"  --\",'Set UP'!D32&\" \"&'Set UP'!E32)","v":"University of Birmingham A"},{"$f":"IF(OR('Set UP'!$C32=0,'Set UP'!$D32=0,'Set UP'!$E32=0,'Set UP'!F32=0),\" --\",'Set UP'!F32)","v":"S"},{"$f":"IF('Dry Incident'!$JQ46=\"\",\"\",'Dry Incident'!$JQ46)","v":4},{"$f":"IF('Dry Incident'!$JQ46=\"\",\"\",'Dry Incident'!$JZ46)","v":913.5593220338983},{"$f":"IF(G32=\"\",0,(G32-F$4)*H$4+'Set UP'!$R$15)","v":882.60869565217388},{"$f":"IF('Dry Incident'!$JQ46=\"\",\"\",IFERROR(F32&\" ( \"&INT(H32)&\" )\",F32))","v":"4 ( 882 )"},{"$f":"IF(' Wet Incident'!$JQ46=\"\",\"\",' Wet Incident'!$JQ46)","v":9},{"$f":"IF(' Wet Incident'!$JQ46=\"\",\"\",' Wet Incident'!$JZ46)","v":604.72972972972968},{"$f":"IF(K32=\"\",0,(K32-J$4)*L$4+'Set UP'!$R$15)","v":510.23255813953483},{"$f":"IF(' Wet Incident'!$JQ46=\"\",\"\",IFERROR(J32&\" ( \"&INT(L32)&\" )\",J32))","v":"9 ( 510 )"},{"$f":"IF('Extra Incident'!$JQ46=\"\",\"\",'Extra Incident'!$JQ46)","v":1},{"$f":"IF('Extra Incident'!$JQ46=\"\",\"\",'Extra Incident'!$JZ46)","v":""},{"$f":"IF(O32=\"\",0,(O32-N$4)*P$4+'Set UP'!$R$15)","v":0},{"$f":"IF('Extra Incident'!$JQ46=\"\",\"\",IFERROR(N32&\" ( \"&INT(O32)&\" )\",N32))","v":1},{"$f":"IF(RopeThrow!$X32=\"\",\"\",RopeThrow!$X32)","v":7},{"$f":"IF(RopeThrow!$X32=\"\",\"\",RopeThrow!$AG32)","v":759.25925925925935},{"$f":"IF(S32=\"\",0,(S32-R$4)*T$4+'Set UP'!$R$15)","v":745.6521739130435},{"$f":"IF(RopeThrow!$X32=\"\",\"\",IFERROR(R32&\" ( \"&INT(T32)&\" )\",R32))","v":"7 ( 745 )"},{"$f":"IF('Swim&Tow'!$W32=\"\",\"\",'Swim&Tow'!$W32)","v":7},{"$f":"IF('Swim&Tow'!$W32=\"\",\"\",'Swim&Tow'!$AF32)","v":867.29137647207813},{"$f":"IF(W32=\"\",0,(W32-V$4)*X$4+'Set UP'!$R$15)","v":881.86248543277907},{"$f":"IF('Swim&Tow'!$W32=\"\",\"\",IFERROR(V32&\" ( \"&INT(X32)&\" )\",V32))","v":"7 ( 881 )"},{"$f":"IF(Medley!Q32=\"\",\"\",Medley!$U32)","v":7},{"$f":"IF(Medley!Q32=\"\",\"\",Medley!$AD32)","v":778.93805309734523},{"$f":"IF(AA32=\"\",0,(AA32-Z$4)*AB$4+'Set UP'!$R$15)","v":780.61538461538476},{"$f":"IF(Medley!$U32=\"\",\"\",IFERROR(Z32&\" ( \"&INT(AB32)&\" )\",Z32))","v":"7 ( 780 )"},{"$f":"IF('Manikin Carry'!U32=\"\",\"\",'Manikin Carry'!$U32)","v":""},{"$f":"IF('Manikin Carry'!U32=\"\",\"\",'Manikin Carry'!$AD32)","v":""},{"$f":"IF(AE32=\"\",0,(AE32-AD$4)*AF$4+'Set UP'!$R$15)","v":0},{"$f":"IF('Manikin Carry'!$U32=\"\",\"\",IFERROR(AD32&\" ( \"&INT(AF32)&\" )\",AD32))","v":""},{"$f":"IF(Obstacle!U32=\"\",\"\",Obstacle!$U32)","v":""},{"$f":"IF(Obstacle!U32=\"\",\"\",Obstacle!$AD32)","v":""},{"$f":"IF(AI32=\"\",0,(AI32-AH$4)*AJ$4+'Set UP'!$R$15)","v":0},{"$f":"IF(Obstacle!$U32=\"\",\"\",IFERROR(AH32&\" ( \"&INT(AJ32)&\" )\",AH32))","v":""},5193.8125515446245,3,{"$f":"IF(E32=\"NS\",'Non-S Results'!O32,IF('Set UP'!K32=1,'Compartive League'!AN32,IF('Set UP'!K32=2,'Compartive League'!AP32,\"\")))","v":3},{"$f":"'Competition Results'!O32","v":3}]
[null,27,{"$f":"IF(OR('Set UP'!$C33=0,'Set UP'!$D33=0,'Set UP'!$E33=0,'Set UP'!F33=0),\"  --\",'Set UP'!C33)","v":1456},{"$f":"IF(OR('Set UP'!$C33=0,'Set UP'!$D33=0,'Set UP'!$E33=0,'Set UP'!F33=0),\"  --\",'Set UP'!D33&\" \"&'Set UP'!E33)","v":"University of Warwick A"},{"$f":"IF(OR('Set UP'!$C33=0,'Set UP'!$D33=0,'Set UP'!$E33=0,'Set UP'!F33=0),\" --\",'Set UP'!F33)","v":"S"},{"$f":"IF('Dry Incident'!$JQ47=\"\",\"\",'Dry Incident'!$JQ47)","v":1},{"$f":"IF('Dry Incident'!$JQ47=\"\",\"\",'Dry Incident'!$JZ47)","v":1000},{"$f":"IF(G33=\"\",0,(G33-F$4)*H$4+'Set UP'!$R$15)","v":1000},{"$f":"IF('Dry Incident'!$JQ47=\"\",\"\",IFERROR(F33&\" ( \"&INT(H33)&\" )\",F33))","v":"1 ( 1000 )"},{"$f":"IF(' Wet Incident'!$JQ47=\"\",\"\",' Wet Incident'!$JQ47)","v":3},{"$f":"IF(' Wet Incident'!$JQ47=\"\",\"\",' Wet Incident'!$JZ47)","v":717.90540540540542},{"$f":"IF(K33=\"\",0,(K33-J$4)*L$4+'Set UP'!$R$15)","v":650.46511627906978},{"$f":"IF(' Wet Incident'!$JQ47=\"\",\"\",IFERROR(J33&\" ( \"&INT(L33)&\" )\",J33))","v":"3 ( 650 )"},{"$f":"IF('Extra Incident'!$JQ47=\"\",\"\",'Extra Incident'!$JQ47)","v":1},{"$f":"IF('Extra Incident'!$JQ47=\"\",\"\",'Extra Incident'!$JZ47)","v":""},{"$f":"IF(O33=\"\",0,(O33-N$4)*P$4+'Set UP'!$R$15)","v":0},{"$f":"IF('Extra Incident'!$JQ47=\"\",\"\",IFERROR(N33&\" ( \"&INT(O33)&\" )\",N33))","v":1},{"$f":"IF(RopeThrow!$X33=\"\",\"\",RopeThrow!$X33)","v":7},{"$f":"IF(RopeThrow!$X33=\"\",\"\",RopeThrow!$AG33)","v":759.25925925925935},{"$f":"IF(S33=\"\",0,(S33-R$4)*T$4+'Set UP'!$R$15)","v":745.6521739130435},{"$f":"IF(RopeThrow!$X33=\"\",\"\",IFERROR(R33&\" ( \"&INT(T33)&\" )\",R33))","v":"7 ( 745 )"},{"$f":"IF('Swim&Tow'!$W33=\"\",\"\",'Swim&Tow'!$W33)","v":1},{"$f":"IF('Swim&Tow'!$W33=\"\",\"\",'Swim&Tow'!$AF33)","v":930.04938584272509},{"$f":"IF(W33=\"\",0,(W33-V$4)*X$4+'Set UP'!$R$15)","v":1000},{"$f":"IF('Swim&Tow'!$W33=\"\",\"\",IFERROR(V33&\" ( \"&INT(X33)&\" )\",V33))","v":"1 ( 1000 )"},{"$f":"IF(Medley!Q33=\"\",\"\",Medley!$U33)","v":10},{"$f":"IF(Medley!Q33=\"\",\"\",Medley!$AD33)","v":771.59292035398232},{"$f":"IF(AA33=\"\",0,(AA33-Z$4)*AB$4+'Set UP'!$R$15)","v":767.84615384615381},{"$f":"IF(Medley!$U33=\"\",\"\",IFERROR(Z33&\" ( \"&INT(AB33)&\" )\",Z33))","v":"10 ( 767 )"},{"$f":"IF('Manikin Carry'!U33=\"\",\"\",'Manikin Carry'!$U33)","v":""},{"$f":"IF('Manikin Carry'!U33=\"\",\"\",'Manikin Carry'!$AD33)","v":""},{"$f":"IF(AE33=\"\",0,(AE33-AD$4)*AF$4+'Set UP'!$R$15)","v":0},{"$f":"IF('Manikin Carry'!$U33=\"\",\"\",IFERROR(AD33&\" ( \"&INT(AF33)&\" )\",AD33))","v":""},{"$f":"IF(Obstacle!U33=\"\",\"\",Obstacle!$U33)","v":""},{"$f":"IF(Obstacle!U33=\"\",\"\",Obstacle!$AD33)","v":""},{"$f":"IF(AI33=\"\",0,(AI33-AH$4)*AJ$4+'Set UP'!$R$15)","v":0},{"$f":"IF(Obstacle!$U33=\"\",\"\",IFERROR(AH33&\" ( \"&INT(AJ33)&\" )\",AH33))","v":""},5814.4285603173366,2,{"$f":"IF(E33=\"NS\",'Non-S Results'!O33,IF('Set UP'!K33=1,'Compartive League'!AN33,IF('Set UP'!K33=2,'Compartive League'!AP33,\"\")))","v":2},{"$f":"'Competition Results'!O33","v":2}]
[null,28,{"$f":"IF(OR('Set UP'!$C34=0,'Set UP'!$D34=0,'Set UP'!$E34=0,'Set UP'!F34=0),\"  --\",'Set UP'!C34)","v":1460},{"$f":"IF(OR('Set UP'!$C34=0,'Set UP'!$D34=0,'Set UP'!$E34=0,'Set UP'!F34=0),\"  --\",'Set UP'!D34&\" \"&'Set UP'!E34)","v":"Bristol University A"},{"$f":"IF(OR('Set UP'!$C34=0,'Set UP'!$D34=0,'Set UP'!$E34=0,'Set UP'!F34=0),\" --\",'Set UP'!F34)","v":"S"},{"$f":"IF('Dry Incident'!$JQ48=\"\",\"\",'Dry Incident'!$JQ48)","v":12},{"$f":"IF('Dry Incident'!$JQ48=\"\",\"\",'Dry Incident'!$JZ48)","v":835.59322033898309},{"$f":"IF(G34=\"\",0,(G34-F$4)*H$4+'Set UP'!$R$15)","v":776.72634271099753},{"$f":"IF('Dry Incident'!$JQ48=\"\",\"\",IFERROR(F34&\" ( \"&INT(H34)&\" )\",F34))","v":"12 ( 776 )"},{"$f":"IF(' Wet Incident'!$JQ48=\"\",\"\",' Wet Incident'!$JQ48)","v":4},{"$f":"IF(' Wet Incident'!$JQ48=\"\",\"\",' Wet Incident'!$JZ48)","v":716.21621621621625},{"$f":"IF(K34=\"\",0,(K34-J$4)*L$4+'Set UP'!$R$15)","v":648.37209302325584},{"$f":"IF(' Wet Incident'!$JQ48=\"\",\"\",IFERROR(J34&\" ( \"&INT(L34)&\" )\",J34))","v":"4 ( 648 )"},{"$f":"IF('Extra Incident'!$JQ48=\"\",\"\",'Extra Incident'!$JQ48)","v":1},{"$f":"IF('Extra Incident'!$JQ48=\"\",\"\",'Extra Incident'!$JZ48)","v":""},{"$f":"IF(O34=\"\",0,(O34-N$4)*P$4+'Set UP'!$R$15)","v":0},{"$f":"IF('Extra Incident'!$JQ48=\"\",\"\",IFERROR(N34&\" ( \"&INT(O34)&\" )\",N34))","v":1},{"$f":"IF(RopeThrow!$X34=\"\",\"\",RopeThrow!$X34)","v":15},{"$f":"IF(RopeThrow!$X34=\"\",\"\",RopeThrow!$AG34)","v":462.96296296296299},{"$f":"IF(S34=\"\",0,(S34-R$4)*T$4+'Set UP'!$R$15)","v":432.60869565217388},{"$f":"IF(RopeThrow!$X34=\"\",\"\",IFERROR(R34&\" ( \"&INT(T34)&\" )\",R34))","v":"15 ( 432 )"},{"$f":"IF('Swim&Tow'!$W34=\"\",\"\",'Swim&Tow'!$W34)","v":4},{"$f":"IF('Swim&Tow'!$W34=\"\",\"\",'Swim&Tow'!$AF34)","v":900.77244523236686},{"$f":"IF(W34=\"\",0,(W34-V$4)*X$4+'Set UP'!$R$15)","v":944.88822968534828},{"$f":"IF('Swim&Tow'!$W34=\"\",\"\",IFERROR(V34&\" ( \"&INT(X34)&\" )\",V34))","v":"4 ( 944 )"},{"$f":"IF(Medley!Q34=\"\",\"\",Medley!$U34)","v":24},{"$f":"IF(Medley!Q34=\"\",\"\",Medley!$AD34)","v":""},{"$f":"IF(AA34=\"\",0,(AA34-Z$4)*AB$4+'Set UP'!$R$15)","v":0},{"$f":"IF(Medley!$U34=\"\",\"\",IFERROR(Z34&\" ( \"&INT(AB34)&\" )\",Z34))","v":"24 ( 0 )"},{"$f":"IF('Manikin Carry'!U34=\"\",\"\",'Manikin Carry'!$U34)","v":""},{"$f":"IF('Manikin Carry'!U34=\"\",\"\",'Manikin Carry'!$AD34)","v":""},{"$f":"IF(AE34=\"\",0,(AE34-AD$4)*AF$4+'Set UP'!$R$15)","v":0},{"$f":"IF('Manikin Carry'!$U34=\"\",\"\",IFERROR(AD34&\" ( \"&INT(AF34)&\" )\",AD34))","v":""},{"$f":"IF(Obstacle!U34=\"\",\"\",Obstacle!$U34)","v":""},{"$f":"IF(Obstacle!U34=\"\",\"\",Obstacle!$AD34)","v":""},{"$f":"IF(AI34=\"\",0,(AI34-AH$4)*AJ$4+'Set UP'!$R$15)","v":0},{"$f":"IF(Obstacle!$U34=\"\",\"\",IFERROR(AH34&\" ( \"&INT(AJ34)&\" )\",AH34))","v":""},4227.6937968060292,12,{"$f":"IF(E34=\"NS\",'Non-S Results'!O34,IF('Set UP'!K34=1,'Compartive League'!AN34,IF('Set UP'!K34=2,'Compartive League'!AP34,\"\")))","v":5},{"$f":"'Competition Results'!O34","v":9}]
[null,29,{"$f":"IF(OR('Set UP'!$C35=0,'Set UP'!$D35=0,'Set UP'!$E35=0,'Set UP'!F35=0),\"  --\",'Set UP'!C35)","v":1437},{"$f":"IF(OR('Set UP'!$C35=0,'Set UP'!$D35=0,'Set UP'!$E35=0,'Set UP'!F35=0),\"  --\",'Set UP'!D35&\" \"&'Set UP'!E35)","v":"Swansea Universities Lifesaving A"},{"$f":"IF(OR('Set UP'!$C35=0,'Set UP'!$D35=0,'Set UP'!$E35=0,'Set UP'!F35=0),\" --\",'Set UP'!F35)","v":"S"},{"$f":"IF('Dry Incident'!$JQ49=\"\",\"\",'Dry Incident'!$JQ49)","v":24},{"$f":"IF('Dry Incident'!$JQ49=\"\",\"\",'Dry Incident'!$JZ49)","v":566.10169491525414},{"$f":"IF(G35=\"\",0,(G35-F$4)*H$4+'Set UP'!$R$15)","v":410.74168797953951},{"$f":"IF('Dry Incident'!$JQ49=\"\",\"\",IFERROR(F35&\" ( \"&INT(H35)&\" )\",F35))","v":"24 ( 410 )"},{"$f":"IF(' Wet Incident'!$JQ49=\"\",\"\",' Wet Incident'!$JQ49)","v":27},{"$f":"IF(' Wet Incident'!$JQ49=\"\",\"\",' Wet Incident'!$JZ49)","v":273.64864864864865},{"$f":"IF(K35=\"\",0,(K35-J$4)*L$4+'Set UP'!$R$15)","v":100},{"$f":"IF(' Wet Incident'!$JQ49=\"\",\"\",IFERROR(J35&\" ( \"&INT(L35)&\" )\",J35))","v":"27 ( 100 )"},{"$f":"IF('Extra Incident'!$JQ49=\"\",\"\",'Extra Incident'!$JQ49)","v":1},{"$f":"IF('Extra Incident'!$JQ49=\"\",\"\",'Extra Incident'!$JZ49)","v":""},{"$f":"IF(O35=\"\",0,(O35-N$4)*P$4+'Set UP'!$R$15)","v":0},{"$f":"IF('Extra Incident'!$JQ49=\"\",\"\",IFERROR(N35&\" ( \"&INT(O35)&\" )\",N35))","v":1},{"$f":"IF(RopeThrow!$X35=\"\",\"\",RopeThrow!$X35)","v":7},{"$f":"IF(RopeThrow!$X35=\"\",\"\",RopeThrow!$AG35)","v":759.25925925925935},{"$f":"IF(S35=\"\",0,(S35-R$4)*T$4+'Set UP'!$R$15)","v":745.6521739130435},{"$f":"IF(RopeThrow!$X35=\"\",\"\",IFERROR(R35&\" ( \"&INT(T35)&\" )\",R35))","v":"7 ( 745 )"},{"$f":"IF('Swim&Tow'!$W35=\"\",\"\",'Swim&Tow'!$W35)","v":5},{"$f":"IF('Swim&Tow'!$W35=\"\",\"\",'Swim&Tow'!$AF35)","v":891.12321134608101},{"$f":"IF(W35=\"\",0,(W35-V$4)*X$4+'Set UP'!$R$15)","v":926.72422926157469},{"$f":"IF('Swim&Tow'!$W35=\"\",\"\",IFERROR(V35&\" ( \"&INT(X35)&\" )\",V35))","v":"5 ( 926 )"},{"$f":"IF(Medley!Q35=\"\",\"\",Medley!$U35)","v":1},{"$f":"IF(Medley!Q35=\"\",\"\",Medley!$AD35)","v":905.13274336283189},{"$f":"IF(AA35=\"\",0,(AA35-Z$4)*AB$4+'Set UP'!$R$15)","v":1000},{"$f":"IF(Medley!$U35=\"\",\"\",IFERROR(Z35&\" ( \"&INT(AB35)&\" )\",Z35))","v":"1 ( 1000 )"},{"$f":"IF('Manikin Carry'!U35=\"\",\"\",'Manikin Carry'!$U35)","v":""},{"$f":"IF('Manikin Carry'!U35=\"\",\"\",'Manikin Carry'!$AD35)","v":""},{"$f":"IF(AE35=\"\",0,(AE35-AD$4)*AF$4+'Set UP'!$R$15)","v":0},{"$f":"IF('Manikin Carry'!$U35=\"\",\"\",IFERROR(AD35&\" ( \"&INT(AF35)&\" )\",AD35))","v":""},{"$f":"IF(Obstacle!U35=\"\",\"\",Obstacle!$U35)","v":""},{"$f":"IF(Obstacle!U35=\"\",\"\",Obstacle!$AD35)","v":""},{"$f":"IF(AI35=\"\",0,(AI35-AH$4)*AJ$4+'Set UP'!$R$15)","v":0},{"$f":"IF(Obstacle!$U35=\"\",\"\",IFERROR(AH35&\" ( \"&INT(AJ35)&\" )\",AH35))","v":""},3693.859779133697,15,{"$f":"IF(E35=\"NS\",'Non-S Results'!O35,IF('Set UP'!K35=1,'Compartive League'!AN35,IF('Set UP'!K35=2,'Compartive League'!AP35,\"\")))","v":7},{"$f":"'Competition Results'!O35","v":19}]
[null,30,{"$f":"IF(OR('Set UP'!$C36=0,'Set UP'!$D36=0,'Set UP'!$E36=0,'Set UP'!F36=0),\"  --\",'Set UP'!C36)","v":1425},{"$f":"IF(OR('Set UP'!$C36=0,'Set UP'!$D36=0,'Set UP'!$E36=0,'Set UP'!F36=0),\"  --\",'Set UP'!D36&\" \"&'Set UP'!E36)","v":"London Universities A"},{"$f":"IF(OR('Set UP'!$C36=0,'Set UP'!$D36=0,'Set UP'!$E36=0,'Set UP'!F36=0),\" --\",'Set UP'!F36)","v":"S"},{"$f":"IF('Dry Incident'!$JQ50=\"\",\"\",'Dry Incident'!$JQ50)","v":2},{"$f":"IF('Dry Incident'!$JQ50=\"\",\"\",'Dry Incident'!$JZ50)","v":984.74576271186447},{"$f":"IF(G36=\"\",0,(G36-F$4)*H$4+'Set UP'!$R$15)","v":979.2838874680308},{"$f":"IF('Dry Incident'!$JQ50=\"\",\"\",IFERROR(F36&\" ( \"&INT(H36)&\" )\",F36))","v":"2 ( 979 )"},{"$f":"IF(' Wet Incident'!$JQ50=\"\",\"\",' Wet Incident'!$JQ50)","v":1},{"$f":"IF(' Wet Incident'!$JQ50=\"\",\"\",' Wet Incident'!$JZ50)","v":1000},{"$f":"IF(K36=\"\",0,(K36-J$4)*L$4+'Set UP'!$R$15)","v":1000},{"$f":"IF(' Wet Incident'!$JQ50=\"\",\"\",IFERROR(J36&\" ( \"&INT(L36)&\" )\",J36))","v":"1 ( 1000 )"},{"$f":"IF('Extra Incident'!$JQ50=\"\",\"\",'Extra Incident'!$JQ50)","v":1},{"$f":"IF('Extra Incident'!$JQ50=\"\",\"\",'Extra Incident'!$JZ50)","v":""},{"$f":"IF(O36=\"\",0,(O36-N$4)*P$4+'Set UP'!$R$15)","v":0},{"$f":"IF('Extra Incident'!$JQ50=\"\",\"\",IFERROR(N36&\" ( \"&INT(O36)&\" )\",N36))","v":1},{"$f":"IF(RopeThrow!$X36=\"\",\"\",RopeThrow!$X36)","v":3},{"$f":"IF(RopeThrow!$X36=\"\",\"\",RopeThrow!$AG36)","v":888.88888888888891},{"$f":"IF(S36=\"\",0,(S36-R$4)*T$4+'Set UP'!$R$15)","v":882.60869565217388},{"$f":"IF(RopeThrow!$X36=\"\",\"\",IFERROR(R36&\" ( \"&INT(T36)&\" )\",R36))","v":"3 ( 882 )"},{"$f":"IF('Swim&Tow'!$W36=\"\",\"\",'Swim&Tow'!$W36)","v":2},{"$f":"IF('Swim&Tow'!$W36=\"\",\"\",'Swim&Tow'!$AF36)","v":921.10928200582509},{"$f":"IF(W36=\"\",0,(W36-V$4)*X$4+'Set UP'!$R$15)","v":983.17088674647755},{"$f":"IF('Swim&Tow'!$W36=\"\",\"\",IFERROR(V36&\" ( \"&INT(X36)&\" )\",V36))","v":"2 ( 983 )"},{"$f":"IF(Medley!Q36=\"\",\"\",Medley!$U36)","v":4},{"$f":"IF(Medley!Q36=\"\",\"\",Medley!$AD36)","v":852.30088495575228},{"$f":"IF(AA36=\"\",0,(AA36-Z$4)*AB$4+'Set UP'!$R$15)","v":908.15384615384619},{"$f":"IF(Medley!$U36=\"\",\"\",IFERROR(Z36&\" ( \"&INT(AB36)&\" )\",Z36))","v":"4 ( 908 )"},{"$f":"IF('Manikin Carry'!U36=\"\",\"\",'Manikin Carry'!$U36)","v":""},{"$f":"IF('Manikin Carry'!U36=\"\",\"\",'Manikin Carry'!$AD36)","v":""},{"$f":"IF(AE36=\"\",0,(AE36-AD$4)*AF$4+'Set UP'!$R$15)","v":0},{"$f":"IF('Manikin Carry'!$U36=\"\",\"\",IFERROR(AD36&\" ( \"&INT(AF36)&\" )\",AD36))","v":""},{"$f":"IF(Obstacle!U36=\"\",\"\",Obstacle!$U36)","v":""},{"$f":"IF(Obstacle!U36=\"\",\"\",Obstacle!$AD36)","v":""},{"$f":"IF(AI36=\"\",0,(AI36-AH$4)*AJ$4+'Set UP'!$R$15)","v":0},{"$f":"IF(Obstacle!$U36=\"\",\"\",IFERROR(AH36&\" ( \"&INT(AJ36)&\" )\",AH36))","v":""},6732.5012034885594,1,{"$f":"IF(E36=\"NS\",'Non-S Results'!O36,IF('Set UP'!K36=1,'Compartive League'!AN36,IF('Set UP'!K36=2,'Compartive League'!AP36,\"\")))","v":1},{"$f":"'Competition Results'!O36","v":1}]
[null,31,{"$f":"IF(OR('Set UP'!$C37=0,'Set UP'!$D37=0,'Set UP'!$E37=0,'Set UP'!F37=0),\"  --\",'Set UP'!C37)","v":"  --"},{"$f":"IF(OR('Set UP'!$C37=0,'Set UP'!$D37=0,'Set UP'!$E37=0,'Set UP'!F37=0),\"  --\",'Set UP'!D37&\" \"&'Set UP'!E37)","v":"  --"},{"$f":"IF(OR('Set UP'!$C37=0,'Set UP'!$D37=0,'Set UP'!$E37=0,'Set UP'!F37=0),\" --\",'Set UP'!F37)","v":" --"},{"$f":"IF('Dry Incident'!$JQ51=\"\",\"\",'Dry Incident'!$JQ51)","v":""},{"$f":"IF('Dry Incident'!$JQ51=\"\",\"\",'Dry Incident'!$JZ51)","v":""},{"$f":"IF(G37=\"\",0,(G37-F$4)*H$4+'Set UP'!$R$15)","v":0},{"$f":"IF('Dry Incident'!$JQ51=\"\",\"\",IFERROR(F37&\" ( \"&INT(H37)&\" )\",F37))","v":""},{"$f":"IF(' Wet Incident'!$JQ51=\"\",\"\",' Wet Incident'!$JQ51)","v":""},{"$f":"IF(' Wet Incident'!$JQ51=\"\",\"\",' Wet Incident'!$JZ51)","v":""},{"$f":"IF(K37=\"\",0,(K37-J$4)*L$4+'Set UP'!$R$15)","v":0},{"$f":"IF(' Wet Incident'!$JQ51=\"\",\"\",IFERROR(J37&\" ( \"&INT(L37)&\" )\",J37))","v":""},{"$f":"IF('Extra Incident'!$JQ51=\"\",\"\",'Extra Incident'!$JQ51)","v":""},{"$f":"IF('Extra Incident'!$JQ51=\"\",\"\",'Extra Incident'!$JZ51)","v":""},{"$f":"IF(O37=\"\",0,(O37-N$4)*P$4+'Set UP'!$R$15)","v":0},{"$f":"IF('Extra Incident'!$JQ51=\"\",\"\",IFERROR(N37&\" ( \"&INT(O37)&\" )\",N37))","v":""},{"$f":"IF(RopeThrow!$X37=\"\",\"\",RopeThrow!$X37)","v":""},{"$f":"IF(RopeThrow!$X37=\"\",\"\",RopeThrow!$AG37)","v":""},{"$f":"IF(S37=\"\",0,(S37-R$4)*T$4+'Set UP'!$R$15)","v":0},{"$f":"IF(RopeThrow!$X37=\"\",\"\",IFERROR(R37&\" ( \"&INT(T37)&\" )\",R37))","v":""},{"$f":"IF('Swim&Tow'!$W37=\"\",\"\",'Swim&Tow'!$W37)","v":""},{"$f":"IF('Swim&Tow'!$W37=\"\",\"\",'Swim&Tow'!$AF37)","v":""},{"$f":"IF(W37=\"\",0,(W37-V$4)*X$4+'Set UP'!$R$15)","v":0},{"$f":"IF('Swim&Tow'!$W37=\"\",\"\",IFERROR(V37&\" ( \"&INT(X37)&\" )\",V37))","v":""},{"$f":"IF(Medley!Q37=\"\",\"\",Medley!$U37)","v":""},{"$f":"IF(Medley!Q37=\"\",\"\",Medley!$AD37)","v":""},{"$f":"IF(AA37=\"\",0,(AA37-Z$4)*AB$4+'Set UP'!$R$15)","v":0},{"$f":"IF(Medley!$U37=\"\",\"\",IFERROR(Z37&\" ( \"&INT(AB37)&\" )\",Z37))","v":""},{"$f":"IF('Manikin Carry'!U37=\"\",\"\",'Manikin Carry'!$U37)","v":""},{"$f":"IF('Manikin Carry'!U37=\"\",\"\",'Manikin Carry'!$AD37)","v":""},{"$f":"IF(AE37=\"\",0,(AE37-AD$4)*AF$4+'Set UP'!$R$15)","v":0},{"$f":"IF('Manikin Carry'!$U37=\"\",\"\",IFERROR(AD37&\" ( \"&INT(AF37)&\" )\",AD37))","v":""},{"$f":"IF(Obstacle!U37=\"\",\"\",Obstacle!$U37)","v":""},{"$f":"IF(Obstacle!U37=\"\",\"\",Obstacle!$AD37)","v":""},{"$f":"IF(AI37=\"\",0,(AI37-AH$4)*AJ$4+'Set UP'!$R$15)","v":0},{"$f":"IF(Obstacle!$U37=\"\",\"\",IFERROR(AH37&\" ( \"&INT(AJ37)&\" )\",AH37))","v":""},"","",{"$f":"IF(E37=\"NS\",'Non-S Results'!O37,IF('Set UP'!K37=1,'Compartive League'!AN37,IF('Set UP'!K37=2,'Compartive League'!AP37,\"\")))","v":""},{"$f":"'Competition Results'!O37","v":0}]
[null,32,{"$f":"IF(OR('Set UP'!$C38=0,'Set UP'!$D38=0,'Set UP'!$E38=0,'Set UP'!F38=0),\"  --\",'Set UP'!C38)","v":"  --"},{"$f":"IF(OR('Set UP'!$C38=0,'Set UP'!$D38=0,'Set UP'!$E38=0,'Set UP'!F38=0),\"  --\",'Set UP'!D38&\" \"&'Set UP'!E38)","v":"  --"},{"$f":"IF(OR('Set UP'!$C38=0,'Set UP'!$D38=0,'Set UP'!$E38=0,'Set UP'!F38=0),\" --\",'Set UP'!F38)","v":" --"},{"$f":"IF('Dry Incident'!$JQ52=\"\",\"\",'Dry Incident'!$JQ52)","v":""},{"$f":"IF('Dry Incident'!$JQ52=\"\",\"\",'Dry Incident'!$JZ52)","v":""},{"$f":"IF(G38=\"\",0,(G38-F$4)*H$4+'Set UP'!$R$15)","v":0},{"$f":"IF('Dry Incident'!$JQ52=\"\",\"\",IFERROR(F38&\" ( \"&INT(H38)&\" )\",F38))","v":""},{"$f":"IF(' Wet Incident'!$JQ52=\"\",\"\",' Wet Incident'!$JQ52)","v":""},{"$f":"IF(' Wet Incident'!$JQ52=\"\",\"\",' Wet Incident'!$JZ52)","v":""},{"$f":"IF(K38=\"\",0,(K38-J$4)*L$4+'Set UP'!$R$15)","v":0},{"$f":"IF(' Wet Incident'!$JQ52=\"\",\"\",IFERROR(J38&\" ( \"&INT(L38)&\" )\",J38))","v":""},{"$f":"IF('Extra Incident'!$JQ52=\"\",\"\",'Extra Incident'!$JQ52)","v":""},{"$f":"IF('Extra Incident'!$JQ52=\"\",\"\",'Extra Incident'!$JZ52)","v":""},{"$f":"IF(O38=\"\",0,(O38-N$4)*P$4+'Set UP'!$R$15)","v":0},{"$f":"IF('Extra Incident'!$JQ52=\"\",\"\",IFERROR(N38&\" ( \"&INT(O38)&\" )\",N38))","v":""},{"$f":"IF(RopeThrow!$X38=\"\",\"\",RopeThrow!$X38)","v":""},{"$f":"IF(RopeThrow!$X38=\"\",\"\",RopeThrow!$AG38)","v":""},{"$f":"IF(S38=\"\",0,(S38-R$4)*T$4+'Set UP'!$R$15)","v":0},{"$f":"IF(RopeThrow!$X38=\"\",\"\",IFERROR(R38&\" ( \"&INT(T38)&\" )\",R38))","v":""},{"$f":"IF('Swim&Tow'!$W38=\"\",\"\",'Swim&Tow'!$W38)","v":""},{"$f":"IF('Swim&Tow'!$W38=\"\",\"\",'Swim&Tow'!$AF38)","v":""},{"$f":"IF(W38=\"\",0,(W38-V$4)*X$4+'Set UP'!$R$15)","v":0},{"$f":"IF('Swim&Tow'!$W38=\"\",\"\",IFERROR(V38&\" ( \"&INT(X38)&\" )\",V38))","v":""},{"$f":"IF(Medley!Q38=\"\",\"\",Medley!$U38)","v":""},{"$f":"IF(Medley!Q38=\"\",\"\",Medley!$AD38)","v":""},{"$f":"IF(AA38=\"\",0,(AA38-Z$4)*AB$4+'Set UP'!$R$15)","v":0},{"$f":"IF(Medley!$U38=\"\",\"\",IFERROR(Z38&\" ( \"&INT(AB38)&\" )\",Z38))","v":""},{"$f":"IF('Manikin Carry'!U38=\"\",\"\",'Manikin Carry'!$U38)","v":""},{"$f":"IF('Manikin Carry'!U38=\"\",\"\",'Manikin Carry'!$AD38)","v":""},{"$f":"IF(AE38=\"\",0,(AE38-AD$4)*AF$4+'Set UP'!$R$15)","v":0},{"$f":"IF('Manikin Carry'!$U38=\"\",\"\",IFERROR(AD38&\" ( \"&INT(AF38)&\" )\",AD38))","v":""},{"$f":"IF(Obstacle!U38=\"\",\"\",Obstacle!$U38)","v":""},{"$f":"IF(Obstacle!U38=\"\",\"\",Obstacle!$AD38)","v":""},{"$f":"IF(AI38=\"\",0,(AI38-AH$4)*AJ$4+'Set UP'!$R$15)","v":0},{"$f":"IF(Obstacle!$U38=\"\",\"\",IFERROR(AH38&\" ( \"&INT(AJ38)&\" )\",AH38))","v":""},"","",{"$f":"IF(E38=\"NS\",'Non-S Results'!O38,IF('Set UP'!K38=1,'Compartive League'!AN38,IF('Set UP'!K38=2,'Compartive League'!AP38,\"\")))","v":""},{"$f":"'Competition Results'!O38","v":0}]
[null,33,{"$f":"IF(OR('Set UP'!$C39=0,'Set UP'!$D39=0,'Set UP'!$E39=0,'Set UP'!F39=0),\"  --\",'Set UP'!C39)","v":"  --"},{"$f":"IF(OR('Set UP'!$C39=0,'Set UP'!$D39=0,'Set UP'!$E39=0,'Set UP'!F39=0),\"  --\",'Set UP'!D39&\" \"&'Set UP'!E39)","v":"  --"},{"$f":"IF(OR('Set UP'!$C39=0,'Set UP'!$D39=0,'Set UP'!$E39=0,'Set UP'!F39=0),\" --\",'Set UP'!F39)","v":" --"},{"$f":"IF('Dry Incident'!$JQ53=\"\",\"\",'Dry Incident'!$JQ53)","v":""},{"$f":"IF('Dry Incident'!$JQ53=\"\",\"\",'Dry Incident'!$JZ53)","v":""},{"$f":"IF(G39=\"\",0,(G39-F$4)*H$4+'Set UP'!$R$15)","v":0},{"$f":"IF('Dry Incident'!$JQ53=\"\",\"\",IFERROR(F39&\" ( \"&INT(H39)&\" )\",F39))","v":""},{"$f":"IF(' Wet Incident'!$JQ53=\"\",\"\",' Wet Incident'!$JQ53)","v":""},{"$f":"IF(' Wet Incident'!$JQ53=\"\",\"\",' Wet Incident'!$JZ53)","v":""},{"$f":"IF(K39=\"\",0,(K39-J$4)*L$4+'Set UP'!$R$15)","v":0},{"$f":"IF(' Wet Incident'!$JQ53=\"\",\"\",IFERROR(J39&\" ( \"&INT(L39)&\" )\",J39))","v":""},{"$f":"IF('Extra Incident'!$JQ53=\"\",\"\",'Extra Incident'!$JQ53)","v":""},{"$f":"IF('Extra Incident'!$JQ53=\"\",\"\",'Extra Incident'!$JZ53)","v":""},{"$f":"IF(O39=\"\",0,(O39-N$4)*P$4+'Set UP'!$R$15)","v":0},{"$f":"IF('Extra Incident'!$JQ53=\"\",\"\",IFERROR(N39&\" ( \"&INT(O39)&\" )\",N39))","v":""},{"$f":"IF(RopeThrow!$X39=\"\",\"\",RopeThrow!$X39)","v":""},{"$f":"IF(RopeThrow!$X39=\"\",\"\",RopeThrow!$AG39)","v":""},{"$f":"IF(S39=\"\",0,(S39-R$4)*T$4+'Set UP'!$R$15)","v":0},{"$f":"IF(RopeThrow!$X39=\"\",\"\",IFERROR(R39&\" ( \"&INT(T39)&\" )\",R39))","v":""},{"$f":"IF('Swim&Tow'!$W39=\"\",\"\",'Swim&Tow'!$W39)","v":""},{"$f":"IF('Swim&Tow'!$W39=\"\",\"\",'Swim&Tow'!$AF39)","v":""},{"$f":"IF(W39=\"\",0,(W39-V$4)*X$4+'Set UP'!$R$15)","v":0},{"$f":"IF('Swim&Tow'!$W39=\"\",\"\",IFERROR(V39&\" ( \"&INT(X39)&\" )\",V39))","v":""},{"$f":"IF(Medley!Q39=\"\",\"\",Medley!$U39)","v":""},{"$f":"IF(Medley!Q39=\"\",\"\",Medley!$AD39)","v":""},{"$f":"IF(AA39=\"\",0,(AA39-Z$4)*AB$4+'Set UP'!$R$15)","v":0},{"$f":"IF(Medley!$U39=\"\",\"\",IFERROR(Z39&\" ( \"&INT(AB39)&\" )\",Z39))","v":""},{"$f":"IF('Manikin Carry'!U39=\"\",\"\",'Manikin Carry'!$U39)","v":""},{"$f":"IF('Manikin Carry'!U39=\"\",\"\",'Manikin Carry'!$AD39)","v":""},{"$f":"IF(AE39=\"\",0,(AE39-AD$4)*AF$4+'Set UP'!$R$15)","v":0},{"$f":"IF('Manikin Carry'!$U39=\"\",\"\",IFERROR(AD39&\" ( \"&INT(AF39)&\" )\",AD39))","v":""},{"$f":"IF(Obstacle!U39=\"\",\"\",Obstacle!$U39)","v":""},{"$f":"IF(Obstacle!U39=\"\",\"\",Obstacle!$AD39)","v":""},{"$f":"IF(AI39=\"\",0,(AI39-AH$4)*AJ$4+'Set UP'!$R$15)","v":0},{"$f":"IF(Obstacle!$U39=\"\",\"\",IFERROR(AH39&\" ( \"&INT(AJ39)&\" )\",AH39))","v":""},"","",{"$f":"IF(E39=\"NS\",'Non-S Results'!O39,IF('Set UP'!K39=1,'Compartive League'!AN39,IF('Set UP'!K39=2,'Compartive League'!AP39,\"\")))","v":""},{"$f":"'Competition Results'!O39","v":0}]
[null,34,{"$f":"IF(OR('Set UP'!$C40=0,'Set UP'!$D40=0,'Set UP'!$E40=0,'Set UP'!F40=0),\"  --\",'Set UP'!C40)","v":"  --"},{"$f":"IF(OR('Set UP'!$C40=0,'Set UP'!$D40=0,'Set UP'!$E40=0,'Set UP'!F40=0),\"  --\",'Set UP'!D40&\" \"&'Set UP'!E40)","v":"  --"},{"$f":"IF(OR('Set UP'!$C40=0,'Set UP'!$D40=0,'Set UP'!$E40=0,'Set UP'!F40=0),\" --\",'Set UP'!F40)","v":" --"},{"$f":"IF('Dry Incident'!$JQ54=\"\",\"\",'Dry Incident'!$JQ54)","v":""},{"$f":"IF('Dry Incident'!$JQ54=\"\",\"\",'Dry Incident'!$JZ54)","v":""},{"$f":"IF(G40=\"\",0,(G40-F$4)*H$4+'Set UP'!$R$15)","v":0},{"$f":"IF('Dry Incident'!$JQ54=\"\",\"\",IFERROR(F40&\" ( \"&INT(H40)&\" )\",F40))","v":""},{"$f":"IF(' Wet Incident'!$JQ54=\"\",\"\",' Wet Incident'!$JQ54)","v":""},{"$f":"IF(' Wet Incident'!$JQ54=\"\",\"\",' Wet Incident'!$JZ54)","v":""},{"$f":"IF(K40=\"\",0,(K40-J$4)*L$4+'Set UP'!$R$15)","v":0},{"$f":"IF(' Wet Incident'!$JQ54=\"\",\"\",IFERROR(J40&\" ( \"&INT(L40)&\" )\",J40))","v":""},{"$f":"IF('Extra Incident'!$JQ54=\"\",\"\",'Extra Incident'!$JQ54)","v":""},{"$f":"IF('Extra Incident'!$JQ54=\"\",\"\",'Extra Incident'!$JZ54)","v":""},{"$f":"IF(O40=\"\",0,(O40-N$4)*P$4+'Set UP'!$R$15)","v":0},{"$f":"IF('Extra Incident'!$JQ54=\"\",\"\",IFERROR(N40&\" ( \"&INT(O40)&\" )\",N40))","v":""},{"$f":"IF(RopeThrow!$X40=\"\",\"\",RopeThrow!$X40)","v":""},{"$f":"IF(RopeThrow!$X40=\"\",\"\",RopeThrow!$AG40)","v":""},{"$f":"IF(S40=\"\",0,(S40-R$4)*T$4+'Set UP'!$R$15)","v":0},{"$f":"IF(RopeThrow!$X40=\"\",\"\",IFERROR(R40&\" ( \"&INT(T40)&\" )\",R40))","v":""},{"$f":"IF('Swim&Tow'!$W40=\"\",\"\",'Swim&Tow'!$W40)","v":""},{"$f":"IF('Swim&Tow'!$W40=\"\",\"\",'Swim&Tow'!$AF40)","v":""},{"$f":"IF(W40=\"\",0,(W40-V$4)*X$4+'Set UP'!$R$15)","v":0},{"$f":"IF('Swim&Tow'!$W40=\"\",\"\",IFERROR(V40&\" ( \"&INT(X40)&\" )\",V40))","v":""},{"$f":"IF(Medley!Q40=\"\",\"\",Medley!$U40)","v":""},{"$f":"IF(Medley!Q40=\"\",\"\",Medley!$AD40)","v":""},{"$f":"IF(AA40=\"\",0,(AA40-Z$4)*AB$4+'Set UP'!$R$15)","v":0},{"$f":"IF(Medley!$U40=\"\",\"\",IFERROR(Z40&\" ( \"&INT(AB40)&\" )\",Z40))","v":""},{"$f":"IF('Manikin Carry'!U40=\"\",\"\",'Manikin Carry'!$U40)","v":""},{"$f":"IF('Manikin Carry'!U40=\"\",\"\",'Manikin Carry'!$AD40)","v":""},{"$f":"IF(AE40=\"\",0,(AE40-AD$4)*AF$4+'Set UP'!$R$15)","v":0},{"$f":"IF('Manikin Carry'!$U40=\"\",\"\",IFERROR(AD40&\" ( \"&INT(AF40)&\" )\",AD40))","v":""},{"$f":"IF(Obstacle!U40=\"\",\"\",Obstacle!$U40)","v":""},{"$f":"IF(Obstacle!U40=\"\",\"\",Obstacle!$AD40)","v":""},{"$f":"IF(AI40=\"\",0,(AI40-AH$4)*AJ$4+'Set UP'!$R$15)","v":0},{"$f":"IF(Obstacle!$U40=\"\",\"\",IFERROR(AH40&\" ( \"&INT(AJ40)&\" )\",AH40))","v":""},"","",{"$f":"IF(E40=\"NS\",'Non-S Results'!O40,IF('Set UP'!K40=1,'Compartive League'!AN40,IF('Set UP'!K40=2,'Compartive League'!AP40,\"\")))","v":""},{"$f":"'Competition Results'!O40","v":0}]
[null,35,{"$f":"IF(OR('Set UP'!$C41=0,'Set UP'!$D41=0,'Set UP'!$E41=0,'Set UP'!F41=0),\"  --\",'Set UP'!C41)","v":"  --"},{"$f":"IF(OR('Set UP'!$C41=0,'Set UP'!$D41=0,'Set UP'!$E41=0,'Set UP'!F41=0),\"  --\",'Set UP'!D41&\" \"&'Set UP'!E41)","v":"  --"},{"$f":"IF(OR('Set UP'!$C41=0,'Set UP'!$D41=0,'Set UP'!$E41=0,'Set UP'!F41=0),\" --\",'Set UP'!F41)","v":" --"},{"$f":"IF('Dry Incident'!$JQ55=\"\",\"\",'Dry Incident'!$JQ55)","v":""},{"$f":"IF('Dry Incident'!$JQ55=\"\",\"\",'Dry Incident'!$JZ55)","v":""},{"$f":"IF(G41=\"\",0,(G41-F$4)*H$4+'Set UP'!$R$15)","v":0},{"$f":"IF('Dry Incident'!$JQ55=\"\",\"\",IFERROR(F41&\" ( \"&INT(H41)&\" )\",F41))","v":""},{"$f":"IF(' Wet Incident'!$JQ55=\"\",\"\",' Wet Incident'!$JQ55)","v":""},{"$f":"IF(' Wet Incident'!$JQ55=\"\",\"\",' Wet Incident'!$JZ55)","v":""},{"$f":"IF(K41=\"\",0,(K41-J$4)*L$4+'Set UP'!$R$15)","v":0},{"$f":"IF(' Wet Incident'!$JQ55=\"\",\"\",IFERROR(J41&\" ( \"&INT(L41)&\" )\",J41))","v":""},{"$f":"IF('Extra Incident'!$JQ55=\"\",\"\",'Extra Incident'!$JQ55)","v":""},{"$f":"IF('Extra Incident'!$JQ55=\"\",\"\",'Extra Incident'!$JZ55)","v":""},{"$f":"IF(O41=\"\",0,(O41-N$4)*P$4+'Set UP'!$R$15)","v":0},{"$f":"IF('Extra Incident'!$JQ55=\"\",\"\",IFERROR(N41&\" ( \"&INT(O41)&\" )\",N41))","v":""},{"$f":"IF(RopeThrow!$X41=\"\",\"\",RopeThrow!$X41)","v":""},{"$f":"IF(RopeThrow!$X41=\"\",\"\",RopeThrow!$AG41)","v":""},{"$f":"IF(S41=\"\",0,(S41-R$4)*T$4+'Set UP'!$R$15)","v":0},{"$f":"IF(RopeThrow!$X41=\"\",\"\",IFERROR(R41&\" ( \"&INT(T41)&\" )\",R41))","v":""},{"$f":"IF('Swim&Tow'!$W41=\"\",\"\",'Swim&Tow'!$W41)","v":""},{"$f":"IF('Swim&Tow'!$W41=\"\",\"\",'Swim&Tow'!$AF41)","v":""},{"$f":"IF(W41=\"\",0,(W41-V$4)*X$4+'Set UP'!$R$15)","v":0},{"$f":"IF('Swim&Tow'!$W41=\"\",\"\",IFERROR(V41&\" ( \"&INT(X41)&\" )\",V41))","v":""},{"$f":"IF(Medley!Q41=\"\",\"\",Medley!$U41)","v":""},{"$f":"IF(Medley!Q41=\"\",\"\",Medley!$AD41)","v":""},{"$f":"IF(AA41=\"\",0,(AA41-Z$4)*AB$4+'Set UP'!$R$15)","v":0},{"$f":"IF(Medley!$U41=\"\",\"\",IFERROR(Z41&\" ( \"&INT(AB41)&\" )\",Z41))","v":""},{"$f":"IF('Manikin Carry'!U41=\"\",\"\",'Manikin Carry'!$U41)","v":""},{"$f":"IF('Manikin Carry'!U41=\"\",\"\",'Manikin Carry'!$AD41)","v":""},{"$f":"IF(AE41=\"\",0,(AE41-AD$4)*AF$4+'Set UP'!$R$15)","v":0},{"$f":"IF('Manikin Carry'!$U41=\"\",\"\",IFERROR(AD41&\" ( \"&INT(AF41)&\" )\",AD41))","v":""},{"$f":"IF(Obstacle!U41=\"\",\"\",Obstacle!$U41)","v":""},{"$f":"IF(Obstacle!U41=\"\",\"\",Obstacle!$AD41)","v":""},{"$f":"IF(AI41=\"\",0,(AI41-AH$4)*AJ$4+'Set UP'!$R$15)","v":0},{"$f":"IF(Obstacle!$U41=\"\",\"\",IFERROR(AH41&\" ( \"&INT(AJ41)&\" )\",AH41))","v":""},"","",{"$f":"IF(E41=\"NS\",'Non-S Results'!O41,IF('Set UP'!K41=1,'Compartive League'!AN41,IF('Set UP'!K41=2,'Compartive League'!AP41,\"\")))","v":""},{"$f":"'Competition Results'!O41","v":0}]
[null,36,{"$f":"IF(OR('Set UP'!$C42=0,'Set UP'!$D42=0,'Set UP'!$E42=0,'Set UP'!F42=0),\"  --\",'Set UP'!C42)","v":"  --"},{"$f":"IF(OR('Set UP'!$C42=0,'Set UP'!$D42=0,'Set UP'!$E42=0,'Set UP'!F42=0),\"  --\",'Set UP'!D42&\" \"&'Set UP'!E42)","v":"  --"},{"$f":"IF(OR('Set UP'!$C42=0,'Set UP'!$D42=0,'Set UP'!$E42=0,'Set UP'!F42=0),\" --\",'Set UP'!F42)","v":" --"},{"$f":"IF('Dry Incident'!$JQ56=\"\",\"\",'Dry Incident'!$JQ56)","v":""},{"$f":"IF('Dry Incident'!$JQ56=\"\",\"\",'Dry Incident'!$JZ56)","v":""},{"$f":"IF(G42=\"\",0,(G42-F$4)*H$4+'Set UP'!$R$15)","v":0},{"$f":"IF('Dry Incident'!$JQ56=\"\",\"\",IFERROR(F42&\" ( \"&INT(H42)&\" )\",F42))","v":""},{"$f":"IF(' Wet Incident'!$JQ56=\"\",\"\",' Wet Incident'!$JQ56)","v":""},{"$f":"IF(' Wet Incident'!$JQ56=\"\",\"\",' Wet Incident'!$JZ56)","v":""},{"$f":"IF(K42=\"\",0,(K42-J$4)*L$4+'Set UP'!$R$15)","v":0},{"$f":"IF(' Wet Incident'!$JQ56=\"\",\"\",IFERROR(J42&\" ( \"&INT(L42)&\" )\",J42))","v":""},{"$f":"IF('Extra Incident'!$JQ56=\"\",\"\",'Extra Incident'!$JQ56)","v":""},{"$f":"IF('Extra Incident'!$JQ56=\"\",\"\",'Extra Incident'!$JZ56)","v":""},{"$f":"IF(O42=\"\",0,(O42-N$4)*P$4+'Set UP'!$R$15)","v":0},{"$f":"IF('Extra Incident'!$JQ56=\"\",\"\",IFERROR(N42&\" ( \"&INT(O42)&\" )\",N42))","v":""},{"$f":"IF(RopeThrow!$X42=\"\",\"\",RopeThrow!$X42)","v":""},{"$f":"IF(RopeThrow!$X42=\"\",\"\",RopeThrow!$AG42)","v":""},{"$f":"IF(S42=\"\",0,(S42-R$4)*T$4+'Set UP'!$R$15)","v":0},{"$f":"IF(RopeThrow!$X42=\"\",\"\",IFERROR(R42&\" ( \"&INT(T42)&\" )\",R42))","v":""},{"$f":"IF('Swim&Tow'!$W42=\"\",\"\",'Swim&Tow'!$W42)","v":""},{"$f":"IF('Swim&Tow'!$W42=\"\",\"\",'Swim&Tow'!$AF42)","v":""},{"$f":"IF(W42=\"\",0,(W42-V$4)*X$4+'Set UP'!$R$15)","v":0},{"$f":"IF('Swim&Tow'!$W42=\"\",\"\",IFERROR(V42&\" ( \"&INT(X42)&\" )\",V42))","v":""},{"$f":"IF(Medley!Q42=\"\",\"\",Medley!$U42)","v":""},{"$f":"IF(Medley!Q42=\"\",\"\",Medley!$AD42)","v":""},{"$f":"IF(AA42=\"\",0,(AA42-Z$4)*AB$4+'Set UP'!$R$15)","v":0},{"$f":"IF(Medley!$U42=\"\",\"\",IFERROR(Z42&\" ( \"&INT(AB42)&\" )\",Z42))","v":""},{"$f":"IF('Manikin Carry'!U42=\"\",\"\",'Manikin Carry'!$U42)","v":""},{"$f":"IF('Manikin Carry'!U42=\"\",\"\",'Manikin Carry'!$AD42)","v":""},{"$f":"IF(AE42=\"\",0,(AE42-AD$4)*AF$4+'Set UP'!$R$15)","v":0},{"$f":"IF('Manikin Carry'!$U42=\"\",\"\",IFERROR(AD42&\" ( \"&INT(AF42)&\" )\",AD42))","v":""},{"$f":"IF(Obstacle!U42=\"\",\"\",Obstacle!$U42)","v":""},{"$f":"IF(Obstacle!U42=\"\",\"\",Obstacle!$AD42)","v":""},{"$f":"IF(AI42=\"\",0,(AI42-AH$4)*AJ$4+'Set UP'!$R$15)","v":0},{"$f":"IF(Obstacle!$U42=\"\",\"\",IFERROR(AH42&\" ( \"&INT(AJ42)&\" )\",AH42))","v":""},"","",{"$f":"IF(E42=\"NS\",'Non-S Results'!O42,IF('Set UP'!K42=1,'Compartive League'!AN42,IF('Set UP'!K42=2,'Compartive League'!AP42,\"\")))","v":""},{"$f":"'Competition Results'!O42","v":0}]
[null,37,{"$f":"IF(OR('Set UP'!$C43=0,'Set UP'!$D43=0,'Set UP'!$E43=0,'Set UP'!F43=0),\"  --\",'Set UP'!C43)","v":"  --"},{"$f":"IF(OR('Set UP'!$C43=0,'Set UP'!$D43=0,'Set UP'!$E43=0,'Set UP'!F43=0),\"  --\",'Set UP'!D43&\" \"&'Set UP'!E43)","v":"  --"},{"$f":"IF(OR('Set UP'!$C43=0,'Set UP'!$D43=0,'Set UP'!$E43=0,'Set UP'!F43=0),\" --\",'Set UP'!F43)","v":" --"},{"$f":"IF('Dry Incident'!$JQ57=\"\",\"\",'Dry Incident'!$JQ57)","v":""},{"$f":"IF('Dry Incident'!$JQ57=\"\",\"\",'Dry Incident'!$JZ57)","v":""},{"$f":"IF(G43=\"\",0,(G43-F$4)*H$4+'Set UP'!$R$15)","v":0},{"$f":"IF('Dry Incident'!$JQ57=\"\",\"\",IFERROR(F43&\" ( \"&INT(H43)&\" )\",F43))","v":""},{"$f":"IF(' Wet Incident'!$JQ57=\"\",\"\",' Wet Incident'!$JQ57)","v":""},{"$f":"IF(' Wet Incident'!$JQ57=\"\",\"\",' Wet Incident'!$JZ57)","v":""},{"$f":"IF(K43=\"\",0,(K43-J$4)*L$4+'Set UP'!$R$15)","v":0},{"$f":"IF(' Wet Incident'!$JQ57=\"\",\"\",IFERROR(J43&\" ( \"&INT(L43)&\" )\",J43))","v":""},{"$f":"IF('Extra Incident'!$JQ57=\"\",\"\",'Extra Incident'!$JQ57)","v":""},{"$f":"IF('Extra Incident'!$JQ57=\"\",\"\",'Extra Incident'!$JZ57)","v":""},{"$f":"IF(O43=\"\",0,(O43-N$4)*P$4+'Set UP'!$R$15)","v":0},{"$f":"IF('Extra Incident'!$JQ57=\"\",\"\",IFERROR(N43&\" ( \"&INT(O43)&\" )\",N43))","v":""},{"$f":"IF(RopeThrow!$X43=\"\",\"\",RopeThrow!$X43)","v":""},{"$f":"IF(RopeThrow!$X43=\"\",\"\",RopeThrow!$AG43)","v":""},{"$f":"IF(S43=\"\",0,(S43-R$4)*T$4+'Set UP'!$R$15)","v":0},{"$f":"IF(RopeThrow!$X43=\"\",\"\",IFERROR(R43&\" ( \"&INT(T43)&\" )\",R43))","v":""},{"$f":"IF('Swim&Tow'!$W43=\"\",\"\",'Swim&Tow'!$W43)","v":""},{"$f":"IF('Swim&Tow'!$W43=\"\",\"\",'Swim&Tow'!$AF43)","v":""},{"$f":"IF(W43=\"\",0,(W43-V$4)*X$4+'Set UP'!$R$15)","v":0},{"$f":"IF('Swim&Tow'!$W43=\"\",\"\",IFERROR(V43&\" ( \"&INT(X43)&\" )\",V43))","v":""},{"$f":"IF(Medley!Q43=\"\",\"\",Medley!$U43)","v":""},{"$f":"IF(Medley!Q43=\"\",\"\",Medley!$AD43)","v":""},{"$f":"IF(AA43=\"\",0,(AA43-Z$4)*AB$4+'Set UP'!$R$15)","v":0},{"$f":"IF(Medley!$U43=\"\",\"\",IFERROR(Z43&\" ( \"&INT(AB43)&\" )\",Z43))","v":""},{"$f":"IF('Manikin Carry'!U43=\"\",\"\",'Manikin Carry'!$U43)","v":""},{"$f":"IF('Manikin Carry'!U43=\"\",\"\",'Manikin Carry'!$AD43)","v":""},{"$f":"IF(AE43=\"\",0,(AE43-AD$4)*AF$4+'Set UP'!$R$15)","v":0},{"$f":"IF('Manikin Carry'!$U43=\"\",\"\",IFERROR(AD43&\" ( \"&INT(AF43)&\" )\",AD43))","v":""},{"$f":"IF(Obstacle!U43=\"\",\"\",Obstacle!$U43)","v":""},{"$f":"IF(Obstacle!U43=\"\",\"\",Obstacle!$AD43)","v":""},{"$f":"IF(AI43=\"\",0,(AI43-AH$4)*AJ$4+'Set UP'!$R$15)","v":0},{"$f":"IF(Obstacle!$U43=\"\",\"\",IFERROR(AH43&\" ( \"&INT(AJ43)&\" )\",AH43))","v":""},"","",{"$f":"IF(E43=\"NS\",'Non-S Results'!O43,IF('Set UP'!K43=1,'Compartive League'!AN43,IF('Set UP'!K43=2,'Compartive League'!AP43,\"\")))","v":""},{"$f":"'Competition Results'!O43","v":0}]
[null,38,{"$f":"IF(OR('Set UP'!$C44=0,'Set UP'!$D44=0,'Set UP'!$E44=0,'Set UP'!F44=0),\"  --\",'Set UP'!C44)","v":"  --"},{"$f":"IF(OR('Set UP'!$C44=0,'Set UP'!$D44=0,'Set UP'!$E44=0,'Set UP'!F44=0),\"  --\",'Set UP'!D44&\" \"&'Set UP'!E44)","v":"  --"},{"$f":"IF(OR('Set UP'!$C44=0,'Set UP'!$D44=0,'Set UP'!$E44=0,'Set UP'!F44=0),\" --\",'Set UP'!F44)","v":" --"},{"$f":"IF('Dry Incident'!$JQ58=\"\",\"\",'Dry Incident'!$JQ58)","v":""},{"$f":"IF('Dry Incident'!$JQ58=\"\",\"\",'Dry Incident'!$JZ58)","v":""},{"$f":"IF(G44=\"\",0,(G44-F$4)*H$4+'Set UP'!$R$15)","v":0},{"$f":"IF('Dry Incident'!$JQ58=\"\",\"\",IFERROR(F44&\" ( \"&INT(H44)&\" )\",F44))","v":""},{"$f":"IF(' Wet Incident'!$JQ58=\"\",\"\",' Wet Incident'!$JQ58)","v":""},{"$f":"IF(' Wet Incident'!$JQ58=\"\",\"\",' Wet Incident'!$JZ58)","v":""},{"$f":"IF(K44=\"\",0,(K44-J$4)*L$4+'Set UP'!$R$15)","v":0},{"$f":"IF(' Wet Incident'!$JQ58=\"\",\"\",IFERROR(J44&\" ( \"&INT(L44)&\" )\",J44))","v":""},{"$f":"IF('Extra Incident'!$JQ58=\"\",\"\",'Extra Incident'!$JQ58)","v":""},{"$f":"IF('Extra Incident'!$JQ58=\"\",\"\",'Extra Incident'!$JZ58)","v":""},{"$f":"IF(O44=\"\",0,(O44-N$4)*P$4+'Set UP'!$R$15)","v":0},{"$f":"IF('Extra Incident'!$JQ58=\"\",\"\",IFERROR(N44&\" ( \"&INT(O44)&\" )\",N44))","v":""},{"$f":"IF(RopeThrow!$X44=\"\",\"\",RopeThrow!$X44)","v":""},{"$f":"IF(RopeThrow!$X44=\"\",\"\",RopeThrow!$AG44)","v":""},{"$f":"IF(S44=\"\",0,(S44-R$4)*T$4+'Set UP'!$R$15)","v":0},{"$f":"IF(RopeThrow!$X44=\"\",\"\",IFERROR(R44&\" ( \"&INT(T44)&\" )\",R44))","v":""},{"$f":"IF('Swim&Tow'!$W44=\"\",\"\",'Swim&Tow'!$W44)","v":""},{"$f":"IF('Swim&Tow'!$W44=\"\",\"\",'Swim&Tow'!$AF44)","v":""},{"$f":"IF(W44=\"\",0,(W44-V$4)*X$4+'Set UP'!$R$15)","v":0},{"$f":"IF('Swim&Tow'!$W44=\"\",\"\",IFERROR(V44&\" ( \"&INT(X44)&\" )\",V44))","v":""},{"$f":"IF(Medley!Q44=\"\",\"\",Medley!$U44)","v":""},{"$f":"IF(Medley!Q44=\"\",\"\",Medley!$AD44)","v":""},{"$f":"IF(AA44=\"\",0,(AA44-Z$4)*AB$4+'Set UP'!$R$15)","v":0},{"$f":"IF(Medley!$U44=\"\",\"\",IFERROR(Z44&\" ( \"&INT(AB44)&\" )\",Z44))","v":""},{"$f":"IF('Manikin Carry'!U44=\"\",\"\",'Manikin Carry'!$U44)","v":""},{"$f":"IF('Manikin Carry'!U44=\"\",\"\",'Manikin Carry'!$AD44)","v":""},{"$f":"IF(AE44=\"\",0,(AE44-AD$4)*AF$4+'Set UP'!$R$15)","v":0},{"$f":"IF('Manikin Carry'!$U44=\"\",\"\",IFERROR(AD44&\" ( \"&INT(AF44)&\" )\",AD44))","v":""},{"$f":"IF(Obstacle!U44=\"\",\"\",Obstacle!$U44)","v":""},{"$f":"IF(Obstacle!U44=\"\",\"\",Obstacle!$AD44)","v":""},{"$f":"IF(AI44=\"\",0,(AI44-AH$4)*AJ$4+'Set UP'!$R$15)","v":0},{"$f":"IF(Obstacle!$U44=\"\",\"\",IFERROR(AH44&\" ( \"&INT(AJ44)&\" )\",AH44))","v":""},"","",{"$f":"IF(E44=\"NS\",'Non-S Results'!O44,IF('Set UP'!K44=1,'Compartive League'!AN44,IF('Set UP'!K44=2,'Compartive League'!AP44,\"\")))","v":""},{"$f":"'Competition Results'!O44","v":0}]
[null,39,{"$f":"IF(OR('Set UP'!$C45=0,'Set UP'!$D45=0,'Set UP'!$E45=0,'Set UP'!F45=0),\"  --\",'Set UP'!C45)","v":"  --"},{"$f":"IF(OR('Set UP'!$C45=0,'Set UP'!$D45=0,'Set UP'!$E45=0,'Set UP'!F45=0),\"  --\",'Set UP'!D45&\" \"&'Set UP'!E45)","v":"  --"},{"$f":"IF(OR('Set UP'!$C45=0,'Set UP'!$D45=0,'Set UP'!$E45=0,'Set UP'!F45=0),\" --\",'Set UP'!F45)","v":" --"},{"$f":"IF('Dry Incident'!$JQ59=\"\",\"\",'Dry Incident'!$JQ59)","v":""},{"$f":"IF('Dry Incident'!$JQ59=\"\",\"\",'Dry Incident'!$JZ59)","v":""},{"$f":"IF(G45=\"\",0,(G45-F$4)*H$4+'Set UP'!$R$15)","v":0},{"$f":"IF('Dry Incident'!$JQ59=\"\",\"\",IFERROR(F45&\" ( \"&INT(H45)&\" )\",F45))","v":""},{"$f":"IF(' Wet Incident'!$JQ59=\"\",\"\",' Wet Incident'!$JQ59)","v":""},{"$f":"IF(' Wet Incident'!$JQ59=\"\",\"\",' Wet Incident'!$JZ59)","v":""},{"$f":"IF(K45=\"\",0,(K45-J$4)*L$4+'Set UP'!$R$15)","v":0},{"$f":"IF(' Wet Incident'!$JQ59=\"\",\"\",IFERROR(J45&\" ( \"&INT(L45)&\" )\",J45))","v":""},{"$f":"IF('Extra Incident'!$JQ59=\"\",\"\",'Extra Incident'!$JQ59)","v":""},{"$f":"IF('Extra Incident'!$JQ59=\"\",\"\",'Extra Incident'!$JZ59)","v":""},{"$f":"IF(O45=\"\",0,(O45-N$4)*P$4+'Set UP'!$R$15)","v":0},{"$f":"IF('Extra Incident'!$JQ59=\"\",\"\",IFERROR(N45&\" ( \"&INT(O45)&\" )\",N45))","v":""},{"$f":"IF(RopeThrow!$X45=\"\",\"\",RopeThrow!$X45)","v":""},{"$f":"IF(RopeThrow!$X45=\"\",\"\",RopeThrow!$AG45)","v":""},{"$f":"IF(S45=\"\",0,(S45-R$4)*T$4+'Set UP'!$R$15)","v":0},{"$f":"IF(RopeThrow!$X45=\"\",\"\",IFERROR(R45&\" ( \"&INT(T45)&\" )\",R45))","v":""},{"$f":"IF('Swim&Tow'!$W45=\"\",\"\",'Swim&Tow'!$W45)","v":""},{"$f":"IF('Swim&Tow'!$W45=\"\",\"\",'Swim&Tow'!$AF45)","v":""},{"$f":"IF(W45=\"\",0,(W45-V$4)*X$4+'Set UP'!$R$15)","v":0},{"$f":"IF('Swim&Tow'!$W45=\"\",\"\",IFERROR(V45&\" ( \"&INT(X45)&\" )\",V45))","v":""},{"$f":"IF(Medley!Q45=\"\",\"\",Medley!$U45)","v":""},{"$f":"IF(Medley!Q45=\"\",\"\",Medley!$AD45)","v":""},{"$f":"IF(AA45=\"\",0,(AA45-Z$4)*AB$4+'Set UP'!$R$15)","v":0},{"$f":"IF(Medley!$U45=\"\",\"\",IFERROR(Z45&\" ( \"&INT(AB45)&\" )\",Z45))","v":""},{"$f":"IF('Manikin Carry'!U45=\"\",\"\",'Manikin Carry'!$U45)","v":""},{"$f":"IF('Manikin Carry'!U45=\"\",\"\",'Manikin Carry'!$AD45)","v":""},{"$f":"IF(AE45=\"\",0,(AE45-AD$4)*AF$4+'Set UP'!$R$15)","v":0},{"$f":"IF('Manikin Carry'!$U45=\"\",\"\",IFERROR(AD45&\" ( \"&INT(AF45)&\" )\",AD45))","v":""},{"$f":"IF(Obstacle!U45=\"\",\"\",Obstacle!$U45)","v":""},{"$f":"IF(Obstacle!U45=\"\",\"\",Obstacle!$AD45)","v":""},{"$f":"IF(AI45=\"\",0,(AI45-AH$4)*AJ$4+'Set UP'!$R$15)","v":0},{"$f":"IF(Obstacle!$U45=\"\",\"\",IFERROR(AH45&\" ( \"&INT(AJ45)&\" )\",AH45))","v":""},"","",{"$f":"IF(E45=\"NS\",'Non-S Results'!O45,IF('Set UP'!K45=1,'Compartive League'!AN45,IF('Set UP'!K45=2,'Compartive League'!AP45,\"\")))","v":""},{"$f":"'Competition Results'!O45","v":0}]
[null,40,{"$f":"IF(OR('Set UP'!$C46=0,'Set UP'!$D46=0,'Set UP'!$E46=0,'Set UP'!F46=0),\"  --\",'Set UP'!C46)","v":"  --"},{"$f":"IF(OR('Set UP'!$C46=0,'Set UP'!$D46=0,'Set UP'!$E46=0,'Set UP'!F46=0),\"  --\",'Set UP'!D46&\" \"&'Set UP'!E46)","v":"  --"},{"$f":"IF(OR('Set UP'!$C46=0,'Set UP'!$D46=0,'Set UP'!$E46=0,'Set UP'!F46=0),\" --\",'Set UP'!F46)","v":" --"},{"$f":"IF('Dry Incident'!$JQ60=\"\",\"\",'Dry Incident'!$JQ60)","v":""},{"$f":"IF('Dry Incident'!$JQ60=\"\",\"\",'Dry Incident'!$JZ60)","v":""},{"$f":"IF(G46=\"\",0,(G46-F$4)*H$4+'Set UP'!$R$15)","v":0},{"$f":"IF('Dry Incident'!$JQ60=\"\",\"\",IFERROR(F46&\" ( \"&INT(H46)&\" )\",F46))","v":""},{"$f":"IF(' Wet Incident'!$JQ60=\"\",\"\",' Wet Incident'!$JQ60)","v":""},{"$f":"IF(' Wet Incident'!$JQ60=\"\",\"\",' Wet Incident'!$JZ60)","v":""},{"$f":"IF(K46=\"\",0,(K46-J$4)*L$4+'Set UP'!$R$15)","v":0},{"$f":"IF(' Wet Incident'!$JQ60=\"\",\"\",IFERROR(J46&\" ( \"&INT(L46)&\" )\",J46))","v":""},{"$f":"IF('Extra Incident'!$JQ60=\"\",\"\",'Extra Incident'!$JQ60)","v":""},{"$f":"IF('Extra Incident'!$JQ60=\"\",\"\",'Extra Incident'!$JZ60)","v":""},{"$f":"IF(O46=\"\",0,(O46-N$4)*P$4+'Set UP'!$R$15)","v":0},{"$f":"IF('Extra Incident'!$JQ60=\"\",\"\",IFERROR(N46&\" ( \"&INT(O46)&\" )\",N46))","v":""},{"$f":"IF(RopeThrow!$X46=\"\",\"\",RopeThrow!$X46)","v":""},{"$f":"IF(RopeThrow!$X46=\"\",\"\",RopeThrow!$AG46)","v":""},{"$f":"IF(S46=\"\",0,(S46-R$4)*T$4+'Set UP'!$R$15)","v":0},{"$f":"IF(RopeThrow!$X46=\"\",\"\",IFERROR(R46&\" ( \"&INT(T46)&\" )\",R46))","v":""},{"$f":"IF('Swim&Tow'!$W46=\"\",\"\",'Swim&Tow'!$W46)","v":""},{"$f":"IF('Swim&Tow'!$W46=\"\",\"\",'Swim&Tow'!$AF46)","v":""},{"$f":"IF(W46=\"\",0,(W46-V$4)*X$4+'Set UP'!$R$15)","v":0},{"$f":"IF('Swim&Tow'!$W46=\"\",\"\",IFERROR(V46&\" ( \"&INT(X46)&\" )\",V46))","v":""},{"$f":"IF(Medley!Q46=\"\",\"\",Medley!$U46)","v":""},{"$f":"IF(Medley!Q46=\"\",\"\",Medley!$AD46)","v":""},{"$f":"IF(AA46=\"\",0,(AA46-Z$4)*AB$4+'Set UP'!$R$15)","v":0},{"$f":"IF(Medley!$U46=\"\",\"\",IFERROR(Z46&\" ( \"&INT(AB46)&\" )\",Z46))","v":""},{"$f":"IF('Manikin Carry'!U46=\"\",\"\",'Manikin Carry'!$U46)","v":""},{"$f":"IF('Manikin Carry'!U46=\"\",\"\",'Manikin Carry'!$AD46)","v":""},{"$f":"IF(AE46=\"\",0,(AE46-AD$4)*AF$4+'Set UP'!$R$15)","v":0},{"$f":"IF('Manikin Carry'!$U46=\"\",\"\",IFERROR(AD46&\" ( \"&INT(AF46)&\" )\",AD46))","v":""},{"$f":"IF(Obstacle!U46=\"\",\"\",Obstacle!$U46)","v":""},{"$f":"IF(Obstacle!U46=\"\",\"\",Obstacle!$AD46)","v":""},{"$f":"IF(AI46=\"\",0,(AI46-AH$4)*AJ$4+'Set UP'!$R$15)","v":0},{"$f":"IF(Obstacle!$U46=\"\",\"\",IFERROR(AH46&\" ( \"&INT(AJ46)&\" )\",AH46))","v":""},"","",{"$f":"IF(E46=\"NS\",'Non-S Results'!O46,IF('Set UP'!K46=1,'Compartive League'!AN46,IF('Set UP'!K46=2,'Compartive League'!AP46,\"\")))","v":""},{"$f":"'Competition Results'!O46","v":0}]
[null,null,null,null,null,null,null,null,null,null,null,null,{"$f":"IF(' Wet Incident'!$JQ61=\"\",\"\",' Wet Incident'!$JQ61*$M$3)","v":""},null,null,null,null,null,null,null,null,null,null,null,null,null,null,null,null,null,null,null,null,null,null,null,{"$f":"IF(Obstacle!$U47=\"\",\"\",Obstacle!$U47*$AK$3)","v":""},{"$f":"IF(AND(I47=\"\",M47=\"\",U47=\"\",Y47=\"\",AC47=\"\",AG47=\"\",AK47=\"\"),\"\",SUM(I47:AK47))","v":""},null,{"$f":"IF(E47=\"NS\",'Non-S Results'!O47,IF('Set UP'!K47=1,'League Results'!P47,IF('Set UP'!K47=2,'League Results'!R47,\"\")))","v":""}]
[null,"Copyright Simon Harrison 2008, Oliver Coleman 2009"]
[null,null,null,"ENSURE ALL THE ROPETHROW SHEET HAS HAD THE POSITIONS UPDATED BEFORE USING THE RESULTS ON THIS SHEET"]

{"sheet":"Compartive League","index":23,"n_rows":49,"n_cols":45,"rows_kept":49,"cut":false,"hidden":true,"merged":[[48,3,48,37],[2,1,3,1],[4,1,5,1],[4,2,5,2],[4,3,5,3],[4,4,5,4],[4,37,5,37],[4,38,5,38],[4,39,5,39],[4,40,5,40],[4,41,5,41],[47,1,47,39]]}
[]
[null,null,null,null,null,"Min A/B","max A/B","Multiplier A/B","Weighting","Min A/B","max A/B","Multiplier A/B","Weighting","Min A/B","max A/B","Multiplier A/B","Weighting","Min A/B","max A/B","Multiplier A/B","Weighting","Min A/B","max A/B","Multiplier A/B","Weighting","Min A/B","max A/B","Multiplier A/B","Weighting","Min A/B","max A/B","Multiplier A/B","Weighting","Min A/B","max A/B","Multiplier A/B","Weighting"]
[null,null,null,"League Results",null,{"$f":" MIN( IF( 'Set UP'!$K$7:$K$46=1, G$7:G$46 ) )","v":566.10169491525414},{"$f":" MAX( IF( 'Set UP'!$K$7:$K$46=1, G$7:G$46 ) )","v":1000},{"$f":"IF(F3=\"\",\"\",(1000-'Set UP'!$R15)/(G3-F3))","v":2.0742187499999996},{"$f":"'Set UP'!R6","v":2},{"$f":" MIN( IF( 'Set UP'!$K$7:$K$46=1, K$7:K$46 ) )","v":273.64864864864865},{"$f":" MAX( IF( 'Set UP'!$K$7:$K$46=1, K$7:K$46 ) )","v":1000},{"$f":"IF(J3=\"\",\"\",(1000-'Set UP'!$R15)/(K3-J3))","v":1.2390697674418605},{"$f":"'Set UP'!R7","v":2},{"$f":" MIN( IF( 'Set UP'!$K$7:$K$46=1, O$7:O$46 ) )","v":0},{"$f":" MAX( IF( 'Set UP'!$K$7:$K$46=1, O$7:O$46 ) )","v":0},{"$f":"IF(N3=\"\",\"\",(1000-'Set UP'!$R15)/(O3-N3))","v":{"$error":"#DIV/0!"}},{"$f":"'Set UP'!R8","v":0},{"$f":" MIN( IF( 'Set UP'!$K$7:$K$46=1, S$7:S$46 ) )","v":55.555555555555557},{"$f":" MAX( IF( 'Set UP'!$K$7:$K$46=1, S$7:S$46 ) )","v":1000},{"$f":"IF(R3=\"\",\"\",(1000-'Set UP'!$R15)/(S3-R3))","v":0.95294117647058818},{"$f":"'Set UP'!R9","v":1},{"$f":" MIN( IF( 'Set UP'!$K$7:$K$46=1, W$7:W$46 ) )","v":721.51449917690275},{"$f":" MAX( IF( 'Set UP'!$K$7:$K$46=1, W$7:W$46 ) )","v":930.04938584272509},{"$f":"IF(V3=\"\",\"\",(1000-'Set UP'!$R15)/(W3-V3))","v":4.3158246295846512},{"$f":"'Set UP'!R10","v":1},{"$f":" MIN( IF( 'Set UP'!$K$7:$K$46=1, AA$7:AA$46 ) )","v":640.70796460176996},{"$f":" MAX( IF( 'Set UP'!$K$7:$K$46=1, AA$7:AA$46 ) )","v":905.13274336283189},{"$f":"IF(Z3=\"\",\"\",(1000-'Set UP'!$R15)/(AA3-Z3))","v":3.4036144578313254},{"$f":"'Set UP'!R11","v":1},{"$f":" MIN( IF( 'Set UP'!$K$7:$K$46=1, AE$7:AE$46 ) )","v":0},{"$f":" MAX( IF( 'Set UP'!$K$7:$K$46=1, AE$7:AE$46 ) )","v":0},{"$f":"IF(AD3=\"\",\"\",(1000-'Set UP'!$R15)/(AE3-AD3))","v":{"$error":"#DIV/0!"}},{"$f":"'Set UP'!R12","v":0},{"$f":" MIN( IF( 'Set UP'!$K$7:$K$46=1, AI$7:AI$46 ) )","v":0},{"$f":" MAX( IF( 'Set UP'!$K$7:$K$46=1, AI$7:AI$46 ) )","v":0},{"$f":"IF(AH3=\"\",\"\",(1000-'Set UP'!$R15)/(AI3-AH3))","v":{"$error":"#DIV/0!"}},{"$f":"'Set UP'!R13","v":0}]
[null,null,null,null,null,{"$f":" MIN( IF( 'Set UP'!$K$7:$K$46=2, G$7:G$46 ) )","v":462.71186440677963},{"$f":" MAX( IF( 'Set UP'!$K$7:$K$46=2, G$7:G$46 ) )","v":916.94915254237287},{"$f":"IF(F4=\"\",\"\",(1000-'Set UP'!$R15)/(G4-F4))","v":1.9813432835820894},null,{"$f":" MIN( IF( 'Set UP'!$K$7:$K$46=2, K$7:K$46 ) )","v":275.33783783783781},{"$f":" MAX( IF( 'Set UP'!$K$7:$K$46=2, K$7:K$46 ) )","v":692.56756756756749},{"$f":"IF(J4=\"\",\"\",(1000-'Set UP'!$R15)/(K4-J4))","v":2.1570850202429153},null,{"$f":" MIN( IF( 'Set UP'!$K$7:$K$46=2, O$7:O$46 ) )","v":0},{"$f":" MAX( IF( 'Set UP'!$K$7:$K$46=2, O$7:O$46 ) )","v":0},{"$f":"IF(N4=\"\",\"\",(1000-'Set UP'!$R15)/(O4-N4))","v":{"$error":"#DIV/0!"}},null,{"$f":" MIN( IF( 'Set UP'!$K$7:$K$46=2, S$7:S$46 ) )","v":90.909090909090907},{"$f":" MAX( IF( 'Set UP'!$K$7:$K$46=2, S$7:S$46 ) )","v":1000},{"$f":"IF(R4=\"\",\"\",(1000-'Set UP'!$R15)/(S4-R4))","v":0.99},null,{"$f":" MIN( IF( 'Set UP'!$K$7:$K$46=2, W$7:W$46 ) )","v":617.42433835633801},{"$f":" MAX( IF( 'Set UP'!$K$7:$K$46=2, W$7:W$46 ) )","v":912.87830821831085},{"$f":"IF(V4=\"\",\"\",(1000-'Set UP'!$R15)/(W4-V4))","v":3.0461597805588898},null,{"$f":" MIN( IF( 'Set UP'!$K$7:$K$46=2, AA$7:AA$46 ) )","v":496.90265486725673},{"$f":" MAX( IF( 'Set UP'!$K$7:$K$46=2, AA$7:AA$46 ) )","v":899.91150442477874},{"$f":"IF(Z4=\"\",\"\",(1000-'Set UP'!$R15)/(AA4-Z4))","v":2.2332015810276684},null,{"$f":" MIN( IF( 'Set UP'!$K$7:$K$46=2, AE$7:AE$46 ) )","v":0},{"$f":" MAX( IF( 'Set UP'!$K$7:$K$46=2, AE$7:AE$46 ) )","v":0},{"$f":"IF(AD4=\"\",\"\",(1000-'Set UP'!$R15)/(AE4-AD4))","v":{"$error":"#DIV/0!"}},null,{"$f":" MIN( IF( 'Set UP'!$K$7:$K$46=2, AI$7:AI$46 ) )","v":0},{"$f":" MAX( IF( 'Set UP'!$K$7:$K$46=2, AI$7:AI$46 ) )","v":0},{"$f":"IF(AH4=\"\",\"\",(1000-'Set UP'!$R15)/(AI4-AH4))","v":{"$error":"#DIV/0!"}}]
[null,null,"Web","Team","Class",null,null,null,{"$f":"'Set UP'!Q6","v":"Wet Incident"},null,null,null,{"$f":"'Set UP'!Q7","v":"Dry Incident"},null,null,null,{"$f":"'Set UP'!Q8","v":"Extra Incident"},null,null,null,{"$f":"'Set UP'!Q9","v":"Rope Throw"},null,null,null,{"$f":"'Set UP'!Q10","v":"Swim and Tow"},null,null,null,{"$f":"'Set UP'!Q11","v":"Medley"},null,null,null,{"$f":"'Set UP'!Q12","v":"Manikin Carry"},null,null,null,{"$f":"'Set UP'!Q13","v":"Obstacle"},"Sum of Weighted Positions ","Sum of Weighted\nPositions (A)","FINAL POSITION\n(A)","Sum of Weighted\nPositions (B)","FINAL POSITION\n(B)",null,"Current A","Current B"]
[null,null,null,null,null,"Place","Unweighted total","Weighted Total","Place(Total)","Place","Unweighted total","Weighted Total","Place(Total)","Place","Unweighted total","Weighted Total",null,"Place","Unweighted total","Weighted Total","Place(Total)","Place","Unweighted total","Weighted Total","Place(Total)","Place","Unweighted total","Weighted Total","Place(Total)","Place","Unweighted total","Weighted Total","Place(Total)","Place","Unweighted total","Weighted Total","Place(Total)"]
[null,1,{"$f":"IF(OR('Set UP'!$C7=0,'Set UP'!$D7=0,'Set UP'!$E7=0,'Set UP'!F7=0),\"  --\",'Set UP'!C7)","v":1418},{"$f":"IF(OR('Set UP'!$C7=0,'Set UP'!$D7=0,'Set UP'!$E7=0,'Set UP'!F7=0),\"  --\",'Set UP'!D7&\" \"&'Set UP'!E7)","v":"Bradford On Avon Lifesaving Club  B"},{"$f":"IF(OR('Set UP'!$C7=0,'Set UP'!$D7=0,'Set UP'!$E7=0,'Set UP'!F7=0),\" --\",'Set UP'!F7)","v":"NS"},{"$f":"IF('Set UP'!$K7<=0,\"\",OFFSET('Dry Incident'!JQ21,0,2*'Set UP'!$K7))","v":""},{"$f":"'Potensial New Scoring Structure'!G7","v":337.28813559322037},{"$f":"IF(OR(G7=\"\",'Set UP'!$K7<=0),0,(G7-OFFSET(F$2,'Set UP'!$K7,0))*OFFSET(H$2,'Set UP'!$K7,0)+'Set UP'!$R$15)","v":0},{"$f":"IF(F7=\"\",\"\",IFERROR(F7&\" ( \"&INT(H7)&\" )\",F7))","v":""},{"$f":"IF('Set UP'!$K7<=0,\"\",OFFSET(' Wet Incident'!JQ21,0,2*'Set UP'!$K7))","v":""},{"$f":"'Potensial New Scoring Structure'!K7","v":319.25675675675672},{"$f":"IF(OR(K7=\"\",'Set UP'!$K7<=0),0,(K7-OFFSET(J$2,'Set UP'!$K7,0))*OFFSET(L$2,'Set UP'!$K7,0)+'Set UP'!$R$15)","v":0},{"$f":"IF(J7=\"\",\"\",IFERROR(J7&\" ( \"&INT(L7)&\" )\",J7))","v":""},{"$f":"IF('Set UP'!$K7<=0,\"\",OFFSET('Extra Incident'!JU21,0,2*'Set UP'!$K7))","v":""},{"$f":"'Potensial New Scoring Structure'!O7","v":""},{"$f":"IF(OR(O7=\"\",'Set UP'!$K7<=0),0,(O7-OFFSET(N$2,'Set UP'!$K7,0))*OFFSET(P$2,'Set UP'!$K7,0)+'Set UP'!$R$15)","v":0},{"$f":"IF(N7=\"\",\"\",IFERROR(N7&\" ( \"&INT(P7)&\" )\",N7))","v":""},{"$f":"IF('Set UP'!$K7<=0,\"\",OFFSET(RopeThrow!X7,0,2*'Set UP'!$K7))","v":""},{"$f":"IF('Set UP'!$K7<=0,\"\",OFFSET(RopeThrow!AG7,0,'Set UP'!$K7))","v":""},{"$f":"IF(OR(S7=\"\",'Set UP'!$K7<=0),0,(S7-OFFSET(R$2,'Set UP'!$K7,0))*OFFSET(T$2,'Set UP'!$K7,0)+'Set UP'!$R$15)","v":0},{"$f":"IF(R7=\"\",\"\",IFERROR(R7&\" ( \"&INT(T7)&\" )\",R7))","v":""},{"$f":"IF('Set UP'!$K7<=0,\"\",OFFSET('Swim&Tow'!W7,0,2*'Set UP'!$K7))","v":""},{"$f":"'Potensial New Scoring Structure'!W7","v":451.94377611751304},{"$f":"IF(OR(W7=\"\",'Set UP'!$K7<=0),0,(W7-OFFSET(V$2,'Set UP'!$K$7,0))*OFFSET(X$2,'Set UP'!$K7,0)+'Set UP'!$R$15)","v":0},{"$f":"IF(V7=\"\",\"\",IFERROR(V7&\" ( \"&INT(X7)&\" )\",V7))","v":""},{"$f":"IF('Set UP'!$K7<=0,\"\",OFFSET(Medley!U7,0,2*'Set UP'!$K7))","v":""},{"$f":"'Potensial New Scoring Structure'!AA7","v":387.43362831858406},{"$f":"IF(OR(AA7=\"\",'Set UP'!$K7<=0),0,(AA7-OFFSET(Z$2,'Set UP'!$K7,0))*OFFSET(AB$2,'Set UP'!$K7,0)+'Set UP'!$R$15)","v":0},{"$f":"IF(Z7=\"\",\"\",IFERROR(Z7&\" ( \"&INT(AB7)&\" )\",Z7))","v":""},{"$f":"IF('Set UP'!$K7<=0,\"\",OFFSET('Manikin Carry'!U7,0,2*'Set UP'!$K7))","v":""},{"$f":"'Potensial New Scoring Structure'!AE7","v":""},{"$f":"IF(OR(AE7=\"\",'Set UP'!$K7<=0),0,(AE7-OFFSET(AD$2,'Set UP'!$K7,0))*OFFSET(AF$2,'Set UP'!$K7,0)+'Set UP'!$R$15)","v":0},{"$f":"IF(AD7=\"\",\"\",IFERROR(AD7&\" ( \"&INT(AF7)&\" )\",AD7))","v":""},{"$f":"IF('Set UP'!$K7<=0,\"\",OFFSET(Obstacle!U7,0,2*'Set UP'!$K7))","v":""},{"$f":"'Potensial New Scoring Structure'!AI7","v":""},{"$f":"IF(OR(AI7=\"\",'Set UP'!$K7<=0),0,(AI7-OFFSET(AH$2,'Set UP'!$K7,0))*OFFSET(AJ$2,'Set UP'!$K7,0)+'Set UP'!$R$15)","v":0},{"$f":"IF(AH7=\"\",\"\",IFERROR(AH7&\" ( \"&INT(AJ7)&\" )\",AH7))","v":""},{"$f":"IF(AND(I7=\"\",M7=\"\",Q7=\"\",U7=\"\",Y7=\"\",AC7=\"\",AG7=\"\",AK7=\"\"),\"\",(I$3*H7+M$3*L7+AC$3*AB7+Q$3*P7+U$3*T7+Y$3*X7+AG$3*AF7+AK$3*AJ7))","v":""},{"$f":"IF('Set UP'!$K7=1,$AL7,\"\")","v":""},{"$f":"IF(AM7=\"\",\"\",RANK(AM7,AM$7:AM$46))","v":""},{"$f":"IF('Set UP'!$K7=2,$AL7,\"\")","v":""},{"$f":"IF(AO7=\"\",\"\",RANK(AO7,AO$7:AO$46))","v":""},null,{"$f":"IF(AN7=\"\",\"\",'League Results'!P7)","v":""},{"$f":"IF(AP7=\"\",\"\",'League Results'!R7)","v":""}]
[null,2,{"$f":"IF(OR('Set UP'!$C8=0,'Set UP'!$D8=0,'Set UP'!$E8=0,'Set UP'!F8=0),\"  --\",'Set UP'!C8)","v":1419},{"$f":"IF(OR('Set UP'!$C8=0,'Set UP'!$D8=0,'Set UP'!$E8=0,'Set UP'!F8=0),\"  --\",'Set UP'!D8&\" \"&'Set UP'!E8)","v":"Bradford On Avon Lifesaving Club  A"},{"$f":"IF(OR('Set UP'!$C8=0,'Set UP'!$D8=0,'Set UP'!$E8=0,'Set UP'!F8=0),\" --\",'Set UP'!F8)","v":"NS"},{"$f":"IF('Set UP'!$K8<=0,\"\",OFFSET('Dry Incident'!JQ22,0,2*'Set UP'!$K8))","v":""},{"$f":"'Potensial New Scoring Structure'!G8","v":691.52542372881351},{"$f":"IF(OR(G8=\"\",'Set UP'!$K8<=0),0,(G8-OFFSET(F$2,'Set UP'!$K8,0))*OFFSET(H$2,'Set UP'!$K8,0)+'Set UP'!$R$15)","v":0},{"$f":"IF(F8=\"\",\"\",IFERROR(F8&\" ( \"&INT(H8)&\" )\",F8))","v":""},{"$f":"IF('Set UP'!$K8<=0,\"\",OFFSET(' Wet Incident'!JQ22,0,2*'Set UP'!$K8))","v":""},{"$f":"'Potensial New Scoring Structure'!K8","v":391.89189189189187},{"$f":"IF(OR(K8=\"\",'Set UP'!$K8<=0),0,(K8-OFFSET(J$2,'Set UP'!$K8,0))*OFFSET(L$2,'Set UP'!$K8,0)+'Set UP'!$R$15)","v":0},{"$f":"IF(J8=\"\",\"\",IFERROR(J8&\" ( \"&INT(L8)&\" )\",J8))","v":""},{"$f":"IF('Set UP'!$K8<=0,\"\",OFFSET('Extra Incident'!JU22,0,2*'Set UP'!$K8))","v":""},{"$f":"'Potensial New Scoring Structure'!O8","v":""},{"$f":"IF(OR(O8=\"\",'Set UP'!$K8<=0),0,(O8-OFFSET(N$2,'Set UP'!$K8,0))*OFFSET(P$2,'Set UP'!$K8,0)+'Set UP'!$R$15)","v":0},{"$f":"IF(N8=\"\",\"\",IFERROR(N8&\" ( \"&INT(P8)&\" )\",N8))","v":""},{"$f":"IF('Set UP'!$K8<=0,\"\",OFFSET(RopeThrow!X8,0,2*'Set UP'!$K8))","v":""},{"$f":"IF('Set UP'!$K8<=0,\"\",OFFSET(RopeThrow!AG8,0,'Set UP'!$K8))","v":""},{"$f":"IF(OR(S8=\"\",'Set UP'!$K8<=0),0,(S8-OFFSET(R$2,'Set UP'!$K8,0))*OFFSET(T$2,'Set UP'!$K8,0)+'Set UP'!$R$15)","v":0},{"$f":"IF(R8=\"\",\"\",IFERROR(R8&\" ( \"&INT(T8)&\" )\",R8))","v":""},{"$f":"IF('Set UP'!$K8<=0,\"\",OFFSET('Swim&Tow'!W8,0,2*'Set UP'!$K8))","v":""},{"$f":"'Potensial New Scoring Structure'!W8","v":552.46296061795636},{"$f":"IF(OR(W8=\"\",'Set UP'!$K8<=0),0,(W8-OFFSET(V$2,'Set UP'!$K8,0))*OFFSET(X$2,'Set UP'!$K8,0)+'Set UP'!$R$15)","v":0},{"$f":"IF(V8=\"\",\"\",IFERROR(V8&\" ( \"&INT(X8)&\" )\",V8))","v":""},{"$f":"IF('Set UP'!$K8<=0,\"\",OFFSET(Medley!U8,0,2*'Set UP'!$K8))","v":""},{"$f":"'Potensial New Scoring Structure'!AA8","v":422.30088495575222},{"$f":"IF(OR(AA8=\"\",'Set UP'!$K8<=0),0,(AA8-OFFSET(Z$2,'Set UP'!$K8,0))*OFFSET(AB$2,'Set UP'!$K8,0)+'Set UP'!$R$15)","v":0},{"$f":"IF(Z8=\"\",\"\",IFERROR(Z8&\" ( \"&INT(AB8)&\" )\",Z8))","v":""},{"$f":"IF('Set UP'!$K8<=0,\"\",OFFSET('Manikin Carry'!U8,0,2*'Set UP'!$K8))","v":""},{"$f":"'Potensial New Scoring Structure'!AE8","v":""},{"$f":"IF(OR(AE8=\"\",'Set UP'!$K8<=0),0,(AE8-OFFSET(AD$2,'Set UP'!$K8,0))*OFFSET(AF$2,'Set UP'!$K8,0)+'Set UP'!$R$15)","v":0},{"$f":"IF(AD8=\"\",\"\",IFERROR(AD8&\" ( \"&INT(AF8)&\" )\",AD8))","v":""},{"$f":"IF('Set UP'!$K8<=0,\"\",OFFSET(Obstacle!U8,0,2*'Set UP'!$K8))","v":""},{"$f":"'Potensial New Scoring Structure'!AI8","v":""},{"$f":"IF(OR(AI8=\"\",'Set UP'!$K8<=0),0,(AI8-OFFSET(AH$2,'Set UP'!$K8,0))*OFFSET(AJ$2,'Set UP'!$K8,0)+'Set UP'!$R$15)","v":0},{"$f":"IF(AH8=\"\",\"\",IFERROR(AH8&\" ( \"&INT(AJ8)&\" )\",AH8))","v":""},{"$f":"IF(AND(I8=\"\",M8=\"\",Q8=\"\",U8=\"\",Y8=\"\",AC8=\"\",AG8=\"\",AK8=\"\"),\"\",(I$3*H8+M$3*L8+AC$3*AB8+Q$3*P8+U$3*T8+Y$3*X8+AG$3*AF8+AK$3*AJ8))","v":""},{"$f":"IF('Set UP'!$K8=1,$AL8,\"\")","v":""},{"$f":"IF(AM8=\"\",\"\",RANK(AM8,AM$7:AM$46))","v":""},{"$f":"IF('Set UP'!$K8=2,$AL8,\"\")","v":""},{"$f":"IF(AO8=\"\",\"\",RANK(AO8,AO$7:AO$46))","v":""},null,{"$f":"IF(AN8=\"\",\"\",'League Results'!P8)","v":""},{"$f":"IF(AP8=\"\",\"\",'League Results'!R8)","v":""}]
[null,3,{"$f":"IF(OR('Set UP'!$C9=0,'Set UP'!$D9=0,'Set UP'!$E9=0,'Set UP'!F9=0),\"  --\",'Set UP'!C9)","v":1417},{"$f":"IF(OR('Set UP'!$C9=0,'Set UP'!$D9=0,'Set UP'!$E9=0,'Set UP'!F9=0),\"  --\",'Set UP'!D9&\" \"&'Set UP'!E9)","v":"Bradford On Avon Lifesaving Club  C"},{"$f":"IF(OR('Set UP'!$C9=0,'Set UP'!$D9=0,'Set UP'!$E9=0,'Set UP'!F9=0),\" --\",'Set UP'!F9)","v":"NS"},{"$f":"IF('Set UP'!$K9<=0,\"\",OFFSET('Dry Incident'!JQ23,0,2*'Set UP'!$K9))","v":""},{"$f":"'Potensial New Scoring Structure'!G9","v":574.57627118644075},{"$f":"IF(OR(G9=\"\",'Set UP'!$K9<=0),0,(G9-OFFSET(F$2,'Set UP'!$K9,0))*OFFSET(H$2,'Set UP'!$K9,0)+'Set UP'!$R$15)","v":0},"",{"$f":"IF('Set UP'!$K9<=0,\"\",OFFSET(' Wet Incident'!JQ23,0,2*'Set UP'!$K9))","v":""},{"$f":"'Potensial New Scoring Structure'!K9","v":385.13513513513516},{"$f":"IF(OR(K9=\"\",'Set UP'!$K9<=0),0,(K9-OFFSET(J$2,'Set UP'!$K9,0))*OFFSET(L$2,'Set UP'!$K9,0)+'Set UP'!$R$15)","v":0},"",{"$f":"IF('Set UP'!$K9<=0,\"\",OFFSET('Extra Incident'!JU23,0,2*'Set UP'!$K9))","v":""},{"$f":"'Potensial New Scoring Structure'!O9","v":""},{"$f":"IF(OR(O9=\"\",'Set UP'!$K9<=0),0,(O9-OFFSET(N$2,'Set UP'!$K9,0))*OFFSET(P$2,'Set UP'!$K9,0)+'Set UP'!$R$15)","v":0},"",{"$f":"IF('Set UP'!$K9<=0,\"\",OFFSET(RopeThrow!X9,0,2*'Set UP'!$K9))","v":""},{"$f":"IF('Set UP'!$K9<=0,\"\",OFFSET(RopeThrow!AG9,0,'Set UP'!$K9))","v":""},{"$f":"IF(OR(S9=\"\",'Set UP'!$K9<=0),0,(S9-OFFSET(R$2,'Set UP'!$K9,0))*OFFSET(T$2,'Set UP'!$K9,0)+'Set UP'!$R$15)","v":0},"",{"$f":"IF('Set UP'!$K9<=0,\"\",OFFSET('Swim&Tow'!W9,0,2*'Set UP'!$K9))","v":""},{"$f":"'Potensial New Scoring Structure'!W9","v":517.86754463720411},{"$f":"IF(OR(W9=\"\",'Set UP'!$K9<=0),0,(W9-OFFSET(V$2,'Set UP'!$K9,0))*OFFSET(X$2,'Set UP'!$K9,0)+'Set UP'!$R$15)","v":0},"",{"$f":"IF('Set UP'!$K9<=0,\"\",OFFSET(Medley!U9,0,2*'Set UP'!$K9))","v":""},{"$f":"'Potensial New Scoring Structure'!AA9","v":427.52212389380526},{"$f":"IF(OR(AA9=\"\",'Set UP'!$K9<=0),0,(AA9-OFFSET(Z$2,'Set UP'!$K9,0))*OFFSET(AB$2,'Set UP'!$K9,0)+'Set UP'!$R$15)","v":0},"",{"$f":"IF('Set UP'!$K9<=0,\"\",OFFSET('Manikin Carry'!U9,0,2*'Set UP'!$K9))","v":""},{"$f":"'Potensial New Scoring Structure'!AE9","v":""},{"$f":"IF(OR(AE9=\"\",'Set UP'!$K9<=0),0,(AE9-OFFSET(AD$2,'Set UP'!$K9,0))*OFFSET(AF$2,'Set UP'!$K9,0)+'Set UP'!$R$15)","v":0},"",{"$f":"IF('Set UP'!$K9<=0,\"\",OFFSET(Obstacle!U9,0,2*'Set UP'!$K9))","v":""},{"$f":"'Potensial New Scoring Structure'!AI9","v":""},{"$f":"IF(OR(AI9=\"\",'Set UP'!$K9<=0),0,(AI9-OFFSET(AH$2,'Set UP'!$K9,0))*OFFSET(AJ$2,'Set UP'!$K9,0)+'Set UP'!$R$15)","v":0},"","",{"$f":"IF('Set UP'!$K9=1,$AL9,\"\")","v":""},"",{"$f":"IF('Set UP'!$K9=2,$AL9,\"\")","v":""},"",null,{"$f":"IF(AN9=\"\",\"\",'League Results'!P9)","v":""},{"$f":"IF(AP9=\"\",\"\",'League Results'!R9)","v":""}]
[null,4,{"$f":"IF(OR('Set UP'!$C10=0,'Set UP'!$D10=0,'Set UP'!$E10=0,'Set UP'!F10=0),\"  --\",'Set UP'!C10)","v":"  --"},{"$f":"IF(OR('Set UP'!$C10=0,'Set UP'!$D10=0,'Set UP'!$E10=0,'Set UP'!F10=0),\"  --\",'Set UP'!D10&\" \"&'Set UP'!E10)","v":"  --"},{"$f":"IF(OR('Set UP'!$C10=0,'Set UP'!$D10=0,'Set UP'!$E10=0,'Set UP'!F10=0),\" --\",'Set UP'!F10)","v":" --"},{"$f":"IF('Set UP'!$K10<=0,\"\",OFFSET('Dry Incident'!JQ24,0,2*'Set UP'!$K10))","v":""},{"$f":"'Potensial New Scoring Structure'!G10","v":""},{"$f":"IF(OR(G10=\"\",'Set UP'!$K10<=0),0,(G10-OFFSET(F$2,'Set UP'!$K10,0))*OFFSET(H$2,'Set UP'!$K10,0)+'Set UP'!$R$15)","v":0},"",{"$f":"IF('Set UP'!$K10<=0,\"\",OFFSET(' Wet Incident'!JQ24,0,2*'Set UP'!$K10))","v":""},{"$f":"'Potensial New Scoring Structure'!K10","v":""},{"$f":"IF(OR(K10=\"\",'Set UP'!$K10<=0),0,(K10-OFFSET(J$2,'Set UP'!$K10,0))*OFFSET(L$2,'Set UP'!$K10,0)+'Set UP'!$R$15)","v":0},"",{"$f":"IF('Set UP'!$K10<=0,\"\",OFFSET('Extra Incident'!JU24,0,2*'Set UP'!$K10))","v":""},{"$f":"'Potensial New Scoring Structure'!O10","v":""},{"$f":"IF(OR(O10=\"\",'Set UP'!$K10<=0),0,(O10-OFFSET(N$2,'Set UP'!$K10,0))*OFFSET(P$2,'Set UP'!$K10,0)+'Set UP'!$R$15)","v":0},"",{"$f":"IF('Set UP'!$K10<=0,\"\",OFFSET(RopeThrow!X10,0,2*'Set UP'!$K10))","v":""},{"$f":"IF('Set UP'!$K10<=0,\"\",OFFSET(RopeThrow!AG10,0,'Set UP'!$K10))","v":""},{"$f":"IF(OR(S10=\"\",'Set UP'!$K10<=0),0,(S10-OFFSET(R$2,'Set UP'!$K10,0))*OFFSET(T$2,'Set UP'!$K10,0)+'Set UP'!$R$15)","v":0},"",{"$f":"IF('Set UP'!$K10<=0,\"\",OFFSET('Swim&Tow'!W10,0,2*'Set UP'!$K10))","v":""},{"$f":"'Potensial New Scoring Structure'!W10","v":""},{"$f":"IF(OR(W10=\"\",'Set UP'!$K10<=0),0,(W10-OFFSET(V$2,'Set UP'!$K10,0))*OFFSET(X$2,'Set UP'!$K10,0)+'Set UP'!$R$15)","v":0},"",{"$f":"IF('Set UP'!$K10<=0,\"\",OFFSET(Medley!U10,0,2*'Set UP'!$K10))","v":""},{"$f":"'Potensial New Scoring Structure'!AA10","v":""},{"$f":"IF(OR(AA10=\"\",'Set UP'!$K10<=0),0,(AA10-OFFSET(Z$2,'Set UP'!$K10,0))*OFFSET(AB$2,'Set UP'!$K10,0)+'Set UP'!$R$15)","v":0},"",{"$f":"IF('Set UP'!$K10<=0,\"\",OFFSET('Manikin Carry'!U10,0,2*'Set UP'!$K10))","v":""},{"$f":"'Potensial New Scoring Structure'!AE10","v":""},{"$f":"IF(OR(AE10=\"\",'Set UP'!$K10<=0),0,(AE10-OFFSET(AD$2,'Set UP'!$K10,0))*OFFSET(AF$2,'Set UP'!$K10,0)+'Set UP'!$R$15)","v":0},"",{"$f":"IF('Set UP'!$K10<=0,\"\",OFFSET(Obstacle!U10,0,2*'Set UP'!$K10))","v":""},{"$f":"'Potensial New Scoring Structure'!AI10","v":""},{"$f":"IF(OR(AI10=\"\",'Set UP'!$K10<=0),0,(AI10-OFFSET(AH$2,'Set UP'!$K10,0))*OFFSET(AJ$2,'Set UP'!$K10,0)+'Set UP'!$R$15)","v":0},"","",{"$f":"IF('Set UP'!$K10=1,$AL10,\"\")","v":""},"",{"$f":"IF('Set UP'!$K10=2,$AL10,\"\")","v":""},"",null,{"$f":"IF(AN10=\"\",\"\",'League Results'!P10)","v":""},{"$f":"IF(AP10=\"\",\"\",'League Results'!R10)","v":""}]
[null,5,{"$f":"IF(OR('Set UP'!$C11=0,'Set UP'!$D11=0,'Set UP'!$E11=0,'Set UP'!F11=0),\"  --\",'Set UP'!C11)","v":1424},{"$f":"IF(OR('Set UP'!$C11=0,'Set UP'!$D11=0,'Set UP'!$E11=0,'Set UP'!F11=0),\"  --\",'Set UP'!D11&\" \"&'Set UP'!E11)","v":"Keynsham B"},{"$f":"IF(OR('Set UP'!$C11=0,'Set UP'!$D11=0,'Set UP'!$E11=0,'Set UP'!F11=0),\" --\",'Set UP'!F11)","v":"NS"},{"$f":"IF('Set UP'!$K11<=0,\"\",OFFSET('Dry Incident'!JQ25,0,2*'Set UP'!$K11))","v":""},{"$f":"'Potensial New Scoring Structure'!G11","v":777.96610169491521},{"$f":"IF(OR(G11=\"\",'Set UP'!$K11<=0),0,(G11-OFFSET(F$2,'Set UP'!$K11,0))*OFFSET(H$2,'Set UP'!$K11,0)+'Set UP'!$R$15)","v":0},"",{"$f":"IF('Set UP'!$K11<=0,\"\",OFFSET(' Wet Incident'!JQ25,0,2*'Set UP'!$K11))","v":""},{"$f":"'Potensial New Scoring Structure'!K11","v":608.10810810810813},{"$f":"IF(OR(K11=\"\",'Set UP'!$K11<=0),0,(K11-OFFSET(J$2,'Set UP'!$K11,0))*OFFSET(L$2,'Set UP'!$K11,0)+'Set UP'!$R$15)","v":0},"",{"$f":"IF('Set UP'!$K11<=0,\"\",OFFSET('Extra Incident'!JU25,0,2*'Set UP'!$K11))","v":""},{"$f":"'Potensial New Scoring Structure'!O11","v":""},{"$f":"IF(OR(O11=\"\",'Set UP'!$K11<=0),0,(O11-OFFSET(N$2,'Set UP'!$K11,0))*OFFSET(P$2,'Set UP'!$K11,0)+'Set UP'!$R$15)","v":0},"",{"$f":"IF('Set UP'!$K11<=0,\"\",OFFSET(RopeThrow!X11,0,2*'Set UP'!$K11))","v":""},{"$f":"IF('Set UP'!$K11<=0,\"\",OFFSET(RopeThrow!AG11,0,'Set UP'!$K11))","v":""},{"$f":"IF(OR(S11=\"\",'Set UP'!$K11<=0),0,(S11-OFFSET(R$2,'Set UP'!$K11,0))*OFFSET(T$2,'Set UP'!$K11,0)+'Set UP'!$R$15)","v":0},"",{"$f":"IF('Set UP'!$K11<=0,\"\",OFFSET('Swim&Tow'!W11,0,2*'Set UP'!$K11))","v":""},{"$f":"'Potensial New Scoring Structure'!W11","v":795.66924148410806},{"$f":"IF(OR(W11=\"\",'Set UP'!$K11<=0),0,(W11-OFFSET(V$2,'Set UP'!$K11,0))*OFFSET(X$2,'Set UP'!$K11,0)+'Set UP'!$R$15)","v":0},"",{"$f":"IF('Set UP'!$K11<=0,\"\",OFFSET(Medley!U11,0,2*'Set UP'!$K11))","v":""},{"$f":"'Potensial New Scoring Structure'!AA11","v":634.69026548672571},{"$f":"IF(OR(AA11=\"\",'Set UP'!$K11<=0),0,(AA11-OFFSET(Z$2,'Set UP'!$K11,0))*OFFSET(AB$2,'Set UP'!$K11,0)+'Set UP'!$R$15)","v":0},"",{"$f":"IF('Set UP'!$K11<=0,\"\",OFFSET('Manikin Carry'!U11,0,2*'Set UP'!$K11))","v":""},{"$f":"'Potensial New Scoring Structure'!AE11","v":""},{"$f":"IF(OR(AE11=\"\",'Set UP'!$K11<=0),0,(AE11-OFFSET(AD$2,'Set UP'!$K11,0))*OFFSET(AF$2,'Set UP'!$K11,0)+'Set UP'!$R$15)","v":0},"",{"$f":"IF('Set UP'!$K11<=0,\"\",OFFSET(Obstacle!U11,0,2*'Set UP'!$K11))","v":""},{"$f":"'Potensial New Scoring Structure'!AI11","v":""},{"$f":"IF(OR(AI11=\"\",'Set UP'!$K11<=0),0,(AI11-OFFSET(AH$2,'Set UP'!$K11,0))*OFFSET(AJ$2,'Set UP'!$K11,0)+'Set UP'!$R$15)","v":0},"","",{"$f":"IF('Set UP'!$K11=1,$AL11,\"\")","v":""},"",{"$f":"IF('Set UP'!$K11=2,$AL11,\"\")","v":""},"",null,{"$f":"IF(AN11=\"\",\"\",'League Results'!P11)","v":""},{"$f":"IF(AP11=\"\",\"\",'League Results'!R11)","v":""}]
[null,6,{"$f":"IF(OR('Set UP'!$C12=0,'Set UP'!$D12=0,'Set UP'!$E12=0,'Set UP'!F12=0),\"  --\",'Set UP'!C12)","v":1423},{"$f":"IF(OR('Set UP'!$C12=0,'Set UP'!$D12=0,'Set UP'!$E12=0,'Set UP'!F12=0),\"  --\",'Set UP'!D12&\" \"&'Set UP'!E12)","v":"Keynsham A"},{"$f":"IF(OR('Set UP'!$C12=0,'Set UP'!$D12=0,'Set UP'!$E12=0,'Set UP'!F12=0),\" --\",'Set UP'!F12)","v":"NS"},{"$f":"IF('Set UP'!$K12<=0,\"\",OFFSET('Dry Incident'!JQ26,0,2*'Set UP'!$K12))","v":""},{"$f":"'Potensial New Scoring Structure'!G12","v":610.16949152542372},{"$f":"IF(OR(G12=\"\",'Set UP'!$K12<=0),0,(G12-OFFSET(F$2,'Set UP'!$K12,0))*OFFSET(H$2,'Set UP'!$K12,0)+'Set UP'!$R$15)","v":0},"",{"$f":"IF('Set UP'!$K12<=0,\"\",OFFSET(' Wet Incident'!JQ26,0,2*'Set UP'!$K12))","v":""},{"$f":"'Potensial New Scoring Structure'!K12","v":403.71621621621625},{"$f":"IF(OR(K12=\"\",'Set UP'!$K12<=0),0,(K12-OFFSET(J$2,'Set UP'!$K12,0))*OFFSET(L$2,'Set UP'!$K12,0)+'Set UP'!$R$15)","v":0},"",{"$f":"IF('Set UP'!$K12<=0,\"\",OFFSET('Extra Incident'!JU26,0,2*'Set UP'!$K12))","v":""},{"$f":"'Potensial New Scoring Structure'!O12","v":""},{"$f":"IF(OR(O12=\"\",'Set UP'!$K12<=0),0,(O12-OFFSET(N$2,'Set UP'!$K12,0))*OFFSET(P$2,'Set UP'!$K12,0)+'Set UP'!$R$15)","v":0},"",{"$f":"IF('Set UP'!$K12<=0,\"\",OFFSET(RopeThrow!X12,0,2*'Set UP'!$K12))","v":""},{"$f":"IF('Set UP'!$K12<=0,\"\",OFFSET(RopeThrow!AG12,0,'Set UP'!$K12))","v":""},{"$f":"IF(OR(S12=\"\",'Set UP'!$K12<=0),0,(S12-OFFSET(R$2,'Set UP'!$K12,0))*OFFSET(T$2,'Set UP'!$K12,0)+'Set UP'!$R$15)","v":0},"",{"$f":"IF('Set UP'!$K12<=0,\"\",OFFSET('Swim&Tow'!W12,0,2*'Set UP'!$K12))","v":""},{"$f":"'Potensial New Scoring Structure'!W12","v":567.91186526529054},{"$f":"IF(OR(W12=\"\",'Set UP'!$K12<=0),0,(W12-OFFSET(V$2,'Set UP'!$K12,0))*OFFSET(X$2,'Set UP'!$K12,0)+'Set UP'!$R$15)","v":0},"",{"$f":"IF('Set UP'!$K12<=0,\"\",OFFSET(Medley!U12,0,2*'Set UP'!$K12))","v":""},{"$f":"'Potensial New Scoring Structure'!AA12","v":""},{"$f":"IF(OR(AA12=\"\",'Set UP'!$K12<=0),0,(AA12-OFFSET(Z$2,'Set UP'!$K12,0))*OFFSET(AB$2,'Set UP'!$K12,0)+'Set UP'!$R$15)","v":0},"",{"$f":"IF('Set UP'!$K12<=0,\"\",OFFSET('Manikin Carry'!U12,0,2*'Set UP'!$K12))","v":""},{"$f":"'Potensial New Scoring Structure'!AE12","v":""},{"$f":"IF(OR(AE12=\"\",'Set UP'!$K12<=0),0,(AE12-OFFSET(AD$2,'Set UP'!$K12,0))*OFFSET(AF$2,'Set UP'!$K12,0)+'Set UP'!$R$15)","v":0},"",{"$f":"IF('Set UP'!$K12<=0,\"\",OFFSET(Obstacle!U12,0,2*'Set UP'!$K12))","v":""},{"$f":"'Potensial New Scoring Structure'!AI12","v":""},{"$f":"IF(OR(AI12=\"\",'Set UP'!$K12<=0),0,(AI12-OFFSET(AH$2,'Set UP'!$K12,0))*OFFSET(AJ$2,'Set UP'!$K12,0)+'Set UP'!$R$15)","v":0},"","",{"$f":"IF('Set UP'!$K12=1,$AL12,\"\")","v":""},"",{"$f":"IF('Set UP'!$K12=2,$AL12,\"\")","v":""},"",null,{"$f":"IF(AN12=\"\",\"\",'League Results'!P12)","v":""},{"$f":"IF(AP12=\"\",\"\",'League Results'!R12)","v":""}]
[null,7,{"$f":"IF(OR('Set UP'!$C13=0,'Set UP'!$D13=0,'Set UP'!$E13=0,'Set UP'!F13=0),\"  --\",'Set UP'!C13)","v":1433},{"$f":"IF(OR('Set UP'!$C13=0,'Set UP'!$D13=0,'Set UP'!$E13=0,'Set UP'!F13=0),\"  --\",'Set UP'!D13&\" \"&'Set UP'!E13)","v":"University of Nottingham B"},{"$f":"IF(OR('Set UP'!$C13=0,'Set UP'!$D13=0,'Set UP'!$E13=0,'Set UP'!F13=0),\" --\",'Set UP'!F13)","v":"S"},{"$f":"IF('Set UP'!$K13<=0,\"\",OFFSET('Dry Incident'!JQ27,0,2*'Set UP'!$K13))","v":7},{"$f":"'Potensial New Scoring Structure'!G13","v":681.3559322033899},{"$f":"IF(OR(G13=\"\",'Set UP'!$K13<=0),0,(G13-OFFSET(F$2,'Set UP'!$K13,0))*OFFSET(H$2,'Set UP'!$K13,0)+'Set UP'!$R$15)","v":533.20895522388082},"7 ( 533 )",{"$f":"IF('Set UP'!$K13<=0,\"\",OFFSET(' Wet Incident'!JQ27,0,2*'Set UP'!$K13))","v":3},{"$f":"'Potensial New Scoring Structure'!K13","v":597.97297297297303},{"$f":"IF(OR(K13=\"\",'Set UP'!$K13<=0),0,(K13-OFFSET(J$2,'Set UP'!$K13,0))*OFFSET(L$2,'Set UP'!$K13,0)+'Set UP'!$R$15)","v":795.95141700404884},"3 ( 795 )",{"$f":"IF('Set UP'!$K13<=0,\"\",OFFSET('Extra Incident'!JU27,0,2*'Set UP'!$K13))","v":""},{"$f":"'Potensial New Scoring Structure'!O13","v":""},{"$f":"IF(OR(O13=\"\",'Set UP'!$K13<=0),0,(O13-OFFSET(N$2,'Set UP'!$K13,0))*OFFSET(P$2,'Set UP'!$K13,0)+'Set UP'!$R$15)","v":0},"",{"$f":"IF('Set UP'!$K13<=0,\"\",OFFSET(RopeThrow!X13,0,2*'Set UP'!$K13))","v":6.5},{"$f":"IF('Set UP'!$K13<=0,\"\",OFFSET(RopeThrow!AG13,0,'Set UP'!$K13))","v":454.54545454545456},{"$f":"IF(OR(S13=\"\",'Set UP'!$K13<=0),0,(S13-OFFSET(R$2,'Set UP'!$K13,0))*OFFSET(T$2,'Set UP'!$K13,0)+'Set UP'!$R$15)","v":460},"6.5 ( 460 )",{"$f":"IF('Set UP'!$K13<=0,\"\",OFFSET('Swim&Tow'!W13,0,2*'Set UP'!$K13))","v":11},{"$f":"'Potensial New Scoring Structure'!W13","v":617.42433835633801},{"$f":"IF(OR(W13=\"\",'Set UP'!$K13<=0),0,(W13-OFFSET(V$2,'Set UP'!$K13,0))*OFFSET(X$2,'Set UP'!$K13,0)+'Set UP'!$R$15)","v":100},"11 ( 100 )",{"$f":"IF('Set UP'!$K13<=0,\"\",OFFSET(Medley!U13,0,2*'Set UP'!$K13))","v":10},{"$f":"'Potensial New Scoring Structure'!AA13","v":496.90265486725673},{"$f":"IF(OR(AA13=\"\",'Set UP'!$K13<=0),0,(AA13-OFFSET(Z$2,'Set UP'!$K13,0))*OFFSET(AB$2,'Set UP'!$K13,0)+'Set UP'!$R$15)","v":100},"10 ( 100 )",{"$f":"IF('Set UP'!$K13<=0,\"\",OFFSET('Manikin Carry'!U13,0,2*'Set UP'!$K13))","v":""},{"$f":"'Potensial New Scoring Structure'!AE13","v":""},{"$f":"IF(OR(AE13=\"\",'Set UP'!$K13<=0),0,(AE13-OFFSET(AD$2,'Set UP'!$K13,0))*OFFSET(AF$2,'Set UP'!$K13,0)+'Set UP'!$R$15)","v":0},"",{"$f":"IF('Set UP'!$K13<=0,\"\",OFFSET(Obstacle!U13,0,2*'Set UP'!$K13))","v":""},{"$f":"'Potensial New Scoring Structure'!AI13","v":""},{"$f":"IF(OR(AI13=\"\",'Set UP'!$K13<=0),0,(AI13-OFFSET(AH$2,'Set UP'!$K13,0))*OFFSET(AJ$2,'Set UP'!$K13,0)+'Set UP'!$R$15)","v":0},"",3318.3207444558593,{"$f":"IF('Set UP'!$K13=1,$AL13,\"\")","v":""},"",{"$f":"IF('Set UP'!$K13=2,$AL13,\"\")","v":3318.3207444558593},8,null,{"$f":"IF(AN13=\"\",\"\",'League Results'!P13)","v":""},{"$f":"IF(AP13=\"\",\"\",'League Results'!R13)","v":7}]
[null,8,{"$f":"IF(OR('Set UP'!$C14=0,'Set UP'!$D14=0,'Set UP'!$E14=0,'Set UP'!F14=0),\"  --\",'Set UP'!C14)","v":1441},{"$f":"IF(OR('Set UP'!$C14=0,'Set UP'!$D14=0,'Set UP'!$E14=0,'Set UP'!F14=0),\"  --\",'Set UP'!D14&\" \"&'Set UP'!E14)","v":"University of Plymouth C"},{"$f":"IF(OR('Set UP'!$C14=0,'Set UP'!$D14=0,'Set UP'!$E14=0,'Set UP'!F14=0),\" --\",'Set UP'!F14)","v":"NC"},{"$f":"IF('Set UP'!$K14<=0,\"\",OFFSET('Dry Incident'!JQ28,0,2*'Set UP'!$K14))","v":""},{"$f":"'Potensial New Scoring Structure'!G14","v":433.89830508474574},{"$f":"IF(OR(G14=\"\",'Set UP'!$K14<=0),0,(G14-OFFSET(F$2,'Set UP'!$K14,0))*OFFSET(H$2,'Set UP'!$K14,0)+'Set UP'!$R$15)","v":0},"",{"$f":"IF('Set UP'!$K14<=0,\"\",OFFSET(' Wet Incident'!JQ28,0,2*'Set UP'!$K14))","v":""},{"$f":"'Potensial New Scoring Structure'!K14","v":337.83783783783781},{"$f":"IF(OR(K14=\"\",'Set UP'!$K14<=0),0,(K14-OFFSET(J$2,'Set UP'!$K14,0))*OFFSET(L$2,'Set UP'!$K14,0)+'Set UP'!$R$15)","v":0},"",{"$f":"IF('Set UP'!$K14<=0,\"\",OFFSET('Extra Incident'!JU28,0,2*'Set UP'!$K14))","v":""},{"$f":"'Potensial New Scoring Structure'!O14","v":""},{"$f":"IF(OR(O14=\"\",'Set UP'!$K14<=0),0,(O14-OFFSET(N$2,'Set UP'!$K14,0))*OFFSET(P$2,'Set UP'!$K14,0)+'Set UP'!$R$15)","v":0},"",{"$f":"IF('Set UP'!$K14<=0,\"\",OFFSET(RopeThrow!X14,0,2*'Set UP'!$K14))","v":""},{"$f":"IF('Set UP'!$K14<=0,\"\",OFFSET(RopeThrow!AG14,0,'Set UP'!$K14))","v":""},{"$f":"IF(OR(S14=\"\",'Set UP'!$K14<=0),0,(S14-OFFSET(R$2,'Set UP'!$K14,0))*OFFSET(T$2,'Set UP'!$K14,0)+'Set UP'!$R$15)","v":0},"",{"$f":"IF('Set UP'!$K14<=0,\"\",OFFSET('Swim&Tow'!W14,0,2*'Set UP'!$K14))","v":""},{"$f":"'Potensial New Scoring Structure'!W14","v":612.91629732809929},{"$f":"IF(OR(W14=\"\",'Set UP'!$K14<=0),0,(W14-OFFSET(V$2,'Set UP'!$K14,0))*OFFSET(X$2,'Set UP'!$K14,0)+'Set UP'!$R$15)","v":0},"",{"$f":"IF('Set UP'!$K14<=0,\"\",OFFSET(Medley!U14,0,2*'Set UP'!$K14))","v":""},{"$f":"'Potensial New Scoring Structure'!AA14","v":539.5575221238937},{"$f":"IF(OR(AA14=\"\",'Set UP'!$K14<=0),0,(AA14-OFFSET(Z$2,'Set UP'!$K14,0))*OFFSET(AB$2,'Set UP'!$K14,0)+'Set UP'!$R$15)","v":0},"",{"$f":"IF('Set UP'!$K14<=0,\"\",OFFSET('Manikin Carry'!U14,0,2*'Set UP'!$K14))","v":""},{"$f":"'Potensial New Scoring Structure'!AE14","v":""},{"$f":"IF(OR(AE14=\"\",'Set UP'!$K14<=0),0,(AE14-OFFSET(AD$2,'Set UP'!$K14,0))*OFFSET(AF$2,'Set UP'!$K14,0)+'Set UP'!$R$15)","v":0},"",{"$f":"IF('Set UP'!$K14<=0,\"\",OFFSET(Obstacle!U14,0,2*'Set UP'!$K14))","v":""},{"$f":"'Potensial New Scoring Structure'!AI14","v":""},{"$f":"IF(OR(AI14=\"\",'Set UP'!$K14<=0),0,(AI14-OFFSET(AH$2,'Set UP'!$K14,0))*OFFSET(AJ$2,'Set UP'!$K14,0)+'Set UP'!$R$15)","v":0},"","",{"$f":"IF('Set UP'!$K14=1,$AL14,\"\")","v":""},"",{"$f":"IF('Set UP'!$K14=2,$AL14,\"\")","v":""},"",null,{"$f":"IF(AN14=\"\",\"\",'League Results'!P14)","v":""},{"$f":"IF(AP14=\"\",\"\",'League Results'!R14)","v":""}]
[null,9,{"$f":"IF(OR('Set UP'!$C15=0,'Set UP'!$D15=0,'Set UP'!$E15=0,'Set UP'!F15=0),\"  --\",'Set UP'!C15)","v":1440},{"$f":"IF(OR('Set UP'!$C15=0,'Set UP'!$D15=0,'Set UP'!$E15=0,'Set UP'!F15=0),\"  --\",'Set UP'!D15&\" \"&'Set UP'!E15)","v":"University of Plymouth B"},{"$f":"IF(OR('Set UP'!$C15=0,'Set UP'!$D15=0,'Set UP'!$E15=0,'Set UP'!F15=0),\" --\",'Set UP'!F15)","v":"S"},{"$f":"IF('Set UP'!$K15<=0,\"\",OFFSET('Dry Incident'!JQ29,0,2*'Set UP'!$K15))","v":10},{"$f":"'Potensial New Scoring Structure'!G15","v":615.25423728813553},{"$f":"IF(OR(G15=\"\",'Set UP'!$K15<=0),0,(G15-OFFSET(F$2,'Set UP'!$K15,0))*OFFSET(H$2,'Set UP'!$K15,0)+'Set UP'!$R$15)","v":402.2388059701492},"10 ( 402 )",{"$f":"IF('Set UP'!$K15<=0,\"\",OFFSET(' Wet Incident'!JQ29,0,2*'Set UP'!$K15))","v":8},{"$f":"'Potensial New Scoring Structure'!K15","v":410.47297297297297},{"$f":"IF(OR(K15=\"\",'Set UP'!$K15<=0),0,(K15-OFFSET(J$2,'Set UP'!$K15,0))*OFFSET(L$2,'Set UP'!$K15,0)+'Set UP'!$R$15)","v":391.49797570850211},"8 ( 391 )",{"$f":"IF('Set UP'!$K15<=0,\"\",OFFSET('Extra Incident'!JU29,0,2*'Set UP'!$K15))","v":""},{"$f":"'Potensial New Scoring Structure'!O15","v":""},{"$f":"IF(OR(O15=\"\",'Set UP'!$K15<=0),0,(O15-OFFSET(N$2,'Set UP'!$K15,0))*OFFSET(P$2,'Set UP'!$K15,0)+'Set UP'!$R$15)","v":0},"",{"$f":"IF('Set UP'!$K15<=0,\"\",OFFSET(RopeThrow!X15,0,2*'Set UP'!$K15))","v":6.5},{"$f":"IF('Set UP'!$K15<=0,\"\",OFFSET(RopeThrow!AG15,0,'Set UP'!$K15))","v":454.54545454545456},{"$f":"IF(OR(S15=\"\",'Set UP'!$K15<=0),0,(S15-OFFSET(R$2,'Set UP'!$K15,0))*OFFSET(T$2,'Set UP'!$K15,0)+'Set UP'!$R$15)","v":460},"6.5 ( 460 )",{"$f":"IF('Set UP'!$K15<=0,\"\",OFFSET('Swim&Tow'!W15,0,2*'Set UP'!$K15))","v":5},{"$f":"'Potensial New Scoring Structure'!W15","v":766.4682790933266},{"$f":"IF(OR(W15=\"\",'Set UP'!$K15<=0),0,(W15-OFFSET(V$2,'Set UP'!$K15,0))*OFFSET(X$2,'Set UP'!$K15,0)+'Set UP'!$R$15)","v":554.01165780901738},"5 ( 554 )",{"$f":"IF('Set UP'!$K15<=0,\"\",OFFSET(Medley!U15,0,2*'Set UP'!$K15))","v":5},{"$f":"'Potensial New Scoring Structure'!AA15","v":771.85840707964599},{"$f":"IF(OR(AA15=\"\",'Set UP'!$K15<=0),0,(AA15-OFFSET(Z$2,'Set UP'!$K15,0))*OFFSET(AB$2,'Set UP'!$K15,0)+'Set UP'!$R$15)","v":714.03162055335952},"5 ( 714 )",{"$f":"IF('Set UP'!$K15<=0,\"\",OFFSET('Manikin Carry'!U15,0,2*'Set UP'!$K15))","v":""},{"$f":"'Potensial New Scoring Structure'!AE15","v":""},{"$f":"IF(OR(AE15=\"\",'Set UP'!$K15<=0),0,(AE15-OFFSET(AD$2,'Set UP'!$K15,0))*OFFSET(AF$2,'Set UP'!$K15,0)+'Set UP'!$R$15)","v":0},"",{"$f":"IF('Set UP'!$K15<=0,\"\",OFFSET(Obstacle!U15,0,2*'Set UP'!$K15))","v":""},{"$f":"'Potensial New Scoring Structure'!AI15","v":""},{"$f":"IF(OR(AI15=\"\",'Set UP'!$K15<=0),0,(AI15-OFFSET(AH$2,'Set UP'!$K15,0))*OFFSET(AJ$2,'Set UP'!$K15,0)+'Set UP'!$R$15)","v":0},"",3315.5168417196796,{"$f":"IF('Set UP'!$K15=1,$AL15,\"\")","v":""},"",{"$f":"IF('Set UP'!$K15=2,$AL15,\"\")","v":3315.5168417196796},9,null,{"$f":"IF(AN15=\"\",\"\",'League Results'!P15)","v":""},{"$f":"IF(AP15=\"\",\"\",'League Results'!R15)","v":8}]
[null,10,{"$f":"IF(OR('Set UP'!$C16=0,'Set UP'!$D16=0,'Set UP'!$E16=0,'Set UP'!F16=0),\"  --\",'Set UP'!C16)","v":1431},{"$f":"IF(OR('Set UP'!$C16=0,'Set UP'!$D16=0,'Set UP'!$E16=0,'Set UP'!F16=0),\"  --\",'Set UP'!D16&\" \"&'Set UP'!E16)","v":"University of Nottingham C"},{"$f":"IF(OR('Set UP'!$C16=0,'Set UP'!$D16=0,'Set UP'!$E16=0,'Set UP'!F16=0),\" --\",'Set UP'!F16)","v":"S"},{"$f":"IF('Set UP'!$K16<=0,\"\",OFFSET('Dry Incident'!JQ30,0,2*'Set UP'!$K16))","v":6},{"$f":"'Potensial New Scoring Structure'!G16","v":728.81355932203383},{"$f":"IF(OR(G16=\"\",'Set UP'!$K16<=0),0,(G16-OFFSET(F$2,'Set UP'!$K16,0))*OFFSET(H$2,'Set UP'!$K16,0)+'Set UP'!$R$15)","v":627.2388059701492},"6 ( 627 )",{"$f":"IF('Set UP'!$K16<=0,\"\",OFFSET(' Wet Incident'!JQ30,0,2*'Set UP'!$K16))","v":9},{"$f":"'Potensial New Scoring Structure'!K16","v":391.89189189189187},{"$f":"IF(OR(K16=\"\",'Set UP'!$K16<=0),0,(K16-OFFSET(J$2,'Set UP'!$K16,0))*OFFSET(L$2,'Set UP'!$K16,0)+'Set UP'!$R$15)","v":351.41700404858307},"9 ( 351 )",{"$f":"IF('Set UP'!$K16<=0,\"\",OFFSET('Extra Incident'!JU30,0,2*'Set UP'!$K16))","v":""},{"$f":"'Potensial New Scoring Structure'!O16","v":""},{"$f":"IF(OR(O16=\"\",'Set UP'!$K16<=0),0,(O16-OFFSET(N$2,'Set UP'!$K16,0))*OFFSET(P$2,'Set UP'!$K16,0)+'Set UP'!$R$15)","v":0},"",{"$f":"IF('Set UP'!$K16<=0,\"\",OFFSET(RopeThrow!X16,0,2*'Set UP'!$K16))","v":6.5},{"$f":"IF('Set UP'!$K16<=0,\"\",OFFSET(RopeThrow!AG16,0,'Set UP'!$K16))","v":454.54545454545456},{"$f":"IF(OR(S16=\"\",'Set UP'!$K16<=0),0,(S16-OFFSET(R$2,'Set UP'!$K16,0))*OFFSET(T$2,'Set UP'!$K16,0)+'Set UP'!$R$15)","v":460},"6.5 ( 460 )",{"$f":"IF('Set UP'!$K16<=0,\"\",OFFSET('Swim&Tow'!W16,0,2*'Set UP'!$K16))","v":9},{"$f":"'Potensial New Scoring Structure'!W16","v":648.11953906546808},{"$f":"IF(OR(W16=\"\",'Set UP'!$K16<=0),0,(W16-OFFSET(V$2,'Set UP'!$K16,0))*OFFSET(X$2,'Set UP'!$K16,0)+'Set UP'!$R$15)","v":193.50248585633472},"9 ( 193 )",{"$f":"IF('Set UP'!$K16<=0,\"\",OFFSET(Medley!U16,0,2*'Set UP'!$K16))","v":11},{"$f":"'Potensial New Scoring Structure'!AA16","v":""},{"$f":"IF(OR(AA16=\"\",'Set UP'!$K16<=0),0,(AA16-OFFSET(Z$2,'Set UP'!$K16,0))*OFFSET(AB$2,'Set UP'!$K16,0)+'Set UP'!$R$15)","v":0},"11 ( 0 )",{"$f":"IF('Set UP'!$K16<=0,\"\",OFFSET('Manikin Carry'!U16,0,2*'Set UP'!$K16))","v":""},{"$f":"'Potensial New Scoring Structure'!AE16","v":""},{"$f":"IF(OR(AE16=\"\",'Set UP'!$K16<=0),0,(AE16-OFFSET(AD$2,'Set UP'!$K16,0))*OFFSET(AF$2,'Set UP'!$K16,0)+'Set UP'!$R$15)","v":0},"",{"$f":"IF('Set UP'!$K16<=0,\"\",OFFSET(Obstacle!U16,0,2*'Set UP'!$K16))","v":""},{"$f":"'Potensial New Scoring Structure'!AI16","v":""},{"$f":"IF(OR(AI16=\"\",'Set UP'!$K16<=0),0,(AI16-OFFSET(AH$2,'Set UP'!$K16,0))*OFFSET(AJ$2,'Set UP'!$K16,0)+'Set UP'!$R$15)","v":0},"",2610.814105893799,{"$f":"IF('Set UP'!$K16=1,$AL16,\"\")","v":""},"",{"$f":"IF('Set UP'!$K16=2,$AL16,\"\")","v":2610.814105893799},10,null,{"$f":"IF(AN16=\"\",\"\",'League Results'!P16)","v":""},{"$f":"IF(AP16=\"\",\"\",'League Results'!R16)","v":10}]
[null,11,{"$f":"IF(OR('Set UP'!$C17=0,'Set UP'!$D17=0,'Set UP'!$E17=0,'Set UP'!F17=0),\"  --\",'Set UP'!C17)","v":1445},{"$f":"IF(OR('Set UP'!$C17=0,'Set UP'!$D17=0,'Set UP'!$E17=0,'Set UP'!F17=0),\"  --\",'Set UP'!D17&\" \"&'Set UP'!E17)","v":"University of Birmingham D"},{"$f":"IF(OR('Set UP'!$C17=0,'Set UP'!$D17=0,'Set UP'!$E17=0,'Set UP'!F17=0),\" --\",'Set UP'!F17)","v":"NC"},{"$f":"IF('Set UP'!$K17<=0,\"\",OFFSET('Dry Incident'!JQ31,0,2*'Set UP'!$K17))","v":""},{"$f":"'Potensial New Scoring Structure'!G17","v":852.54237288135596},{"$f":"IF(OR(G17=\"\",'Set UP'!$K17<=0),0,(G17-OFFSET(F$2,'Set UP'!$K17,0))*OFFSET(H$2,'Set UP'!$K17,0)+'Set UP'!$R$15)","v":0},"",{"$f":"IF('Set UP'!$K17<=0,\"\",OFFSET(' Wet Incident'!JQ31,0,2*'Set UP'!$K17))","v":""},{"$f":"'Potensial New Scoring Structure'!K17","v":591.21621621621625},{"$f":"IF(OR(K17=\"\",'Set UP'!$K17<=0),0,(K17-OFFSET(J$2,'Set UP'!$K17,0))*OFFSET(L$2,'Set UP'!$K17,0)+'Set UP'!$R$15)","v":0},"",{"$f":"IF('Set UP'!$K17<=0,\"\",OFFSET('Extra Incident'!JU31,0,2*'Set UP'!$K17))","v":""},{"$f":"'Potensial New Scoring Structure'!O17","v":""},{"$f":"IF(OR(O17=\"\",'Set UP'!$K17<=0),0,(O17-OFFSET(N$2,'Set UP'!$K17,0))*OFFSET(P$2,'Set UP'!$K17,0)+'Set UP'!$R$15)","v":0},"",{"$f":"IF('Set UP'!$K17<=0,\"\",OFFSET(RopeThrow!X17,0,2*'Set UP'!$K17))","v":""},{"$f":"IF('Set UP'!$K17<=0,\"\",OFFSET(RopeThrow!AG17,0,'Set UP'!$K17))","v":""},{"$f":"IF(OR(S17=\"\",'Set UP'!$K17<=0),0,(S17-OFFSET(R$2,'Set UP'!$K17,0))*OFFSET(T$2,'Set UP'!$K17,0)+'Set UP'!$R$15)","v":0},"",{"$f":"IF('Set UP'!$K17<=0,\"\",OFFSET('Swim&Tow'!W17,0,2*'Set UP'!$K17))","v":""},{"$f":"'Potensial New Scoring Structure'!W17","v":686.43788780549596},{"$f":"IF(OR(W17=\"\",'Set UP'!$K17<=0),0,(W17-OFFSET(V$2,'Set UP'!$K17,0))*OFFSET(X$2,'Set UP'!$K17,0)+'Set UP'!$R$15)","v":0},"",{"$f":"IF('Set UP'!$K17<=0,\"\",OFFSET(Medley!U17,0,2*'Set UP'!$K17))","v":""},{"$f":"'Potensial New Scoring Structure'!AA17","v":""},{"$f":"IF(OR(AA17=\"\",'Set UP'!$K17<=0),0,(AA17-OFFSET(Z$2,'Set UP'!$K17,0))*OFFSET(AB$2,'Set UP'!$K17,0)+'Set UP'!$R$15)","v":0},"",{"$f":"IF('Set UP'!$K17<=0,\"\",OFFSET('Manikin Carry'!U17,0,2*'Set UP'!$K17))","v":""},{"$f":"'Potensial New Scoring Structure'!AE17","v":""},{"$f":"IF(OR(AE17=\"\",'Set UP'!$K17<=0),0,(AE17-OFFSET(AD$2,'Set UP'!$K17,0))*OFFSET(AF$2,'Set UP'!$K17,0)+'Set UP'!$R$15)","v":0},"",{"$f":"IF('Set UP'!$K17<=0,\"\",OFFSET(Obstacle!U17,0,2*'Set UP'!$K17))","v":""},{"$f":"'Potensial New Scoring Structure'!AI17","v":""},{"$f":"IF(OR(AI17=\"\",'Set UP'!$K17<=0),0,(AI17-OFFSET(AH$2,'Set UP'!$K17,0))*OFFSET(AJ$2,'Set UP'!$K17,0)+'Set UP'!$R$15)","v":0},"","",{"$f":"IF('Set UP'!$K17=1,$AL17,\"\")","v":""},"",{"$f":"IF('Set UP'!$K17=2,$AL17,\"\")","v":""},"",null,{"$f":"IF(AN17=\"\",\"\",'League Results'!P17)","v":""},{"$f":"IF(AP17=\"\",\"\",'League Results'!R17)","v":""}]
[null,12,{"$f":"IF(OR('Set UP'!$C18=0,'Set UP'!$D18=0,'Set UP'!$E18=0,'Set UP'!F18=0),\"  --\",'Set UP'!C18)","v":"  --"},{"$f":"IF(OR('Set UP'!$C18=0,'Set UP'!$D18=0,'Set UP'!$E18=0,'Set UP'!F18=0),\"  --\",'Set UP'!D18&\" \"&'Set UP'!E18)","v":"  --"},{"$f":"IF(OR('Set UP'!$C18=0,'Set UP'!$D18=0,'Set UP'!$E18=0,'Set UP'!F18=0),\" --\",'Set UP'!F18)","v":" --"},{"$f":"IF('Set UP'!$K18<=0,\"\",OFFSET('Dry Incident'!JQ32,0,2*'Set UP'!$K18))","v":""},{"$f":"'Potensial New Scoring Structure'!G18","v":""},{"$f":"IF(OR(G18=\"\",'Set UP'!$K18<=0),0,(G18-OFFSET(F$2,'Set UP'!$K18,0))*OFFSET(H$2,'Set UP'!$K18,0)+'Set UP'!$R$15)","v":0},"",{"$f":"IF('Set UP'!$K18<=0,\"\",OFFSET(' Wet Incident'!JQ32,0,2*'Set UP'!$K18))","v":""},{"$f":"'Potensial New Scoring Structure'!K18","v":""},{"$f":"IF(OR(K18=\"\",'Set UP'!$K18<=0),0,(K18-OFFSET(J$2,'Set UP'!$K18,0))*OFFSET(L$2,'Set UP'!$K18,0)+'Set UP'!$R$15)","v":0},"",{"$f":"IF('Set UP'!$K18<=0,\"\",OFFSET('Extra Incident'!JU32,0,2*'Set UP'!$K18))","v":""},{"$f":"'Potensial New Scoring Structure'!O18","v":""},{"$f":"IF(OR(O18=\"\",'Set UP'!$K18<=0),0,(O18-OFFSET(N$2,'Set UP'!$K18,0))*OFFSET(P$2,'Set UP'!$K18,0)+'Set UP'!$R$15)","v":0},"",{"$f":"IF('Set UP'!$K18<=0,\"\",OFFSET(RopeThrow!X18,0,2*'Set UP'!$K18))","v":""},{"$f":"IF('Set UP'!$K18<=0,\"\",OFFSET(RopeThrow!AG18,0,'Set UP'!$K18))","v":""},{"$f":"IF(OR(S18=\"\",'Set UP'!$K18<=0),0,(S18-OFFSET(R$2,'Set UP'!$K18,0))*OFFSET(T$2,'Set UP'!$K18,0)+'Set UP'!$R$15)","v":0},"",{"$f":"IF('Set UP'!$K18<=0,\"\",OFFSET('Swim&Tow'!W18,0,2*'Set UP'!$K18))","v":""},{"$f":"'Potensial New Scoring Structure'!W18","v":""},{"$f":"IF(OR(W18=\"\",'Set UP'!$K18<=0),0,(W18-OFFSET(V$2,'Set UP'!$K18,0))*OFFSET(X$2,'Set UP'!$K18,0)+'Set UP'!$R$15)","v":0},"",{"$f":"IF('Set UP'!$K18<=0,\"\",OFFSET(Medley!U18,0,2*'Set UP'!$K18))","v":""},{"$f":"'Potensial New Scoring Structure'!AA18","v":""},{"$f":"IF(OR(AA18=\"\",'Set UP'!$K18<=0),0,(AA18-OFFSET(Z$2,'Set UP'!$K18,0))*OFFSET(AB$2,'Set UP'!$K18,0)+'Set UP'!$R$15)","v":0},"",{"$f":"IF('Set UP'!$K18<=0,\"\",OFFSET('Manikin Carry'!U18,0,2*'Set UP'!$K18))","v":""},{"$f":"'Potensial New Scoring Structure'!AE18","v":""},{"$f":"IF(OR(AE18=\"\",'Set UP'!$K18<=0),0,(AE18-OFFSET(AD$2,'Set UP'!$K18,0))*OFFSET(AF$2,'Set UP'!$K18,0)+'Set UP'!$R$15)","v":0},"",{"$f":"IF('Set UP'!$K18<=0,\"\",OFFSET(Obstacle!U18,0,2*'Set UP'!$K18))","v":""},{"$f":"'Potensial New Scoring Structure'!AI18","v":""},{"$f":"IF(OR(AI18=\"\",'Set UP'!$K18<=0),0,(AI18-OFFSET(AH$2,'Set UP'!$K18,0))*OFFSET(AJ$2,'Set UP'!$K18,0)+'Set UP'!$R$15)","v":0},"","",{"$f":"IF('Set UP'!$K18=1,$AL18,\"\")","v":""},"",{"$f":"IF('Set UP'!$K18=2,$AL18,\"\")","v":""},"",null,{"$f":"IF(AN18=\"\",\"\",'League Results'!P18)","v":""},{"$f":"IF(AP18=\"\",\"\",'League Results'!R18)","v":""}]
[null,13,{"$f":"IF(OR('Set UP'!$C19=0,'Set UP'!$D19=0,'Set UP'!$E19=0,'Set UP'!F19=0),\"  --\",'Set UP'!C19)","v":1426},{"$f":"IF(OR('Set UP'!$C19=0,'Set UP'!$D19=0,'Set UP'!$E19=0,'Set UP'!F19=0),\"  --\",'Set UP'!D19&\" \"&'Set UP'!E19)","v":"London Universities B"},{"$f":"IF(OR('Set UP'!$C19=0,'Set UP'!$D19=0,'Set UP'!$E19=0,'Set UP'!F19=0),\" --\",'Set UP'!F19)","v":"S"},{"$f":"IF('Set UP'!$K19<=0,\"\",OFFSET('Dry Incident'!JQ33,0,2*'Set UP'!$K19))","v":5},{"$f":"'Potensial New Scoring Structure'!G19","v":864.40677966101703},{"$f":"IF(OR(G19=\"\",'Set UP'!$K19<=0),0,(G19-OFFSET(F$2,'Set UP'!$K19,0))*OFFSET(H$2,'Set UP'!$K19,0)+'Set UP'!$R$15)","v":895.89552238805993},"5 ( 895 )",{"$f":"IF('Set UP'!$K19<=0,\"\",OFFSET(' Wet Incident'!JQ33,0,2*'Set UP'!$K19))","v":4},{"$f":"'Potensial New Scoring Structure'!K19","v":569.25675675675677},{"$f":"IF(OR(K19=\"\",'Set UP'!$K19<=0),0,(K19-OFFSET(J$2,'Set UP'!$K19,0))*OFFSET(L$2,'Set UP'!$K19,0)+'Set UP'!$R$15)","v":734.00809716599213},"4 ( 734 )",{"$f":"IF('Set UP'!$K19<=0,\"\",OFFSET('Extra Incident'!JU33,0,2*'Set UP'!$K19))","v":""},{"$f":"'Potensial New Scoring Structure'!O19","v":""},{"$f":"IF(OR(O19=\"\",'Set UP'!$K19<=0),0,(O19-OFFSET(N$2,'Set UP'!$K19,0))*OFFSET(P$2,'Set UP'!$K19,0)+'Set UP'!$R$15)","v":0},"",{"$f":"IF('Set UP'!$K19<=0,\"\",OFFSET(RopeThrow!X19,0,2*'Set UP'!$K19))","v":6.5},{"$f":"IF('Set UP'!$K19<=0,\"\",OFFSET(RopeThrow!AG19,0,'Set UP'!$K19))","v":454.54545454545456},{"$f":"IF(OR(S19=\"\",'Set UP'!$K19<=0),0,(S19-OFFSET(R$2,'Set UP'!$K19,0))*OFFSET(T$2,'Set UP'!$K19,0)+'Set UP'!$R$15)","v":460},"6.5 ( 460 )",{"$f":"IF('Set UP'!$K19<=0,\"\",OFFSET('Swim&Tow'!W19,0,2*'Set UP'!$K19))","v":6},{"$f":"'Potensial New Scoring Structure'!W19","v":764.82208433582389},{"$f":"IF(OR(W19=\"\",'Set UP'!$K19<=0),0,(W19-OFFSET(V$2,'Set UP'!$K19,0))*OFFSET(X$2,'Set UP'!$K19,0)+'Set UP'!$R$15)","v":548.99708554774566},"6 ( 548 )",{"$f":"IF('Set UP'!$K19<=0,\"\",OFFSET(Medley!U19,0,2*'Set UP'!$K19))","v":6},{"$f":"'Potensial New Scoring Structure'!AA19","v":754.07079646017701},{"$f":"IF(OR(AA19=\"\",'Set UP'!$K19<=0),0,(AA19-OFFSET(Z$2,'Set UP'!$K19,0))*OFFSET(AB$2,'Set UP'!$K19,0)+'Set UP'!$R$15)","v":674.30830039525688},"6 ( 674 )",{"$f":"IF('Set UP'!$K19<=0,\"\",OFFSET('Manikin Carry'!U19,0,2*'Set UP'!$K19))","v":""},{"$f":"'Potensial New Scoring Structure'!AE19","v":""},{"$f":"IF(OR(AE19=\"\",'Set UP'!$K19<=0),0,(AE19-OFFSET(AD$2,'Set UP'!$K19,0))*OFFSET(AF$2,'Set UP'!$K19,0)+'Set UP'!$R$15)","v":0},"",{"$f":"IF('Set UP'!$K19<=0,\"\",OFFSET(Obstacle!U19,0,2*'Set UP'!$K19))","v":""},{"$f":"'Potensial New Scoring Structure'!AI19","v":""},{"$f":"IF(OR(AI19=\"\",'Set UP'!$K19<=0),0,(AI19-OFFSET(AH$2,'Set UP'!$K19,0))*OFFSET(AJ$2,'Set UP'!$K19,0)+'Set UP'!$R$15)","v":0},"",4943.112625051107,{"$f":"IF('Set UP'!$K19=1,$AL19,\"\")","v":""},"",{"$f":"IF('Set UP'!$K19=2,$AL19,\"\")","v":4943.112625051107},4,null,{"$f":"IF(AN19=\"\",\"\",'League Results'!P19)","v":""},{"$f":"IF(AP19=\"\",\"\",'League Results'!R19)","v":5}]
[null,14,{"$f":"IF(OR('Set UP'!$C20=0,'Set UP'!$D20=0,'Set UP'!$E20=0,'Set UP'!F20=0),\"  --\",'Set UP'!C20)","v":"  --"},{"$f":"IF(OR('Set UP'!$C20=0,'Set UP'!$D20=0,'Set UP'!$E20=0,'Set UP'!F20=0),\"  --\",'Set UP'!D20&\" \"&'Set UP'!E20)","v":"  --"},{"$f":"IF(OR('Set UP'!$C20=0,'Set UP'!$D20=0,'Set UP'!$E20=0,'Set UP'!F20=0),\" --\",'Set UP'!F20)","v":" --"},{"$f":"IF('Set UP'!$K20<=0,\"\",OFFSET('Dry Incident'!JQ34,0,2*'Set UP'!$K20))","v":""},{"$f":"'Potensial New Scoring Structure'!G20","v":""},{"$f":"IF(OR(G20=\"\",'Set UP'!$K20<=0),0,(G20-OFFSET(F$2,'Set UP'!$K20,0))*OFFSET(H$2,'Set UP'!$K20,0)+'Set UP'!$R$15)","v":0},"",{"$f":"IF('Set UP'!$K20<=0,\"\",OFFSET(' Wet Incident'!JQ34,0,2*'Set UP'!$K20))","v":""},{"$f":"'Potensial New Scoring Structure'!K20","v":""},{"$f":"IF(OR(K20=\"\",'Set UP'!$K20<=0),0,(K20-OFFSET(J$2,'Set UP'!$K20,0))*OFFSET(L$2,'Set UP'!$K20,0)+'Set UP'!$R$15)","v":0},"",{"$f":"IF('Set UP'!$K20<=0,\"\",OFFSET('Extra Incident'!JU34,0,2*'Set UP'!$K20))","v":""},{"$f":"'Potensial New Scoring Structure'!O20","v":""},{"$f":"IF(OR(O20=\"\",'Set UP'!$K20<=0),0,(O20-OFFSET(N$2,'Set UP'!$K20,0))*OFFSET(P$2,'Set UP'!$K20,0)+'Set UP'!$R$15)","v":0},"",{"$f":"IF('Set UP'!$K20<=0,\"\",OFFSET(RopeThrow!X20,0,2*'Set UP'!$K20))","v":""},{"$f":"IF('Set UP'!$K20<=0,\"\",OFFSET(RopeThrow!AG20,0,'Set UP'!$K20))","v":""},{"$f":"IF(OR(S20=\"\",'Set UP'!$K20<=0),0,(S20-OFFSET(R$2,'Set UP'!$K20,0))*OFFSET(T$2,'Set UP'!$K20,0)+'Set UP'!$R$15)","v":0},"",{"$f":"IF('Set UP'!$K20<=0,\"\",OFFSET('Swim&Tow'!W20,0,2*'Set UP'!$K20))","v":""},{"$f":"'Potensial New Scoring Structure'!W20","v":""},{"$f":"IF(OR(W20=\"\",'Set UP'!$K20<=0),0,(W20-OFFSET(V$2,'Set UP'!$K20,0))*OFFSET(X$2,'Set UP'!$K20,0)+'Set UP'!$R$15)","v":0},"",{"$f":"IF('Set UP'!$K20<=0,\"\",OFFSET(Medley!U20,0,2*'Set UP'!$K20))","v":""},{"$f":"'Potensial New Scoring Structure'!AA20","v":""},{"$f":"IF(OR(AA20=\"\",'Set UP'!$K20<=0),0,(AA20-OFFSET(Z$2,'Set UP'!$K20,0))*OFFSET(AB$2,'Set UP'!$K20,0)+'Set UP'!$R$15)","v":0},"",{"$f":"IF('Set UP'!$K20<=0,\"\",OFFSET('Manikin Carry'!U20,0,2*'Set UP'!$K20))","v":""},{"$f":"'Potensial New Scoring Structure'!AE20","v":""},{"$f":"IF(OR(AE20=\"\",'Set UP'!$K20<=0),0,(AE20-OFFSET(AD$2,'Set UP'!$K20,0))*OFFSET(AF$2,'Set UP'!$K20,0)+'Set UP'!$R$15)","v":0},"",{"$f":"IF('Set UP'!$K20<=0,\"\",OFFSET(Obstacle!U20,0,2*'Set UP'!$K20))","v":""},{"$f":"'Potensial New Scoring Structure'!AI20","v":""},{"$f":"IF(OR(AI20=\"\",'Set UP'!$K20<=0),0,(AI20-OFFSET(AH$2,'Set UP'!$K20,0))*OFFSET(AJ$2,'Set UP'!$K20,0)+'Set UP'!$R$15)","v":0},"","",{"$f":"IF('Set UP'!$K20=1,$AL20,\"\")","v":""},"",{"$f":"IF('Set UP'!$K20=2,$AL20,\"\")","v":""},"",null,{"$f":"IF(AN20=\"\",\"\",'League Results'!P20)","v":""},{"$f":"IF(AP20=\"\",\"\",'League Results'!R20)","v":""}]
[null,15,{"$f":"IF(OR('Set UP'!$C21=0,'Set UP'!$D21=0,'Set UP'!$E21=0,'Set UP'!F21=0),\"  --\",'Set UP'!C21)","v":1427},{"$f":"IF(OR('Set UP'!$C21=0,'Set UP'!$D21=0,'Set UP'!$E21=0,'Set UP'!F21=0),\"  --\",'Set UP'!D21&\" \"&'Set UP'!E21)","v":"University of Southampton A"},{"$f":"IF(OR('Set UP'!$C21=0,'Set UP'!$D21=0,'Set UP'!$E21=0,'Set UP'!F21=0),\" --\",'Set UP'!F21)","v":"S"},{"$f":"IF('Set UP'!$K21<=0,\"\",OFFSET('Dry Incident'!JQ35,0,2*'Set UP'!$K21))","v":5},{"$f":"'Potensial New Scoring Structure'!G21","v":838.98305084745766},{"$f":"IF(OR(G21=\"\",'Set UP'!$K21<=0),0,(G21-OFFSET(F$2,'Set UP'!$K21,0))*OFFSET(H$2,'Set UP'!$K21,0)+'Set UP'!$R$15)","v":666.01562500000011},"5 ( 666 )",{"$f":"IF('Set UP'!$K21<=0,\"\",OFFSET(' Wet Incident'!JQ35,0,2*'Set UP'!$K21))","v":7},{"$f":"'Potensial New Scoring Structure'!K21","v":442.56756756756755},{"$f":"IF(OR(K21=\"\",'Set UP'!$K21<=0),0,(K21-OFFSET(J$2,'Set UP'!$K21,0))*OFFSET(L$2,'Set UP'!$K21,0)+'Set UP'!$R$15)","v":309.30232558139534},"7 ( 309 )",{"$f":"IF('Set UP'!$K21<=0,\"\",OFFSET('Extra Incident'!JU35,0,2*'Set UP'!$K21))","v":""},{"$f":"'Potensial New Scoring Structure'!O21","v":""},{"$f":"IF(OR(O21=\"\",'Set UP'!$K21<=0),0,(O21-OFFSET(N$2,'Set UP'!$K21,0))*OFFSET(P$2,'Set UP'!$K21,0)+'Set UP'!$R$15)","v":0},"",{"$f":"IF('Set UP'!$K21<=0,\"\",OFFSET(RopeThrow!X21,0,2*'Set UP'!$K21))","v":9},{"$f":"IF('Set UP'!$K21<=0,\"\",OFFSET(RopeThrow!AG21,0,'Set UP'!$K21))","v":55.555555555555557},{"$f":"IF(OR(S21=\"\",'Set UP'!$K21<=0),0,(S21-OFFSET(R$2,'Set UP'!$K21,0))*OFFSET(T$2,'Set UP'!$K21,0)+'Set UP'!$R$15)","v":100},"9 ( 100 )",{"$f":"IF('Set UP'!$K21<=0,\"\",OFFSET('Swim&Tow'!W21,0,2*'Set UP'!$K21))","v":9},{"$f":"'Potensial New Scoring Structure'!W21","v":721.51449917690275},{"$f":"IF(OR(W21=\"\",'Set UP'!$K21<=0),0,(W21-OFFSET(V$2,'Set UP'!$K21,0))*OFFSET(X$2,'Set UP'!$K21,0)+'Set UP'!$R$15)","v":100},"9 ( 100 )",{"$f":"IF('Set UP'!$K21<=0,\"\",OFFSET(Medley!U21,0,2*'Set UP'!$K21))","v":8},{"$f":"'Potensial New Scoring Structure'!AA21","v":640.70796460176996},{"$f":"IF(OR(AA21=\"\",'Set UP'!$K21<=0),0,(AA21-OFFSET(Z$2,'Set UP'!$K21,0))*OFFSET(AB$2,'Set UP'!$K21,0)+'Set UP'!$R$15)","v":100},"8 ( 100 )",{"$f":"IF('Set UP'!$K21<=0,\"\",OFFSET('Manikin Carry'!U21,0,2*'Set UP'!$K21))","v":""},{"$f":"'Potensial New Scoring Structure'!AE21","v":""},{"$f":"IF(OR(AE21=\"\",'Set UP'!$K21<=0),0,(AE21-OFFSET(AD$2,'Set UP'!$K21,0))*OFFSET(AF$2,'Set UP'!$K21,0)+'Set UP'!$R$15)","v":0},"",{"$f":"IF('Set UP'!$K21<=0,\"\",OFFSET(Obstacle!U21,0,2*'Set UP'!$K21))","v":""},{"$f":"'Potensial New Scoring Structure'!AI21","v":""},{"$f":"IF(OR(AI21=\"\",'Set UP'!$K21<=0),0,(AI21-OFFSET(AH$2,'Set UP'!$K21,0))*OFFSET(AJ$2,'Set UP'!$K21,0)+'Set UP'!$R$15)","v":0},"",2250.635901162791,{"$f":"IF('Set UP'!$K21=1,$AL21,\"\")","v":2250.635901162791},9,{"$f":"IF('Set UP'!$K21=2,$AL21,\"\")","v":""},"",null,{"$f":"IF(AN21=\"\",\"\",'League Results'!P21)","v":9},{"$f":"IF(AP21=\"\",\"\",'League Results'!R21)","v":""}]
[null,16,{"$f":"IF(OR('Set UP'!$C22=0,'Set UP'!$D22=0,'Set UP'!$E22=0,'Set UP'!F22=0),\"  --\",'Set UP'!C22)","v":1444},{"$f":"IF(OR('Set UP'!$C22=0,'Set UP'!$D22=0,'Set UP'!$E22=0,'Set UP'!F22=0),\"  --\",'Set UP'!D22&\" \"&'Set UP'!E22)","v":"University of Birmingham C"},{"$f":"IF(OR('Set UP'!$C22=0,'Set UP'!$D22=0,'Set UP'!$E22=0,'Set UP'!F22=0),\" --\",'Set UP'!F22)","v":"S"},{"$f":"IF('Set UP'!$K22<=0,\"\",OFFSET('Dry Incident'!JQ36,0,2*'Set UP'!$K22))","v":4},{"$f":"'Potensial New Scoring Structure'!G22","v":873.22033898305096},{"$f":"IF(OR(G22=\"\",'Set UP'!$K22<=0),0,(G22-OFFSET(F$2,'Set UP'!$K22,0))*OFFSET(H$2,'Set UP'!$K22,0)+'Set UP'!$R$15)","v":913.35820895522409},"4 ( 913 )",{"$f":"IF('Set UP'!$K22<=0,\"\",OFFSET(' Wet Incident'!JQ36,0,2*'Set UP'!$K22))","v":2},{"$f":"'Potensial New Scoring Structure'!K22","v":658.78378378378375},{"$f":"IF(OR(K22=\"\",'Set UP'!$K22<=0),0,(K22-OFFSET(J$2,'Set UP'!$K22,0))*OFFSET(L$2,'Set UP'!$K22,0)+'Set UP'!$R$15)","v":927.1255060728746},"2 ( 927 )",{"$f":"IF('Set UP'!$K22<=0,\"\",OFFSET('Extra Incident'!JU36,0,2*'Set UP'!$K22))","v":""},{"$f":"'Potensial New Scoring Structure'!O22","v":""},{"$f":"IF(OR(O22=\"\",'Set UP'!$K22<=0),0,(O22-OFFSET(N$2,'Set UP'!$K22,0))*OFFSET(P$2,'Set UP'!$K22,0)+'Set UP'!$R$15)","v":0},"",{"$f":"IF('Set UP'!$K22<=0,\"\",OFFSET(RopeThrow!X22,0,2*'Set UP'!$K22))","v":6.5},{"$f":"IF('Set UP'!$K22<=0,\"\",OFFSET(RopeThrow!AG22,0,'Set UP'!$K22))","v":454.54545454545456},{"$f":"IF(OR(S22=\"\",'Set UP'!$K22<=0),0,(S22-OFFSET(R$2,'Set UP'!$K22,0))*OFFSET(T$2,'Set UP'!$K22,0)+'Set UP'!$R$15)","v":460},"6.5 ( 460 )",{"$f":"IF('Set UP'!$K22<=0,\"\",OFFSET('Swim&Tow'!W22,0,2*'Set UP'!$K22))","v":4},{"$f":"'Potensial New Scoring Structure'!W22","v":806.50880081043442},{"$f":"IF(OR(W22=\"\",'Set UP'!$K22<=0),0,(W22-OFFSET(V$2,'Set UP'!$K22,0))*OFFSET(X$2,'Set UP'!$K22,0)+'Set UP'!$R$15)","v":675.98148465626593},"4 ( 675 )",{"$f":"IF('Set UP'!$K22<=0,\"\",OFFSET(Medley!U22,0,2*'Set UP'!$K22))","v":7},{"$f":"'Potensial New Scoring Structure'!AA22","v":696.63716814159295},{"$f":"IF(OR(AA22=\"\",'Set UP'!$K22<=0),0,(AA22-OFFSET(Z$2,'Set UP'!$K22,0))*OFFSET(AB$2,'Set UP'!$K22,0)+'Set UP'!$R$15)","v":546.0474308300395},"7 ( 546 )",{"$f":"IF('Set UP'!$K22<=0,\"\",OFFSET('Manikin Carry'!U22,0,2*'Set UP'!$K22))","v":""},{"$f":"'Potensial New Scoring Structure'!AE22","v":""},{"$f":"IF(OR(AE22=\"\",'Set UP'!$K22<=0),0,(AE22-OFFSET(AD$2,'Set UP'!$K22,0))*OFFSET(AF$2,'Set UP'!$K22,0)+'Set UP'!$R$15)","v":0},"",{"$f":"IF('Set UP'!$K22<=0,\"\",OFFSET(Obstacle!U22,0,2*'Set UP'!$K22))","v":""},{"$f":"'Potensial New Scoring Structure'!AI22","v":""},{"$f":"IF(OR(AI22=\"\",'Set UP'!$K22<=0),0,(AI22-OFFSET(AH$2,'Set UP'!$K22,0))*OFFSET(AJ$2,'Set UP'!$K22,0)+'Set UP'!$R$15)","v":0},"",5362.9963455425022,{"$f":"IF('Set UP'!$K22=1,$AL22,\"\")","v":""},"",{"$f":"IF('Set UP'!$K22=2,$AL22,\"\")","v":5362.9963455425022},2,null,{"$f":"IF(AN22=\"\",\"\",'League Results'!P22)","v":""},{"$f":"IF(AP22=\"\",\"\",'League Results'!R22)","v":3}]
[null,17,{"$f":"IF(OR('Set UP'!$C23=0,'Set UP'!$D23=0,'Set UP'!$E23=0,'Set UP'!F23=0),\"  --\",'Set UP'!C23)","v":1439},{"$f":"IF(OR('Set UP'!$C23=0,'Set UP'!$D23=0,'Set UP'!$E23=0,'Set UP'!F23=0),\"  --\",'Set UP'!D23&\" \"&'Set UP'!E23)","v":"University of Plymouth A"},{"$f":"IF(OR('Set UP'!$C23=0,'Set UP'!$D23=0,'Set UP'!$E23=0,'Set UP'!F23=0),\" --\",'Set UP'!F23)","v":"S"},{"$f":"IF('Set UP'!$K23<=0,\"\",OFFSET('Dry Incident'!JQ37,0,2*'Set UP'!$K23))","v":8},{"$f":"'Potensial New Scoring Structure'!G23","v":588.13559322033905},{"$f":"IF(OR(G23=\"\",'Set UP'!$K23<=0),0,(G23-OFFSET(F$2,'Set UP'!$K23,0))*OFFSET(H$2,'Set UP'!$K23,0)+'Set UP'!$R$15)","v":145.70312500000031},"8 ( 145 )",{"$f":"IF('Set UP'!$K23<=0,\"\",OFFSET(' Wet Incident'!JQ37,0,2*'Set UP'!$K23))","v":2},{"$f":"'Potensial New Scoring Structure'!K23","v":733.10810810810813},{"$f":"IF(OR(K23=\"\",'Set UP'!$K23<=0),0,(K23-OFFSET(J$2,'Set UP'!$K23,0))*OFFSET(L$2,'Set UP'!$K23,0)+'Set UP'!$R$15)","v":669.30232558139539},"2 ( 669 )",{"$f":"IF('Set UP'!$K23<=0,\"\",OFFSET('Extra Incident'!JU37,0,2*'Set UP'!$K23))","v":""},{"$f":"'Potensial New Scoring Structure'!O23","v":""},{"$f":"IF(OR(O23=\"\",'Set UP'!$K23<=0),0,(O23-OFFSET(N$2,'Set UP'!$K23,0))*OFFSET(P$2,'Set UP'!$K23,0)+'Set UP'!$R$15)","v":0},"",{"$f":"IF('Set UP'!$K23<=0,\"\",OFFSET(RopeThrow!X23,0,2*'Set UP'!$K23))","v":7.5},{"$f":"IF('Set UP'!$K23<=0,\"\",OFFSET(RopeThrow!AG23,0,'Set UP'!$K23))","v":222.22222222222223},{"$f":"IF(OR(S23=\"\",'Set UP'!$K23<=0),0,(S23-OFFSET(R$2,'Set UP'!$K23,0))*OFFSET(T$2,'Set UP'!$K23,0)+'Set UP'!$R$15)","v":258.82352941176475},"7.5 ( 258 )",{"$f":"IF('Set UP'!$K23<=0,\"\",OFFSET('Swim&Tow'!W23,0,2*'Set UP'!$K23))","v":8},{"$f":"'Potensial New Scoring Structure'!W23","v":761.63099911358745},{"$f":"IF(OR(W23=\"\",'Set UP'!$K23<=0),0,(W23-OFFSET(V$2,'Set UP'!$K23,0))*OFFSET(X$2,'Set UP'!$K23,0)+'Set UP'!$R$15)","v":273.13577847947494},"8 ( 273 )",{"$f":"IF('Set UP'!$K23<=0,\"\",OFFSET(Medley!U23,0,2*'Set UP'!$K23))","v":7},{"$f":"'Potensial New Scoring Structure'!AA23","v":754.15929203539827},{"$f":"IF(OR(AA23=\"\",'Set UP'!$K23<=0),0,(AA23-OFFSET(Z$2,'Set UP'!$K23,0))*OFFSET(AB$2,'Set UP'!$K23,0)+'Set UP'!$R$15)","v":486.14457831325296},"7 ( 486 )",{"$f":"IF('Set UP'!$K23<=0,\"\",OFFSET('Manikin Carry'!U23,0,2*'Set UP'!$K23))","v":""},{"$f":"'Potensial New Scoring Structure'!AE23","v":""},{"$f":"IF(OR(AE23=\"\",'Set UP'!$K23<=0),0,(AE23-OFFSET(AD$2,'Set UP'!$K23,0))*OFFSET(AF$2,'Set UP'!$K23,0)+'Set UP'!$R$15)","v":0},"",{"$f":"IF('Set UP'!$K23<=0,\"\",OFFSET(Obstacle!U23,0,2*'Set UP'!$K23))","v":""},{"$f":"'Potensial New Scoring Structure'!AI23","v":""},{"$f":"IF(OR(AI23=\"\",'Set UP'!$K23<=0),0,(AI23-OFFSET(AH$2,'Set UP'!$K23,0))*OFFSET(AJ$2,'Set UP'!$K23,0)+'Set UP'!$R$15)","v":0},"",2648.1147873672844,{"$f":"IF('Set UP'!$K23=1,$AL23,\"\")","v":2648.1147873672844},8,{"$f":"IF('Set UP'!$K23=2,$AL23,\"\")","v":""},"",null,{"$f":"IF(AN23=\"\",\"\",'League Results'!P23)","v":7},{"$f":"IF(AP23=\"\",\"\",'League Results'!R23)","v":""}]
[null,18,{"$f":"IF(OR('Set UP'!$C24=0,'Set UP'!$D24=0,'Set UP'!$E24=0,'Set UP'!F24=0),\"  --\",'Set UP'!C24)","v":1461},{"$f":"IF(OR('Set UP'!$C24=0,'Set UP'!$D24=0,'Set UP'!$E24=0,'Set UP'!F24=0),\"  --\",'Set UP'!D24&\" \"&'Set UP'!E24)","v":"Bristol University B"},{"$f":"IF(OR('Set UP'!$C24=0,'Set UP'!$D24=0,'Set UP'!$E24=0,'Set UP'!F24=0),\" --\",'Set UP'!F24)","v":"S"},{"$f":"IF('Set UP'!$K24<=0,\"\",OFFSET('Dry Incident'!JQ38,0,2*'Set UP'!$K24))","v":3},{"$f":"'Potensial New Scoring Structure'!G24","v":884.74576271186447},{"$f":"IF(OR(G24=\"\",'Set UP'!$K24<=0),0,(G24-OFFSET(F$2,'Set UP'!$K24,0))*OFFSET(H$2,'Set UP'!$K24,0)+'Set UP'!$R$15)","v":936.19402985074646},"3 ( 936 )",{"$f":"IF('Set UP'!$K24<=0,\"\",OFFSET(' Wet Incident'!JQ38,0,2*'Set UP'!$K24))","v":5},{"$f":"'Potensial New Scoring Structure'!K24","v":523.64864864864865},{"$f":"IF(OR(K24=\"\",'Set UP'!$K24<=0),0,(K24-OFFSET(J$2,'Set UP'!$K24,0))*OFFSET(L$2,'Set UP'!$K24,0)+'Set UP'!$R$15)","v":635.62753036437255},"5 ( 635 )",{"$f":"IF('Set UP'!$K24<=0,\"\",OFFSET('Extra Incident'!JU38,0,2*'Set UP'!$K24))","v":""},{"$f":"'Potensial New Scoring Structure'!O24","v":""},{"$f":"IF(OR(O24=\"\",'Set UP'!$K24<=0),0,(O24-OFFSET(N$2,'Set UP'!$K24,0))*OFFSET(P$2,'Set UP'!$K24,0)+'Set UP'!$R$15)","v":0},"",{"$f":"IF('Set UP'!$K24<=0,\"\",OFFSET(RopeThrow!X24,0,2*'Set UP'!$K24))","v":2.5},{"$f":"IF('Set UP'!$K24<=0,\"\",OFFSET(RopeThrow!AG24,0,'Set UP'!$K24))","v":818.18181818181813},{"$f":"IF(OR(S24=\"\",'Set UP'!$K24<=0),0,(S24-OFFSET(R$2,'Set UP'!$K24,0))*OFFSET(T$2,'Set UP'!$K24,0)+'Set UP'!$R$15)","v":820},"2.5 ( 820 )",{"$f":"IF('Set UP'!$K24<=0,\"\",OFFSET('Swim&Tow'!W24,0,2*'Set UP'!$K24))","v":10},{"$f":"'Potensial New Scoring Structure'!W24","v":631.75889578320891},{"$f":"IF(OR(W24=\"\",'Set UP'!$K24<=0),0,(W24-OFFSET(V$2,'Set UP'!$K24,0))*OFFSET(X$2,'Set UP'!$K24,0)+'Set UP'!$R$15)","v":143.66535230584589},"10 ( 143 )",{"$f":"IF('Set UP'!$K24<=0,\"\",OFFSET(Medley!U24,0,2*'Set UP'!$K24))","v":9},{"$f":"'Potensial New Scoring Structure'!AA24","v":539.02654867256626},{"$f":"IF(OR(AA24=\"\",'Set UP'!$K24<=0),0,(AA24-OFFSET(Z$2,'Set UP'!$K24,0))*OFFSET(AB$2,'Set UP'!$K24,0)+'Set UP'!$R$15)","v":194.07114624505886},"9 ( 194 )",{"$f":"IF('Set UP'!$K24<=0,\"\",OFFSET('Manikin Carry'!U24,0,2*'Set UP'!$K24))","v":""},{"$f":"'Potensial New Scoring Structure'!AE24","v":""},{"$f":"IF(OR(AE24=\"\",'Set UP'!$K24<=0),0,(AE24-OFFSET(AD$2,'Set UP'!$K24,0))*OFFSET(AF$2,'Set UP'!$K24,0)+'Set UP'!$R$15)","v":0},"",{"$f":"IF('Set UP'!$K24<=0,\"\",OFFSET(Obstacle!U24,0,2*'Set UP'!$K24))","v":""},{"$f":"'Potensial New Scoring Structure'!AI24","v":""},{"$f":"IF(OR(AI24=\"\",'Set UP'!$K24<=0),0,(AI24-OFFSET(AH$2,'Set UP'!$K24,0))*OFFSET(AJ$2,'Set UP'!$K24,0)+'Set UP'!$R$15)","v":0},"",4301.3796189811428,{"$f":"IF('Set UP'!$K24=1,$AL24,\"\")","v":""},"",{"$f":"IF('Set UP'!$K24=2,$AL24,\"\")","v":4301.3796189811428},6,null,{"$f":"IF(AN24=\"\",\"\",'League Results'!P24)","v":""},{"$f":"IF(AP24=\"\",\"\",'League Results'!R24)","v":6}]
[null,19,{"$f":"IF(OR('Set UP'!$C25=0,'Set UP'!$D25=0,'Set UP'!$E25=0,'Set UP'!F25=0),\"  --\",'Set UP'!C25)","v":1436},{"$f":"IF(OR('Set UP'!$C25=0,'Set UP'!$D25=0,'Set UP'!$E25=0,'Set UP'!F25=0),\"  --\",'Set UP'!D25&\" \"&'Set UP'!E25)","v":"Loughborough University C"},{"$f":"IF(OR('Set UP'!$C25=0,'Set UP'!$D25=0,'Set UP'!$E25=0,'Set UP'!F25=0),\" --\",'Set UP'!F25)","v":"S"},{"$f":"IF('Set UP'!$K25<=0,\"\",OFFSET('Dry Incident'!JQ39,0,2*'Set UP'!$K25))","v":1},{"$f":"'Potensial New Scoring Structure'!G25","v":916.94915254237287},{"$f":"IF(OR(G25=\"\",'Set UP'!$K25<=0),0,(G25-OFFSET(F$2,'Set UP'!$K25,0))*OFFSET(H$2,'Set UP'!$K25,0)+'Set UP'!$R$15)","v":1000},"1 ( 1000 )",{"$f":"IF('Set UP'!$K25<=0,\"\",OFFSET(' Wet Incident'!JQ39,0,2*'Set UP'!$K25))","v":7},{"$f":"'Potensial New Scoring Structure'!K25","v":417.22972972972974},{"$f":"IF(OR(K25=\"\",'Set UP'!$K25<=0),0,(K25-OFFSET(J$2,'Set UP'!$K25,0))*OFFSET(L$2,'Set UP'!$K25,0)+'Set UP'!$R$15)","v":406.07287449392726},"7 ( 406 )",{"$f":"IF('Set UP'!$K25<=0,\"\",OFFSET('Extra Incident'!JU39,0,2*'Set UP'!$K25))","v":""},{"$f":"'Potensial New Scoring Structure'!O25","v":""},{"$f":"IF(OR(O25=\"\",'Set UP'!$K25<=0),0,(O25-OFFSET(N$2,'Set UP'!$K25,0))*OFFSET(P$2,'Set UP'!$K25,0)+'Set UP'!$R$15)","v":0},"",{"$f":"IF('Set UP'!$K25<=0,\"\",OFFSET(RopeThrow!X25,0,2*'Set UP'!$K25))","v":10.5},{"$f":"IF('Set UP'!$K25<=0,\"\",OFFSET(RopeThrow!AG25,0,'Set UP'!$K25))","v":90.909090909090907},{"$f":"IF(OR(S25=\"\",'Set UP'!$K25<=0),0,(S25-OFFSET(R$2,'Set UP'!$K25,0))*OFFSET(T$2,'Set UP'!$K25,0)+'Set UP'!$R$15)","v":100},"10.5 ( 100 )",{"$f":"IF('Set UP'!$K25<=0,\"\",OFFSET('Swim&Tow'!W25,0,2*'Set UP'!$K25))","v":2},{"$f":"'Potensial New Scoring Structure'!W25","v":869.44409269342805},{"$f":"IF(OR(W25=\"\",'Set UP'!$K25<=0),0,(W25-OFFSET(V$2,'Set UP'!$K25,0))*OFFSET(X$2,'Set UP'!$K25,0)+'Set UP'!$R$15)","v":867.6924395679755},"2 ( 867 )",{"$f":"IF('Set UP'!$K25<=0,\"\",OFFSET(Medley!U25,0,2*'Set UP'!$K25))","v":1},{"$f":"'Potensial New Scoring Structure'!AA25","v":899.91150442477874},{"$f":"IF(OR(AA25=\"\",'Set UP'!$K25<=0),0,(AA25-OFFSET(Z$2,'Set UP'!$K25,0))*OFFSET(AB$2,'Set UP'!$K25,0)+'Set UP'!$R$15)","v":999.99999999999989},"1 ( 1000 )",{"$f":"IF('Set UP'!$K25<=0,\"\",OFFSET('Manikin Carry'!U25,0,2*'Set UP'!$K25))","v":""},{"$f":"'Potensial New Scoring Structure'!AE25","v":""},{"$f":"IF(OR(AE25=\"\",'Set UP'!$K25<=0),0,(AE25-OFFSET(AD$2,'Set UP'!$K25,0))*OFFSET(AF$2,'Set UP'!$K25,0)+'Set UP'!$R$15)","v":0},"",{"$f":"IF('Set UP'!$K25<=0,\"\",OFFSET(Obstacle!U25,0,2*'Set UP'!$K25))","v":""},{"$f":"'Potensial New Scoring Structure'!AI25","v":""},{"$f":"IF(OR(AI25=\"\",'Set UP'!$K25<=0),0,(AI25-OFFSET(AH$2,'Set UP'!$K25,0))*OFFSET(AJ$2,'Set UP'!$K25,0)+'Set UP'!$R$15)","v":0},"",4779.8381885558301,{"$f":"IF('Set UP'!$K25=1,$AL25,\"\")","v":""},"",{"$f":"IF('Set UP'!$K25=2,$AL25,\"\")","v":4779.8381885558301},5,null,{"$f":"IF(AN25=\"\",\"\",'League Results'!P25)","v":""},{"$f":"IF(AP25=\"\",\"\",'League Results'!R25)","v":2}]
[null,20,{"$f":"IF(OR('Set UP'!$C26=0,'Set UP'!$D26=0,'Set UP'!$E26=0,'Set UP'!F26=0),\"  --\",'Set UP'!C26)","v":1443},{"$f":"IF(OR('Set UP'!$C26=0,'Set UP'!$D26=0,'Set UP'!$E26=0,'Set UP'!F26=0),\"  --\",'Set UP'!D26&\" \"&'Set UP'!E26)","v":"University of Birmingham B"},{"$f":"IF(OR('Set UP'!$C26=0,'Set UP'!$D26=0,'Set UP'!$E26=0,'Set UP'!F26=0),\" --\",'Set UP'!F26)","v":"S"},{"$f":"IF('Set UP'!$K26<=0,\"\",OFFSET('Dry Incident'!JQ40,0,2*'Set UP'!$K26))","v":2},{"$f":"'Potensial New Scoring Structure'!G26","v":901.69491525423723},{"$f":"IF(OR(G26=\"\",'Set UP'!$K26<=0),0,(G26-OFFSET(F$2,'Set UP'!$K26,0))*OFFSET(H$2,'Set UP'!$K26,0)+'Set UP'!$R$15)","v":969.77611940298493},"2 ( 969 )",{"$f":"IF('Set UP'!$K26<=0,\"\",OFFSET(' Wet Incident'!JQ40,0,2*'Set UP'!$K26))","v":1},{"$f":"'Potensial New Scoring Structure'!K26","v":692.56756756756749},{"$f":"IF(OR(K26=\"\",'Set UP'!$K26<=0),0,(K26-OFFSET(J$2,'Set UP'!$K26,0))*OFFSET(L$2,'Set UP'!$K26,0)+'Set UP'!$R$15)","v":1000},"1 ( 1000 )",{"$f":"IF('Set UP'!$K26<=0,\"\",OFFSET('Extra Incident'!JU40,0,2*'Set UP'!$K26))","v":""},{"$f":"'Potensial New Scoring Structure'!O26","v":""},{"$f":"IF(OR(O26=\"\",'Set UP'!$K26<=0),0,(O26-OFFSET(N$2,'Set UP'!$K26,0))*OFFSET(P$2,'Set UP'!$K26,0)+'Set UP'!$R$15)","v":0},"",{"$f":"IF('Set UP'!$K26<=0,\"\",OFFSET(RopeThrow!X26,0,2*'Set UP'!$K26))","v":10.5},{"$f":"IF('Set UP'!$K26<=0,\"\",OFFSET(RopeThrow!AG26,0,'Set UP'!$K26))","v":90.909090909090907},{"$f":"IF(OR(S26=\"\",'Set UP'!$K26<=0),0,(S26-OFFSET(R$2,'Set UP'!$K26,0))*OFFSET(T$2,'Set UP'!$K26,0)+'Set UP'!$R$15)","v":100},"10.5 ( 100 )",{"$f":"IF('Set UP'!$K26<=0,\"\",OFFSET('Swim&Tow'!W26,0,2*'Set UP'!$K26))","v":3},{"$f":"'Potensial New Scoring Structure'!W26","v":857.3888818538685},{"$f":"IF(OR(W26=\"\",'Set UP'!$K26<=0),0,(W26-OFFSET(V$2,'Set UP'!$K26,0))*OFFSET(X$2,'Set UP'!$K26,0)+'Set UP'!$R$15)","v":830.97034116235159},"3 ( 830 )",{"$f":"IF('Set UP'!$K26<=0,\"\",OFFSET(Medley!U26,0,2*'Set UP'!$K26))","v":3},{"$f":"'Potensial New Scoring Structure'!AA26","v":846.46017699115055},{"$f":"IF(OR(AA26=\"\",'Set UP'!$K26<=0),0,(AA26-OFFSET(Z$2,'Set UP'!$K26,0))*OFFSET(AB$2,'Set UP'!$K26,0)+'Set UP'!$R$15)","v":880.63241106719386},"3 ( 880 )",{"$f":"IF('Set UP'!$K26<=0,\"\",OFFSET('Manikin Carry'!U26,0,2*'Set UP'!$K26))","v":""},{"$f":"'Potensial New Scoring Structure'!AE26","v":""},{"$f":"IF(OR(AE26=\"\",'Set UP'!$K26<=0),0,(AE26-OFFSET(AD$2,'Set UP'!$K26,0))*OFFSET(AF$2,'Set UP'!$K26,0)+'Set UP'!$R$15)","v":0},"",{"$f":"IF('Set UP'!$K26<=0,\"\",OFFSET(Obstacle!U26,0,2*'Set UP'!$K26))","v":""},{"$f":"'Potensial New Scoring Structure'!AI26","v":""},{"$f":"IF(OR(AI26=\"\",'Set UP'!$K26<=0),0,(AI26-OFFSET(AH$2,'Set UP'!$K26,0))*OFFSET(AJ$2,'Set UP'!$K26,0)+'Set UP'!$R$15)","v":0},"",5751.1549910355152,{"$f":"IF('Set UP'!$K26=1,$AL26,\"\")","v":""},"",{"$f":"IF('Set UP'!$K26=2,$AL26,\"\")","v":5751.1549910355152},1,null,{"$f":"IF(AN26=\"\",\"\",'League Results'!P26)","v":""},{"$f":"IF(AP26=\"\",\"\",'League Results'!R26)","v":1}]
[null,21,{"$f":"IF(OR('Set UP'!$C27=0,'Set UP'!$D27=0,'Set UP'!$E27=0,'Set UP'!F27=0),\"  --\",'Set UP'!C27)","v":1434},{"$f":"IF(OR('Set UP'!$C27=0,'Set UP'!$D27=0,'Set UP'!$E27=0,'Set UP'!F27=0),\"  --\",'Set UP'!D27&\" \"&'Set UP'!E27)","v":"Loughborough University A"},{"$f":"IF(OR('Set UP'!$C27=0,'Set UP'!$D27=0,'Set UP'!$E27=0,'Set UP'!F27=0),\" --\",'Set UP'!F27)","v":"S"},{"$f":"IF('Set UP'!$K27<=0,\"\",OFFSET('Dry Incident'!JQ41,0,2*'Set UP'!$K27))","v":4},{"$f":"'Potensial New Scoring Structure'!G27","v":847.45762711864404},{"$f":"IF(OR(G27=\"\",'Set UP'!$K27<=0),0,(G27-OFFSET(F$2,'Set UP'!$K27,0))*OFFSET(H$2,'Set UP'!$K27,0)+'Set UP'!$R$15)","v":683.59375},"4 ( 683 )",{"$f":"IF('Set UP'!$K27<=0,\"\",OFFSET(' Wet Incident'!JQ41,0,2*'Set UP'!$K27))","v":8},{"$f":"'Potensial New Scoring Structure'!K27","v":400.33783783783781},{"$f":"IF(OR(K27=\"\",'Set UP'!$K27<=0),0,(K27-OFFSET(J$2,'Set UP'!$K27,0))*OFFSET(L$2,'Set UP'!$K27,0)+'Set UP'!$R$15)","v":256.97674418604652},"8 ( 256 )",{"$f":"IF('Set UP'!$K27<=0,\"\",OFFSET('Extra Incident'!JU41,0,2*'Set UP'!$K27))","v":""},{"$f":"'Potensial New Scoring Structure'!O27","v":""},{"$f":"IF(OR(O27=\"\",'Set UP'!$K27<=0),0,(O27-OFFSET(N$2,'Set UP'!$K27,0))*OFFSET(P$2,'Set UP'!$K27,0)+'Set UP'!$R$15)","v":0},"",{"$f":"IF('Set UP'!$K27<=0,\"\",OFFSET(RopeThrow!X27,0,2*'Set UP'!$K27))","v":4.5},{"$f":"IF('Set UP'!$K27<=0,\"\",OFFSET(RopeThrow!AG27,0,'Set UP'!$K27))","v":555.55555555555566},{"$f":"IF(OR(S27=\"\",'Set UP'!$K27<=0),0,(S27-OFFSET(R$2,'Set UP'!$K27,0))*OFFSET(T$2,'Set UP'!$K27,0)+'Set UP'!$R$15)","v":576.47058823529414},"4.5 ( 576 )",{"$f":"IF('Set UP'!$K27<=0,\"\",OFFSET('Swim&Tow'!W27,0,2*'Set UP'!$K27))","v":6},{"$f":"'Potensial New Scoring Structure'!W27","v":824.54096492338874},{"$f":"IF(OR(W27=\"\",'Set UP'!$K27<=0),0,(W27-OFFSET(V$2,'Set UP'!$K27,0))*OFFSET(X$2,'Set UP'!$K27,0)+'Set UP'!$R$15)","v":544.64415836774367},"6 ( 544 )",{"$f":"IF('Set UP'!$K27<=0,\"\",OFFSET(Medley!U27,0,2*'Set UP'!$K27))","v":3},{"$f":"'Potensial New Scoring Structure'!AA27","v":797.34513274336268},{"$f":"IF(OR(AA27=\"\",'Set UP'!$K27<=0),0,(AA27-OFFSET(Z$2,'Set UP'!$K27,0))*OFFSET(AB$2,'Set UP'!$K27,0)+'Set UP'!$R$15)","v":633.13253012048131},"3 ( 633 )",{"$f":"IF('Set UP'!$K27<=0,\"\",OFFSET('Manikin Carry'!U27,0,2*'Set UP'!$K27))","v":""},{"$f":"'Potensial New Scoring Structure'!AE27","v":""},{"$f":"IF(OR(AE27=\"\",'Set UP'!$K27<=0),0,(AE27-OFFSET(AD$2,'Set UP'!$K27,0))*OFFSET(AF$2,'Set UP'!$K27,0)+'Set UP'!$R$15)","v":0},"",{"$f":"IF('Set UP'!$K27<=0,\"\",OFFSET(Obstacle!U27,0,2*'Set UP'!$K27))","v":""},{"$f":"'Potensial New Scoring Structure'!AI27","v":""},{"$f":"IF(OR(AI27=\"\",'Set UP'!$K27<=0),0,(AI27-OFFSET(AH$2,'Set UP'!$K27,0))*OFFSET(AJ$2,'Set UP'!$K27,0)+'Set UP'!$R$15)","v":0},"",3635.388265095612,{"$f":"IF('Set UP'!$K27=1,$AL27,\"\")","v":3635.388265095612},6,{"$f":"IF('Set UP'!$K27=2,$AL27,\"\")","v":""},"",null,{"$f":"IF(AN27=\"\",\"\",'League Results'!P27)","v":4},{"$f":"IF(AP27=\"\",\"\",'League Results'!R27)","v":""}]
[null,22,{"$f":"IF(OR('Set UP'!$C28=0,'Set UP'!$D28=0,'Set UP'!$E28=0,'Set UP'!F28=0),\"  --\",'Set UP'!C28)","v":1435},{"$f":"IF(OR('Set UP'!$C28=0,'Set UP'!$D28=0,'Set UP'!$E28=0,'Set UP'!F28=0),\"  --\",'Set UP'!D28&\" \"&'Set UP'!E28)","v":"Loughborough University B"},{"$f":"IF(OR('Set UP'!$C28=0,'Set UP'!$D28=0,'Set UP'!$E28=0,'Set UP'!F28=0),\" --\",'Set UP'!F28)","v":"S"},{"$f":"IF('Set UP'!$K28<=0,\"\",OFFSET('Dry Incident'!JQ42,0,2*'Set UP'!$K28))","v":9},{"$f":"'Potensial New Scoring Structure'!G28","v":653.89830508474574},{"$f":"IF(OR(G28=\"\",'Set UP'!$K28<=0),0,(G28-OFFSET(F$2,'Set UP'!$K28,0))*OFFSET(H$2,'Set UP'!$K28,0)+'Set UP'!$R$15)","v":478.80597014925377},"9 ( 478 )",{"$f":"IF('Set UP'!$K28<=0,\"\",OFFSET(' Wet Incident'!JQ42,0,2*'Set UP'!$K28))","v":6},{"$f":"'Potensial New Scoring Structure'!K28","v":484.79729729729729},{"$f":"IF(OR(K28=\"\",'Set UP'!$K28<=0),0,(K28-OFFSET(J$2,'Set UP'!$K28,0))*OFFSET(L$2,'Set UP'!$K28,0)+'Set UP'!$R$15)","v":551.82186234817823},"6 ( 551 )",{"$f":"IF('Set UP'!$K28<=0,\"\",OFFSET('Extra Incident'!JU42,0,2*'Set UP'!$K28))","v":""},{"$f":"'Potensial New Scoring Structure'!O28","v":""},{"$f":"IF(OR(O28=\"\",'Set UP'!$K28<=0),0,(O28-OFFSET(N$2,'Set UP'!$K28,0))*OFFSET(P$2,'Set UP'!$K28,0)+'Set UP'!$R$15)","v":0},"",{"$f":"IF('Set UP'!$K28<=0,\"\",OFFSET(RopeThrow!X28,0,2*'Set UP'!$K28))","v":1},{"$f":"IF('Set UP'!$K28<=0,\"\",OFFSET(RopeThrow!AG28,0,'Set UP'!$K28))","v":1000},{"$f":"IF(OR(S28=\"\",'Set UP'!$K28<=0),0,(S28-OFFSET(R$2,'Set UP'!$K28,0))*OFFSET(T$2,'Set UP'!$K28,0)+'Set UP'!$R$15)","v":1000},"1 ( 1000 )",{"$f":"IF('Set UP'!$K28<=0,\"\",OFFSET('Swim&Tow'!W28,0,2*'Set UP'!$K28))","v":1},{"$f":"'Potensial New Scoring Structure'!W28","v":912.87830821831085},{"$f":"IF(OR(W28=\"\",'Set UP'!$K28<=0),0,(W28-OFFSET(V$2,'Set UP'!$K28,0))*OFFSET(X$2,'Set UP'!$K28,0)+'Set UP'!$R$15)","v":1000},"1 ( 1000 )",{"$f":"IF('Set UP'!$K28<=0,\"\",OFFSET(Medley!U28,0,2*'Set UP'!$K28))","v":2},{"$f":"'Potensial New Scoring Structure'!AA28","v":871.94690265486724},{"$f":"IF(OR(AA28=\"\",'Set UP'!$K28<=0),0,(AA28-OFFSET(Z$2,'Set UP'!$K28,0))*OFFSET(AB$2,'Set UP'!$K28,0)+'Set UP'!$R$15)","v":937.54940711462439},"2 ( 937 )",{"$f":"IF('Set UP'!$K28<=0,\"\",OFFSET('Manikin Carry'!U28,0,2*'Set UP'!$K28))","v":""},{"$f":"'Potensial New Scoring Structure'!AE28","v":""},{"$f":"IF(OR(AE28=\"\",'Set UP'!$K28<=0),0,(AE28-OFFSET(AD$2,'Set UP'!$K28,0))*OFFSET(AF$2,'Set UP'!$K28,0)+'Set UP'!$R$15)","v":0},"",{"$f":"IF('Set UP'!$K28<=0,\"\",OFFSET(Obstacle!U28,0,2*'Set UP'!$K28))","v":""},{"$f":"'Potensial New Scoring Structure'!AI28","v":""},{"$f":"IF(OR(AI28=\"\",'Set UP'!$K28<=0),0,(AI28-OFFSET(AH$2,'Set UP'!$K28,0))*OFFSET(AJ$2,'Set UP'!$K28,0)+'Set UP'!$R$15)","v":0},"",4998.8050721094878,{"$f":"IF('Set UP'!$K28=1,$AL28,\"\")","v":""},"",{"$f":"IF('Set UP'!$K28=2,$AL28,\"\")","v":4998.8050721094878},3,null,{"$f":"IF(AN28=\"\",\"\",'League Results'!P28)","v":""},{"$f":"IF(AP28=\"\",\"\",'League Results'!R28)","v":4}]
[null,23,{"$f":"IF(OR('Set UP'!$C29=0,'Set UP'!$D29=0,'Set UP'!$E29=0,'Set UP'!F29=0),\"  --\",'Set UP'!C29)","v":1457},{"$f":"IF(OR('Set UP'!$C29=0,'Set UP'!$D29=0,'Set UP'!$E29=0,'Set UP'!F29=0),\"  --\",'Set UP'!D29&\" \"&'Set UP'!E29)","v":"University of Warwick B"},{"$f":"IF(OR('Set UP'!$C29=0,'Set UP'!$D29=0,'Set UP'!$E29=0,'Set UP'!F29=0),\" --\",'Set UP'!F29)","v":"S"},{"$f":"IF('Set UP'!$K29<=0,\"\",OFFSET('Dry Incident'!JQ43,0,2*'Set UP'!$K29))","v":8},{"$f":"'Potensial New Scoring Structure'!G29","v":667.7966101694916},{"$f":"IF(OR(G29=\"\",'Set UP'!$K29<=0),0,(G29-OFFSET(F$2,'Set UP'!$K29,0))*OFFSET(H$2,'Set UP'!$K29,0)+'Set UP'!$R$15)","v":506.34328358208973},"8 ( 506 )",{"$f":"IF('Set UP'!$K29<=0,\"\",OFFSET(' Wet Incident'!JQ43,0,2*'Set UP'!$K29))","v":10},{"$f":"'Potensial New Scoring Structure'!K29","v":388.51351351351349},{"$f":"IF(OR(K29=\"\",'Set UP'!$K29<=0),0,(K29-OFFSET(J$2,'Set UP'!$K29,0))*OFFSET(L$2,'Set UP'!$K29,0)+'Set UP'!$R$15)","v":344.12955465587049},"10 ( 344 )",{"$f":"IF('Set UP'!$K29<=0,\"\",OFFSET('Extra Incident'!JU43,0,2*'Set UP'!$K29))","v":""},{"$f":"'Potensial New Scoring Structure'!O29","v":""},{"$f":"IF(OR(O29=\"\",'Set UP'!$K29<=0),0,(O29-OFFSET(N$2,'Set UP'!$K29,0))*OFFSET(P$2,'Set UP'!$K29,0)+'Set UP'!$R$15)","v":0},"",{"$f":"IF('Set UP'!$K29<=0,\"\",OFFSET(RopeThrow!X29,0,2*'Set UP'!$K29))","v":2.5},{"$f":"IF('Set UP'!$K29<=0,\"\",OFFSET(RopeThrow!AG29,0,'Set UP'!$K29))","v":818.18181818181813},{"$f":"IF(OR(S29=\"\",'Set UP'!$K29<=0),0,(S29-OFFSET(R$2,'Set UP'!$K29,0))*OFFSET(T$2,'Set UP'!$K29,0)+'Set UP'!$R$15)","v":820},"2.5 ( 820 )",{"$f":"IF('Set UP'!$K29<=0,\"\",OFFSET('Swim&Tow'!W29,0,2*'Set UP'!$K29))","v":7},{"$f":"'Potensial New Scoring Structure'!W29","v":750.63948334810698},{"$f":"IF(OR(W29=\"\",'Set UP'!$K29<=0),0,(W29-OFFSET(V$2,'Set UP'!$K29,0))*OFFSET(X$2,'Set UP'!$K29,0)+'Set UP'!$R$15)","v":505.79461683524767},"7 ( 505 )",{"$f":"IF('Set UP'!$K29<=0,\"\",OFFSET(Medley!U29,0,2*'Set UP'!$K29))","v":8},{"$f":"'Potensial New Scoring Structure'!AA29","v":686.81415929203558},{"$f":"IF(OR(AA29=\"\",'Set UP'!$K29<=0),0,(AA29-OFFSET(Z$2,'Set UP'!$K29,0))*OFFSET(AB$2,'Set UP'!$K29,0)+'Set UP'!$R$15)","v":524.11067193675922},"8 ( 524 )",{"$f":"IF('Set UP'!$K29<=0,\"\",OFFSET('Manikin Carry'!U29,0,2*'Set UP'!$K29))","v":""},{"$f":"'Potensial New Scoring Structure'!AE29","v":""},{"$f":"IF(OR(AE29=\"\",'Set UP'!$K29<=0),0,(AE29-OFFSET(AD$2,'Set UP'!$K29,0))*OFFSET(AF$2,'Set UP'!$K29,0)+'Set UP'!$R$15)","v":0},"",{"$f":"IF('Set UP'!$K29<=0,\"\",OFFSET(Obstacle!U29,0,2*'Set UP'!$K29))","v":""},{"$f":"'Potensial New Scoring Structure'!AI29","v":""},{"$f":"IF(OR(AI29=\"\",'Set UP'!$K29<=0),0,(AI29-OFFSET(AH$2,'Set UP'!$K29,0))*OFFSET(AJ$2,'Set UP'!$K29,0)+'Set UP'!$R$15)","v":0},"",3550.8509652479274,{"$f":"IF('Set UP'!$K29=1,$AL29,\"\")","v":""},{"$f":"IF(AM29=\"\",\"\",RANK(AM29,AM$7:AM$46))","v":""},{"$f":"IF('Set UP'!$K29=2,$AL29,\"\")","v":3550.8509652479274},7,null,{"$f":"IF(AN29=\"\",\"\",'League Results'!P29)","v":""},{"$f":"IF(AP29=\"\",\"\",'League Results'!R29)","v":9}]
[null,24,{"$f":"IF(OR('Set UP'!$C30=0,'Set UP'!$D30=0,'Set UP'!$E30=0,'Set UP'!F30=0),\"  --\",'Set UP'!C30)","v":1429},{"$f":"IF(OR('Set UP'!$C30=0,'Set UP'!$D30=0,'Set UP'!$E30=0,'Set UP'!F30=0),\"  --\",'Set UP'!D30&\" \"&'Set UP'!E30)","v":"University of Nottingham A"},{"$f":"IF(OR('Set UP'!$C30=0,'Set UP'!$D30=0,'Set UP'!$E30=0,'Set UP'!F30=0),\" --\",'Set UP'!F30)","v":"S"},{"$f":"IF('Set UP'!$K30<=0,\"\",OFFSET('Dry Incident'!JQ44,0,2*'Set UP'!$K30))","v":7},{"$f":"'Potensial New Scoring Structure'!G30","v":796.61016949152543},{"$f":"IF(OR(G30=\"\",'Set UP'!$K30<=0),0,(G30-OFFSET(F$2,'Set UP'!$K30,0))*OFFSET(H$2,'Set UP'!$K30,0)+'Set UP'!$R$15)","v":578.12500000000011},"7 ( 578 )",{"$f":"IF('Set UP'!$K30<=0,\"\",OFFSET(' Wet Incident'!JQ44,0,2*'Set UP'!$K30))","v":5},{"$f":"'Potensial New Scoring Structure'!K30","v":665.54054054054052},{"$f":"IF(OR(K30=\"\",'Set UP'!$K30<=0),0,(K30-OFFSET(J$2,'Set UP'!$K30,0))*OFFSET(L$2,'Set UP'!$K30,0)+'Set UP'!$R$15)","v":585.58139534883719},"5 ( 585 )",{"$f":"IF('Set UP'!$K30<=0,\"\",OFFSET('Extra Incident'!JU44,0,2*'Set UP'!$K30))","v":""},{"$f":"'Potensial New Scoring Structure'!O30","v":""},{"$f":"IF(OR(O30=\"\",'Set UP'!$K30<=0),0,(O30-OFFSET(N$2,'Set UP'!$K30,0))*OFFSET(P$2,'Set UP'!$K30,0)+'Set UP'!$R$15)","v":0},"",{"$f":"IF('Set UP'!$K30<=0,\"\",OFFSET(RopeThrow!X30,0,2*'Set UP'!$K30))","v":1},{"$f":"IF('Set UP'!$K30<=0,\"\",OFFSET(RopeThrow!AG30,0,'Set UP'!$K30))","v":1000},{"$f":"IF(OR(S30=\"\",'Set UP'!$K30<=0),0,(S30-OFFSET(R$2,'Set UP'!$K30,0))*OFFSET(T$2,'Set UP'!$K30,0)+'Set UP'!$R$15)","v":1000},"1 ( 1000 )",{"$f":"IF('Set UP'!$K30<=0,\"\",OFFSET('Swim&Tow'!W30,0,2*'Set UP'!$K30))","v":7},{"$f":"'Potensial New Scoring Structure'!W30","v":775.23110041788027},{"$f":"IF(OR(W30=\"\",'Set UP'!$K30<=0),0,(W30-OFFSET(V$2,'Set UP'!$K30,0))*OFFSET(X$2,'Set UP'!$K30,0)+'Set UP'!$R$15)","v":331.83143065338822},"7 ( 331 )",{"$f":"IF('Set UP'!$K30<=0,\"\",OFFSET(Medley!U30,0,2*'Set UP'!$K30))","v":6},{"$f":"'Potensial New Scoring Structure'!AA30","v":765.22123893805303},{"$f":"IF(OR(AA30=\"\",'Set UP'!$K30<=0),0,(AA30-OFFSET(Z$2,'Set UP'!$K30,0))*OFFSET(AB$2,'Set UP'!$K30,0)+'Set UP'!$R$15)","v":523.79518072289125},"6 ( 523 )",{"$f":"IF('Set UP'!$K30<=0,\"\",OFFSET('Manikin Carry'!U30,0,2*'Set UP'!$K30))","v":""},{"$f":"'Potensial New Scoring Structure'!AE30","v":""},{"$f":"IF(OR(AE30=\"\",'Set UP'!$K30<=0),0,(AE30-OFFSET(AD$2,'Set UP'!$K30,0))*OFFSET(AF$2,'Set UP'!$K30,0)+'Set UP'!$R$15)","v":0},"",{"$f":"IF('Set UP'!$K30<=0,\"\",OFFSET(Obstacle!U30,0,2*'Set UP'!$K30))","v":""},{"$f":"'Potensial New Scoring Structure'!AI30","v":""},{"$f":"IF(OR(AI30=\"\",'Set UP'!$K30<=0),0,(AI30-OFFSET(AH$2,'Set UP'!$K30,0))*OFFSET(AJ$2,'Set UP'!$K30,0)+'Set UP'!$R$15)","v":0},"",4183.0394020739541,{"$f":"IF('Set UP'!$K30=1,$AL30,\"\")","v":4183.0394020739541},4,{"$f":"IF('Set UP'!$K30=2,$AL30,\"\")","v":""},"",null,{"$f":"IF(AN30=\"\",\"\",'League Results'!P30)","v":5},{"$f":"IF(AP30=\"\",\"\",'League Results'!R30)","v":""}]
[null,25,{"$f":"IF(OR('Set UP'!$C31=0,'Set UP'!$D31=0,'Set UP'!$E31=0,'Set UP'!F31=0),\"  --\",'Set UP'!C31)","v":1438},{"$f":"IF(OR('Set UP'!$C31=0,'Set UP'!$D31=0,'Set UP'!$E31=0,'Set UP'!F31=0),\"  --\",'Set UP'!D31&\" \"&'Set UP'!E31)","v":"Swansea Universities Lifesaving B"},{"$f":"IF(OR('Set UP'!$C31=0,'Set UP'!$D31=0,'Set UP'!$E31=0,'Set UP'!F31=0),\" --\",'Set UP'!F31)","v":"S"},{"$f":"IF('Set UP'!$K31<=0,\"\",OFFSET('Dry Incident'!JQ45,0,2*'Set UP'!$K31))","v":11},{"$f":"'Potensial New Scoring Structure'!G31","v":462.71186440677963},{"$f":"IF(OR(G31=\"\",'Set UP'!$K31<=0),0,(G31-OFFSET(F$2,'Set UP'!$K31,0))*OFFSET(H$2,'Set UP'!$K31,0)+'Set UP'!$R$15)","v":100},"11 ( 100 )",{"$f":"IF('Set UP'!$K31<=0,\"\",OFFSET(' Wet Incident'!JQ45,0,2*'Set UP'!$K31))","v":11},{"$f":"'Potensial New Scoring Structure'!K31","v":275.33783783783781},{"$f":"IF(OR(K31=\"\",'Set UP'!$K31<=0),0,(K31-OFFSET(J$2,'Set UP'!$K31,0))*OFFSET(L$2,'Set UP'!$K31,0)+'Set UP'!$R$15)","v":100},"11 ( 100 )",{"$f":"IF('Set UP'!$K31<=0,\"\",OFFSET('Extra Incident'!JU45,0,2*'Set UP'!$K31))","v":""},{"$f":"'Potensial New Scoring Structure'!O31","v":""},{"$f":"IF(OR(O31=\"\",'Set UP'!$K31<=0),0,(O31-OFFSET(N$2,'Set UP'!$K31,0))*OFFSET(P$2,'Set UP'!$K31,0)+'Set UP'!$R$15)","v":0},"",{"$f":"IF('Set UP'!$K31<=0,\"\",OFFSET(RopeThrow!X31,0,2*'Set UP'!$K31))","v":6.5},{"$f":"IF('Set UP'!$K31<=0,\"\",OFFSET(RopeThrow!AG31,0,'Set UP'!$K31))","v":454.54545454545456},{"$f":"IF(OR(S31=\"\",'Set UP'!$K31<=0),0,(S31-OFFSET(R$2,'Set UP'!$K31,0))*OFFSET(T$2,'Set UP'!$K31,0)+'Set UP'!$R$15)","v":460},"6.5 ( 460 )",{"$f":"IF('Set UP'!$K31<=0,\"\",OFFSET('Swim&Tow'!W31,0,2*'Set UP'!$K31))","v":8},{"$f":"'Potensial New Scoring Structure'!W31","v":731.79688489299747},{"$f":"IF(OR(W31=\"\",'Set UP'!$K31<=0),0,(W31-OFFSET(V$2,'Set UP'!$K31,0))*OFFSET(X$2,'Set UP'!$K31,0)+'Set UP'!$R$15)","v":448.39705126007198},"8 ( 448 )",{"$f":"IF('Set UP'!$K31<=0,\"\",OFFSET(Medley!U31,0,2*'Set UP'!$K31))","v":4},{"$f":"'Potensial New Scoring Structure'!AA31","v":778.84955752212386},{"$f":"IF(OR(AA31=\"\",'Set UP'!$K31<=0),0,(AA31-OFFSET(Z$2,'Set UP'!$K31,0))*OFFSET(AB$2,'Set UP'!$K31,0)+'Set UP'!$R$15)","v":729.64426877470339},"4 ( 729 )",{"$f":"IF('Set UP'!$K31<=0,\"\",OFFSET('Manikin Carry'!U31,0,2*'Set UP'!$K31))","v":""},{"$f":"'Potensial New Scoring Structure'!AE31","v":""},{"$f":"IF(OR(AE31=\"\",'Set UP'!$K31<=0),0,(AE31-OFFSET(AD$2,'Set UP'!$K31,0))*OFFSET(AF$2,'Set UP'!$K31,0)+'Set UP'!$R$15)","v":0},"",{"$f":"IF('Set UP'!$K31<=0,\"\",OFFSET(Obstacle!U31,0,2*'Set UP'!$K31))","v":""},{"$f":"'Potensial New Scoring Structure'!AI31","v":""},{"$f":"IF(OR(AI31=\"\",'Set UP'!$K31<=0),0,(AI31-OFFSET(AH$2,'Set UP'!$K31,0))*OFFSET(AJ$2,'Set UP'!$K31,0)+'Set UP'!$R$15)","v":0},"",2038.0413200347755,{"$f":"IF('Set UP'!$K31=1,$AL31,\"\")","v":""},"",{"$f":"IF('Set UP'!$K31=2,$AL31,\"\")","v":2038.0413200347755},11,null,{"$f":"IF(AN31=\"\",\"\",'League Results'!P31)","v":""},{"$f":"IF(AP31=\"\",\"\",'League Results'!R31)","v":11}]
[null,26,{"$f":"IF(OR('Set UP'!$C32=0,'Set UP'!$D32=0,'Set UP'!$E32=0,'Set UP'!F32=0),\"  --\",'Set UP'!C32)","v":1442},{"$f":"IF(OR('Set UP'!$C32=0,'Set UP'!$D32=0,'Set UP'!$E32=0,'Set UP'!F32=0),\"  --\",'Set UP'!D32&\" \"&'Set UP'!E32)","v":"University of Birmingham A"},{"$f":"IF(OR('Set UP'!$C32=0,'Set UP'!$D32=0,'Set UP'!$E32=0,'Set UP'!F32=0),\" --\",'Set UP'!F32)","v":"S"},{"$f":"IF('Set UP'!$K32<=0,\"\",OFFSET('Dry Incident'!JQ46,0,2*'Set UP'!$K32))","v":3},{"$f":"'Potensial New Scoring Structure'!G32","v":913.5593220338983},{"$f":"IF(OR(G32=\"\",'Set UP'!$K32<=0),0,(G32-OFFSET(F$2,'Set UP'!$K32,0))*OFFSET(H$2,'Set UP'!$K32,0)+'Set UP'!$R$15)","v":820.703125},"3 ( 820 )",{"$f":"IF('Set UP'!$K32<=0,\"\",OFFSET(' Wet Incident'!JQ46,0,2*'Set UP'!$K32))","v":6},{"$f":"'Potensial New Scoring Structure'!K32","v":604.72972972972968},{"$f":"IF(OR(K32=\"\",'Set UP'!$K32<=0),0,(K32-OFFSET(J$2,'Set UP'!$K32,0))*OFFSET(L$2,'Set UP'!$K32,0)+'Set UP'!$R$15)","v":510.23255813953483},"6 ( 510 )",{"$f":"IF('Set UP'!$K32<=0,\"\",OFFSET('Extra Incident'!JU46,0,2*'Set UP'!$K32))","v":""},{"$f":"'Potensial New Scoring Structure'!O32","v":""},{"$f":"IF(OR(O32=\"\",'Set UP'!$K32<=0),0,(O32-OFFSET(N$2,'Set UP'!$K32,0))*OFFSET(P$2,'Set UP'!$K32,0)+'Set UP'!$R$15)","v":0},"",{"$f":"IF('Set UP'!$K32<=0,\"\",OFFSET(RopeThrow!X32,0,2*'Set UP'!$K32))","v":4.5},{"$f":"IF('Set UP'!$K32<=0,\"\",OFFSET(RopeThrow!AG32,0,'Set UP'!$K32))","v":555.55555555555566},{"$f":"IF(OR(S32=\"\",'Set UP'!$K32<=0),0,(S32-OFFSET(R$2,'Set UP'!$K32,0))*OFFSET(T$2,'Set UP'!$K32,0)+'Set UP'!$R$15)","v":576.47058823529414},"4.5 ( 576 )",{"$f":"IF('Set UP'!$K32<=0,\"\",OFFSET('Swim&Tow'!W32,0,2*'Set UP'!$K32))","v":5},{"$f":"'Potensial New Scoring Structure'!W32","v":867.29137647207813},{"$f":"IF(OR(W32=\"\",'Set UP'!$K32<=0),0,(W32-OFFSET(V$2,'Set UP'!$K32,0))*OFFSET(X$2,'Set UP'!$K32,0)+'Set UP'!$R$15)","v":729.14743745445742},"5 ( 729 )",{"$f":"IF('Set UP'!$K32<=0,\"\",OFFSET(Medley!U32,0,2*'Set UP'!$K32))","v":4},{"$f":"'Potensial New Scoring Structure'!AA32","v":778.93805309734523},{"$f":"IF(OR(AA32=\"\",'Set UP'!$K32<=0),0,(AA32-OFFSET(Z$2,'Set UP'!$K32,0))*OFFSET(AB$2,'Set UP'!$K32,0)+'Set UP'!$R$15)","v":570.48192771084359},"4 ( 570 )",{"$f":"IF('Set UP'!$K32<=0,\"\",OFFSET('Manikin Carry'!U32,0,2*'Set UP'!$K32))","v":""},{"$f":"'Potensial New Scoring Structure'!AE32","v":""},{"$f":"IF(OR(AE32=\"\",'Set UP'!$K32<=0),0,(AE32-OFFSET(AD$2,'Set UP'!$K32,0))*OFFSET(AF$2,'Set UP'!$K32,0)+'Set UP'!$R$15)","v":0},"",{"$f":"IF('Set UP'!$K32<=0,\"\",OFFSET(Obstacle!U32,0,2*'Set UP'!$K32))","v":""},{"$f":"'Potensial New Scoring Structure'!AI32","v":""},{"$f":"IF(OR(AI32=\"\",'Set UP'!$K32<=0),0,(AI32-OFFSET(AH$2,'Set UP'!$K32,0))*OFFSET(AJ$2,'Set UP'!$K32,0)+'Set UP'!$R$15)","v":0},"",4537.9713196796647,{"$f":"IF('Set UP'!$K32=1,$AL32,\"\")","v":4537.9713196796647},3,{"$f":"IF('Set UP'!$K32=2,$AL32,\"\")","v":""},"",null,{"$f":"IF(AN32=\"\",\"\",'League Results'!P32)","v":3},{"$f":"IF(AP32=\"\",\"\",'League Results'!R32)","v":""}]
[null,27,{"$f":"IF(OR('Set UP'!$C33=0,'Set UP'!$D33=0,'Set UP'!$E33=0,'Set UP'!F33=0),\"  --\",'Set UP'!C33)","v":1456},{"$f":"IF(OR('Set UP'!$C33=0,'Set UP'!$D33=0,'Set UP'!$E33=0,'Set UP'!F33=0),\"  --\",'Set UP'!D33&\" \"&'Set UP'!E33)","v":"University of Warwick A"},{"$f":"IF(OR('Set UP'!$C33=0,'Set UP'!$D33=0,'Set UP'!$E33=0,'Set UP'!F33=0),\" --\",'Set UP'!F33)","v":"S"},{"$f":"IF('Set UP'!$K33<=0,\"\",OFFSET('Dry Incident'!JQ47,0,2*'Set UP'!$K33))","v":1},{"$f":"'Potensial New Scoring Structure'!G33","v":1000},{"$f":"IF(OR(G33=\"\",'Set UP'!$K33<=0),0,(G33-OFFSET(F$2,'Set UP'!$K33,0))*OFFSET(H$2,'Set UP'!$K33,0)+'Set UP'!$R$15)","v":1000},"1 ( 1000 )",{"$f":"IF('Set UP'!$K33<=0,\"\",OFFSET(' Wet Incident'!JQ47,0,2*'Set UP'!$K33))","v":3},{"$f":"'Potensial New Scoring Structure'!K33","v":717.90540540540542},{"$f":"IF(OR(K33=\"\",'Set UP'!$K33<=0),0,(K33-OFFSET(J$2,'Set UP'!$K33,0))*OFFSET(L$2,'Set UP'!$K33,0)+'Set UP'!$R$15)","v":650.46511627906978},"3 ( 650 )",{"$f":"IF('Set UP'!$K33<=0,\"\",OFFSET('Extra Incident'!JU47,0,2*'Set UP'!$K33))","v":""},{"$f":"'Potensial New Scoring Structure'!O33","v":""},{"$f":"IF(OR(O33=\"\",'Set UP'!$K33<=0),0,(O33-OFFSET(N$2,'Set UP'!$K33,0))*OFFSET(P$2,'Set UP'!$K33,0)+'Set UP'!$R$15)","v":0},"",{"$f":"IF('Set UP'!$K33<=0,\"\",OFFSET(RopeThrow!X33,0,2*'Set UP'!$K33))","v":4.5},{"$f":"IF('Set UP'!$K33<=0,\"\",OFFSET(RopeThrow!AG33,0,'Set UP'!$K33))","v":555.55555555555566},{"$f":"IF(OR(S33=\"\",'Set UP'!$K33<=0),0,(S33-OFFSET(R$2,'Set UP'!$K33,0))*OFFSET(T$2,'Set UP'!$K33,0)+'Set UP'!$R$15)","v":576.47058823529414},"4.5 ( 576 )",{"$f":"IF('Set UP'!$K33<=0,\"\",OFFSET('Swim&Tow'!W33,0,2*'Set UP'!$K33))","v":1},{"$f":"'Potensial New Scoring Structure'!W33","v":930.04938584272509},{"$f":"IF(OR(W33=\"\",'Set UP'!$K33<=0),0,(W33-OFFSET(V$2,'Set UP'!$K33,0))*OFFSET(X$2,'Set UP'!$K33,0)+'Set UP'!$R$15)","v":999.99999999999989},"1 ( 1000 )",{"$f":"IF('Set UP'!$K33<=0,\"\",OFFSET(Medley!U33,0,2*'Set UP'!$K33))","v":5},{"$f":"'Potensial New Scoring Structure'!AA33","v":771.59292035398232},{"$f":"IF(OR(AA33=\"\",'Set UP'!$K33<=0),0,(AA33-OFFSET(Z$2,'Set UP'!$K33,0))*OFFSET(AB$2,'Set UP'!$K33,0)+'Set UP'!$R$15)","v":545.48192771084337},"5 ( 545 )",{"$f":"IF('Set UP'!$K33<=0,\"\",OFFSET('Manikin Carry'!U33,0,2*'Set UP'!$K33))","v":""},{"$f":"'Potensial New Scoring Structure'!AE33","v":""},{"$f":"IF(OR(AE33=\"\",'Set UP'!$K33<=0),0,(AE33-OFFSET(AD$2,'Set UP'!$K33,0))*OFFSET(AF$2,'Set UP'!$K33,0)+'Set UP'!$R$15)","v":0},"",{"$f":"IF('Set UP'!$K33<=0,\"\",OFFSET(Obstacle!U33,0,2*'Set UP'!$K33))","v":""},{"$f":"'Potensial New Scoring Structure'!AI33","v":""},{"$f":"IF(OR(AI33=\"\",'Set UP'!$K33<=0),0,(AI33-OFFSET(AH$2,'Set UP'!$K33,0))*OFFSET(AJ$2,'Set UP'!$K33,0)+'Set UP'!$R$15)","v":0},"",5422.8827485042766,{"$f":"IF('Set UP'!$K33=1,$AL33,\"\")","v":5422.8827485042766},2,{"$f":"IF('Set UP'!$K33=2,$AL33,\"\")","v":""},"",null,{"$f":"IF(AN33=\"\",\"\",'League Results'!P33)","v":2},{"$f":"IF(AP33=\"\",\"\",'League Results'!R33)","v":""}]
[null,28,{"$f":"IF(OR('Set UP'!$C34=0,'Set UP'!$D34=0,'Set UP'!$E34=0,'Set UP'!F34=0),\"  --\",'Set UP'!C34)","v":1460},{"$f":"IF(OR('Set UP'!$C34=0,'Set UP'!$D34=0,'Set UP'!$E34=0,'Set UP'!F34=0),\"  --\",'Set UP'!D34&\" \"&'Set UP'!E34)","v":"Bristol University A"},{"$f":"IF(OR('Set UP'!$C34=0,'Set UP'!$D34=0,'Set UP'!$E34=0,'Set UP'!F34=0),\" --\",'Set UP'!F34)","v":"S"},{"$f":"IF('Set UP'!$K34<=0,\"\",OFFSET('Dry Incident'!JQ48,0,2*'Set UP'!$K34))","v":6},{"$f":"'Potensial New Scoring Structure'!G34","v":835.59322033898309},{"$f":"IF(OR(G34=\"\",'Set UP'!$K34<=0),0,(G34-OFFSET(F$2,'Set UP'!$K34,0))*OFFSET(H$2,'Set UP'!$K34,0)+'Set UP'!$R$15)","v":658.98437500000011},"6 ( 658 )",{"$f":"IF('Set UP'!$K34<=0,\"\",OFFSET(' Wet Incident'!JQ48,0,2*'Set UP'!$K34))","v":4},{"$f":"'Potensial New Scoring Structure'!K34","v":716.21621621621625},{"$f":"IF(OR(K34=\"\",'Set UP'!$K34<=0),0,(K34-OFFSET(J$2,'Set UP'!$K34,0))*OFFSET(L$2,'Set UP'!$K34,0)+'Set UP'!$R$15)","v":648.37209302325584},"4 ( 648 )",{"$f":"IF('Set UP'!$K34<=0,\"\",OFFSET('Extra Incident'!JU48,0,2*'Set UP'!$K34))","v":""},{"$f":"'Potensial New Scoring Structure'!O34","v":""},{"$f":"IF(OR(O34=\"\",'Set UP'!$K34<=0),0,(O34-OFFSET(N$2,'Set UP'!$K34,0))*OFFSET(P$2,'Set UP'!$K34,0)+'Set UP'!$R$15)","v":0},"",{"$f":"IF('Set UP'!$K34<=0,\"\",OFFSET(RopeThrow!X34,0,2*'Set UP'!$K34))","v":7.5},{"$f":"IF('Set UP'!$K34<=0,\"\",OFFSET(RopeThrow!AG34,0,'Set UP'!$K34))","v":222.22222222222223},{"$f":"IF(OR(S34=\"\",'Set UP'!$K34<=0),0,(S34-OFFSET(R$2,'Set UP'!$K34,0))*OFFSET(T$2,'Set UP'!$K34,0)+'Set UP'!$R$15)","v":258.82352941176475},"7.5 ( 258 )",{"$f":"IF('Set UP'!$K34<=0,\"\",OFFSET('Swim&Tow'!W34,0,2*'Set UP'!$K34))","v":3},{"$f":"'Potensial New Scoring Structure'!W34","v":900.77244523236686},{"$f":"IF(OR(W34=\"\",'Set UP'!$K34<=0),0,(W34-OFFSET(V$2,'Set UP'!$K34,0))*OFFSET(X$2,'Set UP'!$K34,0)+'Set UP'!$R$15)","v":873.6458586349288},"3 ( 873 )",{"$f":"IF('Set UP'!$K34<=0,\"\",OFFSET(Medley!U34,0,2*'Set UP'!$K34))","v":9},{"$f":"'Potensial New Scoring Structure'!AA34","v":""},{"$f":"IF(OR(AA34=\"\",'Set UP'!$K34<=0),0,(AA34-OFFSET(Z$2,'Set UP'!$K34,0))*OFFSET(AB$2,'Set UP'!$K34,0)+'Set UP'!$R$15)","v":0},"9 ( 0 )",{"$f":"IF('Set UP'!$K34<=0,\"\",OFFSET('Manikin Carry'!U34,0,2*'Set UP'!$K34))","v":""},{"$f":"'Potensial New Scoring Structure'!AE34","v":""},{"$f":"IF(OR(AE34=\"\",'Set UP'!$K34<=0),0,(AE34-OFFSET(AD$2,'Set UP'!$K34,0))*OFFSET(AF$2,'Set UP'!$K34,0)+'Set UP'!$R$15)","v":0},"",{"$f":"IF('Set UP'!$K34<=0,\"\",OFFSET(Obstacle!U34,0,2*'Set UP'!$K34))","v":""},{"$f":"'Potensial New Scoring Structure'!AI34","v":""},{"$f":"IF(OR(AI34=\"\",'Set UP'!$K34<=0),0,(AI34-OFFSET(AH$2,'Set UP'!$K34,0))*OFFSET(AJ$2,'Set UP'!$K34,0)+'Set UP'!$R$15)","v":0},"",3747.1823240932054,{"$f":"IF('Set UP'!$K34=1,$AL34,\"\")","v":3747.1823240932054},5,{"$f":"IF('Set UP'!$K34=2,$AL34,\"\")","v":""},"",null,{"$f":"IF(AN34=\"\",\"\",'League Results'!P34)","v":6},{"$f":"IF(AP34=\"\",\"\",'League Results'!R34)","v":""}]
[null,29,{"$f":"IF(OR('Set UP'!$C35=0,'Set UP'!$D35=0,'Set UP'!$E35=0,'Set UP'!F35=0),\"  --\",'Set UP'!C35)","v":1437},{"$f":"IF(OR('Set UP'!$C35=0,'Set UP'!$D35=0,'Set UP'!$E35=0,'Set UP'!F35=0),\"  --\",'Set UP'!D35&\" \"&'Set UP'!E35)","v":"Swansea Universities Lifesaving A"},{"$f":"IF(OR('Set UP'!$C35=0,'Set UP'!$D35=0,'Set UP'!$E35=0,'Set UP'!F35=0),\" --\",'Set UP'!F35)","v":"S"},{"$f":"IF('Set UP'!$K35<=0,\"\",OFFSET('Dry Incident'!JQ49,0,2*'Set UP'!$K35))","v":9},{"$f":"'Potensial New Scoring Structure'!G35","v":566.10169491525414},{"$f":"IF(OR(G35=\"\",'Set UP'!$K35<=0),0,(G35-OFFSET(F$2,'Set UP'!$K35,0))*OFFSET(H$2,'Set UP'!$K35,0)+'Set UP'!$R$15)","v":100},"9 ( 100 )",{"$f":"IF('Set UP'!$K35<=0,\"\",OFFSET(' Wet Incident'!JQ49,0,2*'Set UP'!$K35))","v":9},{"$f":"'Potensial New Scoring Structure'!K35","v":273.64864864864865},{"$f":"IF(OR(K35=\"\",'Set UP'!$K35<=0),0,(K35-OFFSET(J$2,'Set UP'!$K35,0))*OFFSET(L$2,'Set UP'!$K35,0)+'Set UP'!$R$15)","v":100},"9 ( 100 )",{"$f":"IF('Set UP'!$K35<=0,\"\",OFFSET('Extra Incident'!JU49,0,2*'Set UP'!$K35))","v":""},{"$f":"'Potensial New Scoring Structure'!O35","v":""},{"$f":"IF(OR(O35=\"\",'Set UP'!$K35<=0),0,(O35-OFFSET(N$2,'Set UP'!$K35,0))*OFFSET(P$2,'Set UP'!$K35,0)+'Set UP'!$R$15)","v":0},"",{"$f":"IF('Set UP'!$K35<=0,\"\",OFFSET(RopeThrow!X35,0,2*'Set UP'!$K35))","v":4.5},{"$f":"IF('Set UP'!$K35<=0,\"\",OFFSET(RopeThrow!AG35,0,'Set UP'!$K35))","v":555.55555555555566},{"$f":"IF(OR(S35=\"\",'Set UP'!$K35<=0),0,(S35-OFFSET(R$2,'Set UP'!$K35,0))*OFFSET(T$2,'Set UP'!$K35,0)+'Set UP'!$R$15)","v":576.47058823529414},"4.5 ( 576 )",{"$f":"IF('Set UP'!$K35<=0,\"\",OFFSET('Swim&Tow'!W35,0,2*'Set UP'!$K35))","v":4},{"$f":"'Potensial New Scoring Structure'!W35","v":891.12321134608101},{"$f":"IF(OR(W35=\"\",'Set UP'!$K35<=0),0,(W35-OFFSET(V$2,'Set UP'!$K35,0))*OFFSET(X$2,'Set UP'!$K35,0)+'Set UP'!$R$15)","v":832.00145737187347},"4 ( 832 )",{"$f":"IF('Set UP'!$K35<=0,\"\",OFFSET(Medley!U35,0,2*'Set UP'!$K35))","v":1},{"$f":"'Potensial New Scoring Structure'!AA35","v":905.13274336283189},{"$f":"IF(OR(AA35=\"\",'Set UP'!$K35<=0),0,(AA35-OFFSET(Z$2,'Set UP'!$K35,0))*OFFSET(AB$2,'Set UP'!$K35,0)+'Set UP'!$R$15)","v":1000},"1 ( 1000 )",{"$f":"IF('Set UP'!$K35<=0,\"\",OFFSET('Manikin Carry'!U35,0,2*'Set UP'!$K35))","v":""},{"$f":"'Potensial New Scoring Structure'!AE35","v":""},{"$f":"IF(OR(AE35=\"\",'Set UP'!$K35<=0),0,(AE35-OFFSET(AD$2,'Set UP'!$K35,0))*OFFSET(AF$2,'Set UP'!$K35,0)+'Set UP'!$R$15)","v":0},"",{"$f":"IF('Set UP'!$K35<=0,\"\",OFFSET(Obstacle!U35,0,2*'Set UP'!$K35))","v":""},{"$f":"'Potensial New Scoring Structure'!AI35","v":""},{"$f":"IF(OR(AI35=\"\",'Set UP'!$K35<=0),0,(AI35-OFFSET(AH$2,'Set UP'!$K35,0))*OFFSET(AJ$2,'Set UP'!$K35,0)+'Set UP'!$R$15)","v":0},"",2808.4720456071677,{"$f":"IF('Set UP'!$K35=1,$AL35,\"\")","v":2808.4720456071677},7,{"$f":"IF('Set UP'!$K35=2,$AL35,\"\")","v":""},"",null,{"$f":"IF(AN35=\"\",\"\",'League Results'!P35)","v":8},{"$f":"IF(AP35=\"\",\"\",'League Results'!R35)","v":""}]
[null,30,{"$f":"IF(OR('Set UP'!$C36=0,'Set UP'!$D36=0,'Set UP'!$E36=0,'Set UP'!F36=0),\"  --\",'Set UP'!C36)","v":1425},{"$f":"IF(OR('Set UP'!$C36=0,'Set UP'!$D36=0,'Set UP'!$E36=0,'Set UP'!F36=0),\"  --\",'Set UP'!D36&\" \"&'Set UP'!E36)","v":"London Universities A"},{"$f":"IF(OR('Set UP'!$C36=0,'Set UP'!$D36=0,'Set UP'!$E36=0,'Set UP'!F36=0),\" --\",'Set UP'!F36)","v":"S"},{"$f":"IF('Set UP'!$K36<=0,\"\",OFFSET('Dry Incident'!JQ50,0,2*'Set UP'!$K36))","v":2},{"$f":"'Potensial New Scoring Structure'!G36","v":984.74576271186447},{"$f":"IF(OR(G36=\"\",'Set UP'!$K36<=0),0,(G36-OFFSET(F$2,'Set UP'!$K36,0))*OFFSET(H$2,'Set UP'!$K36,0)+'Set UP'!$R$15)","v":968.35937500000011},"2 ( 968 )",{"$f":"IF('Set UP'!$K36<=0,\"\",OFFSET(' Wet Incident'!JQ50,0,2*'Set UP'!$K36))","v":1},{"$f":"'Potensial New Scoring Structure'!K36","v":1000},{"$f":"IF(OR(K36=\"\",'Set UP'!$K36<=0),0,(K36-OFFSET(J$2,'Set UP'!$K36,0))*OFFSET(L$2,'Set UP'!$K36,0)+'Set UP'!$R$15)","v":1000},"1 ( 1000 )",{"$f":"IF('Set UP'!$K36<=0,\"\",OFFSET('Extra Incident'!JU50,0,2*'Set UP'!$K36))","v":""},{"$f":"'Potensial New Scoring Structure'!O36","v":""},{"$f":"IF(OR(O36=\"\",'Set UP'!$K36<=0),0,(O36-OFFSET(N$2,'Set UP'!$K36,0))*OFFSET(P$2,'Set UP'!$K36,0)+'Set UP'!$R$15)","v":0},"",{"$f":"IF('Set UP'!$K36<=0,\"\",OFFSET(RopeThrow!X36,0,2*'Set UP'!$K36))","v":2},{"$f":"IF('Set UP'!$K36<=0,\"\",OFFSET(RopeThrow!AG36,0,'Set UP'!$K36))","v":777.77777777777783},{"$f":"IF(OR(S36=\"\",'Set UP'!$K36<=0),0,(S36-OFFSET(R$2,'Set UP'!$K36,0))*OFFSET(T$2,'Set UP'!$K36,0)+'Set UP'!$R$15)","v":788.23529411764707},"2 ( 788 )",{"$f":"IF('Set UP'!$K36<=0,\"\",OFFSET('Swim&Tow'!W36,0,2*'Set UP'!$K36))","v":2},{"$f":"'Potensial New Scoring Structure'!W36","v":921.10928200582509},{"$f":"IF(OR(W36=\"\",'Set UP'!$K36<=0),0,(W36-OFFSET(V$2,'Set UP'!$K36,0))*OFFSET(X$2,'Set UP'!$K36,0)+'Set UP'!$R$15)","v":961.41607966966274},"2 ( 961 )",{"$f":"IF('Set UP'!$K36<=0,\"\",OFFSET(Medley!U36,0,2*'Set UP'!$K36))","v":2},{"$f":"'Potensial New Scoring Structure'!AA36","v":852.30088495575228},{"$f":"IF(OR(AA36=\"\",'Set UP'!$K36<=0),0,(AA36-OFFSET(Z$2,'Set UP'!$K36,0))*OFFSET(AB$2,'Set UP'!$K36,0)+'Set UP'!$R$15)","v":820.18072289156635},"2 ( 820 )",{"$f":"IF('Set UP'!$K36<=0,\"\",OFFSET('Manikin Carry'!U36,0,2*'Set UP'!$K36))","v":""},{"$f":"'Potensial New Scoring Structure'!AE36","v":""},{"$f":"IF(OR(AE36=\"\",'Set UP'!$K36<=0),0,(AE36-OFFSET(AD$2,'Set UP'!$K36,0))*OFFSET(AF$2,'Set UP'!$K36,0)+'Set UP'!$R$15)","v":0},"",{"$f":"IF('Set UP'!$K36<=0,\"\",OFFSET(Obstacle!U36,0,2*'Set UP'!$K36))","v":""},{"$f":"'Potensial New Scoring Structure'!AI36","v":""},{"$f":"IF(OR(AI36=\"\",'Set UP'!$K36<=0),0,(AI36-OFFSET(AH$2,'Set UP'!$K36,0))*OFFSET(AJ$2,'Set UP'!$K36,0)+'Set UP'!$R$15)","v":0},"",6506.5508466788751,{"$f":"IF('Set UP'!$K36=1,$AL36,\"\")","v":6506.5508466788751},1,{"$f":"IF('Set UP'!$K36=2,$AL36,\"\")","v":""},"",null,{"$f":"IF(AN36=\"\",\"\",'League Results'!P36)","v":1},{"$f":"IF(AP36=\"\",\"\",'League Results'!R36)","v":""}]
[null,31,{"$f":"IF(OR('Set UP'!$C37=0,'Set UP'!$D37=0,'Set UP'!$E37=0,'Set UP'!F37=0),\"  --\",'Set UP'!C37)","v":"  --"},{"$f":"IF(OR('Set UP'!$C37=0,'Set UP'!$D37=0,'Set UP'!$E37=0,'Set UP'!F37=0),\"  --\",'Set UP'!D37&\" \"&'Set UP'!E37)","v":"  --"},{"$f":"IF(OR('Set UP'!$C37=0,'Set UP'!$D37=0,'Set UP'!$E37=0,'Set UP'!F37=0),\" --\",'Set UP'!F37)","v":" --"},{"$f":"IF('Set UP'!$K37<=0,\"\",OFFSET('Dry Incident'!JQ51,0,2*'Set UP'!$K37))","v":""},{"$f":"'Potensial New Scoring Structure'!G37","v":""},{"$f":"IF(OR(G37=\"\",'Set UP'!$K37<=0),0,(G37-OFFSET(F$2,'Set UP'!$K37,0))*OFFSET(H$2,'Set UP'!$K37,0)+'Set UP'!$R$15)","v":0},"",{"$f":"IF('Set UP'!$K37<=0,\"\",OFFSET(' Wet Incident'!JQ51,0,2*'Set UP'!$K37))","v":""},{"$f":"'Potensial New Scoring Structure'!K37","v":""},{"$f":"IF(OR(K37=\"\",'Set UP'!$K37<=0),0,(K37-OFFSET(J$2,'Set UP'!$K37,0))*OFFSET(L$2,'Set UP'!$K37,0)+'Set UP'!$R$15)","v":0},"",{"$f":"IF('Set UP'!$K37<=0,\"\",OFFSET('Extra Incident'!JU51,0,2*'Set UP'!$K37))","v":""},{"$f":"'Potensial New Scoring Structure'!O37","v":""},{"$f":"IF(OR(O37=\"\",'Set UP'!$K37<=0),0,(O37-OFFSET(N$2,'Set UP'!$K37,0))*OFFSET(P$2,'Set UP'!$K37,0)+'Set UP'!$R$15)","v":0},"",{"$f":"IF('Set UP'!$K37<=0,\"\",OFFSET(RopeThrow!X37,0,2*'Set UP'!$K37))","v":""},{"$f":"IF('Set UP'!$K37<=0,\"\",OFFSET(RopeThrow!AG37,0,'Set UP'!$K37))","v":""},{"$f":"IF(OR(S37=\"\",'Set UP'!$K37<=0),0,(S37-OFFSET(R$2,'Set UP'!$K37,0))*OFFSET(T$2,'Set UP'!$K37,0)+'Set UP'!$R$15)","v":0},"",{"$f":"IF('Set UP'!$K37<=0,\"\",OFFSET('Swim&Tow'!W37,0,2*'Set UP'!$K37))","v":""},{"$f":"'Potensial New Scoring Structure'!W37","v":""},{"$f":"IF(OR(W37=\"\",'Set UP'!$K37<=0),0,(W37-OFFSET(V$2,'Set UP'!$K37,0))*OFFSET(X$2,'Set UP'!$K37,0)+'Set UP'!$R$15)","v":0},"",{"$f":"IF('Set UP'!$K37<=0,\"\",OFFSET(Medley!U37,0,2*'Set UP'!$K37))","v":""},{"$f":"'Potensial New Scoring Structure'!AA37","v":""},{"$f":"IF(OR(AA37=\"\",'Set UP'!$K37<=0),0,(AA37-OFFSET(Z$2,'Set UP'!$K37,0))*OFFSET(AB$2,'Set UP'!$K37,0)+'Set UP'!$R$15)","v":0},"",{"$f":"IF('Set UP'!$K37<=0,\"\",OFFSET('Manikin Carry'!U37,0,2*'Set UP'!$K37))","v":""},{"$f":"'Potensial New Scoring Structure'!AE37","v":""},{"$f":"IF(OR(AE37=\"\",'Set UP'!$K37<=0),0,(AE37-OFFSET(AD$2,'Set UP'!$K37,0))*OFFSET(AF$2,'Set UP'!$K37,0)+'Set UP'!$R$15)","v":0},"",{"$f":"IF('Set UP'!$K37<=0,\"\",OFFSET(Obstacle!U37,0,2*'Set UP'!$K37))","v":""},{"$f":"'Potensial New Scoring Structure'!AI37","v":""},{"$f":"IF(OR(AI37=\"\",'Set UP'!$K37<=0),0,(AI37-OFFSET(AH$2,'Set UP'!$K37,0))*OFFSET(AJ$2,'Set UP'!$K37,0)+'Set UP'!$R$15)","v":0},"","",{"$f":"IF('Set UP'!$K37=1,$AL37,\"\")","v":""},"",{"$f":"IF('Set UP'!$K37=2,$AL37,\"\")","v":""},"",null,{"$f":"IF(AN37=\"\",\"\",'League Results'!P37)","v":""},{"$f":"IF(AP37=\"\",\"\",'League Results'!R37)","v":""}]
[null,32,{"$f":"IF(OR('Set UP'!$C38=0,'Set UP'!$D38=0,'Set UP'!$E38=0,'Set UP'!F38=0),\"  --\",'Set UP'!C38)","v":"  --"},{"$f":"IF(OR('Set UP'!$C38=0,'Set UP'!$D38=0,'Set UP'!$E38=0,'Set UP'!F38=0),\"  --\",'Set UP'!D38&\" \"&'Set UP'!E38)","v":"  --"},{"$f":"IF(OR('Set UP'!$C38=0,'Set UP'!$D38=0,'Set UP'!$E38=0,'Set UP'!F38=0),\" --\",'Set UP'!F38)","v":" --"},{"$f":"IF('Set UP'!$K38<=0,\"\",OFFSET('Dry Incident'!JQ52,0,2*'Set UP'!$K38))","v":""},{"$f":"'Potensial New Scoring Structure'!G38","v":""},{"$f":"IF(OR(G38=\"\",'Set UP'!$K38<=0),0,(G38-OFFSET(F$2,'Set UP'!$K38,0))*OFFSET(H$2,'Set UP'!$K38,0)+'Set UP'!$R$15)","v":0},"",{"$f":"IF('Set UP'!$K38<=0,\"\",OFFSET(' Wet Incident'!JQ52,0,2*'Set UP'!$K38))","v":""},{"$f":"'Potensial New Scoring Structure'!K38","v":""},{"$f":"IF(OR(K38=\"\",'Set UP'!$K38<=0),0,(K38-OFFSET(J$2,'Set UP'!$K38,0))*OFFSET(L$2,'Set UP'!$K38,0)+'Set UP'!$R$15)","v":0},"",{"$f":"IF('Set UP'!$K38<=0,\"\",OFFSET('Extra Incident'!JU52,0,2*'Set UP'!$K38))","v":""},{"$f":"'Potensial New Scoring Structure'!O38","v":""},{"$f":"IF(OR(O38=\"\",'Set UP'!$K38<=0),0,(O38-OFFSET(N$2,'Set UP'!$K38,0))*OFFSET(P$2,'Set UP'!$K38,0)+'Set UP'!$R$15)","v":0},"",{"$f":"IF('Set UP'!$K38<=0,\"\",OFFSET(RopeThrow!X38,0,2*'Set UP'!$K38))","v":""},{"$f":"IF('Set UP'!$K38<=0,\"\",OFFSET(RopeThrow!AG38,0,'Set UP'!$K38))","v":""},{"$f":"IF(OR(S38=\"\",'Set UP'!$K38<=0),0,(S38-OFFSET(R$2,'Set UP'!$K38,0))*OFFSET(T$2,'Set UP'!$K38,0)+'Set UP'!$R$15)","v":0},"",{"$f":"IF('Set UP'!$K38<=0,\"\",OFFSET('Swim&Tow'!W38,0,2*'Set UP'!$K38))","v":""},{"$f":"'Potensial New Scoring Structure'!W38","v":""},{"$f":"IF(OR(W38=\"\",'Set UP'!$K38<=0),0,(W38-OFFSET(V$2,'Set UP'!$K38,0))*OFFSET(X$2,'Set UP'!$K38,0)+'Set UP'!$R$15)","v":0},"",{"$f":"IF('Set UP'!$K38<=0,\"\",OFFSET(Medley!U38,0,2*'Set UP'!$K38))","v":""},{"$f":"'Potensial New Scoring Structure'!AA38","v":""},{"$f":"IF(OR(AA38=\"\",'Set UP'!$K38<=0),0,(AA38-OFFSET(Z$2,'Set UP'!$K38,0))*OFFSET(AB$2,'Set UP'!$K38,0)+'Set UP'!$R$15)","v":0},"",{"$f":"IF('Set UP'!$K38<=0,\"\",OFFSET('Manikin Carry'!U38,0,2*'Set UP'!$K38))","v":""},{"$f":"'Potensial New Scoring Structure'!AE38","v":""},{"$f":"IF(OR(AE38=\"\",'Set UP'!$K38<=0),0,(AE38-OFFSET(AD$2,'Set UP'!$K38,0))*OFFSET(AF$2,'Set UP'!$K38,0)+'Set UP'!$R$15)","v":0},"",{"$f":"IF('Set UP'!$K38<=0,\"\",OFFSET(Obstacle!U38,0,2*'Set UP'!$K38))","v":""},{"$f":"'Potensial New Scoring Structure'!AI38","v":""},{"$f":"IF(OR(AI38=\"\",'Set UP'!$K38<=0),0,(AI38-OFFSET(AH$2,'Set UP'!$K38,0))*OFFSET(AJ$2,'Set UP'!$K38,0)+'Set UP'!$R$15)","v":0},"","",{"$f":"IF('Set UP'!$K38=1,$AL38,\"\")","v":""},"",{"$f":"IF('Set UP'!$K38=2,$AL38,\"\")","v":""},"",null,{"$f":"IF(AN38=\"\",\"\",'League Results'!P38)","v":""},{"$f":"IF(AP38=\"\",\"\",'League Results'!R38)","v":""}]
[null,33,{"$f":"IF(OR('Set UP'!$C39=0,'Set UP'!$D39=0,'Set UP'!$E39=0,'Set UP'!F39=0),\"  --\",'Set UP'!C39)","v":"  --"},{"$f":"IF(OR('Set UP'!$C39=0,'Set UP'!$D39=0,'Set UP'!$E39=0,'Set UP'!F39=0),\"  --\",'Set UP'!D39&\" \"&'Set UP'!E39)","v":"  --"},{"$f":"IF(OR('Set UP'!$C39=0,'Set UP'!$D39=0,'Set UP'!$E39=0,'Set UP'!F39=0),\" --\",'Set UP'!F39)","v":" --"},{"$f":"IF('Set UP'!$K39<=0,\"\",OFFSET('Dry Incident'!JQ53,0,2*'Set UP'!$K39))","v":""},{"$f":"'Potensial New Scoring Structure'!G39","v":""},{"$f":"IF(OR(G39=\"\",'Set UP'!$K39<=0),0,(G39-OFFSET(F$2,'Set UP'!$K39,0))*OFFSET(H$2,'Set UP'!$K39,0)+'Set UP'!$R$15)","v":0},"",{"$f":"IF('Set UP'!$K39<=0,\"\",OFFSET(' Wet Incident'!JQ53,0,2*'Set UP'!$K39))","v":""},{"$f":"'Potensial New Scoring Structure'!K39","v":""},{"$f":"IF(OR(K39=\"\",'Set UP'!$K39<=0),0,(K39-OFFSET(J$2,'Set UP'!$K39,0))*OFFSET(L$2,'Set UP'!$K39,0)+'Set UP'!$R$15)","v":0},"",{"$f":"IF('Set UP'!$K39<=0,\"\",OFFSET('Extra Incident'!JU53,0,2*'Set UP'!$K39))","v":""},{"$f":"'Potensial New Scoring Structure'!O39","v":""},{"$f":"IF(OR(O39=\"\",'Set UP'!$K39<=0),0,(O39-OFFSET(N$2,'Set UP'!$K39,0))*OFFSET(P$2,'Set UP'!$K39,0)+'Set UP'!$R$15)","v":0},"",{"$f":"IF('Set UP'!$K39<=0,\"\",OFFSET(RopeThrow!X39,0,2*'Set UP'!$K39))","v":""},{"$f":"IF('Set UP'!$K39<=0,\"\",OFFSET(RopeThrow!AG39,0,'Set UP'!$K39))","v":""},{"$f":"IF(OR(S39=\"\",'Set UP'!$K39<=0),0,(S39-OFFSET(R$2,'Set UP'!$K39,0))*OFFSET(T$2,'Set UP'!$K39,0)+'Set UP'!$R$15)","v":0},"",{"$f":"IF('Set UP'!$K39<=0,\"\",OFFSET('Swim&Tow'!W39,0,2*'Set UP'!$K39))","v":""},{"$f":"'Potensial New Scoring Structure'!W39","v":""},{"$f":"IF(OR(W39=\"\",'Set UP'!$K39<=0),0,(W39-OFFSET(V$2,'Set UP'!$K39,0))*OFFSET(X$2,'Set UP'!$K39,0)+'Set UP'!$R$15)","v":0},"",{"$f":"IF('Set UP'!$K39<=0,\"\",OFFSET(Medley!U39,0,2*'Set UP'!$K39))","v":""},{"$f":"'Potensial New Scoring Structure'!AA39","v":""},{"$f":"IF(OR(AA39=\"\",'Set UP'!$K39<=0),0,(AA39-OFFSET(Z$2,'Set UP'!$K39,0))*OFFSET(AB$2,'Set UP'!$K39,0)+'Set UP'!$R$15)","v":0},"",{"$f":"IF('Set UP'!$K39<=0,\"\",OFFSET('Manikin Carry'!U39,0,2*'Set UP'!$K39))","v":""},{"$f":"'Potensial New Scoring Structure'!AE39","v":""},{"$f":"IF(OR(AE39=\"\",'Set UP'!$K39<=0),0,(AE39-OFFSET(AD$2,'Set UP'!$K39,0))*OFFSET(AF$2,'Set UP'!$K39,0)+'Set UP'!$R$15)","v":0},"",{"$f":"IF('Set UP'!$K39<=0,\"\",OFFSET(Obstacle!U39,0,2*'Set UP'!$K39))","v":""},{"$f":"'Potensial New Scoring Structure'!AI39","v":""},{"$f":"IF(OR(AI39=\"\",'Set UP'!$K39<=0),0,(AI39-OFFSET(AH$2,'Set UP'!$K39,0))*OFFSET(AJ$2,'Set UP'!$K39,0)+'Set UP'!$R$15)","v":0},"","",{"$f":"IF('Set UP'!$K39=1,$AL39,\"\")","v":""},"",{"$f":"IF('Set UP'!$K39=2,$AL39,\"\")","v":""},"",null,{"$f":"IF(AN39=\"\",\"\",'League Results'!P39)","v":""},{"$f":"IF(AP39=\"\",\"\",'League Results'!R39)","v":""}]
[null,34,{"$f":"IF(OR('Set UP'!$C40=0,'Set UP'!$D40=0,'Set UP'!$E40=0,'Set UP'!F40=0),\"  --\",'Set UP'!C40)","v":"  --"},{"$f":"IF(OR('Set UP'!$C40=0,'Set UP'!$D40=0,'Set UP'!$E40=0,'Set UP'!F40=0),\"  --\",'Set UP'!D40&\" \"&'Set UP'!E40)","v":"  --"},{"$f":"IF(OR('Set UP'!$C40=0,'Set UP'!$D40=0,'Set UP'!$E40=0,'Set UP'!F40=0),\" --\",'Set UP'!F40)","v":" --"},{"$f":"IF('Set UP'!$K40<=0,\"\",OFFSET('Dry Incident'!JQ54,0,2*'Set UP'!$K40))","v":""},{"$f":"'Potensial New Scoring Structure'!G40","v":""},{"$f":"IF(OR(G40=\"\",'Set UP'!$K40<=0),0,(G40-OFFSET(F$2,'Set UP'!$K40,0))*OFFSET(H$2,'Set UP'!$K40,0)+'Set UP'!$R$15)","v":0},"",{"$f":"IF('Set UP'!$K40<=0,\"\",OFFSET(' Wet Incident'!JQ54,0,2*'Set UP'!$K40))","v":""},{"$f":"'Potensial New Scoring Structure'!K40","v":""},{"$f":"IF(OR(K40=\"\",'Set UP'!$K40<=0),0,(K40-OFFSET(J$2,'Set UP'!$K40,0))*OFFSET(L$2,'Set UP'!$K40,0)+'Set UP'!$R$15)","v":0},"",{"$f":"IF('Set UP'!$K40<=0,\"\",OFFSET('Extra Incident'!JU54,0,2*'Set UP'!$K40))","v":""},{"$f":"'Potensial New Scoring Structure'!O40","v":""},{"$f":"IF(OR(O40=\"\",'Set UP'!$K40<=0),0,(O40-OFFSET(N$2,'Set UP'!$K40,0))*OFFSET(P$2,'Set UP'!$K40,0)+'Set UP'!$R$15)","v":0},"",{"$f":"IF('Set UP'!$K40<=0,\"\",OFFSET(RopeThrow!X40,0,2*'Set UP'!$K40))","v":""},{"$f":"IF('Set UP'!$K40<=0,\"\",OFFSET(RopeThrow!AG40,0,'Set UP'!$K40))","v":""},{"$f":"IF(OR(S40=\"\",'Set UP'!$K40<=0),0,(S40-OFFSET(R$2,'Set UP'!$K40,0))*OFFSET(T$2,'Set UP'!$K40,0)+'Set UP'!$R$15)","v":0},"",{"$f":"IF('Set UP'!$K40<=0,\"\",OFFSET('Swim&Tow'!W40,0,2*'Set UP'!$K40))","v":""},{"$f":"'Potensial New Scoring Structure'!W40","v":""},{"$f":"IF(OR(W40=\"\",'Set UP'!$K40<=0),0,(W40-OFFSET(V$2,'Set UP'!$K40,0))*OFFSET(X$2,'Set UP'!$K40,0)+'Set UP'!$R$15)","v":0},"",{"$f":"IF('Set UP'!$K40<=0,\"\",OFFSET(Medley!U40,0,2*'Set UP'!$K40))","v":""},{"$f":"'Potensial New Scoring Structure'!AA40","v":""},{"$f":"IF(OR(AA40=\"\",'Set UP'!$K40<=0),0,(AA40-OFFSET(Z$2,'Set UP'!$K40,0))*OFFSET(AB$2,'Set UP'!$K40,0)+'Set UP'!$R$15)","v":0},"",{"$f":"IF('Set UP'!$K40<=0,\"\",OFFSET('Manikin Carry'!U40,0,2*'Set UP'!$K40))","v":""},{"$f":"'Potensial New Scoring Structure'!AE40","v":""},{"$f":"IF(OR(AE40=\"\",'Set UP'!$K40<=0),0,(AE40-OFFSET(AD$2,'Set UP'!$K40,0))*OFFSET(AF$2,'Set UP'!$K40,0)+'Set UP'!$R$15)","v":0},"",{"$f":"IF('Set UP'!$K40<=0,\"\",OFFSET(Obstacle!U40,0,2*'Set UP'!$K40))","v":""},{"$f":"'Potensial New Scoring Structure'!AI40","v":""},{"$f":"IF(OR(AI40=\"\",'Set UP'!$K40<=0),0,(AI40-OFFSET(AH$2,'Set UP'!$K40,0))*OFFSET(AJ$2,'Set UP'!$K40,0)+'Set UP'!$R$15)","v":0},"","",{"$f":"IF('Set UP'!$K40=1,$AL40,\"\")","v":""},"",{"$f":"IF('Set UP'!$K40=2,$AL40,\"\")","v":""},"",null,{"$f":"IF(AN40=\"\",\"\",'League Results'!P40)","v":""},{"$f":"IF(AP40=\"\",\"\",'League Results'!R40)","v":""}]
[null,35,{"$f":"IF(OR('Set UP'!$C41=0,'Set UP'!$D41=0,'Set UP'!$E41=0,'Set UP'!F41=0),\"  --\",'Set UP'!C41)","v":"  --"},{"$f":"IF(OR('Set UP'!$C41=0,'Set UP'!$D41=0,'Set UP'!$E41=0,'Set UP'!F41=0),\"  --\",'Set UP'!D41&\" \"&'Set UP'!E41)","v":"  --"},{"$f":"IF(OR('Set UP'!$C41=0,'Set UP'!$D41=0,'Set UP'!$E41=0,'Set UP'!F41=0),\" --\",'Set UP'!F41)","v":" --"},{"$f":"IF('Set UP'!$K41<=0,\"\",OFFSET('Dry Incident'!JQ55,0,2*'Set UP'!$K41))","v":""},{"$f":"'Potensial New Scoring Structure'!G41","v":""},{"$f":"IF(OR(G41=\"\",'Set UP'!$K41<=0),0,(G41-OFFSET(F$2,'Set UP'!$K41,0))*OFFSET(H$2,'Set UP'!$K41,0)+'Set UP'!$R$15)","v":0},"",{"$f":"IF('Set UP'!$K41<=0,\"\",OFFSET(' Wet Incident'!JQ55,0,2*'Set UP'!$K41))","v":""},{"$f":"'Potensial New Scoring Structure'!K41","v":""},{"$f":"IF(OR(K41=\"\",'Set UP'!$K41<=0),0,(K41-OFFSET(J$2,'Set UP'!$K41,0))*OFFSET(L$2,'Set UP'!$K41,0)+'Set UP'!$R$15)","v":0},"",{"$f":"IF('Set UP'!$K41<=0,\"\",OFFSET('Extra Incident'!JU55,0,2*'Set UP'!$K41))","v":""},{"$f":"'Potensial New Scoring Structure'!O41","v":""},{"$f":"IF(OR(O41=\"\",'Set UP'!$K41<=0),0,(O41-OFFSET(N$2,'Set UP'!$K41,0))*OFFSET(P$2,'Set UP'!$K41,0)+'Set UP'!$R$15)","v":0},"",{"$f":"IF('Set UP'!$K41<=0,\"\",OFFSET(RopeThrow!X41,0,2*'Set UP'!$K41))","v":""},{"$f":"IF('Set UP'!$K41<=0,\"\",OFFSET(RopeThrow!AG41,0,'Set UP'!$K41))","v":""},{"$f":"IF(OR(S41=\"\",'Set UP'!$K41<=0),0,(S41-OFFSET(R$2,'Set UP'!$K41,0))*OFFSET(T$2,'Set UP'!$K41,0)+'Set UP'!$R$15)","v":0},"",{"$f":"IF('Set UP'!$K41<=0,\"\",OFFSET('Swim&Tow'!W41,0,2*'Set UP'!$K41))","v":""},{"$f":"'Potensial New Scoring Structure'!W41","v":""},{"$f":"IF(OR(W41=\"\",'Set UP'!$K41<=0),0,(W41-OFFSET(V$2,'Set UP'!$K41,0))*OFFSET(X$2,'Set UP'!$K41,0)+'Set UP'!$R$15)","v":0},"",{"$f":"IF('Set UP'!$K41<=0,\"\",OFFSET(Medley!U41,0,2*'Set UP'!$K41))","v":""},{"$f":"'Potensial New Scoring Structure'!AA41","v":""},{"$f":"IF(OR(AA41=\"\",'Set UP'!$K41<=0),0,(AA41-OFFSET(Z$2,'Set UP'!$K41,0))*OFFSET(AB$2,'Set UP'!$K41,0)+'Set UP'!$R$15)","v":0},"",{"$f":"IF('Set UP'!$K41<=0,\"\",OFFSET('Manikin Carry'!U41,0,2*'Set UP'!$K41))","v":""},{"$f":"'Potensial New Scoring Structure'!AE41","v":""},{"$f":"IF(OR(AE41=\"\",'Set UP'!$K41<=0),0,(AE41-OFFSET(AD$2,'Set UP'!$K41,0))*OFFSET(AF$2,'Set UP'!$K41,0)+'Set UP'!$R$15)","v":0},"",{"$f":"IF('Set UP'!$K41<=0,\"\",OFFSET(Obstacle!U41,0,2*'Set UP'!$K41))","v":""},{"$f":"'Potensial New Scoring Structure'!AI41","v":""},{"$f":"IF(OR(AI41=\"\",'Set UP'!$K41<=0),0,(AI41-OFFSET(AH$2,'Set UP'!$K41,0))*OFFSET(AJ$2,'Set UP'!$K41,0)+'Set UP'!$R$15)","v":0},"","",{"$f":"IF('Set UP'!$K41=1,$AL41,\"\")","v":""},"",{"$f":"IF('Set UP'!$K41=2,$AL41,\"\")","v":""},"",null,{"$f":"IF(AN41=\"\",\"\",'League Results'!P41)","v":""},{"$f":"IF(AP41=\"\",\"\",'League Results'!R41)","v":""}]
[null,36,{"$f":"IF(OR('Set UP'!$C42=0,'Set UP'!$D42=0,'Set UP'!$E42=0,'Set UP'!F42=0),\"  --\",'Set UP'!C42)","v":"  --"},{"$f":"IF(OR('Set UP'!$C42=0,'Set UP'!$D42=0,'Set UP'!$E42=0,'Set UP'!F42=0),\"  --\",'Set UP'!D42&\" \"&'Set UP'!E42)","v":"  --"},{"$f":"IF(OR('Set UP'!$C42=0,'Set UP'!$D42=0,'Set UP'!$E42=0,'Set UP'!F42=0),\" --\",'Set UP'!F42)","v":" --"},{"$f":"IF('Set UP'!$K42<=0,\"\",OFFSET('Dry Incident'!JQ56,0,2*'Set UP'!$K42))","v":""},{"$f":"'Potensial New Scoring Structure'!G42","v":""},{"$f":"IF(OR(G42=\"\",'Set UP'!$K42<=0),0,(G42-OFFSET(F$2,'Set UP'!$K42,0))*OFFSET(H$2,'Set UP'!$K42,0)+'Set UP'!$R$15)","v":0},"",{"$f":"IF('Set UP'!$K42<=0,\"\",OFFSET(' Wet Incident'!JQ56,0,2*'Set UP'!$K42))","v":""},{"$f":"'Potensial New Scoring Structure'!K42","v":""},{"$f":"IF(OR(K42=\"\",'Set UP'!$K42<=0),0,(K42-OFFSET(J$2,'Set UP'!$K42,0))*OFFSET(L$2,'Set UP'!$K42,0)+'Set UP'!$R$15)","v":0},"",{"$f":"IF('Set UP'!$K42<=0,\"\",OFFSET('Extra Incident'!JU56,0,2*'Set UP'!$K42))","v":""},{"$f":"'Potensial New Scoring Structure'!O42","v":""},{"$f":"IF(OR(O42=\"\",'Set UP'!$K42<=0),0,(O42-OFFSET(N$2,'Set UP'!$K42,0))*OFFSET(P$2,'Set UP'!$K42,0)+'Set UP'!$R$15)","v":0},"",{"$f":"IF('Set UP'!$K42<=0,\"\",OFFSET(RopeThrow!X42,0,2*'Set UP'!$K42))","v":""},{"$f":"IF('Set UP'!$K42<=0,\"\",OFFSET(RopeThrow!AG42,0,'Set UP'!$K42))","v":""},{"$f":"IF(OR(S42=\"\",'Set UP'!$K42<=0),0,(S42-OFFSET(R$2,'Set UP'!$K42,0))*OFFSET(T$2,'Set UP'!$K42,0)+'Set UP'!$R$15)","v":0},"",{"$f":"IF('Set UP'!$K42<=0,\"\",OFFSET('Swim&Tow'!W42,0,2*'Set UP'!$K42))","v":""},{"$f":"'Potensial New Scoring Structure'!W42","v":""},{"$f":"IF(OR(W42=\"\",'Set UP'!$K42<=0),0,(W42-OFFSET(V$2,'Set UP'!$K42,0))*OFFSET(X$2,'Set UP'!$K42,0)+'Set UP'!$R$15)","v":0},"",{"$f":"IF('Set UP'!$K42<=0,\"\",OFFSET(Medley!U42,0,2*'Set UP'!$K42))","v":""},{"$f":"'Potensial New Scoring Structure'!AA42","v":""},{"$f":"IF(OR(AA42=\"\",'Set UP'!$K42<=0),0,(AA42-OFFSET(Z$2,'Set UP'!$K42,0))*OFFSET(AB$2,'Set UP'!$K42,0)+'Set UP'!$R$15)","v":0},"",{"$f":"IF('Set UP'!$K42<=0,\"\",OFFSET('Manikin Carry'!U42,0,2*'Set UP'!$K42))","v":""},{"$f":"'Potensial New Scoring Structure'!AE42","v":""},{"$f":"IF(OR(AE42=\"\",'Set UP'!$K42<=0),0,(AE42-OFFSET(AD$2,'Set UP'!$K42,0))*OFFSET(AF$2,'Set UP'!$K42,0)+'Set UP'!$R$15)","v":0},"",{"$f":"IF('Set UP'!$K42<=0,\"\",OFFSET(Obstacle!U42,0,2*'Set UP'!$K42))","v":""},{"$f":"'Potensial New Scoring Structure'!AI42","v":""},{"$f":"IF(OR(AI42=\"\",'Set UP'!$K42<=0),0,(AI42-OFFSET(AH$2,'Set UP'!$K42,0))*OFFSET(AJ$2,'Set UP'!$K42,0)+'Set UP'!$R$15)","v":0},"","",{"$f":"IF('Set UP'!$K42=1,$AL42,\"\")","v":""},"",{"$f":"IF('Set UP'!$K42=2,$AL42,\"\")","v":""},"",null,{"$f":"IF(AN42=\"\",\"\",'League Results'!P42)","v":""},{"$f":"IF(AP42=\"\",\"\",'League Results'!R42)","v":""}]
[null,37,{"$f":"IF(OR('Set UP'!$C43=0,'Set UP'!$D43=0,'Set UP'!$E43=0,'Set UP'!F43=0),\"  --\",'Set UP'!C43)","v":"  --"},{"$f":"IF(OR('Set UP'!$C43=0,'Set UP'!$D43=0,'Set UP'!$E43=0,'Set UP'!F43=0),\"  --\",'Set UP'!D43&\" \"&'Set UP'!E43)","v":"  --"},{"$f":"IF(OR('Set UP'!$C43=0,'Set UP'!$D43=0,'Set UP'!$E43=0,'Set UP'!F43=0),\" --\",'Set UP'!F43)","v":" --"},{"$f":"IF('Set UP'!$K43<=0,\"\",OFFSET('Dry Incident'!JQ57,0,2*'Set UP'!$K43))","v":""},{"$f":"'Potensial New Scoring Structure'!G43","v":""},{"$f":"IF(OR(G43=\"\",'Set UP'!$K43<=0),0,(G43-OFFSET(F$2,'Set UP'!$K43,0))*OFFSET(H$2,'Set UP'!$K43,0)+'Set UP'!$R$15)","v":0},"",{"$f":"IF('Set UP'!$K43<=0,\"\",OFFSET(' Wet Incident'!JQ57,0,2*'Set UP'!$K43))","v":""},{"$f":"'Potensial New Scoring Structure'!K43","v":""},{"$f":"IF(OR(K43=\"\",'Set UP'!$K43<=0),0,(K43-OFFSET(J$2,'Set UP'!$K43,0))*OFFSET(L$2,'Set UP'!$K43,0)+'Set UP'!$R$15)","v":0},"",{"$f":"IF('Set UP'!$K43<=0,\"\",OFFSET('Extra Incident'!JU57,0,2*'Set UP'!$K43))","v":""},{"$f":"'Potensial New Scoring Structure'!O43","v":""},{"$f":"IF(OR(O43=\"\",'Set UP'!$K43<=0),0,(O43-OFFSET(N$2,'Set UP'!$K43,0))*OFFSET(P$2,'Set UP'!$K43,0)+'Set UP'!$R$15)","v":0},"",{"$f":"IF('Set UP'!$K43<=0,\"\",OFFSET(RopeThrow!X43,0,2*'Set UP'!$K43))","v":""},{"$f":"IF('Set UP'!$K43<=0,\"\",OFFSET(RopeThrow!AG43,0,'Set UP'!$K43))","v":""},{"$f":"IF(OR(S43=\"\",'Set UP'!$K43<=0),0,(S43-OFFSET(R$2,'Set UP'!$K43,0))*OFFSET(T$2,'Set UP'!$K43,0)+'Set UP'!$R$15)","v":0},"",{"$f":"IF('Set UP'!$K43<=0,\"\",OFFSET('Swim&Tow'!W43,0,2*'Set UP'!$K43))","v":""},{"$f":"'Potensial New Scoring Structure'!W43","v":""},{"$f":"IF(OR(W43=\"\",'Set UP'!$K43<=0),0,(W43-OFFSET(V$2,'Set UP'!$K43,0))*OFFSET(X$2,'Set UP'!$K43,0)+'Set UP'!$R$15)","v":0},"",{"$f":"IF('Set UP'!$K43<=0,\"\",OFFSET(Medley!U43,0,2*'Set UP'!$K43))","v":""},{"$f":"'Potensial New Scoring Structure'!AA43","v":""},{"$f":"IF(OR(AA43=\"\",'Set UP'!$K43<=0),0,(AA43-OFFSET(Z$2,'Set UP'!$K43,0))*OFFSET(AB$2,'Set UP'!$K43,0)+'Set UP'!$R$15)","v":0},"",{"$f":"IF('Set UP'!$K43<=0,\"\",OFFSET('Manikin Carry'!U43,0,2*'Set UP'!$K43))","v":""},{"$f":"'Potensial New Scoring Structure'!AE43","v":""},{"$f":"IF(OR(AE43=\"\",'Set UP'!$K43<=0),0,(AE43-OFFSET(AD$2,'Set UP'!$K43,0))*OFFSET(AF$2,'Set UP'!$K43,0)+'Set UP'!$R$15)","v":0},"",{"$f":"IF('Set UP'!$K43<=0,\"\",OFFSET(Obstacle!U43,0,2*'Set UP'!$K43))","v":""},{"$f":"'Potensial New Scoring Structure'!AI43","v":""},{"$f":"IF(OR(AI43=\"\",'Set UP'!$K43<=0),0,(AI43-OFFSET(AH$2,'Set UP'!$K43,0))*OFFSET(AJ$2,'Set UP'!$K43,0)+'Set UP'!$R$15)","v":0},"","",{"$f":"IF('Set UP'!$K43=1,$AL43,\"\")","v":""},"",{"$f":"IF('Set UP'!$K43=2,$AL43,\"\")","v":""},"",null,{"$f":"IF(AN43=\"\",\"\",'League Results'!P43)","v":""},{"$f":"IF(AP43=\"\",\"\",'League Results'!R43)","v":""}]
[null,38,{"$f":"IF(OR('Set UP'!$C44=0,'Set UP'!$D44=0,'Set UP'!$E44=0,'Set UP'!F44=0),\"  --\",'Set UP'!C44)","v":"  --"},{"$f":"IF(OR('Set UP'!$C44=0,'Set UP'!$D44=0,'Set UP'!$E44=0,'Set UP'!F44=0),\"  --\",'Set UP'!D44&\" \"&'Set UP'!E44)","v":"  --"},{"$f":"IF(OR('Set UP'!$C44=0,'Set UP'!$D44=0,'Set UP'!$E44=0,'Set UP'!F44=0),\" --\",'Set UP'!F44)","v":" --"},{"$f":"IF('Set UP'!$K44<=0,\"\",OFFSET('Dry Incident'!JQ58,0,2*'Set UP'!$K44))","v":""},{"$f":"'Potensial New Scoring Structure'!G44","v":""},{"$f":"IF(OR(G44=\"\",'Set UP'!$K44<=0),0,(G44-OFFSET(F$2,'Set UP'!$K44,0))*OFFSET(H$2,'Set UP'!$K44,0)+'Set UP'!$R$15)","v":0},"",{"$f":"IF('Set UP'!$K44<=0,\"\",OFFSET(' Wet Incident'!JQ58,0,2*'Set UP'!$K44))","v":""},{"$f":"'Potensial New Scoring Structure'!K44","v":""},{"$f":"IF(OR(K44=\"\",'Set UP'!$K44<=0),0,(K44-OFFSET(J$2,'Set UP'!$K44,0))*OFFSET(L$2,'Set UP'!$K44,0)+'Set UP'!$R$15)","v":0},"",{"$f":"IF('Set UP'!$K44<=0,\"\",OFFSET('Extra Incident'!JU58,0,2*'Set UP'!$K44))","v":""},{"$f":"'Potensial New Scoring Structure'!O44","v":""},{"$f":"IF(OR(O44=\"\",'Set UP'!$K44<=0),0,(O44-OFFSET(N$2,'Set UP'!$K44,0))*OFFSET(P$2,'Set UP'!$K44,0)+'Set UP'!$R$15)","v":0},"",{"$f":"IF('Set UP'!$K44<=0,\"\",OFFSET(RopeThrow!X44,0,2*'Set UP'!$K44))","v":""},{"$f":"IF('Set UP'!$K44<=0,\"\",OFFSET(RopeThrow!AG44,0,'Set UP'!$K44))","v":""},{"$f":"IF(OR(S44=\"\",'Set UP'!$K44<=0),0,(S44-OFFSET(R$2,'Set UP'!$K44,0))*OFFSET(T$2,'Set UP'!$K44,0)+'Set UP'!$R$15)","v":0},"",{"$f":"IF('Set UP'!$K44<=0,\"\",OFFSET('Swim&Tow'!W44,0,2*'Set UP'!$K44))","v":""},{"$f":"'Potensial New Scoring Structure'!W44","v":""},{"$f":"IF(OR(W44=\"\",'Set UP'!$K44<=0),0,(W44-OFFSET(V$2,'Set UP'!$K44,0))*OFFSET(X$2,'Set UP'!$K44,0)+'Set UP'!$R$15)","v":0},"",{"$f":"IF('Set UP'!$K44<=0,\"\",OFFSET(Medley!U44,0,2*'Set UP'!$K44))","v":""},{"$f":"'Potensial New Scoring Structure'!AA44","v":""},{"$f":"IF(OR(AA44=\"\",'Set UP'!$K44<=0),0,(AA44-OFFSET(Z$2,'Set UP'!$K44,0))*OFFSET(AB$2,'Set UP'!$K44,0)+'Set UP'!$R$15)","v":0},"",{"$f":"IF('Set UP'!$K44<=0,\"\",OFFSET('Manikin Carry'!U44,0,2*'Set UP'!$K44))","v":""},{"$f":"'Potensial New Scoring Structure'!AE44","v":""},{"$f":"IF(OR(AE44=\"\",'Set UP'!$K44<=0),0,(AE44-OFFSET(AD$2,'Set UP'!$K44,0))*OFFSET(AF$2,'Set UP'!$K44,0)+'Set UP'!$R$15)","v":0},"",{"$f":"IF('Set UP'!$K44<=0,\"\",OFFSET(Obstacle!U44,0,2*'Set UP'!$K44))","v":""},{"$f":"'Potensial New Scoring Structure'!AI44","v":""},{"$f":"IF(OR(AI44=\"\",'Set UP'!$K44<=0),0,(AI44-OFFSET(AH$2,'Set UP'!$K44,0))*OFFSET(AJ$2,'Set UP'!$K44,0)+'Set UP'!$R$15)","v":0},"","",{"$f":"IF('Set UP'!$K44=1,$AL44,\"\")","v":""},"",{"$f":"IF('Set UP'!$K44=2,$AL44,\"\")","v":""},"",null,{"$f":"IF(AN44=\"\",\"\",'League Results'!P44)","v":""},{"$f":"IF(AP44=\"\",\"\",'League Results'!R44)","v":""}]
[null,39,{"$f":"IF(OR('Set UP'!$C45=0,'Set UP'!$D45=0,'Set UP'!$E45=0,'Set UP'!F45=0),\"  --\",'Set UP'!C45)","v":"  --"},{"$f":"IF(OR('Set UP'!$C45=0,'Set UP'!$D45=0,'Set UP'!$E45=0,'Set UP'!F45=0),\"  --\",'Set UP'!D45&\" \"&'Set UP'!E45)","v":"  --"},{"$f":"IF(OR('Set UP'!$C45=0,'Set UP'!$D45=0,'Set UP'!$E45=0,'Set UP'!F45=0),\" --\",'Set UP'!F45)","v":" --"},{"$f":"IF('Set UP'!$K45<=0,\"\",OFFSET('Dry Incident'!JQ59,0,2*'Set UP'!$K45))","v":""},{"$f":"'Potensial New Scoring Structure'!G45","v":""},{"$f":"IF(OR(G45=\"\",'Set UP'!$K45<=0),0,(G45-OFFSET(F$2,'Set UP'!$K45,0))*OFFSET(H$2,'Set UP'!$K45,0)+'Set UP'!$R$15)","v":0},"",{"$f":"IF('Set UP'!$K45<=0,\"\",OFFSET(' Wet Incident'!JQ59,0,2*'Set UP'!$K45))","v":""},{"$f":"'Potensial New Scoring Structure'!K45","v":""},{"$f":"IF(OR(K45=\"\",'Set UP'!$K45<=0),0,(K45-OFFSET(J$2,'Set UP'!$K45,0))*OFFSET(L$2,'Set UP'!$K45,0)+'Set UP'!$R$15)","v":0},"",{"$f":"IF('Set UP'!$K45<=0,\"\",OFFSET('Extra Incident'!JU59,0,2*'Set UP'!$K45))","v":""},{"$f":"'Potensial New Scoring Structure'!O45","v":""},{"$f":"IF(OR(O45=\"\",'Set UP'!$K45<=0),0,(O45-OFFSET(N$2,'Set UP'!$K45,0))*OFFSET(P$2,'Set UP'!$K45,0)+'Set UP'!$R$15)","v":0},"",{"$f":"IF('Set UP'!$K45<=0,\"\",OFFSET(RopeThrow!X45,0,2*'Set UP'!$K45))","v":""},{"$f":"IF('Set UP'!$K45<=0,\"\",OFFSET(RopeThrow!AG45,0,'Set UP'!$K45))","v":""},{"$f":"IF(OR(S45=\"\",'Set UP'!$K45<=0),0,(S45-OFFSET(R$2,'Set UP'!$K45,0))*OFFSET(T$2,'Set UP'!$K45,0)+'Set UP'!$R$15)","v":0},"",{"$f":"IF('Set UP'!$K45<=0,\"\",OFFSET('Swim&Tow'!W45,0,2*'Set UP'!$K45))","v":""},{"$f":"'Potensial New Scoring Structure'!W45","v":""},{"$f":"IF(OR(W45=\"\",'Set UP'!$K45<=0),0,(W45-OFFSET(V$2,'Set UP'!$K45,0))*OFFSET(X$2,'Set UP'!$K45,0)+'Set UP'!$R$15)","v":0},"",{"$f":"IF('Set UP'!$K45<=0,\"\",OFFSET(Medley!U45,0,2*'Set UP'!$K45))","v":""},{"$f":"'Potensial New Scoring Structure'!AA45","v":""},{"$f":"IF(OR(AA45=\"\",'Set UP'!$K45<=0),0,(AA45-OFFSET(Z$2,'Set UP'!$K45,0))*OFFSET(AB$2,'Set UP'!$K45,0)+'Set UP'!$R$15)","v":0},"",{"$f":"IF('Set UP'!$K45<=0,\"\",OFFSET('Manikin Carry'!U45,0,2*'Set UP'!$K45))","v":""},{"$f":"'Potensial New Scoring Structure'!AE45","v":""},{"$f":"IF(OR(AE45=\"\",'Set UP'!$K45<=0),0,(AE45-OFFSET(AD$2,'Set UP'!$K45,0))*OFFSET(AF$2,'Set UP'!$K45,0)+'Set UP'!$R$15)","v":0},"",{"$f":"IF('Set UP'!$K45<=0,\"\",OFFSET(Obstacle!U45,0,2*'Set UP'!$K45))","v":""},{"$f":"'Potensial New Scoring Structure'!AI45","v":""},{"$f":"IF(OR(AI45=\"\",'Set UP'!$K45<=0),0,(AI45-OFFSET(AH$2,'Set UP'!$K45,0))*OFFSET(AJ$2,'Set UP'!$K45,0)+'Set UP'!$R$15)","v":0},"","",{"$f":"IF('Set UP'!$K45=1,$AL45,\"\")","v":""},"",{"$f":"IF('Set UP'!$K45=2,$AL45,\"\")","v":""},"",null,{"$f":"IF(AN45=\"\",\"\",'League Results'!P45)","v":""},{"$f":"IF(AP45=\"\",\"\",'League Results'!R45)","v":""}]
[null,40,{"$f":"IF(OR('Set UP'!$C46=0,'Set UP'!$D46=0,'Set UP'!$E46=0,'Set UP'!F46=0),\"  --\",'Set UP'!C46)","v":"  --"},{"$f":"IF(OR('Set UP'!$C46=0,'Set UP'!$D46=0,'Set UP'!$E46=0,'Set UP'!F46=0),\"  --\",'Set UP'!D46&\" \"&'Set UP'!E46)","v":"  --"},{"$f":"IF(OR('Set UP'!$C46=0,'Set UP'!$D46=0,'Set UP'!$E46=0,'Set UP'!F46=0),\" --\",'Set UP'!F46)","v":" --"},{"$f":"IF('Set UP'!$K46<=0,\"\",OFFSET('Dry Incident'!JQ60,0,2*'Set UP'!$K46))","v":""},{"$f":"'Potensial New Scoring Structure'!G46","v":""},{"$f":"IF(OR(G46=\"\",'Set UP'!$K46<=0),0,(G46-OFFSET(F$2,'Set UP'!$K46,0))*OFFSET(H$2,'Set UP'!$K46,0)+'Set UP'!$R$15)","v":0},"",{"$f":"IF('Set UP'!$K46<=0,\"\",OFFSET(' Wet Incident'!JQ60,0,2*'Set UP'!$K46))","v":""},{"$f":"'Potensial New Scoring Structure'!K46","v":""},{"$f":"IF(OR(K46=\"\",'Set UP'!$K46<=0),0,(K46-OFFSET(J$2,'Set UP'!$K46,0))*OFFSET(L$2,'Set UP'!$K46,0)+'Set UP'!$R$15)","v":0},"",{"$f":"IF('Set UP'!$K46<=0,\"\",OFFSET('Extra Incident'!JU60,0,2*'Set UP'!$K46))","v":""},{"$f":"'Potensial New Scoring Structure'!O46","v":""},{"$f":"IF(OR(O46=\"\",'Set UP'!$K46<=0),0,(O46-OFFSET(N$2,'Set UP'!$K46,0))*OFFSET(P$2,'Set UP'!$K46,0)+'Set UP'!$R$15)","v":0},"",{"$f":"IF('Set UP'!$K46<=0,\"\",OFFSET(RopeThrow!X46,0,2*'Set UP'!$K46))","v":""},{"$f":"IF('Set UP'!$K46<=0,\"\",OFFSET(RopeThrow!AG46,0,'Set UP'!$K46))","v":""},{"$f":"IF(OR(S46=\"\",'Set UP'!$K46<=0),0,(S46-OFFSET(R$2,'Set UP'!$K46,0))*OFFSET(T$2,'Set UP'!$K46,0)+'Set UP'!$R$15)","v":0},"",{"$f":"IF('Set UP'!$K46<=0,\"\",OFFSET('Swim&Tow'!W46,0,2*'Set UP'!$K46))","v":""},{"$f":"'Potensial New Scoring Structure'!W46","v":""},{"$f":"IF(OR(W46=\"\",'Set UP'!$K46<=0),0,(W46-OFFSET(V$2,'Set UP'!$K46,0))*OFFSET(X$2,'Set UP'!$K46,0)+'Set UP'!$R$15)","v":0},"",{"$f":"IF('Set UP'!$K46<=0,\"\",OFFSET(Medley!U46,0,2*'Set UP'!$K46))","v":""},{"$f":"'Potensial New Scoring Structure'!AA46","v":""},{"$f":"IF(OR(AA46=\"\",'Set UP'!$K46<=0),0,(AA46-OFFSET(Z$2,'Set UP'!$K46,0))*OFFSET(AB$2,'Set UP'!$K46,0)+'Set UP'!$R$15)","v":0},"",{"$f":"IF('Set UP'!$K46<=0,\"\",OFFSET('Manikin Carry'!U46,0,2*'Set UP'!$K46))","v":""},{"$f":"'Potensial New Scoring Structure'!AE46","v":""},{"$f":"IF(OR(AE46=\"\",'Set UP'!$K46<=0),0,(AE46-OFFSET(AD$2,'Set UP'!$K46,0))*OFFSET(AF$2,'Set UP'!$K46,0)+'Set UP'!$R$15)","v":0},"",{"$f":"IF('Set UP'!$K46<=0,\"\",OFFSET(Obstacle!U46,0,2*'Set UP'!$K46))","v":""},{"$f":"'Potensial New Scoring Structure'!AI46","v":""},{"$f":"IF(OR(AI46=\"\",'Set UP'!$K46<=0),0,(AI46-OFFSET(AH$2,'Set UP'!$K46,0))*OFFSET(AJ$2,'Set UP'!$K46,0)+'Set UP'!$R$15)","v":0},"","",{"$f":"IF('Set UP'!$K46=1,$AL46,\"\")","v":""},"",{"$f":"IF('Set UP'!$K46=2,$AL46,\"\")","v":""},"",null,{"$f":"IF(AN46=\"\",\"\",'League Results'!P46)","v":""},{"$f":"IF(AP46=\"\",\"\",'League Results'!R46)","v":""}]
[null,null,null,null,null,null,null,null,null,null,null,null,{"$f":"IF(' Wet Incident'!$JS61=\"\",\"\",' Wet Incident'!$JS61*$M$3)","v":""},null,null,null,null,null,null,null,null,null,null,null,null,null,null,null,null,null,null,null,null,null,null,null,{"$f":"IF(Obstacle!$W47=\"\",\"\",Obstacle!$W47*$AK$3)","v":""},null,{"$f":"IF('Set UP'!K47=1,$AL47,\"\")","v":""},null,{"$f":"IF('Set UP'!$K47=1,$AL47,\"\")","v":""},""]
[null,"Copyright Simon Harrison 2008, Oliver Coleman 2009"]
[null,null,null,"ENSURE ALL THE ROPETHROW SHEET HAS HAD THE POSITIONS UPDATED BEFORE USING THE RESULTS ON THIS SHEET"]